{"text_format":"1","workbook":"xlsx","n_sheets":27,"sheets":["Makropruefung","Deckblatt","I. Stationäre Energie","II. Transport","III. Abfall","IV. IPPU","V. AFOLU","I. Auswertung SE","II. Auswertung T","III. Auswertung Abfall","V. Auswertung AFOLU","Gesamtauswertung","EM_Daten_u_Uebersicht","EM-Daten","Dropdownwerte","Emissionsfaktoren","EFA2018","EFA2019","EFA2020","EFA2021","EFA2022","EFA2023","FLUG","ETS","IPPU","I_Pivot","II_Pivot"],"not_rendered":{"charts":9,"images":3,"macros":1,"external_links":0,"defined_names":15,"comments":11,"pivot_tables":9},"unopened":[],"bounds":{"document_bytes":16777216,"sheet_cells":100000,"rows_first":2000,"rows_last":500,"rows_between":2000,"halvings":0,"cell_chars":16384,"cell_head_chars":4096},"cells_cut":0,"cells_raw":0,"read":"whole","date_system":"1900"}

{"sheet":"Makropruefung","index":0,"n_rows":13,"n_cols":1,"rows_kept":13,"cut":false,"hidden":false,"merged":[]}
[]
["Toolkit zur THG-Bilanzierung von Pionierstädten"]
[]
[]
[]
[]
[]
[]
[]
[]
[]
[]
["Makroprüfung: Für die Verwendung des Toolkits muss die Ausführung von Makros erlaubt sein!"]

{"sheet":"Deckblatt","index":1,"n_rows":32,"n_cols":3,"rows_kept":32,"cut":false,"hidden":true,"merged":[]}
[]
["Toolkit zur THG-Bilanzierung von Pionierstädten"]
[]
[]
["Stadt",null,"Dateneingabe von"]
["Gemeindekennziffer",null,"Name"]
["Bilanzjahr",2018,"Dienststelle"]
[null,null,"E-Mail"]
[null,null,"Telefon"]
["Flughafen","-","zuletzt aktualisiert am"]
["IPPU","-"]
["ETS Industrie","-","Dateneingabe von"]
["ETS Energie","-","Name"]
[null,null,"Dienststelle"]
[null,null,"E-Mail"]
[null,null,"Telefon"]
[null,null,"zuletzt aktualisiert am"]
[]
[]
["Disclaimer"]
["Das Toolkit wurde von der Umweltbundesamt GmbH in Zusammenarbeit mit den Pionierstädten in Österreich mit Unterstützung des "]
["Bundesministerium für Innvoation, Mobilität und Infrastruktur (BMIMI) entwickelt."]
["Es dient den Städten zur Treibhausgasbilanzierung und lehnt sich an das \"Global Protocol for Community-Scale Greenhouse Gas Inventories\" (GPC) an:"]
["https://ghgprotocol.org/sites/default/files/standards/GPC_Full_MASTER_RW_v7.pdf"]
[]
["Die Daten des Energiemosaik Austria dienen als Vergleich der eingegebenen Aktivitätsdaten der Stadt auf Ebene des Energieverbrauchs."]
["In der derzeitigen Version nur für den GPC-Sektor \"Stationäre Energie\" und für das Basisjahr 2019."]
["Quelle:"]
["Abart-Heriszt, L. und Reichel, S (2022): Energiemosaik Austria."]
["Österreichweite Visualisierung von Energieverbrauch und Treibhausgasemissionen auf Gemeindeebene."]
["Wien, Salzburg. Lizenz: CC BY-NC-SA 3.0 AT."]
["www.energiemosaik.at"]

{"sheet":"I. Stationäre Energie","index":2,"n_rows":55,"n_cols":21,"rows_kept":55,"cut":false,"hidden":true,"merged":[]}
["ID","PID","Subsektornummer","EM_Energieträger","ID","Hinzufügen","GPC-Sektoren","Beschreibung","Datenqualität","Aktivität/Menge","Energieträger/Verkehrsträger","Einheit","Energieinhalt [kWh/Einheit]","Emissionsfaktor [t CO2eq/MWh]","Quelle","Bezugsjahr","Datenverantworlicher","Energieeinsatz [MWh]","THG [t CO2eq]","EI [kWh/Einheit]","EF [t CO2eq/MWh]"]
["I.",null,null,null,{"$f":"A2","v":"I."},null,"I. Stationärer Energieeinsatz",null,null,null,null,null,null,null,null,null,null,null,null,"Umrechnungsfaktor nicht verfügbar","Energieträger wählen/Emissionsfaktor eingeben"]
[]
["I.1.","I.",null,null,null,null,"1. Haushalte ",{"$f":"\"Energiemosaik: \" & IFERROR(TEXT(GETPIVOTDATA(\"Energie\",EM_Daten_u_Uebersicht!$S$5,\"Ziel-Sektor\",A4),\"# ##0\")&\" MWh\",\"keine Daten\") &\"\n\"&\"Sektorsumme: \" & IFERROR(TEXT(SUM(R5:R6),\"# ##0\")&\" MWh\",\"\")","v":"Energiemosaik: keine Daten\nSektorsumme: 0 MWh"}]
["I.1. .","I.1.",1,{"$f":"IFERROR(VLOOKUP(K5,EM_Daten_u_Uebersicht!M:N,2,FALSE),\"\")","v":""},{"$f":"A5","v":"I.1. ."},"+","1. Haushalte ",null,null,null,null,null,{"$f":"T5","v":"Energieträger/Einheit wählen"},{"$f":"U5","v":"Energieträger wählen/Emissionsfaktor eingeben"},null,null,null,{"$f":"IF(K5=\"CO2-eq Direkteingabe\",,IFERROR(J5*M5/1000,\"\"))","v":""},{"$f":"IF(K5=\"CO2-eq Direkteingabe\",J5,IFERROR(R5*N5,\"\"))","v":""},{"$f":"IF(K5=\"CO2-eq Direkteingabe\",\"CO2-eq Direkteingabe\",IFERROR(VLOOKUP(K5&\"_\"&L5,Emissionsfaktoren!$C$2:$D$219,2,FALSE),$T$2))","v":"Energieträger/Einheit wählen"},{"$f":"IF(K5=\"CO2-eq Direkteingabe\",\"CO2-eq Direkteingabe\",IFERROR(VLOOKUP(K5,Emissionsfaktoren!$F:$G,2,FALSE),$U$2))","v":"Energieträger wählen/Emissionsfaktor eingeben"}]
[]
["I.2.","I.",null,null,null,null,"2. Private und öffentliche Dienstleisungen und Anlagen",{"$f":"\"Energiemosaik: \" & IFERROR(TEXT(GETPIVOTDATA(\"Energie\",EM_Daten_u_Uebersicht!$S$5,\"Ziel-Sektor\",A7),\"# ##0\")&\" MWh\",\"keine Daten\") &\"\n\"&\"Sektorsumme: \" & IFERROR(TEXT(SUM(R8:R16),\"# ##0\")&\" MWh\",\"\")","v":"Energiemosaik: keine Daten\nSektorsumme: 0 MWh"}]
["I.2. .","I.2.",2,{"$f":"IFERROR(VLOOKUP(K8,EM_Daten_u_Uebersicht!M:N,2,FALSE),\"\")","v":""},"I.2. .","+","2. Private und öffentliche Dienstleisungen und Anlagen",null,null,null,null,null,{"$f":"T8","v":"Energieträger/Einheit wählen"},"Energieträger wählen/Emissionsfaktor eingeben",null,null,null,{"$f":"IF(K8=\"CO2-eq Direkteingabe\",,IFERROR(J8*M8/1000,\"\"))","v":""},{"$f":"IF(K8=\"CO2-eq Direkteingabe\",J8,IFERROR(R8*N8,\"\"))","v":""},{"$f":"IF(K8=\"CO2-eq Direkteingabe\",\"CO2-eq Direkteingabe\",IFERROR(VLOOKUP(K8&\"_\"&L8,Emissionsfaktoren!$C$2:$D$219,2,FALSE),$T$2))","v":"Energieträger/Einheit wählen"},{"$f":"IF(K8=\"CO2-eq Direkteingabe\",\"CO2-eq Direkteingabe\",IFERROR(VLOOKUP(K8,Emissionsfaktoren!$F:$G,2,FALSE),$U$2))","v":"Energieträger wählen/Emissionsfaktor eingeben"}]
["I.2.i.","I.2.",3,{"$f":"IFERROR(VLOOKUP(K9,EM_Daten_u_Uebersicht!M:N,2,FALSE),\"\")","v":""},"I.2.i.","+","i. Mischbetriebe mit privaten und öffentlichen Dienstleistungen ",null,null,null,null,null,"Energieträger/Einheit wählen",{"$f":"U9","v":"Energieträger wählen/Emissionsfaktor eingeben"},null,null,null,"","",{"$f":"IF(K9=\"CO2-eq Direkteingabe\",\"CO2-eq Direkteingabe\",IFERROR(VLOOKUP(K9&\"_\"&L9,Emissionsfaktoren!$C$2:$D$219,2,FALSE),$T$2))","v":"Energieträger/Einheit wählen"},{"$f":"IF(K9=\"CO2-eq Direkteingabe\",\"CO2-eq Direkteingabe\",IFERROR(VLOOKUP(K9,Emissionsfaktoren!$F:$G,2,FALSE),$U$2))","v":"Energieträger wählen/Emissionsfaktor eingeben"}]
["I.2.ii.","I.2.",4,{"$f":"IFERROR(VLOOKUP(K10,EM_Daten_u_Uebersicht!M:N,2,FALSE),\"\")","v":""},"I.2.ii.","+","ii. Private Dienstleistungen",null,null,null,null,null,"Energieträger/Einheit wählen","Energieträger wählen/Emissionsfaktor eingeben",null,null,null,"","",{"$f":"IF(K10=\"CO2-eq Direkteingabe\",\"CO2-eq Direkteingabe\",IFERROR(VLOOKUP(K10&\"_\"&L10,Emissionsfaktoren!$C$2:$D$219,2,FALSE),$T$2))","v":"Energieträger/Einheit wählen"},{"$f":"IF(K10=\"CO2-eq Direkteingabe\",\"CO2-eq Direkteingabe\",IFERROR(VLOOKUP(K10,Emissionsfaktoren!$F:$G,2,FALSE),$U$2))","v":"Energieträger wählen/Emissionsfaktor eingeben"}]
["I.2.iii.a.","I.2.",5,{"$f":"IFERROR(VLOOKUP(K11,EM_Daten_u_Uebersicht!M:N,2,FALSE),\"\")","v":""},"I.2.iii.a.","+","iii.a. Öffentliche Dienstleistungen, stadtverwaltet",null,null,null,null,null,"Energieträger/Einheit wählen","Energieträger wählen/Emissionsfaktor eingeben",null,null,null,"","",{"$f":"IF(K11=\"CO2-eq Direkteingabe\",\"CO2-eq Direkteingabe\",IFERROR(VLOOKUP(K11&\"_\"&L11,Emissionsfaktoren!$C$2:$D$219,2,FALSE),$T$2))","v":"Energieträger/Einheit wählen"},{"$f":"IF(K11=\"CO2-eq Direkteingabe\",\"CO2-eq Direkteingabe\",IFERROR(VLOOKUP(K11,Emissionsfaktoren!$F:$G,2,FALSE),$U$2))","v":"Energieträger wählen/Emissionsfaktor eingeben"}]
["I.2.iii.b.","I.2.",6,{"$f":"IFERROR(VLOOKUP(K12,EM_Daten_u_Uebersicht!M:N,2,FALSE),\"\")","v":""},{"$f":"A12","v":"I.2.iii.b."},"+","iii.b. Öffentliche Dienstleistungen, landesverwaltet",null,null,null,null,null,"Energieträger/Einheit wählen","Energieträger wählen/Emissionsfaktor eingeben",null,null,null,"","",{"$f":"IF(K12=\"CO2-eq Direkteingabe\",\"CO2-eq Direkteingabe\",IFERROR(VLOOKUP(K12&\"_\"&L12,Emissionsfaktoren!$C$2:$D$219,2,FALSE),$T$2))","v":"Energieträger/Einheit wählen"},{"$f":"IF(K12=\"CO2-eq Direkteingabe\",\"CO2-eq Direkteingabe\",IFERROR(VLOOKUP(K12,Emissionsfaktoren!$F:$G,2,FALSE),$U$2))","v":"Energieträger wählen/Emissionsfaktor eingeben"}]
["I.2.iii.c.","I.2.",7,{"$f":"IFERROR(VLOOKUP(K13,EM_Daten_u_Uebersicht!M:N,2,FALSE),\"\")","v":""},"I.2.iii.c.","+","iii.c. Öffentliche Dienstleistungen, bundesverwaltet",null,null,null,null,null,{"$f":"T13","v":"Energieträger/Einheit wählen"},{"$f":"U13","v":"Energieträger wählen/Emissionsfaktor eingeben"},null,null,null,"","",{"$f":"IF(K13=\"CO2-eq Direkteingabe\",\"CO2-eq Direkteingabe\",IFERROR(VLOOKUP(K13&\"_\"&L13,Emissionsfaktoren!$C$2:$D$219,2,FALSE),$T$2))","v":"Energieträger/Einheit wählen"},{"$f":"IF(K13=\"CO2-eq Direkteingabe\",\"CO2-eq Direkteingabe\",IFERROR(VLOOKUP(K13,Emissionsfaktoren!$F:$G,2,FALSE),$U$2))","v":"Energieträger wählen/Emissionsfaktor eingeben"}]
["I.2.iii.d.","I.2.",8,{"$f":"IFERROR(VLOOKUP(K14,EM_Daten_u_Uebersicht!M:N,2,FALSE),\"\")","v":""},"I.2.iii.d.","+","iii.d. Öffentliche Dienstleistungen, sonstige",null,null,null,null,null,"Energieträger/Einheit wählen","Energieträger wählen/Emissionsfaktor eingeben",null,null,null,"","",{"$f":"IF(K14=\"CO2-eq Direkteingabe\",\"CO2-eq Direkteingabe\",IFERROR(VLOOKUP(K14&\"_\"&L14,Emissionsfaktoren!$C$2:$D$219,2,FALSE),$T$2))","v":"Energieträger/Einheit wählen"},{"$f":"IF(K14=\"CO2-eq Direkteingabe\",\"CO2-eq Direkteingabe\",IFERROR(VLOOKUP(K14,Emissionsfaktoren!$F:$G,2,FALSE),$U$2))","v":"Energieträger wählen/Emissionsfaktor eingeben"}]
["I.2.iv.","I.2.",9,{"$f":"IFERROR(VLOOKUP(K15,EM_Daten_u_Uebersicht!M:N,2,FALSE),\"\")","v":""},"I.2.iv.","+","iv. Straßenbeleuchtung",null,null,null,null,null,"Energieträger/Einheit wählen","Energieträger wählen/Emissionsfaktor eingeben",null,null,null,"","",{"$f":"IF(K15=\"CO2-eq Direkteingabe\",\"CO2-eq Direkteingabe\",IFERROR(VLOOKUP(K15&\"_\"&L15,Emissionsfaktoren!$C$2:$D$219,2,FALSE),$T$2))","v":"Energieträger/Einheit wählen"},{"$f":"IF(K15=\"CO2-eq Direkteingabe\",\"CO2-eq Direkteingabe\",IFERROR(VLOOKUP(K15,Emissionsfaktoren!$F:$G,2,FALSE),$U$2))","v":"Energieträger wählen/Emissionsfaktor eingeben"}]
[]
["I.3.","I.",null,null,null,null,"3. Erzeugendes/produzierendes Gewerbe",{"$f":"\"Energiemosaik: \" & IFERROR(TEXT(GETPIVOTDATA(\"Energie\",EM_Daten_u_Uebersicht!$S$5,\"Ziel-Sektor\",A17),\"# ##0\")&\" MWh\",\"keine Daten\") &\"\n\"&\"Sektorsumme: \" & IFERROR(TEXT(SUM(R18:R33),\"# ##0\")&\" MWh\",\"\")","v":"Energiemosaik: keine Daten\nSektorsumme: 0 MWh"}]
["I.3. .","I.3.",10,{"$f":"IFERROR(VLOOKUP(K18,EM_Daten_u_Uebersicht!M:N,2,FALSE),\"\")","v":""},"I.3. .","+","3. Erzeugendes/produzierendes Gewerbe",null,null,null,null,null,{"$f":"T18","v":"Energieträger/Einheit wählen"},{"$f":"U18","v":"Energieträger wählen/Emissionsfaktor eingeben"},null,null,null,{"$f":"IF(K18=\"CO2-eq Direkteingabe\",,IFERROR(J18*M18/1000,\"\"))","v":""},{"$f":"IF(K18=\"CO2-eq Direkteingabe\",J18,IFERROR(R18*N18,\"\"))","v":""},{"$f":"IF(K18=\"CO2-eq Direkteingabe\",\"CO2-eq Direkteingabe\",IFERROR(VLOOKUP(K18&\"_\"&L18,Emissionsfaktoren!$C$2:$D$219,2,FALSE),$T$2))","v":"Energieträger/Einheit wählen"},{"$f":"IF(K18=\"CO2-eq Direkteingabe\",\"CO2-eq Direkteingabe\",IFERROR(VLOOKUP(K18,Emissionsfaktoren!$F:$G,2,FALSE),$U$2))","v":"Energieträger wählen/Emissionsfaktor eingeben"}]
["I.3.ETS.","I.3.",11,{"$f":"IFERROR(VLOOKUP(K19,EM_Daten_u_Uebersicht!M:N,2,FALSE),\"\")","v":"CO2-eq Direkteingabe"},{"$f":"A19","v":"I.3.ETS."},null,"ETS-Emissionen",{"$f":"\"Stadt: \" & Deckblatt!B12 & IF(NOT(ISNUMBER(S19)),\" (Keine Emissionsdaten)\",\"\")","v":"Stadt: -"},null,null,"ETS",null,null,null,null,null,null,null,{"$f":"INDEX(ETS!A4:H12,MATCH(Deckblatt!B12,ETS!A4:A12,0),MATCH(Deckblatt!B7,ETS!A4:H4,0))","v":0}]
["I.3.i.","I.3.",12,{"$f":"IFERROR(VLOOKUP(K20,EM_Daten_u_Uebersicht!M:N,2,FALSE),\"\")","v":""},"I.3.i.","+","i. Eisen- und Stahlerzeugung ",null,null,null,null,null,"Energieträger/Einheit wählen","Energieträger wählen/Emissionsfaktor eingeben",null,null,null,{"$f":"IF(K20=\"CO2-eq Direkteingabe\",,IFERROR(J20*M20/1000,\"\"))","v":""},{"$f":"IF(K20=\"CO2-eq Direkteingabe\",J20,IFERROR(R20*N20,\"\"))","v":""},{"$f":"IF(K20=\"CO2-eq Direkteingabe\",\"CO2-eq Direkteingabe\",IFERROR(VLOOKUP(K20&\"_\"&L20,Emissionsfaktoren!$C$2:$D$219,2,FALSE),$T$2))","v":"Energieträger/Einheit wählen"},{"$f":"IF(K20=\"CO2-eq Direkteingabe\",\"CO2-eq Direkteingabe\",IFERROR(VLOOKUP(K20,Emissionsfaktoren!$F:$G,2,FALSE),$U$2))","v":"Energieträger wählen/Emissionsfaktor eingeben"}]
["I.3.ii.","I.3.",13,{"$f":"IFERROR(VLOOKUP(K21,EM_Daten_u_Uebersicht!M:N,2,FALSE),\"\")","v":""},"I.3.ii.","+","ii. Nicht Eisen Metalle ",null,null,null,null,null,"Energieträger/Einheit wählen","Energieträger wählen/Emissionsfaktor eingeben",null,null,null,"","",{"$f":"IF(K21=\"CO2-eq Direkteingabe\",\"CO2-eq Direkteingabe\",IFERROR(VLOOKUP(K21&\"_\"&L21,Emissionsfaktoren!$C$2:$D$219,2,FALSE),$T$2))","v":"Energieträger/Einheit wählen"},{"$f":"IF(K21=\"CO2-eq Direkteingabe\",\"CO2-eq Direkteingabe\",IFERROR(VLOOKUP(K21,Emissionsfaktoren!$F:$G,2,FALSE),$U$2))","v":"Energieträger wählen/Emissionsfaktor eingeben"}]
["I.3.iii.","I.3.",14,{"$f":"IFERROR(VLOOKUP(K22,EM_Daten_u_Uebersicht!M:N,2,FALSE),\"\")","v":""},"I.3.iii.","+","iii. Chemie und Petrochemie ",null,null,null,null,null,{"$f":"T22","v":"Energieträger/Einheit wählen"},"Energieträger wählen/Emissionsfaktor eingeben",null,null,null,"","",{"$f":"IF(K22=\"CO2-eq Direkteingabe\",\"CO2-eq Direkteingabe\",IFERROR(VLOOKUP(K22&\"_\"&L22,Emissionsfaktoren!$C$2:$D$219,2,FALSE),$T$2))","v":"Energieträger/Einheit wählen"},{"$f":"IF(K22=\"CO2-eq Direkteingabe\",\"CO2-eq Direkteingabe\",IFERROR(VLOOKUP(K22,Emissionsfaktoren!$F:$G,2,FALSE),$U$2))","v":"Energieträger wählen/Emissionsfaktor eingeben"}]
["I.3.iv.","I.3.",15,{"$f":"IFERROR(VLOOKUP(K23,EM_Daten_u_Uebersicht!M:N,2,FALSE),\"\")","v":""},"I.3.iv.","+","iv. Papier und Druck ",null,null,null,null,null,"Energieträger/Einheit wählen","Energieträger wählen/Emissionsfaktor eingeben",null,null,null,"","",{"$f":"IF(K23=\"CO2-eq Direkteingabe\",\"CO2-eq Direkteingabe\",IFERROR(VLOOKUP(K23&\"_\"&L23,Emissionsfaktoren!$C$2:$D$219,2,FALSE),$T$2))","v":"Energieträger/Einheit wählen"},{"$f":"IF(K23=\"CO2-eq Direkteingabe\",\"CO2-eq Direkteingabe\",IFERROR(VLOOKUP(K23,Emissionsfaktoren!$F:$G,2,FALSE),$U$2))","v":"Energieträger wählen/Emissionsfaktor eingeben"}]
["I.3.v.","I.3.",16,{"$f":"IFERROR(VLOOKUP(K24,EM_Daten_u_Uebersicht!M:N,2,FALSE),\"\")","v":""},"I.3.v.","+","v. Nahrungs- und Genussmittel, Tabak ",null,null,null,null,null,"Energieträger/Einheit wählen","Energieträger wählen/Emissionsfaktor eingeben",null,null,null,"","",{"$f":"IF(K24=\"CO2-eq Direkteingabe\",\"CO2-eq Direkteingabe\",IFERROR(VLOOKUP(K24&\"_\"&L24,Emissionsfaktoren!$C$2:$D$219,2,FALSE),$T$2))","v":"Energieträger/Einheit wählen"},{"$f":"IF(K24=\"CO2-eq Direkteingabe\",\"CO2-eq Direkteingabe\",IFERROR(VLOOKUP(K24,Emissionsfaktoren!$F:$G,2,FALSE),$U$2))","v":"Energieträger wählen/Emissionsfaktor eingeben"}]
["I.3.vi.","I.3.",17,{"$f":"IFERROR(VLOOKUP(K25,EM_Daten_u_Uebersicht!M:N,2,FALSE),\"\")","v":""},"I.3.vi.","+","vi. Steine und Erden, Glas ",null,null,null,null,null,"Energieträger/Einheit wählen","Energieträger wählen/Emissionsfaktor eingeben",null,null,null,"","",{"$f":"IF(K25=\"CO2-eq Direkteingabe\",\"CO2-eq Direkteingabe\",IFERROR(VLOOKUP(K25&\"_\"&L25,Emissionsfaktoren!$C$2:$D$219,2,FALSE),$T$2))","v":"Energieträger/Einheit wählen"},{"$f":"IF(K25=\"CO2-eq Direkteingabe\",\"CO2-eq Direkteingabe\",IFERROR(VLOOKUP(K25,Emissionsfaktoren!$F:$G,2,FALSE),$U$2))","v":"Energieträger wählen/Emissionsfaktor eingeben"}]
["I.3.vii.","I.3.",18,{"$f":"IFERROR(VLOOKUP(K26,EM_Daten_u_Uebersicht!M:N,2,FALSE),\"\")","v":""},"I.3.vii.","+","vii. Fahrzeugbau ",null,null,null,null,null,"Energieträger/Einheit wählen","Energieträger wählen/Emissionsfaktor eingeben",null,null,null,"","",{"$f":"IF(K26=\"CO2-eq Direkteingabe\",\"CO2-eq Direkteingabe\",IFERROR(VLOOKUP(K26&\"_\"&L26,Emissionsfaktoren!$C$2:$D$219,2,FALSE),$T$2))","v":"Energieträger/Einheit wählen"},{"$f":"IF(K26=\"CO2-eq Direkteingabe\",\"CO2-eq Direkteingabe\",IFERROR(VLOOKUP(K26,Emissionsfaktoren!$F:$G,2,FALSE),$U$2))","v":"Energieträger wählen/Emissionsfaktor eingeben"}]
["I.3.viii.","I.3.",19,{"$f":"IFERROR(VLOOKUP(K27,EM_Daten_u_Uebersicht!M:N,2,FALSE),\"\")","v":""},"I.3.viii.","+","viii. Maschinenbau ",null,null,null,null,null,"Energieträger/Einheit wählen","Energieträger wählen/Emissionsfaktor eingeben",null,null,null,"","",{"$f":"IF(K27=\"CO2-eq Direkteingabe\",\"CO2-eq Direkteingabe\",IFERROR(VLOOKUP(K27&\"_\"&L27,Emissionsfaktoren!$C$2:$D$219,2,FALSE),$T$2))","v":"Energieträger/Einheit wählen"},{"$f":"IF(K27=\"CO2-eq Direkteingabe\",\"CO2-eq Direkteingabe\",IFERROR(VLOOKUP(K27,Emissionsfaktoren!$F:$G,2,FALSE),$U$2))","v":"Energieträger wählen/Emissionsfaktor eingeben"}]
["I.3.ix.","I.3.",20,{"$f":"IFERROR(VLOOKUP(K28,EM_Daten_u_Uebersicht!M:N,2,FALSE),\"\")","v":""},"I.3.ix.","+","ix. Bergbau ",null,null,null,null,null,"Energieträger/Einheit wählen","Energieträger wählen/Emissionsfaktor eingeben",null,null,null,"","",{"$f":"IF(K28=\"CO2-eq Direkteingabe\",\"CO2-eq Direkteingabe\",IFERROR(VLOOKUP(K28&\"_\"&L28,Emissionsfaktoren!$C$2:$D$219,2,FALSE),$T$2))","v":"Energieträger/Einheit wählen"},{"$f":"IF(K28=\"CO2-eq Direkteingabe\",\"CO2-eq Direkteingabe\",IFERROR(VLOOKUP(K28,Emissionsfaktoren!$F:$G,2,FALSE),$U$2))","v":"Energieträger wählen/Emissionsfaktor eingeben"}]
["I.3.x.","I.3.",21,{"$f":"IFERROR(VLOOKUP(K29,EM_Daten_u_Uebersicht!M:N,2,FALSE),\"\")","v":""},"I.3.x.","+","x. Holzverarbeitung ",null,null,null,null,null,"Energieträger/Einheit wählen","Energieträger wählen/Emissionsfaktor eingeben",null,null,null,"","",{"$f":"IF(K29=\"CO2-eq Direkteingabe\",\"CO2-eq Direkteingabe\",IFERROR(VLOOKUP(K29&\"_\"&L29,Emissionsfaktoren!$C$2:$D$219,2,FALSE),$T$2))","v":"Energieträger/Einheit wählen"},{"$f":"IF(K29=\"CO2-eq Direkteingabe\",\"CO2-eq Direkteingabe\",IFERROR(VLOOKUP(K29,Emissionsfaktoren!$F:$G,2,FALSE),$U$2))","v":"Energieträger wählen/Emissionsfaktor eingeben"}]
["I.3.xi.","I.3.",22,{"$f":"IFERROR(VLOOKUP(K30,EM_Daten_u_Uebersicht!M:N,2,FALSE),\"\")","v":""},"I.3.xi.","+","xi. Bau ",null,null,null,null,null,"Energieträger/Einheit wählen","Energieträger wählen/Emissionsfaktor eingeben",null,null,null,"","",{"$f":"IF(K30=\"CO2-eq Direkteingabe\",\"CO2-eq Direkteingabe\",IFERROR(VLOOKUP(K30&\"_\"&L30,Emissionsfaktoren!$C$2:$D$219,2,FALSE),$T$2))","v":"Energieträger/Einheit wählen"},{"$f":"IF(K30=\"CO2-eq Direkteingabe\",\"CO2-eq Direkteingabe\",IFERROR(VLOOKUP(K30,Emissionsfaktoren!$F:$G,2,FALSE),$U$2))","v":"Energieträger wählen/Emissionsfaktor eingeben"}]
["I.3.xii.","I.3.",23,{"$f":"IFERROR(VLOOKUP(K31,EM_Daten_u_Uebersicht!M:N,2,FALSE),\"\")","v":""},"I.3.xii.","+","xii. Textil und Leder ",null,null,null,null,null,"Energieträger/Einheit wählen","Energieträger wählen/Emissionsfaktor eingeben",null,null,null,"","",{"$f":"IF(K31=\"CO2-eq Direkteingabe\",\"CO2-eq Direkteingabe\",IFERROR(VLOOKUP(K31&\"_\"&L31,Emissionsfaktoren!$C$2:$D$219,2,FALSE),$T$2))","v":"Energieträger/Einheit wählen"},{"$f":"IF(K31=\"CO2-eq Direkteingabe\",\"CO2-eq Direkteingabe\",IFERROR(VLOOKUP(K31,Emissionsfaktoren!$F:$G,2,FALSE),$U$2))","v":"Energieträger wählen/Emissionsfaktor eingeben"}]
["I.3.xiii.","I.3.",24,{"$f":"IFERROR(VLOOKUP(K32,EM_Daten_u_Uebersicht!M:N,2,FALSE),\"\")","v":""},"I.3.xiii.","+","xiii. Sonst. Produzierender Bereich ",null,null,null,null,null,"Energieträger/Einheit wählen","Energieträger wählen/Emissionsfaktor eingeben",null,null,null,"","",{"$f":"IF(K32=\"CO2-eq Direkteingabe\",\"CO2-eq Direkteingabe\",IFERROR(VLOOKUP(K32&\"_\"&L32,Emissionsfaktoren!$C$2:$D$219,2,FALSE),$T$2))","v":"Energieträger/Einheit wählen"},{"$f":"IF(K32=\"CO2-eq Direkteingabe\",\"CO2-eq Direkteingabe\",IFERROR(VLOOKUP(K32,Emissionsfaktoren!$F:$G,2,FALSE),$U$2))","v":"Energieträger wählen/Emissionsfaktor eingeben"}]
[]
["I.4.","I.",null,null,null,null,"4. Energiewirtschaft",{"$f":"\"Energiemosaik: \" & IFERROR(TEXT(GETPIVOTDATA(\"Energie\",EM_Daten_u_Uebersicht!$S$5,\"Ziel-Sektor\",A34),\"# ##0\")&\" MWh\",\"keine Daten\") &\"\n\"&\"Sektorsumme: \" & IFERROR(TEXT(SUM(R35:R39),\"# ##0\")&\" MWh\",\"\")","v":"Energiemosaik: keine Daten\nSektorsumme: 0 MWh"}]
["I.4. .","I.4.",25,{"$f":"IFERROR(VLOOKUP(K35,EM_Daten_u_Uebersicht!M:N,2,FALSE),\"\")","v":""},"I.4. .","+","4. Energiewirtschaft",null,null,null,null,null,{"$f":"T35","v":"Energieträger/Einheit wählen"},"Energieträger wählen/Emissionsfaktor eingeben",null,null,null,{"$f":"IF(K35=\"CO2-eq Direkteingabe\",,IFERROR(J35*M35/1000,\"\"))","v":""},{"$f":"IF(K35=\"CO2-eq Direkteingabe\",J35,IFERROR(R35*N35,\"\"))","v":""},{"$f":"IF(K35=\"CO2-eq Direkteingabe\",\"CO2-eq Direkteingabe\",IFERROR(VLOOKUP(K35&\"_\"&L35,Emissionsfaktoren!$C$2:$D$219,2,FALSE),$T$2))","v":"Energieträger/Einheit wählen"},{"$f":"IF(K35=\"CO2-eq Direkteingabe\",\"CO2-eq Direkteingabe\",IFERROR(VLOOKUP(K35,Emissionsfaktoren!$F:$G,2,FALSE),$U$2))","v":"Energieträger wählen/Emissionsfaktor eingeben"}]
["I.4.ETS.","I.4.",26,{"$f":"IFERROR(VLOOKUP(K36,EM_Daten_u_Uebersicht!M:N,2,FALSE),\"\")","v":"CO2-eq Direkteingabe"},"I.4.ETS.",null,"ETS-Emissionen",{"$f":"\"Stadt: \" & Deckblatt!B13 & IF(NOT(ISNUMBER(S36)),\" (Keine Emissionsdaten)\",\"\")","v":"Stadt: -"},null,null,"ETS",null,null,null,null,null,null,null,{"$f":"INDEX(ETS!A16:H24,MATCH(Deckblatt!B13,ETS!A16:A24,0),MATCH(Deckblatt!B7,ETS!A16:H16,0))","v":0}]
["I.4.i.","I.4.",27,{"$f":"IFERROR(VLOOKUP(K37,EM_Daten_u_Uebersicht!M:N,2,FALSE),\"\")","v":""},"I.4.i.","+","i. Hilfsenergie, die in Strom- und Heizkraftwerken eingesetzt wird.",null,null,null,null,null,"Energieträger/Einheit wählen","Energieträger wählen/Emissionsfaktor eingeben",null,null,null,{"$f":"IF(K37=\"CO2-eq Direkteingabe\",,IFERROR(J37*M37/1000,\"\"))","v":""},{"$f":"IF(K37=\"CO2-eq Direkteingabe\",J37,IFERROR(R37*N37,\"\"))","v":""},{"$f":"IF(K37=\"CO2-eq Direkteingabe\",\"CO2-eq Direkteingabe\",IFERROR(VLOOKUP(K37&\"_\"&L37,Emissionsfaktoren!$C$2:$D$219,2,FALSE),$T$2))","v":"Energieträger/Einheit wählen"},{"$f":"IF(K37=\"CO2-eq Direkteingabe\",\"CO2-eq Direkteingabe\",IFERROR(VLOOKUP(K37,Emissionsfaktoren!$F:$G,2,FALSE),$U$2))","v":"Energieträger wählen/Emissionsfaktor eingeben"}]
["I.4.ii.","I.4.",28,{"$f":"IFERROR(VLOOKUP(K38,EM_Daten_u_Uebersicht!M:N,2,FALSE),\"\")","v":""},"I.4.ii.","+","ii. Eigenstromverbrauch: Netzenergie, die in Strom- und Heizkraftwerken eingesetzt wird.",null,null,null,null,null,"Energieträger/Einheit wählen","Energieträger wählen/Emissionsfaktor eingeben",null,null,null,{"$f":"IF(K38=\"CO2-eq Direkteingabe\",,IFERROR(J38*M38/1000,\"\"))","v":""},{"$f":"IF(K38=\"CO2-eq Direkteingabe\",J38,IFERROR(R38*N38,\"\"))","v":""},{"$f":"IF(K38=\"CO2-eq Direkteingabe\",\"CO2-eq Direkteingabe\",IFERROR(VLOOKUP(K38&\"_\"&L38,Emissionsfaktoren!$C$2:$D$219,2,FALSE),$T$2))","v":"Energieträger/Einheit wählen"},{"$f":"IF(K38=\"CO2-eq Direkteingabe\",\"CO2-eq Direkteingabe\",IFERROR(VLOOKUP(K38,Emissionsfaktoren!$F:$G,2,FALSE),$U$2))","v":"Energieträger wählen/Emissionsfaktor eingeben"}]
[]
["I.5.","I.",null,null,null,null,"5. Land-, Forstwirtschaft und Fischerei",{"$f":"\"Energiemosaik: \" & IFERROR(TEXT(GETPIVOTDATA(\"Energie\",EM_Daten_u_Uebersicht!$S$5,\"Ziel-Sektor\",A40),\"# ##0\")&\" MWh\",\"keine Daten\") &\"\n\"&\"Sektorsumme: \" & IFERROR(TEXT(SUM(R41:R45),\"# ##0\")&\" MWh\",\"\")","v":"Energiemosaik: keine Daten\nSektorsumme: 0 MWh"}]
["I.5. .","I.5.",29,{"$f":"IFERROR(VLOOKUP(K41,EM_Daten_u_Uebersicht!M:N,2,FALSE),\"\")","v":""},"I.5. .","+","5. Land-, Forstwirtschaft und Fischerei",null,null,null,null,null,{"$f":"T41","v":"Energieträger/Einheit wählen"},"Energieträger wählen/Emissionsfaktor eingeben",null,null,null,{"$f":"IF(K41=\"CO2-eq Direkteingabe\",,IFERROR(J41*M41/1000,\"\"))","v":""},{"$f":"IF(K41=\"CO2-eq Direkteingabe\",J41,IFERROR(R41*N41,\"\"))","v":""},{"$f":"IF(K41=\"CO2-eq Direkteingabe\",\"CO2-eq Direkteingabe\",IFERROR(VLOOKUP(K41&\"_\"&L41,Emissionsfaktoren!$C$2:$D$219,2,FALSE),$T$2))","v":"Energieträger/Einheit wählen"},{"$f":"IF(K41=\"CO2-eq Direkteingabe\",\"CO2-eq Direkteingabe\",IFERROR(VLOOKUP(K41,Emissionsfaktoren!$F:$G,2,FALSE),$U$2))","v":"Energieträger wählen/Emissionsfaktor eingeben"}]
["I.5.i.","I.5.",30,{"$f":"IFERROR(VLOOKUP(K42,EM_Daten_u_Uebersicht!M:N,2,FALSE),\"\")","v":""},"I.5.i.","+","i. Stationäre Quellen ",null,null,null,null,null,"Energieträger/Einheit wählen","Energieträger wählen/Emissionsfaktor eingeben",null,null,null,{"$f":"IF(K42=\"CO2-eq Direkteingabe\",,IFERROR(J42*M42/1000,\"\"))","v":""},{"$f":"IF(K42=\"CO2-eq Direkteingabe\",J42,IFERROR(R42*N42,\"\"))","v":""},{"$f":"IF(K42=\"CO2-eq Direkteingabe\",\"CO2-eq Direkteingabe\",IFERROR(VLOOKUP(K42&\"_\"&L42,Emissionsfaktoren!$C$2:$D$219,2,FALSE),$T$2))","v":"Energieträger/Einheit wählen"},{"$f":"IF(K42=\"CO2-eq Direkteingabe\",\"CO2-eq Direkteingabe\",IFERROR(VLOOKUP(K42,Emissionsfaktoren!$F:$G,2,FALSE),$U$2))","v":"Energieträger wählen/Emissionsfaktor eingeben"}]
["I.5.ii.","I.5.",31,{"$f":"IFERROR(VLOOKUP(K43,EM_Daten_u_Uebersicht!M:N,2,FALSE),\"\")","v":""},"I.5.ii.","+","ii. Off-road Fahrzeuge und Maschinen ",null,null,null,null,null,"Energieträger/Einheit wählen","Energieträger wählen/Emissionsfaktor eingeben",null,null,null,{"$f":"IF(K43=\"CO2-eq Direkteingabe\",,IFERROR(J43*M43/1000,\"\"))","v":""},{"$f":"IF(K43=\"CO2-eq Direkteingabe\",J43,IFERROR(R43*N43,\"\"))","v":""},{"$f":"IF(K43=\"CO2-eq Direkteingabe\",\"CO2-eq Direkteingabe\",IFERROR(VLOOKUP(K43&\"_\"&L43,Emissionsfaktoren!$C$2:$D$219,2,FALSE),$T$2))","v":"Energieträger/Einheit wählen"},{"$f":"IF(K43=\"CO2-eq Direkteingabe\",\"CO2-eq Direkteingabe\",IFERROR(VLOOKUP(K43,Emissionsfaktoren!$F:$G,2,FALSE),$U$2))","v":"Energieträger wählen/Emissionsfaktor eingeben"}]
["I.5.iii.","I.5.",32,{"$f":"IFERROR(VLOOKUP(K44,EM_Daten_u_Uebersicht!M:N,2,FALSE),\"\")","v":""},"I.5.iii.","+","iii. Fischerei (mobile Quellen) ",null,null,null,null,null,"Energieträger/Einheit wählen","Energieträger wählen/Emissionsfaktor eingeben",null,null,null,{"$f":"IF(K44=\"CO2-eq Direkteingabe\",,IFERROR(J44*M44/1000,\"\"))","v":""},{"$f":"IF(K44=\"CO2-eq Direkteingabe\",J44,IFERROR(R44*N44,\"\"))","v":""},{"$f":"IF(K44=\"CO2-eq Direkteingabe\",\"CO2-eq Direkteingabe\",IFERROR(VLOOKUP(K44&\"_\"&L44,Emissionsfaktoren!$C$2:$D$219,2,FALSE),$T$2))","v":"Energieträger/Einheit wählen"},{"$f":"IF(K44=\"CO2-eq Direkteingabe\",\"CO2-eq Direkteingabe\",IFERROR(VLOOKUP(K44,Emissionsfaktoren!$F:$G,2,FALSE),$U$2))","v":"Energieträger wählen/Emissionsfaktor eingeben"}]
[]
["I.6.","I.",null,null,null,null,"6. Andere Bereiche",{"$f":"\"Energiemosaik: \" & IFERROR(TEXT(GETPIVOTDATA(\"Energie\",EM_Daten_u_Uebersicht!$S$5,\"Ziel-Sektor\",A46),\"# ##0\")&\" MWh\",\"keine Daten\") &\"\n\"&\"Sektorsumme: \" & IFERROR(TEXT(SUM(R47:R50),\"# ##0\")&\" MWh\",\"\")","v":"Energiemosaik: keine Daten\nSektorsumme: 0 MWh"}]
["I.6. .","I.6.",33,{"$f":"IFERROR(VLOOKUP(K47,EM_Daten_u_Uebersicht!M:N,2,FALSE),\"\")","v":""},"I.6. .","+","6. Andere Bereiche",null,null,null,null,null,{"$f":"T47","v":"Energieträger/Einheit wählen"},"Energieträger wählen/Emissionsfaktor eingeben",null,null,null,{"$f":"IF(K47=\"CO2-eq Direkteingabe\",,IFERROR(J47*M47/1000,\"\"))","v":""},{"$f":"IF(K47=\"CO2-eq Direkteingabe\",J47,IFERROR(R47*N47,\"\"))","v":""},{"$f":"IF(K47=\"CO2-eq Direkteingabe\",\"CO2-eq Direkteingabe\",IFERROR(VLOOKUP(K47&\"_\"&L47,Emissionsfaktoren!$C$2:$D$219,2,FALSE),$T$2))","v":"Energieträger/Einheit wählen"},{"$f":"IF(K47=\"CO2-eq Direkteingabe\",\"CO2-eq Direkteingabe\",IFERROR(VLOOKUP(K47,Emissionsfaktoren!$F:$G,2,FALSE),$U$2))","v":"Energieträger wählen/Emissionsfaktor eingeben"}]
["I.6.i.","I.6.",34,{"$f":"IFERROR(VLOOKUP(K48,EM_Daten_u_Uebersicht!M:N,2,FALSE),\"\")","v":""},"I.6.i.","+","i. Stationäre Quellen ",null,null,null,null,null,"Energieträger/Einheit wählen","Energieträger wählen/Emissionsfaktor eingeben",null,null,null,{"$f":"IF(K48=\"CO2-eq Direkteingabe\",,IFERROR(J48*M48/1000,\"\"))","v":""},{"$f":"IF(K48=\"CO2-eq Direkteingabe\",J48,IFERROR(R48*N48,\"\"))","v":""},{"$f":"IF(K48=\"CO2-eq Direkteingabe\",\"CO2-eq Direkteingabe\",IFERROR(VLOOKUP(K48&\"_\"&L48,Emissionsfaktoren!$C$2:$D$219,2,FALSE),$T$2))","v":"Energieträger/Einheit wählen"},{"$f":"IF(K48=\"CO2-eq Direkteingabe\",\"CO2-eq Direkteingabe\",IFERROR(VLOOKUP(K48,Emissionsfaktoren!$F:$G,2,FALSE),$U$2))","v":"Energieträger wählen/Emissionsfaktor eingeben"}]
["I.6.ii.","I.6.",35,{"$f":"IFERROR(VLOOKUP(K49,EM_Daten_u_Uebersicht!M:N,2,FALSE),\"\")","v":""},"I.6.ii.","+","ii. Mobile Quellen ",null,null,null,null,null,"Energieträger/Einheit wählen","Energieträger wählen/Emissionsfaktor eingeben",null,null,null,{"$f":"IF(K49=\"CO2-eq Direkteingabe\",,IFERROR(J49*M49/1000,\"\"))","v":""},{"$f":"IF(K49=\"CO2-eq Direkteingabe\",J49,IFERROR(R49*N49,\"\"))","v":""},{"$f":"IF(K49=\"CO2-eq Direkteingabe\",\"CO2-eq Direkteingabe\",IFERROR(VLOOKUP(K49&\"_\"&L49,Emissionsfaktoren!$C$2:$D$219,2,FALSE),$T$2))","v":"Energieträger/Einheit wählen"},{"$f":"IF(K49=\"CO2-eq Direkteingabe\",\"CO2-eq Direkteingabe\",IFERROR(VLOOKUP(K49,Emissionsfaktoren!$F:$G,2,FALSE),$U$2))","v":"Energieträger wählen/Emissionsfaktor eingeben"}]
[]
["I.7.","I.",null,null,null,null,"7. Diffuse Emissionen aus Kohlebergbau und-umwandlung ",{"$f":"\"Energiemosaik: \" & IFERROR(TEXT(GETPIVOTDATA(\"Energie\",EM_Daten_u_Uebersicht!$S$5,\"Ziel-Sektor\",A51),\"# ##0\")&\" MWh\",\"keine Daten\") &\"\n\"&\"Sektorsumme: \" & IFERROR(TEXT(SUM(R52:R53),\"# ##0\")&\" MWh\",\"\")","v":"Energiemosaik: keine Daten\nSektorsumme: 0 MWh"}]
["I.7. .","I.7.",36,{"$f":"IFERROR(VLOOKUP(K52,EM_Daten_u_Uebersicht!M:N,2,FALSE),\"\")","v":""},"I.7. .","+","7. Diffuse Emissionen aus Kohlebergbau und-umwandlung ",null,null,null,null,null,{"$f":"T52","v":"Energieträger/Einheit wählen"},{"$f":"U52","v":"Energieträger wählen/Emissionsfaktor eingeben"},null,null,null,{"$f":"IF(K52=\"CO2-eq Direkteingabe\",,IFERROR(J52*M52/1000,\"\"))","v":""},{"$f":"IF(K52=\"CO2-eq Direkteingabe\",J52,IFERROR(R52*N52,\"\"))","v":""},{"$f":"IF(K52=\"CO2-eq Direkteingabe\",\"CO2-eq Direkteingabe\",IFERROR(VLOOKUP(K52&\"_\"&L52,Emissionsfaktoren!$C$2:$D$219,2,FALSE),$T$2))","v":"Energieträger/Einheit wählen"},{"$f":"IF(K52=\"CO2-eq Direkteingabe\",\"CO2-eq Direkteingabe\",IFERROR(VLOOKUP(K52,Emissionsfaktoren!$F:$G,2,FALSE),$U$2))","v":"Energieträger wählen/Emissionsfaktor eingeben"}]
[]
["I.8.","I.",null,null,null,null,"8. Öl und Erdgas und diffuse Emissionen aus der Energieerzeugung",{"$f":"\"Energiemosaik: \" & IFERROR(TEXT(GETPIVOTDATA(\"Energie\",EM_Daten_u_Uebersicht!$S$5,\"Ziel-Sektor\",A54),\"# ##0\")&\" MWh\",\"keine Daten\") &\"\n\"&\"Sektorsumme: \" & IFERROR(TEXT(SUM(R55:R56),\"# ##0\")&\" MWh\",\"\")","v":"Energiemosaik: keine Daten\nSektorsumme: 0 MWh"}]
["I.8. .","I.8.",37,{"$f":"IFERROR(VLOOKUP(K55,EM_Daten_u_Uebersicht!M:N,2,FALSE),\"\")","v":""},"I.8. .","+","8. Öl und Erdgas und diffuse Emissionen aus der Energieerzeugung",null,null,null,null,null,{"$f":"T55","v":"Energieträger/Einheit wählen"},{"$f":"U55","v":"Energieträger wählen/Emissionsfaktor eingeben"},null,null,null,{"$f":"IF(K55=\"CO2-eq Direkteingabe\",,IFERROR(J55*M55/1000,\"\"))","v":""},{"$f":"IF(K55=\"CO2-eq Direkteingabe\",J55,IFERROR(R55*N55,\"\"))","v":""},{"$f":"IF(K55=\"CO2-eq Direkteingabe\",\"CO2-eq Direkteingabe\",IFERROR(VLOOKUP(K55&\"_\"&L55,Emissionsfaktoren!$C$2:$D$219,2,FALSE),$T$2))","v":"Energieträger/Einheit wählen"},{"$f":"IF(K55=\"CO2-eq Direkteingabe\",\"CO2-eq Direkteingabe\",IFERROR(VLOOKUP(K55,Emissionsfaktoren!$F:$G,2,FALSE),$U$2))","v":"Energieträger wählen/Emissionsfaktor eingeben"}]

{"sheet":"II. Transport","index":3,"n_rows":28,"n_cols":21,"rows_kept":28,"cut":false,"hidden":true,"merged":[]}
["ID","PID","Subsektornummer","EM_Energieträger","ID","Hinzufügen","Sektoren","GPC-Beschreibung","Datenqualität","Aktivität/Menge","Energieträger/Verkehrsträger","Einheit","Energieinhalt [kWh/Einheit]","Emissionsfaktor [t CO2eq/MWh]","Quelle","Bezugsjahr","Datenverantworlicher","Energieeinsatz [MWh]","THG [t CO2eq]","EI [kWh/Einheit]","EF [t CO2eq/MWh]"]
["II.",null,null,null,{"$f":"A2","v":"II."},null,"II. Transport",null,null,null,null,null,null,null,null,null,null,null,null,"Umrechnungsfaktor nicht verfügbar","Energieträger wählen/Emissionsfaktor eingeben"]
[]
["II.1.","II.",null,null,null,null,"1. Straßenverkehr",{"$f":"\"Energiemosaik: \" & IFERROR(TEXT(GETPIVOTDATA(\"Energie\",EM_Daten_u_Uebersicht!$S$5,\"Ziel-Sektor\",A4),\"# ##0\")&\" MWh\",\"keine Daten\") &\"\n\"&\"Sektorsumme: \" & IFERROR(TEXT(SUM(R5:R9),\"# ##0\")&\" MWh\",\"\")","v":"Energiemosaik: keine Daten\nSektorsumme: 0 MWh"}]
["II.1. .","II.1.",1,{"$f":"IFERROR(VLOOKUP(K5,EM_Daten_u_Uebersicht!M:N,2,FALSE),\"\")","v":""},{"$f":"A5","v":"II.1. ."},"+","1. Straßenverkehr",null,null,null,null,null,{"$f":"T5","v":"Energieträger/Einheit wählen"},"Energieträger wählen/Emissionsfaktor eingeben",null,null,null,{"$f":"IF(K5=\"CO2-eq Direkteingabe\",,IFERROR(J5*M5/1000,\"\"))","v":""},{"$f":"IF(K5=\"CO2-eq Direkteingabe\",J5,IFERROR(R5*N5,\"\"))","v":""},{"$f":"IF(K5=\"CO2-eq Direkteingabe\",\"CO2-eq Direkteingabe\",IFERROR(VLOOKUP(K5&\"_\"&L5,Emissionsfaktoren!$C$2:$D$219,2,FALSE),$T$2))","v":"Energieträger/Einheit wählen"},{"$f":"IF(K5=\"CO2-eq Direkteingabe\",\"CO2-eq Direkteingabe\",IFERROR(VLOOKUP(K5,Emissionsfaktoren!$F:$G,2,FALSE),$U$2))","v":"Energieträger wählen/Emissionsfaktor eingeben"}]
["II.1.i.","II.1.",2,{"$f":"IFERROR(VLOOKUP(K6,EM_Daten_u_Uebersicht!M:N,2,FALSE),\"\")","v":""},"II.1.i.","+","i. Städtischer Fuhrpark",null,null,null,null,null,"Energieträger/Einheit wählen","Energieträger wählen/Emissionsfaktor eingeben",null,null,null,"","",{"$f":"IF(K6=\"CO2-eq Direkteingabe\",\"CO2-eq Direkteingabe\",IFERROR(VLOOKUP(K6&\"_\"&L6,Emissionsfaktoren!$C$2:$D$219,2,FALSE),$T$2))","v":"Energieträger/Einheit wählen"},{"$f":"IF(K6=\"CO2-eq Direkteingabe\",\"CO2-eq Direkteingabe\",IFERROR(VLOOKUP(K6,Emissionsfaktoren!$F:$G,2,FALSE),$U$2))","v":"Energieträger wählen/Emissionsfaktor eingeben"}]
["II.1.ii.","II.1.",3,{"$f":"IFERROR(VLOOKUP(K7,EM_Daten_u_Uebersicht!M:N,2,FALSE),\"\")","v":""},"II.1.ii.","+","ii. ÖPNV",null,null,null,null,null,"Energieträger/Einheit wählen","Energieträger wählen/Emissionsfaktor eingeben",null,null,null,"","",{"$f":"IF(K7=\"CO2-eq Direkteingabe\",\"CO2-eq Direkteingabe\",IFERROR(VLOOKUP(K7&\"_\"&L7,Emissionsfaktoren!$C$2:$D$219,2,FALSE),$T$2))","v":"Energieträger/Einheit wählen"},{"$f":"IF(K7=\"CO2-eq Direkteingabe\",\"CO2-eq Direkteingabe\",IFERROR(VLOOKUP(K7,Emissionsfaktoren!$F:$G,2,FALSE),$U$2))","v":"Energieträger wählen/Emissionsfaktor eingeben"}]
["II.1.iii.","II.1.",4,{"$f":"IFERROR(VLOOKUP(K8,EM_Daten_u_Uebersicht!M:N,2,FALSE),\"\")","v":""},"II.1.iii.","+","iii. Privat",null,null,null,null,null,"Energieträger/Einheit wählen","Energieträger wählen/Emissionsfaktor eingeben",null,null,null,"","",{"$f":"IF(K8=\"CO2-eq Direkteingabe\",\"CO2-eq Direkteingabe\",IFERROR(VLOOKUP(K8&\"_\"&L8,Emissionsfaktoren!$C$2:$D$219,2,FALSE),$T$2))","v":"Energieträger/Einheit wählen"},{"$f":"IF(K8=\"CO2-eq Direkteingabe\",\"CO2-eq Direkteingabe\",IFERROR(VLOOKUP(K8,Emissionsfaktoren!$F:$G,2,FALSE),$U$2))","v":"Energieträger wählen/Emissionsfaktor eingeben"}]
[]
["II.2.","II.",null,null,null,null,"2. Schienenverkehr",{"$f":"\"Energiemosaik: \" & IFERROR(TEXT(GETPIVOTDATA(\"Energie\",EM_Daten_u_Uebersicht!$S$5,\"Ziel-Sektor\",A10),\"# ##0\")&\" MWh\",\"keine Daten\") &\"\n\"&\"Sektorsumme: \" & IFERROR(TEXT(SUM(R11:R14),\"# ##0\")&\" MWh\",\"\")","v":"Energiemosaik: keine Daten\nSektorsumme: 0 MWh"}]
["II.2. .","II.2.",5,{"$f":"IFERROR(VLOOKUP(K11,EM_Daten_u_Uebersicht!M:N,2,FALSE),\"\")","v":""},{"$f":"A11","v":"II.2. ."},"+","2. Schienenverkehr",null,null,null,null,null,{"$f":"T11","v":"Energieträger/Einheit wählen"},"Energieträger wählen/Emissionsfaktor eingeben",null,null,null,{"$f":"IF(K11=\"CO2-eq Direkteingabe\",,IFERROR(J11*M11/1000,\"\"))","v":""},{"$f":"IF(K11=\"CO2-eq Direkteingabe\",J11,IFERROR(R11*N11,\"\"))","v":""},{"$f":"IF(K11=\"CO2-eq Direkteingabe\",\"CO2-eq Direkteingabe\",IFERROR(VLOOKUP(K11&\"_\"&L11,Emissionsfaktoren!$C$2:$D$219,2,FALSE),$T$2))","v":"Energieträger/Einheit wählen"},{"$f":"IF(K11=\"CO2-eq Direkteingabe\",\"CO2-eq Direkteingabe\",IFERROR(VLOOKUP(K11,Emissionsfaktoren!$F:$G,2,FALSE),$U$2))","v":"Energieträger wählen/Emissionsfaktor eingeben"}]
["II.2.i.","II.2.",6,{"$f":"IFERROR(VLOOKUP(K12,EM_Daten_u_Uebersicht!M:N,2,FALSE),\"\")","v":""},"II.2.i.","+","i. ÖPNV",null,null,null,null,null,{"$f":"T12","v":"Energieträger/Einheit wählen"},{"$f":"U12","v":"Energieträger wählen/Emissionsfaktor eingeben"},null,null,null,{"$f":"IF(K12=\"CO2-eq Direkteingabe\",,IFERROR(J12*M12/1000,\"\"))","v":""},{"$f":"IF(K12=\"CO2-eq Direkteingabe\",J12,IFERROR(R12*N12,\"\"))","v":""},{"$f":"IF(K12=\"CO2-eq Direkteingabe\",\"CO2-eq Direkteingabe\",IFERROR(VLOOKUP(K12&\"_\"&L12,Emissionsfaktoren!$C$2:$D$219,2,FALSE),$T$2))","v":"Energieträger/Einheit wählen"},{"$f":"IF(K12=\"CO2-eq Direkteingabe\",\"CO2-eq Direkteingabe\",IFERROR(VLOOKUP(K12,Emissionsfaktoren!$F:$G,2,FALSE),$U$2))","v":"Energieträger wählen/Emissionsfaktor eingeben"}]
["II.2.ii.","II.2.",7,{"$f":"IFERROR(VLOOKUP(K13,EM_Daten_u_Uebersicht!M:N,2,FALSE),\"\")","v":""},"II.2.ii.","+","ii. Privat",null,null,null,null,null,{"$f":"T13","v":"Energieträger/Einheit wählen"},{"$f":"U13","v":"Energieträger wählen/Emissionsfaktor eingeben"},null,null,null,{"$f":"IF(K13=\"CO2-eq Direkteingabe\",,IFERROR(J13*M13/1000,\"\"))","v":""},{"$f":"IF(K13=\"CO2-eq Direkteingabe\",J13,IFERROR(R13*N13,\"\"))","v":""},{"$f":"IF(K13=\"CO2-eq Direkteingabe\",\"CO2-eq Direkteingabe\",IFERROR(VLOOKUP(K13&\"_\"&L13,Emissionsfaktoren!$C$2:$D$219,2,FALSE),$T$2))","v":"Energieträger/Einheit wählen"},{"$f":"IF(K13=\"CO2-eq Direkteingabe\",\"CO2-eq Direkteingabe\",IFERROR(VLOOKUP(K13,Emissionsfaktoren!$F:$G,2,FALSE),$U$2))","v":"Energieträger wählen/Emissionsfaktor eingeben"}]
[]
["II.3.","II.",null,null,null,null,"3. Schiffsverkehr",{"$f":"\"Energiemosaik: \" & IFERROR(TEXT(GETPIVOTDATA(\"Energie\",EM_Daten_u_Uebersicht!$S$5,\"Ziel-Sektor\",A15),\"# ##0\")&\" MWh\",\"keine Daten\") &\"\n\"&\"Sektorsumme: \" & IFERROR(TEXT(SUM(R16:R20),\"# ##0\")&\" MWh\",\"\")","v":"Energiemosaik: keine Daten\nSektorsumme: 0 MWh"}]
["II.3. .","II.3.",8,{"$f":"IFERROR(VLOOKUP(K16,EM_Daten_u_Uebersicht!M:N,2,FALSE),\"\")","v":""},{"$f":"A16","v":"II.3. ."},"+","3. Schiffsverkehr",null,null,null,null,null,{"$f":"T16","v":"Energieträger/Einheit wählen"},"Energieträger wählen/Emissionsfaktor eingeben",null,null,null,{"$f":"IF(K16=\"CO2-eq Direkteingabe\",,IFERROR(J16*M16/1000,\"\"))","v":""},{"$f":"IF(K16=\"CO2-eq Direkteingabe\",J16,IFERROR(R16*N16,\"\"))","v":""},{"$f":"IF(K16=\"CO2-eq Direkteingabe\",\"CO2-eq Direkteingabe\",IFERROR(VLOOKUP(K16&\"_\"&L16,Emissionsfaktoren!$C$2:$D$219,2,FALSE),$T$2))","v":"Energieträger/Einheit wählen"},{"$f":"IF(K16=\"CO2-eq Direkteingabe\",\"CO2-eq Direkteingabe\",IFERROR(VLOOKUP(K16,Emissionsfaktoren!$F:$G,2,FALSE),$U$2))","v":"Energieträger wählen/Emissionsfaktor eingeben"}]
["II.3.i.","II.3.",9,{"$f":"IFERROR(VLOOKUP(K17,EM_Daten_u_Uebersicht!M:N,2,FALSE),\"\")","v":""},{"$f":"A17","v":"II.3.i."},"+","i. Fahrten innerhalb der Stadtgrenze",null,null,null,null,null,"Energieträger/Einheit wählen","Energieträger wählen/Emissionsfaktor eingeben",null,null,null,{"$f":"IF(K17=\"CO2-eq Direkteingabe\",,IFERROR(J17*M17/1000,\"\"))","v":""},{"$f":"IF(K17=\"CO2-eq Direkteingabe\",J17,IFERROR(R17*N17,\"\"))","v":""},{"$f":"IF(K17=\"CO2-eq Direkteingabe\",\"CO2-eq Direkteingabe\",IFERROR(VLOOKUP(K17&\"_\"&L17,Emissionsfaktoren!$C$2:$D$219,2,FALSE),$T$2))","v":"Energieträger/Einheit wählen"},{"$f":"IF(K17=\"CO2-eq Direkteingabe\",\"CO2-eq Direkteingabe\",IFERROR(VLOOKUP(K17,Emissionsfaktoren!$F:$G,2,FALSE),$U$2))","v":"Energieträger wählen/Emissionsfaktor eingeben"}]
["II.3.ii.","II.3.",10,{"$f":"IFERROR(VLOOKUP(K18,EM_Daten_u_Uebersicht!M:N,2,FALSE),\"\")","v":""},{"$f":"A18","v":"II.3.ii."},"+","ii. Grenzüberschreitendes Ablegen",null,null,null,null,null,"Energieträger/Einheit wählen","Energieträger wählen/Emissionsfaktor eingeben",null,null,null,{"$f":"IF(K18=\"CO2-eq Direkteingabe\",,IFERROR(J18*M18/1000,\"\"))","v":""},{"$f":"IF(K18=\"CO2-eq Direkteingabe\",J18,IFERROR(R18*N18,\"\"))","v":""},{"$f":"IF(K18=\"CO2-eq Direkteingabe\",\"CO2-eq Direkteingabe\",IFERROR(VLOOKUP(K18&\"_\"&L18,Emissionsfaktoren!$C$2:$D$219,2,FALSE),$T$2))","v":"Energieträger/Einheit wählen"},{"$f":"IF(K18=\"CO2-eq Direkteingabe\",\"CO2-eq Direkteingabe\",IFERROR(VLOOKUP(K18,Emissionsfaktoren!$F:$G,2,FALSE),$U$2))","v":"Energieträger wählen/Emissionsfaktor eingeben"}]
["II.3.iii.","II.3.",11,{"$f":"IFERROR(VLOOKUP(K19,EM_Daten_u_Uebersicht!M:N,2,FALSE),\"\")","v":""},{"$f":"A19","v":"II.3.iii."},"+","iii. andere",null,null,null,null,null,"Energieträger/Einheit wählen","Energieträger wählen/Emissionsfaktor eingeben",null,null,null,{"$f":"IF(K19=\"CO2-eq Direkteingabe\",,IFERROR(J19*M19/1000,\"\"))","v":""},{"$f":"IF(K19=\"CO2-eq Direkteingabe\",J19,IFERROR(R19*N19,\"\"))","v":""},{"$f":"IF(K19=\"CO2-eq Direkteingabe\",\"CO2-eq Direkteingabe\",IFERROR(VLOOKUP(K19&\"_\"&L19,Emissionsfaktoren!$C$2:$D$219,2,FALSE),$T$2))","v":"Energieträger/Einheit wählen"},{"$f":"IF(K19=\"CO2-eq Direkteingabe\",\"CO2-eq Direkteingabe\",IFERROR(VLOOKUP(K19,Emissionsfaktoren!$F:$G,2,FALSE),$U$2))","v":"Energieträger wählen/Emissionsfaktor eingeben"}]
[]
["II.4.","II.",null,null,null,null,"4. Flug",{"$f":"\"Energiemosaik: \" & IFERROR(TEXT(GETPIVOTDATA(\"Energie\",EM_Daten_u_Uebersicht!$S$5,\"Ziel-Sektor\",A21),\"# ##0\")&\" MWh\",\"keine Daten\") &\"\n\"&\"Sektorsumme: \" & IFERROR(TEXT(SUM(R22:R26),\"# ##0\")&\" MWh\",\"\")","v":"Energiemosaik: keine Daten\nSektorsumme: 0 MWh"}]
["II.4. .","II.4.",12,{"$f":"IFERROR(VLOOKUP(K22,EM_Daten_u_Uebersicht!M:N,2,FALSE),\"\")","v":""},{"$f":"A22","v":"II.4. ."},"+","4. Flug",null,null,null,null,null,{"$f":"T22","v":"Energieträger/Einheit wählen"},"Energieträger wählen/Emissionsfaktor eingeben",null,null,null,{"$f":"IF(K22=\"CO2-eq Direkteingabe\",,IFERROR(J22*M22/1000,\"\"))","v":""},{"$f":"IF(K22=\"CO2-eq Direkteingabe\",J22,IFERROR(R22*N22,\"\"))","v":""},{"$f":"IF(K22=\"CO2-eq Direkteingabe\",\"CO2-eq Direkteingabe\",IFERROR(VLOOKUP(K22&\"_\"&L22,Emissionsfaktoren!$C$2:$D$219,2,FALSE),$T$2))","v":"Energieträger/Einheit wählen"},{"$f":"IF(K22=\"CO2-eq Direkteingabe\",\"CO2-eq Direkteingabe\",IFERROR(VLOOKUP(K22,Emissionsfaktoren!$F:$G,2,FALSE),$U$2))","v":"Energieträger wählen/Emissionsfaktor eingeben"}]
["II.4.i.","II.4.",13,{"$f":"IFERROR(VLOOKUP(K23,EM_Daten_u_Uebersicht!M:N,2,FALSE),\"\")","v":""},{"$f":"A23","v":"II.4.i."},"+","i. Flüge innerhalb der Stadtgrenze",null,null,null,null,null,"Energieträger/Einheit wählen","Energieträger wählen/Emissionsfaktor eingeben",null,null,null,{"$f":"IF(K23=\"CO2-eq Direkteingabe\",,IFERROR(J23*M23/1000,\"\"))","v":""},{"$f":"IF(K23=\"CO2-eq Direkteingabe\",J23,IFERROR(R23*N23,\"\"))","v":""},{"$f":"IF(K23=\"CO2-eq Direkteingabe\",\"CO2-eq Direkteingabe\",IFERROR(VLOOKUP(K23&\"_\"&L23,Emissionsfaktoren!$C$2:$D$219,2,FALSE),$T$2))","v":"Energieträger/Einheit wählen"},{"$f":"IF(K23=\"CO2-eq Direkteingabe\",\"CO2-eq Direkteingabe\",IFERROR(VLOOKUP(K23,Emissionsfaktoren!$F:$G,2,FALSE),$U$2))","v":"Energieträger wählen/Emissionsfaktor eingeben"}]
["II.4.ii.","II.4.",14,{"$f":"IFERROR(VLOOKUP(K24,EM_Daten_u_Uebersicht!M:N,2,FALSE),\"\")","v":"Öl (Heizöl, Gasöl für Heizzwecke, Diesel, Benzin, Petroleum, Flüssiggas)"},{"$f":"A24","v":"II.4.ii."},null,"ii. Alle abgehenden Flüge",{"$f":"\"Flughafen: \" & Deckblatt!B10 & IF(NOT(ISNUMBER(S24)),\" (Keine Emissionsdaten)\",\"\")","v":"Flughafen: -"},null,null,"Kerosin",null,null,null,null,null,null,{"$f":"S24/3.15*Emissionsfaktoren!D107","v":0},{"$f":"INDEX(FLUG!A56:H65,MATCH(Deckblatt!B10,FLUG!A56:A65,0),MATCH(Deckblatt!B7,FLUG!A56:H56,0))","v":0}]
["II.4.iii.","II.4.",15,{"$f":"IFERROR(VLOOKUP(K25,EM_Daten_u_Uebersicht!M:N,2,FALSE),\"\")","v":""},{"$f":"A25","v":"II.4.iii."},"+","iii. andere",null,null,null,null,null,"Energieträger/Einheit wählen","Energieträger wählen/Emissionsfaktor eingeben",null,null,null,{"$f":"IF(K25=\"CO2-eq Direkteingabe\",,IFERROR(J25*M25/1000,\"\"))","v":""},{"$f":"IF(K25=\"CO2-eq Direkteingabe\",J25,IFERROR(R25*N25,\"\"))","v":""},{"$f":"IF(K25=\"CO2-eq Direkteingabe\",\"CO2-eq Direkteingabe\",IFERROR(VLOOKUP(K25&\"_\"&L25,Emissionsfaktoren!$C$2:$D$219,2,FALSE),$T$2))","v":"Energieträger/Einheit wählen"},{"$f":"IF(K25=\"CO2-eq Direkteingabe\",\"CO2-eq Direkteingabe\",IFERROR(VLOOKUP(K25,Emissionsfaktoren!$F:$G,2,FALSE),$U$2))","v":"Energieträger wählen/Emissionsfaktor eingeben"}]
[]
["II.5.","II.",null,null,null,null,"5. off-road Transport",{"$f":"\"Energiemosaik: \" & IFERROR(TEXT(GETPIVOTDATA(\"Energie\",EM_Daten_u_Uebersicht!$S$5,\"Ziel-Sektor\",A27),\"# ##0\")&\" MWh\",\"keine Daten\") &\"\n\"&\"Sektorsumme: \" & IFERROR(TEXT(SUM(R28:R29),\"# ##0\")&\" MWh\",\"\")","v":"Energiemosaik: keine Daten\nSektorsumme: 0 MWh"}]
["II.5. .","II.5.",16,{"$f":"IFERROR(VLOOKUP(K28,EM_Daten_u_Uebersicht!M:N,2,FALSE),\"\")","v":""},{"$f":"A28","v":"II.5. ."},"+","5. off-road Transport",null,null,null,null,null,{"$f":"T28","v":"Energieträger/Einheit wählen"},{"$f":"U28","v":"Energieträger wählen/Emissionsfaktor eingeben"},null,null,null,{"$f":"IF(K28=\"CO2-eq Direkteingabe\",,IFERROR(J28*M28/1000,\"\"))","v":""},{"$f":"IF(K28=\"CO2-eq Direkteingabe\",J28,IFERROR(R28*N28,\"\"))","v":""},{"$f":"IF(K28=\"CO2-eq Direkteingabe\",\"CO2-eq Direkteingabe\",IFERROR(VLOOKUP(K28&\"_\"&L28,Emissionsfaktoren!$C$2:$D$219,2,FALSE),$T$2))","v":"Energieträger/Einheit wählen"},{"$f":"IF(K28=\"CO2-eq Direkteingabe\",\"CO2-eq Direkteingabe\",IFERROR(VLOOKUP(K28,Emissionsfaktoren!$F:$G,2,FALSE),$U$2))","v":"Energieträger wählen/Emissionsfaktor eingeben"}]

{"sheet":"III. Abfall","index":4,"n_rows":16,"n_cols":21,"rows_kept":16,"cut":false,"hidden":true,"merged":[[2,10,2,12],[2,17,2,20],[2,4,2,5],[2,6,2,7],[2,8,2,9]]}
[null,"III. Abfall und Abwasser"]
[]
["Abfallart","Aufkommen / Anzahl",null,"% Scope 1","Recycling/Stoffliche Verwertung",null,"Thermische Verwertung",null,"Deponierung",null,"Export",null,null,null,"Ergebnis CO2-eq [t]","Scope 1 CO2-eq [t]","Scope 3 CO2-eq [t]","Aufteilung Behandlung Export (%)"]
[null,null,null,null,"Behandlung (%)","EFA kg CO2-eq / Einheit","Behandlung (%)","EFA\nkg CO2-eq / Einheit","Behandlung (%)","EFA\nkg CO2-eq / Einheit","Export (%)","EFA Recycling/Stoffliche Verwertung\nkg CO2-eq / Einheit","EFA Export Ergebnis\nkg CO2-eq / Einheit","Prüfsumme",null,null,null,"Recycling/Stoffliche Verwertung","thermische Verwertung","deponiert/Beseitigung","Prüfsumme"]
["Abwasser",null,"Einwohner:innen",null,{"$f":"Emissionsfaktoren!AP6","v":0},{"$f":"Emissionsfaktoren!AQ6","v":11},{"$f":"Emissionsfaktoren!AR6","v":0},{"$f":"Emissionsfaktoren!AS6","v":0},{"$f":"Emissionsfaktoren!AT6","v":0},{"$f":"Emissionsfaktoren!AU6","v":0},{"$f":"Emissionsfaktoren!AV6","v":0},{"$f":"Emissionsfaktoren!AW6","v":0},null,null,{"$f":"F5*B5/1000","v":0},{"$f":"O5*D5/100","v":0},{"$f":"O5-P5","v":0},{"$f":"Emissionsfaktoren!AZ6","v":0},{"$f":"Emissionsfaktoren!BA6","v":0},{"$f":"Emissionsfaktoren!BB6","v":0}]
["Restmüll",null,"Tonnen",null,{"$f":"Emissionsfaktoren!AP7","v":13.846997532218261},{"$f":"Emissionsfaktoren!AQ7","v":0},{"$f":"Emissionsfaktoren!AR7","v":86.098162873594731},{"$f":"Emissionsfaktoren!AS7","v":0},{"$f":"Emissionsfaktoren!AT7","v":2.7858427573950735},{"$f":"Emissionsfaktoren!AU7","v":7560},{"$f":"Emissionsfaktoren!AV7","v":3.7222265935798107},{"$f":"Emissionsfaktoren!AW7","v":372},{"$f":"L6*R6/100+H6*S6/100+J6*T6/100","v":461.43243243243239},{"$f":"E6+G6+I6+K6","v":106.45322975678788},{"$f":"(B6*E6/100*F6+B6*G6/100*H6+B6*I6/100*J6+B6*K6/100*M6)/1000","v":0},{"$f":"O6*D6/100","v":0},{"$f":"O6-P6","v":0},{"$f":"Emissionsfaktoren!AZ7","v":0},{"$f":"Emissionsfaktoren!BA7","v":93.445945945945937},{"$f":"Emissionsfaktoren!BB7","v":6.1036036036036032},{"$f":"SUM(R6:T6)","v":99.549549549549539}]
["Sperrmüll",null,"Tonnen",null,{"$f":"Emissionsfaktoren!AP8","v":15.13280887692491},{"$f":"Emissionsfaktoren!AQ8","v":0},{"$f":"Emissionsfaktoren!AR8","v":55.699678423806965},{"$f":"Emissionsfaktoren!AS8","v":0},{"$f":"Emissionsfaktoren!AT8","v":2.5497483730636081},{"$f":"Emissionsfaktoren!AU8","v":0},{"$f":"Emissionsfaktoren!AV8","v":2.4721269764251379},{"$f":"Emissionsfaktoren!AW8","v":372},0,{"$f":"E7+G7+I7+K7","v":75.854362650220622},{"$f":"(B7*E7/100*F7+B7*G7/100*H7+B7*I7/100*J7+B7*K7/100*M7)/1000","v":0},0,0,{"$f":"Emissionsfaktoren!AZ8","v":0},{"$f":"Emissionsfaktoren!BA8","v":100},{"$f":"Emissionsfaktoren!BB8","v":0},{"$f":"SUM(R7:T7)","v":100}]
["Leichtfraktion",null,"Tonnen",null,{"$f":"Emissionsfaktoren!AP9","v":26},{"$f":"Emissionsfaktoren!AQ9","v":0},{"$f":"Emissionsfaktoren!AR9","v":72},{"$f":"Emissionsfaktoren!AS9","v":0},{"$f":"Emissionsfaktoren!AT9","v":2},{"$f":"Emissionsfaktoren!AU9","v":0},{"$f":"Emissionsfaktoren!AV9","v":25.347984872376127},{"$f":"Emissionsfaktoren!AW9","v":807},410.1125485840127,125.34798487237613,{"$f":"(B8*E8/100*F8+B8*G8/100*H8+B8*I8/100*J8+B8*K8/100*M8)/1000","v":0},0,0,{"$f":"Emissionsfaktoren!AZ9","v":50.81939883321099},{"$f":"Emissionsfaktoren!BA9","v":48.704481062215869},{"$f":"Emissionsfaktoren!BB9","v":0.47612010457314319},100]
["Altmetall",null,"Tonnen",null,{"$f":"Emissionsfaktoren!AP10","v":65.455218376461474},{"$f":"Emissionsfaktoren!AQ10","v":0},{"$f":"Emissionsfaktoren!AR10","v":52.031752343462699},{"$f":"Emissionsfaktoren!AS10","v":0},{"$f":"Emissionsfaktoren!AT10","v":0.35944767326463617},{"$f":"Emissionsfaktoren!AU10","v":0},{"$f":"Emissionsfaktoren!AV10","v":30.352104710747756},{"$f":"Emissionsfaktoren!AW10","v":372},370.11404106119181,148.19852310393657,0,0,0,{"$f":"Emissionsfaktoren!AZ10","v":99.493021790642956},{"$f":"Emissionsfaktoren!BA10","v":0.49964145220369521},{"$f":"Emissionsfaktoren!BB10","v":1.2139194683236314E-2},100.00480243752989]
["Altglas",null,"Tonnen",null,{"$f":"Emissionsfaktoren!AP11","v":42.103948450307776},{"$f":"Emissionsfaktoren!AQ11","v":0},{"$f":"Emissionsfaktoren!AR11","v":1.1644319428574417},{"$f":"Emissionsfaktoren!AS11","v":0},{"$f":"Emissionsfaktoren!AT11","v":0.44096842026334276},{"$f":"Emissionsfaktoren!AU11","v":0},{"$f":"Emissionsfaktoren!AV11","v":29.673056346730561},{"$f":"Emissionsfaktoren!AW11","v":372},363.62599640648421,73.382405160159124,0,0,0,{"$f":"Emissionsfaktoren!AZ11","v":97.748923765183918},{"$f":"Emissionsfaktoren!BA11","v":2.2510762348160722},{"$f":"Emissionsfaktoren!BB11","v":0.12664165103189495},100.12664165103187]
["Altpapier",null,"Tonnen",null,{"$f":"Emissionsfaktoren!AP12","v":83.432231656955992},{"$f":"Emissionsfaktoren!AQ12","v":0},{"$f":"Emissionsfaktoren!AR12","v":9.4268456247562611},{"$f":"Emissionsfaktoren!AS12","v":0},{"$f":"Emissionsfaktoren!AT12","v":0},{"$f":"Emissionsfaktoren!AU12","v":0},{"$f":"Emissionsfaktoren!AV12","v":6.0387038551503389},{"$f":"Emissionsfaktoren!AW12","v":167},159.61796360625439,98.897781136862591,0,0,0,{"$f":"Emissionsfaktoren!AZ12","v":95.579618925900832},{"$f":"Emissionsfaktoren!BA12","v":3.8370385318221061},{"$f":"Emissionsfaktoren!BB12","v":0.4253611107107223},99.842018568433659]
["Bioabfall",null,"Tonnen",null,{"$f":"Emissionsfaktoren!AP13","v":50.520599279145728},{"$f":"Emissionsfaktoren!AQ13","v":34.950000000000003},{"$f":"Emissionsfaktoren!AR13","v":2.9989879187766788},{"$f":"Emissionsfaktoren!AS13","v":0},{"$f":"Emissionsfaktoren!AT13","v":0.94354027615879332},{"$f":"Emissionsfaktoren!AU13","v":7560},{"$f":"Emissionsfaktoren!AV13","v":2.5700600425570261},{"$f":"Emissionsfaktoren!AW13","v":34.950000000000003},204.98362974254741,57.033187516638222,0,0,0,{"$f":"Emissionsfaktoren!AZ13","v":67.426808737784356},{"$f":"Emissionsfaktoren!BA13","v":30.173482795434015},{"$f":"Emissionsfaktoren!BB13","v":2.3997084667816373},100]
["Altholz",null,"Tonnen",null,{"$f":"Emissionsfaktoren!AP14","v":53.415142028469994},{"$f":"Emissionsfaktoren!AQ14","v":0},{"$f":"Emissionsfaktoren!AR14","v":36.022317902211078},{"$f":"Emissionsfaktoren!AS14","v":0},{"$f":"Emissionsfaktoren!AT14","v":0},{"$f":"Emissionsfaktoren!AU14","v":0},{"$f":"Emissionsfaktoren!AV14","v":9.5069530037638525},{"$f":"Emissionsfaktoren!AW14","v":6.9},5.849293736132446,98.944412934444927,0,0,0,{"$f":"Emissionsfaktoren!AZ14","v":84.772372987426749},{"$f":"Emissionsfaktoren!BA14","v":15.227627012573251},{"$f":"Emissionsfaktoren!BB14","v":0},100]
["Alttextilien",null,"Tonnen",null,{"$f":"Emissionsfaktoren!AP15","v":3.1695820577521676},{"$f":"Emissionsfaktoren!AQ15","v":0},{"$f":"Emissionsfaktoren!AR15","v":16.955034735430253},{"$f":"Emissionsfaktoren!AS15","v":0},{"$f":"Emissionsfaktoren!AT15","v":3.4081011090687596},{"$f":"Emissionsfaktoren!AU15","v":7560},{"$f":"Emissionsfaktoren!AV15","v":22.080982089103674},{"$f":"Emissionsfaktoren!AW15","v":32},115.84514925373135,45.613699991354849,0,0,0,{"$f":"Emissionsfaktoren!AZ15","v":63.083022388059703},{"$f":"Emissionsfaktoren!BA15","v":35.824227078891255},{"$f":"Emissionsfaktoren!BB15","v":1.2653251599147122},100.17257462686567]
["EAG",null,"Tonnen",null,{"$f":"Emissionsfaktoren!AP16","v":77.5},{"$f":"Emissionsfaktoren!AQ16","v":0},{"$f":"Emissionsfaktoren!AR16","v":0},{"$f":"Emissionsfaktoren!AS16","v":0},{"$f":"Emissionsfaktoren!AT16","v":0},{"$f":"Emissionsfaktoren!AU16","v":0},{"$f":"Emissionsfaktoren!AV16","v":0},{"$f":"Emissionsfaktoren!AW16","v":427.3},0,77.5,0,0,0,{"$f":"Emissionsfaktoren!AZ16","v":0},{"$f":"Emissionsfaktoren!BA16","v":0},{"$f":"Emissionsfaktoren!BB16","v":0}]
[null,null,null,null,null,null,null,null,null,null,null,null,null,null,{"$f":"SUM(O5:O15)","v":0},{"$f":"SUM(P5:P15)","v":0},{"$f":"SUM(Q5:Q15)","v":0}]

{"sheet":"IV. IPPU","index":5,"n_rows":22,"n_cols":3,"rows_kept":22,"cut":false,"hidden":true,"merged":[[4,0,13,18]]}
["IV. Industrielle Prozesse und Produktverwendung (IPPU)"]
[]
["THG Emissionen aus IPPU werden ausschließlich ohne ETS Betriebe betrachtet. Dies folgt der Definition zur Klimaneutralität der Pionierstädte. "]
[]
["Disaggregierung der IPPU Emissionen ohne ETS Betriebe auf die Pionierstädte:\nAls Datenbasis dieser Berechnung dienen die Ergebnisse der aktuellsten Ausgabe der OLI (Österreichische Luftschadstoff-Inventur) mit der Zeitreihe 1990 bis 2022. Relevant als sogenannte Flächenquellen sind innerhalb des Sektors IPPU (ohne ETS) die Unterkategorien „Produktverwendung“ und „F-Gase“.  Die Regionalisierung dieser Emissionen folgt der Logik der Bundesländerinventur (BLI), in der die Emissionen über den Bevölkerungsschlüssel auf die einzelnen Städte aufgeteilt wurden. \nZusätzlich zu diesen Flächenquellen wurden ausgewählte Punktquellen (große Industriebetriebe innerhalb der Stadtgrenzen) für einzelne Pionierstädte berücksichtigt. \n\nDen Hauptanteil der IPPU Emissionen (ohne ETS) machen in allen Pionierstädten mit der Ausnahme Linz F-Gas Emissionen aus. Diese werden vor allem in Kälte- und Klimaanlagen eingesetzt. In allen Pionierstädten kommt es zu einer deutlichen Abnahme der F-Gas Emissionen über die Zeitreihe. Dies ist auf die Vorgaben der EU F-Gase Verordnung zurückzuführen, die einen Umstieg auf Kältemittel mit einem geringeren GWP vorsieht, bzw. eine Verknappung der F-Gase, die in Europa auf den Markt kommen, und eine damit einhergehende Verteuerung. Außerdem trug die Entsorgung von mit SF6 gefüllte Schallschutzfenster über lange Zeit zu einem erheblichen Anteil der F-Gas Emissionen bei, diese sind, aufgrund rückläufiger Einsatzmengen vor 25 Jahren (ein Verbot der Herstellung von SF6 gefüllten Fenstern trat 2003 in Kraft) ebenfalls rückläufig.  \n\nIn Linz sind Chemiebetriebe der Hauptemittent innerhalb IPPU ohne ETS, hier vor allem die Ammoniakproduktion (der Erdgaseinsatz wird als prozessbedingt gewertet und deshalb im Sektor IPPU bilanziert, und nicht im Energiesektor).\n\n"]
[]
[]
[]
[]
[]
[]
[]
[]
[]
[]
[]
["Die Angabe der IPPU-Emissionen erfolgt über die Auswahl der Stadt im Deckblatt!"]
["Für das Jahr 2023 stehen noch keine Emissionswerte zur Verfügung. Es werden die Emissionen des Jahres 2022 herangezogen."]
[]
[null,"Stadt:",{"$f":"Deckblatt!B11","v":"-"}]
[null,"Jahr:",{"$f":"Deckblatt!B7","v":2018}]
[null,"Emissionen in t CO2-eq:",{"$f":"INDEX(IPPU!A16:G31,MATCH(C20,IPPU!A16:A31,0),MATCH(C21,IPPU!A16:G16,0))","v":0}]

{"sheet":"V. AFOLU","index":6,"n_rows":60,"n_cols":4,"rows_kept":60,"cut":false,"hidden":true,"merged":[]}
["V. AFOLU: Landnutzung, Landnutzungsänderung und Forstwirtschaft"]
["Allen Jahren werden die gleichen EFAs hinterlegt"]
[]
[]
["Nutztiere"]
[null,"Anzahl Nutztiere","t CO2-eq / Tier und Jahr","Ergebnis in t CO2-eq"]
["Milchkühe",null,4.896246967268147,{"$f":"B7*C7","v":0}]
["Mutterkühe",null,3.8625447962606079,0]
["Nutz- und Zuchtkalbinnen",null,2.7674201462016521,0]
["Stiere, Ochsen, Schlachtkalbinnen",null,2.759564235131911,0]
["Andere Kühe",null,1.8926467281003636,0]
["Zuchtsauen und Zuchteber",null,0.28994617079791346,0]
["Jung- und Mastschweine",null,0.12386021877881095,0]
["Legehennen und Küken",null,4.6317242756037883E-3,0]
["Mastküken und Masthühner",null,1.9830963632215233E-3,0]
["Schafe",null,0.31449505924812887,0]
["Ziegen",null,0.23111188572214514,0]
["Pferde",null,0.89845553996054317,0]
["Hirsche",null,0.29981660011792849,0]
["Truthähne",null,8.3315232812384774E-3,0]
["Enten und Gänse",null,3.323169769369313E-3,0]
[null,null,null,{"$f":"SUM(D7:D21)","v":0}]
[]
["Stickstoffausbringung / Düngermengeausbringung auf bewirtschaftete Böden"]
[null,"Ausgebrachte Stickstoffmenge in t","t CO2-eq / t Stickstoff","Ergebnis in t CO2-eq"]
["N-Menge in Mineraldünger",null,4.9470726151455526,{"$f":"C26*B26","v":0}]
["N-Menge aus Kompost/Biogas-Gülle",null,4.857005961696113,{"$f":"C27*B27","v":0}]
[]
[null,"Ausgebrachte Düngermenge in t","t CO2-eq / t Dünger","Ergebnis in t CO2-eq"]
["Kalk und andere kohlenstoffhaltige Dünger",null,0.45234464242860567,{"$f":"C30*B30","v":0}]
["Harnstoff",null,0.73333333333333328,{"$f":"C31*B31","v":0}]
[null,null,null,{"$f":"SUM(D26:D31)","v":0}]
[]
["Angebaute Kulturen auf Acker- und Grünlandflächen"]
[null,"Fläche in Hektar","t CO2-eq / Hektar","Ergebnis in t CO2-eq"]
["Weizen",null,0.27763275339944821,{"$f":"C36*B36","v":0}]
["Roggen",null,0.23432126531485684,0]
["Gerste",null,0.3473812597929043,0]
["Hafer",null,0.20594815814423645,0]
["Anderes Getreide",null,0.26967192188295219,0]
["Mais",null,0.38570118140859294,0]
["Kartoffeln",null,0.26977954910169261,0]
["Zuckerrübe",null,0.4956460828205167,0]
["Futterrüben",null,0.18799142627844448,0]
["Silomais",null,0.22340974243749095,0]
["Raps und Mohn",null,0.20369731974806804,0]
["Sonnenblume",null,0.1577775636988934,0]
["Sojabohnen",null,0.17121712261135794,0]
["Futterbohne",null,0.16323488744456779,0]
["Erbsen",null,0.15603124597955981,0]
["Gemüse",null,1.206387293529162,0]
["Ölkürbis",null,0.20823446470366533,0]
["Kleegras",null,0.13259450519366861,0]
["Futter",null,0.19313989028597656,0]
["Zwischenfrüchte",null,9.2751552142857144E-2,0]
[null,null,null,{"$f":"SUM(D36:D55)","v":0}]
[]
["Bodenmanagement"]
[null,"Fläche in Hektar","t CO2-eq / Hektar","Ergebnis in t CO2-eq"]
["Entwässerung organischer Böden",null,3.414714285714286,{"$f":"C60*B60","v":0}]

{"sheet":"I. Auswertung SE","index":7,"n_rows":346,"n_cols":44,"rows_kept":346,"cut":false,"hidden":true,"merged":[]}
[null,null,null,null,null,null,null,null,null,null,null,null,"I. Stationäre Energie"]
["lfd nr","Subsektornummer","ID",null,"Subsektoren","Energieträger",{"$f":"\"MWh Energiemosaik\" & \" \" & EM_Daten_u_Uebersicht!A3","v":"MWh Energiemosaik 0"},"MWh Eingabe","Tonnen THG Energiemosaik","Tonnen THG Eingabe","Scope","Scope 3",null,"MWh Energiemosaik","MWh Eingabe","Tonnen THG Energiemosaik","Tonnen THG Eingabe",null,null,"Stationäre Energie, inkl. ETS","Stationäre Energie,exkl. ETS","ETS",null,null,null,null,null,null,null,null,"Detailauswertung nach Energieträger"]
[0,{"$f":"ROUNDDOWN(A3/9,0)+1","v":1},{"$f":"VLOOKUP(B3,'I. Stationäre Energie'!C:E,3,FALSE)","v":"I.1. ."},null,{"$f":"VLOOKUP(B3,'I. Stationäre Energie'!C:G,5,FALSE)","v":"1. Haushalte "},{"$f":"EM_Daten_u_Uebersicht!P2","v":"Kohle (Steinkohle, Braunkohle, Koks, Petrolkoks; Gichtgas, Kokereigas, Brenntorf)"},{"$f":"IFERROR(GETPIVOTDATA(\"Energie\",EM_Daten_u_Uebersicht!$W$5,\"Ziel-Subsektor\",C3,\"Energieträger\",F3),\"\")","v":""},{"$f":"IFERROR(GETPIVOTDATA(\"Summe von Energieeinsatz [MWh]\",I_Pivot!$G$3,\"ID\",C3,\"EM_Energieträger\",F3),\"\")","v":""},{"$f":"IFERROR(G3*VLOOKUP(F3,EM_Daten_u_Uebersicht!P:Q,2,FALSE),\"\")","v":""},{"$f":"IFERROR(GETPIVOTDATA(\"Summe von THG [t CO2eq]\",I_Pivot!$G$3,\"ID\",C3,\"EM_Energieträger\",F3),\"\")","v":""},"S1",null,{"$f":"E3","v":"1. Haushalte "},{"$f":"SUM(G3:G10)-SUM(G11:G11)","v":0},{"$f":"SUM(H3:H10)","v":0},{"$f":"SUM(I3:I11)","v":0},{"$f":"SUM(J3:J11)+_xlfn.AGGREGATE(9,6,L3:L11)","v":0},null,"Scope 1",{"$f":"SUMIF($K$3:$K$344,\"S1\",$J$3:$J$344)","v":0},{"$f":"SUMIF($K$3:$K$344,\"S1\",$J$3:$J$344)-Q6-Q8","v":0},{"$f":"Q6+Q8","v":0},null,null,null,null,null,null,null,null,{"$f":"IFERROR(E2,\"\")","v":"Subsektoren"},{"$f":"IFERROR(F2,\"\")","v":"Energieträger"},{"$f":"IFERROR(H2,\"\")","v":"MWh Eingabe"},{"$f":"IFERROR(J2,\"\")","v":"Tonnen THG Eingabe"},"davon","Scope 1","Scope 2",{"$f":"IFERROR(L2,\"\")","v":"Scope 3"}]
[1,{"$f":"ROUNDDOWN(A4/9,0)+1","v":1},{"$f":"VLOOKUP(B4,'I. Stationäre Energie'!C:E,3,FALSE)","v":"I.1. ."},null,{"$f":"VLOOKUP(B4,'I. Stationäre Energie'!C:G,5,FALSE)","v":"1. Haushalte "},{"$f":"EM_Daten_u_Uebersicht!P3","v":"Öl (Heizöl, Gasöl für Heizzwecke, Diesel, Benzin, Petroleum, Flüssiggas)"},{"$f":"IFERROR(GETPIVOTDATA(\"Energie\",EM_Daten_u_Uebersicht!$W$5,\"Ziel-Subsektor\",C4,\"Energieträger\",F4),\"\")","v":""},{"$f":"IFERROR(GETPIVOTDATA(\"Summe von Energieeinsatz [MWh]\",I_Pivot!$G$3,\"ID\",C4,\"EM_Energieträger\",F4),\"\")","v":""},{"$f":"IFERROR(G4*VLOOKUP(F4,EM_Daten_u_Uebersicht!P:Q,2,FALSE),\"\")","v":""},{"$f":"IFERROR(GETPIVOTDATA(\"Summe von THG [t CO2eq]\",I_Pivot!$G$3,\"ID\",C4,\"EM_Energieträger\",F4),\"\")","v":""},"S1",null,{"$f":"E12","v":"2. Private und öffentliche Dienstleisungen und Anlagen"},{"$f":"SUM(G12:G19)+SUM(G21:G28)+SUM(G30:G37)-SUM(G20:G20)+SUM(G39:G46)+SUM(G48:G55)+SUM(G57:G64)+SUM(G66:G73)+SUM(G75:G82)","v":0},{"$f":"SUM(H12:H19)+SUM(H21:H28)+SUM(H30:H37)-SUM(H20:H20)+SUM(H39:H46)+SUM(H48:H55)+SUM(H57:H64)+SUM(H66:H73)+SUM(H75:H82)","v":0},{"$f":"SUM(I12:I83)","v":0},{"$f":"SUM(J12:J83)+_xlfn.AGGREGATE(9,6,$L$12:$L$83)","v":0},null,"Scope 2",{"$f":"SUMIF($K$3:$K$344,\"S2\",$J$3:$J$344)","v":0},{"$f":"SUMIF($K$3:$K$344,\"S2\",$J$3:$J$344)","v":0},null,null,null,null,null,null,null,null,null,"1. Haushalte ","Kohle (Steinkohle, Braunkohle, Koks, Petrolkoks; Gichtgas, Kokereigas, Brenntorf)","","",null,{"$f":"IF(K3=\"S1\",J3,\"\")","v":""},{"$f":"IF(K3=\"S2\",J3,\"\")","v":""},{"$f":"IFERROR(L3,\"\")","v":0}]
[2,1,{"$f":"VLOOKUP(B5,'I. Stationäre Energie'!C:E,3,FALSE)","v":"I.1. ."},null,{"$f":"VLOOKUP(B5,'I. Stationäre Energie'!C:G,5,FALSE)","v":"1. Haushalte "},{"$f":"EM_Daten_u_Uebersicht!P4","v":"Erdgas"},{"$f":"IFERROR(GETPIVOTDATA(\"Energie\",EM_Daten_u_Uebersicht!$W$5,\"Ziel-Subsektor\",C5,\"Energieträger\",F5),\"\")","v":""},{"$f":"IFERROR(GETPIVOTDATA(\"Summe von Energieeinsatz [MWh]\",I_Pivot!$G$3,\"ID\",C5,\"EM_Energieträger\",F5),\"\")","v":""},{"$f":"IFERROR(G5*VLOOKUP(F5,EM_Daten_u_Uebersicht!P:Q,2,FALSE),\"\")","v":""},{"$f":"IFERROR(GETPIVOTDATA(\"Summe von THG [t CO2eq]\",I_Pivot!$G$3,\"ID\",C5,\"EM_Energieträger\",F5),\"\")","v":""},"S1",null,{"$f":"E84","v":"3. Erzeugendes/produzierendes Gewerbe"},{"$f":"SUM(G84:G218)-SUM(G92,G101,G110,G119,G128,G137,G146,G155,G164,G173,G182,G191,G200,G209,G218)-SUM(G93:G100)","v":0},{"$f":"SUM(H84:H218)-SUM(H92,H101,H110,H119,H128,H137,H146,H155,H164,H173,H182,H191,H200,H209,H218)-SUM(H93:H100)","v":0},{"$f":"SUM(I84:I218)-SUM(I93:I101)","v":0},{"$f":"SUM(J84:J218)-SUM(J93:J101)+_xlfn.AGGREGATE(9,6,$L$84:$L$218)","v":0},null,"Scope 3",{"$f":"_xlfn.AGGREGATE(9,6,L3:L344)","v":0},{"$f":"_xlfn.AGGREGATE(9,6,L3:L344)","v":0},null,null,null,null,null,null,null,null,null,"1. Haushalte ","Öl (Heizöl, Gasöl für Heizzwecke, Diesel, Benzin, Petroleum, Flüssiggas)","","",null,"","",0]
[3,1,{"$f":"VLOOKUP(B6,'I. Stationäre Energie'!C:E,3,FALSE)","v":"I.1. ."},null,{"$f":"VLOOKUP(B6,'I. Stationäre Energie'!C:G,5,FALSE)","v":"1. Haushalte "},{"$f":"EM_Daten_u_Uebersicht!P5","v":"elektrische Energie"},{"$f":"IFERROR(GETPIVOTDATA(\"Energie\",EM_Daten_u_Uebersicht!$W$5,\"Ziel-Subsektor\",C6,\"Energieträger\",F6),\"\")","v":""},{"$f":"IFERROR(GETPIVOTDATA(\"Summe von Energieeinsatz [MWh]\",I_Pivot!$G$3,\"ID\",C6,\"EM_Energieträger\",F6),\"\")","v":""},{"$f":"IFERROR(G6*VLOOKUP(F6,EM_Daten_u_Uebersicht!P:Q,2,FALSE),\"\")","v":""},{"$f":"IFERROR(GETPIVOTDATA(\"Summe von THG [t CO2eq]\",I_Pivot!$G$3,\"ID\",C6,\"EM_Energieträger\",F6),\"\")","v":""},"S2",{"$f":"J6/0.94-J6","v":{"$error":"#VALUE!"}},"3a. ETS Emissionen Industrie",{"$f":"SUM(G93:G101)","v":0},{"$f":"SUM(H93:H101)","v":0},0,0,null,null,null,null,null,null,null,null,null,null,null,null,null,"1. Haushalte ","Erdgas","","",null,"","",0]
[4,1,{"$f":"VLOOKUP(B7,'I. Stationäre Energie'!C:E,3,FALSE)","v":"I.1. ."},null,{"$f":"VLOOKUP(B7,'I. Stationäre Energie'!C:G,5,FALSE)","v":"1. Haushalte "},{"$f":"EM_Daten_u_Uebersicht!P6","v":"Fernwärme"},{"$f":"IFERROR(GETPIVOTDATA(\"Energie\",EM_Daten_u_Uebersicht!$W$5,\"Ziel-Subsektor\",C7,\"Energieträger\",F7),\"\")","v":""},{"$f":"IFERROR(GETPIVOTDATA(\"Summe von Energieeinsatz [MWh]\",I_Pivot!$G$3,\"ID\",C7,\"EM_Energieträger\",F7),\"\")","v":""},{"$f":"IFERROR(G7*VLOOKUP(F7,EM_Daten_u_Uebersicht!P:Q,2,FALSE),\"\")","v":""},{"$f":"IFERROR(GETPIVOTDATA(\"Summe von THG [t CO2eq]\",I_Pivot!$G$3,\"ID\",C7,\"EM_Energieträger\",F7),\"\")","v":""},"S2",{"$f":"J7/0.86-J7","v":{"$error":"#VALUE!"}},{"$f":"E219","v":"4. Energiewirtschaft"},{"$f":"SUM(G219:G254)-SUM(G254,G245,G227:G236)","v":0},{"$f":"SUM(H219:H254)-SUM(H254,H245,H227:H236)","v":0},{"$f":"SUM(I219:I254)-SUM(I228:I236)","v":0},{"$f":"SUM(J219:J254)-SUM(J228:J236)+_xlfn.AGGREGATE(9,6,$L$219:$L$254)","v":0},null,null,{"$f":"M3","v":"1. Haushalte "},{"$f":"M4","v":"2. Private und öffentliche Dienstleisungen und Anlagen"},{"$f":"M5","v":"3. Erzeugendes/produzierendes Gewerbe"},{"$f":"M7","v":"4. Energiewirtschaft"},{"$f":"M9","v":"5. Land-, Forstwirtschaft und Fischerei"},{"$f":"M10","v":"6. Andere Bereiche"},{"$f":"M11","v":"7. & 8. Diffuse Emissionen"},"Summe",null,null,null,"1. Haushalte ","elektrische Energie","","",null,"","",""]
[5,1,{"$f":"VLOOKUP(B8,'I. Stationäre Energie'!C:E,3,FALSE)","v":"I.1. ."},null,{"$f":"VLOOKUP(B8,'I. Stationäre Energie'!C:G,5,FALSE)","v":"1. Haushalte "},{"$f":"EM_Daten_u_Uebersicht!P7","v":"Biogene Brenn- und Treibstoffe (Brennholz, biogene Brenn- und Treibstoffe)"},{"$f":"IFERROR(GETPIVOTDATA(\"Energie\",EM_Daten_u_Uebersicht!$W$5,\"Ziel-Subsektor\",C8,\"Energieträger\",F8),\"\")","v":""},{"$f":"IFERROR(GETPIVOTDATA(\"Summe von Energieeinsatz [MWh]\",I_Pivot!$G$3,\"ID\",C8,\"EM_Energieträger\",F8),\"\")","v":""},{"$f":"IFERROR(G8*VLOOKUP(F8,EM_Daten_u_Uebersicht!P:Q,2,FALSE),\"\")","v":""},{"$f":"IFERROR(GETPIVOTDATA(\"Summe von THG [t CO2eq]\",I_Pivot!$G$3,\"ID\",C8,\"EM_Energieträger\",F8),\"\")","v":""},"S1",null,"4a. ETS Energiewirtschaft",{"$f":"SUM(G228:G235)","v":0},{"$f":"SUM(H228:H235)","v":0},{"$f":"SUM(I228:I236)","v":0},{"$f":"SUM(J228:J236)","v":0},null,"Scope 1",{"$f":"SUMIF($K$3:$K$11,\"S1\",$J$3:$J$11)","v":0},{"$f":"SUMIF($K$12:$K$83,\"S1\",$J$12:$J$83)","v":0},{"$f":"SUMIF($K$84:$K$218,\"S1\",$J$84:$J$218)-Q6","v":0},{"$f":"SUMIF($K$219:$K$254,\"S1\",$J$219:$J$254)-Q8","v":0},{"$f":"SUMIF($K$255:$K$290,\"S1\",$J$255:$J$290)","v":0},{"$f":"SUMIF($K$291:$K$317,\"S1\",$J$291:$J$317)","v":0},{"$f":"SUMIF($K$318:$K$344,\"S1\",$J$318:$J$344)","v":0},{"$f":"SUM(T8:Z8)","v":0},null,null,null,"1. Haushalte ","Fernwärme","","",null,"","",""]
[6,1,{"$f":"VLOOKUP(B9,'I. Stationäre Energie'!C:E,3,FALSE)","v":"I.1. ."},null,{"$f":"VLOOKUP(B9,'I. Stationäre Energie'!C:G,5,FALSE)","v":"1. Haushalte "},{"$f":"EM_Daten_u_Uebersicht!P8","v":"Brennbare Abfälle"},{"$f":"IFERROR(GETPIVOTDATA(\"Energie\",EM_Daten_u_Uebersicht!$W$5,\"Ziel-Subsektor\",C9,\"Energieträger\",F9),\"\")","v":""},{"$f":"IFERROR(GETPIVOTDATA(\"Summe von Energieeinsatz [MWh]\",I_Pivot!$G$3,\"ID\",C9,\"EM_Energieträger\",F9),\"\")","v":""},{"$f":"IFERROR(G9*VLOOKUP(F9,EM_Daten_u_Uebersicht!P:Q,2,FALSE),\"\")","v":""},{"$f":"IFERROR(GETPIVOTDATA(\"Summe von THG [t CO2eq]\",I_Pivot!$G$3,\"ID\",C9,\"EM_Energieträger\",F9),\"\")","v":""},"S1",null,{"$f":"E255","v":"5. Land-, Forstwirtschaft und Fischerei"},{"$f":"SUM(G255:G290)-SUM(G263,G272,G281,G290)","v":0},{"$f":"SUM(H255:H290)-SUM(H263,H272,H281,H290)","v":0},{"$f":"SUM(I255:I290)","v":0},{"$f":"SUM(J255:J290)+_xlfn.AGGREGATE(9,6,$L$255:$L$290)","v":0},null,"Scope 2",{"$f":"SUMIF($K$3:$K$11,\"S2\",$J$3:$J$11)","v":0},{"$f":"SUMIF($K$12:$K$83,\"S2\",$J$12:$J$83)","v":0},{"$f":"SUMIF($K$84:$K$218,\"S2\",$J$84:$J$218)","v":0},{"$f":"SUMIF($K$219:$K$254,\"S2\",$J$219:$J$254)","v":0},{"$f":"SUMIF($K$255:$K$290,\"S2\",$J$255:$J$290)","v":0},{"$f":"SUMIF($K$291:$K$317,\"S2\",$J$291:$J$317)","v":0},{"$f":"SUMIF($K$318:$K$344,\"S2\",$J$318:$J$344)","v":0},{"$f":"SUM(T9:Z9)","v":0},null,null,null,"1. Haushalte ","Biogene Brenn- und Treibstoffe (Brennholz, biogene Brenn- und Treibstoffe)","","",null,"","",0]
[7,1,{"$f":"VLOOKUP(B10,'I. Stationäre Energie'!C:E,3,FALSE)","v":"I.1. ."},null,{"$f":"VLOOKUP(B10,'I. Stationäre Energie'!C:G,5,FALSE)","v":"1. Haushalte "},{"$f":"EM_Daten_u_Uebersicht!P9","v":"Umgebungswärme"},{"$f":"IFERROR(GETPIVOTDATA(\"Energie\",EM_Daten_u_Uebersicht!$W$5,\"Ziel-Subsektor\",C10,\"Energieträger\",F10),\"\")","v":""},{"$f":"IFERROR(GETPIVOTDATA(\"Summe von Energieeinsatz [MWh]\",I_Pivot!$G$3,\"ID\",C10,\"EM_Energieträger\",F10),\"\")","v":""},{"$f":"IFERROR(G10*VLOOKUP(F10,EM_Daten_u_Uebersicht!P:Q,2,FALSE),\"\")","v":""},{"$f":"IFERROR(GETPIVOTDATA(\"Summe von THG [t CO2eq]\",I_Pivot!$G$3,\"ID\",C10,\"EM_Energieträger\",F10),\"\")","v":""},"S1",null,{"$f":"E291","v":"6. Andere Bereiche"},{"$f":"SUM(G291:G317)-SUM(G299,G308,G317)","v":0},{"$f":"SUM(H291:H317)-SUM(H299,H308,H317)","v":0},{"$f":"SUM(I291:I317)-SUM(I299,I308,I317)","v":0},{"$f":"SUM(J291:J317)-SUM(J299,J308,J317)+_xlfn.AGGREGATE(9,6,$L$291:$L$317)","v":0},null,"Scope 3",{"$f":"_xlfn.AGGREGATE(9,6,L3:L11)","v":0},{"$f":"_xlfn.AGGREGATE(9,6,$L$12:$L$83)","v":0},{"$f":"_xlfn.AGGREGATE(9,6,$L$84:$L$218)","v":0},{"$f":"_xlfn.AGGREGATE(9,6,$L$219:$L$254)","v":0},{"$f":"_xlfn.AGGREGATE(9,6,$L$255:$L$290)","v":0},{"$f":"_xlfn.AGGREGATE(9,6,$L$291:$L$317)","v":0},{"$f":"_xlfn.AGGREGATE(9,6,$L$318:$L$344)","v":0},null,null,null,null,"1. Haushalte ","Brennbare Abfälle","","",null,"","",0]
[8,1,{"$f":"VLOOKUP(B11,'I. Stationäre Energie'!C:E,3,FALSE)","v":"I.1. ."},null,{"$f":"VLOOKUP(B11,'I. Stationäre Energie'!C:G,5,FALSE)","v":"1. Haushalte "},{"$f":"EM_Daten_u_Uebersicht!P10","v":"CO2-eq Direkteingabe"},{"$f":"IFERROR(GETPIVOTDATA(\"Energie\",EM_Daten_u_Uebersicht!$W$5,\"Ziel-Subsektor\",C11,\"Energieträger\",F11),\"\")","v":""},{"$f":"IFERROR(GETPIVOTDATA(\"Summe von Energieeinsatz [MWh]\",I_Pivot!$G$3,\"ID\",C11,\"EM_Energieträger\",F11),\"\")","v":""},{"$f":"IFERROR(G11*VLOOKUP(F11,EM_Daten_u_Uebersicht!P:Q,2,FALSE),\"\")","v":""},{"$f":"IFERROR(GETPIVOTDATA(\"Summe von THG [t CO2eq]\",I_Pivot!$G$3,\"ID\",C11,\"EM_Energieträger\",F11),\"\")","v":""},"S1",null,"7. & 8. Diffuse Emissionen",{"$f":"SUM(G318:G335)-SUM(G326,G335)","v":0},{"$f":"SUM(H318:H335)-SUM(H326,H335)","v":0},{"$f":"SUM(I318:I335)","v":0},{"$f":"SUM(J318:J335)+_xlfn.AGGREGATE(9,6,$L$318:$L$344)","v":0},null,null,null,null,null,null,null,null,null,null,null,null,null,"1. Haushalte ","Umgebungswärme","","",null,"","",0]
[9,2,{"$f":"VLOOKUP(B12,'I. Stationäre Energie'!C:E,3,FALSE)","v":"I.2. ."},null,{"$f":"VLOOKUP(B12,'I. Stationäre Energie'!C:G,5,FALSE)","v":"2. Private und öffentliche Dienstleisungen und Anlagen"},{"$f":"F3","v":"Kohle (Steinkohle, Braunkohle, Koks, Petrolkoks; Gichtgas, Kokereigas, Brenntorf)"},{"$f":"IFERROR(GETPIVOTDATA(\"Energie\",EM_Daten_u_Uebersicht!$W$5,\"Ziel-Subsektor\",C12,\"Energieträger\",F12),\"\")","v":""},{"$f":"IFERROR(GETPIVOTDATA(\"Summe von Energieeinsatz [MWh]\",I_Pivot!$G$3,\"ID\",C12,\"EM_Energieträger\",F12),\"\")","v":""},{"$f":"IFERROR(G12*VLOOKUP(F12,EM_Daten_u_Uebersicht!P:Q,2,FALSE),\"\")","v":""},{"$f":"IFERROR(GETPIVOTDATA(\"Summe von THG [t CO2eq]\",I_Pivot!$G$3,\"ID\",C12,\"EM_Energieträger\",F12),\"\")","v":""},"S1",null,null,null,null,null,{"$f":"SUM(Q3:Q11)-T3-T4-T5","v":0},null,null,null,null,null,null,null,null,null,null,null,null,null,"1. Haushalte ","CO2-eq Direkteingabe","","",null,"","",0]
[10,2,{"$f":"VLOOKUP(B13,'I. Stationäre Energie'!C:E,3,FALSE)","v":"I.2. ."},null,{"$f":"VLOOKUP(B13,'I. Stationäre Energie'!C:G,5,FALSE)","v":"2. Private und öffentliche Dienstleisungen und Anlagen"},{"$f":"F4","v":"Öl (Heizöl, Gasöl für Heizzwecke, Diesel, Benzin, Petroleum, Flüssiggas)"},{"$f":"IFERROR(GETPIVOTDATA(\"Energie\",EM_Daten_u_Uebersicht!$W$5,\"Ziel-Subsektor\",C13,\"Energieträger\",F13),\"\")","v":""},{"$f":"IFERROR(GETPIVOTDATA(\"Summe von Energieeinsatz [MWh]\",I_Pivot!$G$3,\"ID\",C13,\"EM_Energieträger\",F13),\"\")","v":""},{"$f":"IFERROR(G13*VLOOKUP(F13,EM_Daten_u_Uebersicht!P:Q,2,FALSE),\"\")","v":""},{"$f":"IFERROR(GETPIVOTDATA(\"Summe von THG [t CO2eq]\",I_Pivot!$G$3,\"ID\",C13,\"EM_Energieträger\",F13),\"\")","v":""},"S1",null,null,null,null,null,null,null,null,null,null,null,null,null,null,null,null,null,null,null,"2. Private und öffentliche Dienstleisungen und Anlagen","Kohle (Steinkohle, Braunkohle, Koks, Petrolkoks; Gichtgas, Kokereigas, Brenntorf)","","",null,"","",0]
[11,2,{"$f":"VLOOKUP(B14,'I. Stationäre Energie'!C:E,3,FALSE)","v":"I.2. ."},null,{"$f":"VLOOKUP(B14,'I. Stationäre Energie'!C:G,5,FALSE)","v":"2. Private und öffentliche Dienstleisungen und Anlagen"},"Erdgas",{"$f":"IFERROR(GETPIVOTDATA(\"Energie\",EM_Daten_u_Uebersicht!$W$5,\"Ziel-Subsektor\",C14,\"Energieträger\",F14),\"\")","v":""},{"$f":"IFERROR(GETPIVOTDATA(\"Summe von Energieeinsatz [MWh]\",I_Pivot!$G$3,\"ID\",C14,\"EM_Energieträger\",F14),\"\")","v":""},{"$f":"IFERROR(G14*VLOOKUP(F14,EM_Daten_u_Uebersicht!P:Q,2,FALSE),\"\")","v":""},{"$f":"IFERROR(GETPIVOTDATA(\"Summe von THG [t CO2eq]\",I_Pivot!$G$3,\"ID\",C14,\"EM_Energieträger\",F14),\"\")","v":""},"S1",null,null,null,null,null,null,null,null,null,null,null,null,null,null,null,null,null,null,null,"2. Private und öffentliche Dienstleisungen und Anlagen","Öl (Heizöl, Gasöl für Heizzwecke, Diesel, Benzin, Petroleum, Flüssiggas)","","",null,"","",0]
[12,2,{"$f":"VLOOKUP(B15,'I. Stationäre Energie'!C:E,3,FALSE)","v":"I.2. ."},null,{"$f":"VLOOKUP(B15,'I. Stationäre Energie'!C:G,5,FALSE)","v":"2. Private und öffentliche Dienstleisungen und Anlagen"},"elektrische Energie",{"$f":"IFERROR(GETPIVOTDATA(\"Energie\",EM_Daten_u_Uebersicht!$W$5,\"Ziel-Subsektor\",C15,\"Energieträger\",F15),\"\")","v":""},{"$f":"IFERROR(GETPIVOTDATA(\"Summe von Energieeinsatz [MWh]\",I_Pivot!$G$3,\"ID\",C15,\"EM_Energieträger\",F15),\"\")","v":""},{"$f":"IFERROR(G15*VLOOKUP(F15,EM_Daten_u_Uebersicht!P:Q,2,FALSE),\"\")","v":""},{"$f":"IFERROR(GETPIVOTDATA(\"Summe von THG [t CO2eq]\",I_Pivot!$G$3,\"ID\",C15,\"EM_Energieträger\",F15),\"\")","v":""},"S2",{"$f":"J15/0.94-J15","v":{"$error":"#VALUE!"}},null,null,null,null,null,null,null,null,null,null,null,null,null,null,null,null,null,null,"2. Private und öffentliche Dienstleisungen und Anlagen","Erdgas","","",null,"","",0]
[13,2,{"$f":"VLOOKUP(B16,'I. Stationäre Energie'!C:E,3,FALSE)","v":"I.2. ."},null,{"$f":"VLOOKUP(B16,'I. Stationäre Energie'!C:G,5,FALSE)","v":"2. Private und öffentliche Dienstleisungen und Anlagen"},"Fernwärme",{"$f":"IFERROR(GETPIVOTDATA(\"Energie\",EM_Daten_u_Uebersicht!$W$5,\"Ziel-Subsektor\",C16,\"Energieträger\",F16),\"\")","v":""},{"$f":"IFERROR(GETPIVOTDATA(\"Summe von Energieeinsatz [MWh]\",I_Pivot!$G$3,\"ID\",C16,\"EM_Energieträger\",F16),\"\")","v":""},{"$f":"IFERROR(G16*VLOOKUP(F16,EM_Daten_u_Uebersicht!P:Q,2,FALSE),\"\")","v":""},{"$f":"IFERROR(GETPIVOTDATA(\"Summe von THG [t CO2eq]\",I_Pivot!$G$3,\"ID\",C16,\"EM_Energieträger\",F16),\"\")","v":""},"S2",{"$f":"J16/0.86-J16","v":{"$error":"#VALUE!"}},null,null,null,null,null,null,null,null,null,null,null,null,null,null,null,null,null,null,"2. Private und öffentliche Dienstleisungen und Anlagen","elektrische Energie","","",null,"","",""]
[14,2,{"$f":"VLOOKUP(B17,'I. Stationäre Energie'!C:E,3,FALSE)","v":"I.2. ."},null,{"$f":"VLOOKUP(B17,'I. Stationäre Energie'!C:G,5,FALSE)","v":"2. Private und öffentliche Dienstleisungen und Anlagen"},"Biogene Brenn- und Treibstoffe (Brennholz, biogene Brenn- und Treibstoffe)",{"$f":"IFERROR(GETPIVOTDATA(\"Energie\",EM_Daten_u_Uebersicht!$W$5,\"Ziel-Subsektor\",C17,\"Energieträger\",F17),\"\")","v":""},{"$f":"IFERROR(GETPIVOTDATA(\"Summe von Energieeinsatz [MWh]\",I_Pivot!$G$3,\"ID\",C17,\"EM_Energieträger\",F17),\"\")","v":""},{"$f":"IFERROR(G17*VLOOKUP(F17,EM_Daten_u_Uebersicht!P:Q,2,FALSE),\"\")","v":""},{"$f":"IFERROR(GETPIVOTDATA(\"Summe von THG [t CO2eq]\",I_Pivot!$G$3,\"ID\",C17,\"EM_Energieträger\",F17),\"\")","v":""},"S1",null,null,null,null,null,null,null,null,null,null,null,null,null,null,null,null,null,null,null,"2. Private und öffentliche Dienstleisungen und Anlagen","Fernwärme","","",null,"","",""]
[15,2,{"$f":"VLOOKUP(B18,'I. Stationäre Energie'!C:E,3,FALSE)","v":"I.2. ."},null,{"$f":"VLOOKUP(B18,'I. Stationäre Energie'!C:G,5,FALSE)","v":"2. Private und öffentliche Dienstleisungen und Anlagen"},"Brennbare Abfälle",{"$f":"IFERROR(GETPIVOTDATA(\"Energie\",EM_Daten_u_Uebersicht!$W$5,\"Ziel-Subsektor\",C18,\"Energieträger\",F18),\"\")","v":""},{"$f":"IFERROR(GETPIVOTDATA(\"Summe von Energieeinsatz [MWh]\",I_Pivot!$G$3,\"ID\",C18,\"EM_Energieträger\",F18),\"\")","v":""},{"$f":"IFERROR(G18*VLOOKUP(F18,EM_Daten_u_Uebersicht!P:Q,2,FALSE),\"\")","v":""},{"$f":"IFERROR(GETPIVOTDATA(\"Summe von THG [t CO2eq]\",I_Pivot!$G$3,\"ID\",C18,\"EM_Energieträger\",F18),\"\")","v":""},"S1",null,null,null,null,null,null,null,null,null,null,null,null,null,null,null,null,null,null,null,"2. Private und öffentliche Dienstleisungen und Anlagen","Biogene Brenn- und Treibstoffe (Brennholz, biogene Brenn- und Treibstoffe)","","",null,"","",0]
[16,2,{"$f":"VLOOKUP(B19,'I. Stationäre Energie'!C:E,3,FALSE)","v":"I.2. ."},null,{"$f":"VLOOKUP(B19,'I. Stationäre Energie'!C:G,5,FALSE)","v":"2. Private und öffentliche Dienstleisungen und Anlagen"},"Umgebungswärme",{"$f":"IFERROR(GETPIVOTDATA(\"Energie\",EM_Daten_u_Uebersicht!$W$5,\"Ziel-Subsektor\",C19,\"Energieträger\",F19),\"\")","v":""},{"$f":"IFERROR(GETPIVOTDATA(\"Summe von Energieeinsatz [MWh]\",I_Pivot!$G$3,\"ID\",C19,\"EM_Energieträger\",F19),\"\")","v":""},{"$f":"IFERROR(G19*VLOOKUP(F19,EM_Daten_u_Uebersicht!P:Q,2,FALSE),\"\")","v":""},{"$f":"IFERROR(GETPIVOTDATA(\"Summe von THG [t CO2eq]\",I_Pivot!$G$3,\"ID\",C19,\"EM_Energieträger\",F19),\"\")","v":""},"S1",null,null,null,null,null,null,null,null,null,null,null,null,null,null,null,null,null,null,null,"2. Private und öffentliche Dienstleisungen und Anlagen","Brennbare Abfälle","","",null,"","",0]
[17,2,{"$f":"VLOOKUP(B20,'I. Stationäre Energie'!C:E,3,FALSE)","v":"I.2. ."},null,{"$f":"VLOOKUP(B20,'I. Stationäre Energie'!C:G,5,FALSE)","v":"2. Private und öffentliche Dienstleisungen und Anlagen"},"CO2-eq Direkteingabe",{"$f":"IFERROR(GETPIVOTDATA(\"Energie\",EM_Daten_u_Uebersicht!$W$5,\"Ziel-Subsektor\",C20,\"Energieträger\",F20),\"\")","v":""},{"$f":"IFERROR(GETPIVOTDATA(\"Summe von Energieeinsatz [MWh]\",I_Pivot!$G$3,\"ID\",C20,\"EM_Energieträger\",F20),\"\")","v":""},{"$f":"IFERROR(G20*VLOOKUP(F20,EM_Daten_u_Uebersicht!P:Q,2,FALSE),\"\")","v":""},{"$f":"IFERROR(GETPIVOTDATA(\"Summe von THG [t CO2eq]\",I_Pivot!$G$3,\"ID\",C20,\"EM_Energieträger\",F20),\"\")","v":""},"S1",null,null,null,null,null,null,null,null,null,null,null,null,null,null,null,null,null,null,null,"2. Private und öffentliche Dienstleisungen und Anlagen","Umgebungswärme","","",null,"","",0]
[18,3,{"$f":"VLOOKUP(B21,'I. Stationäre Energie'!C:E,3,FALSE)","v":"I.2.i."},null,{"$f":"VLOOKUP(B21,'I. Stationäre Energie'!C:G,5,FALSE)","v":"i. Mischbetriebe mit privaten und öffentlichen Dienstleistungen "},"Kohle (Steinkohle, Braunkohle, Koks, Petrolkoks; Gichtgas, Kokereigas, Brenntorf)",{"$f":"IFERROR(GETPIVOTDATA(\"Energie\",EM_Daten_u_Uebersicht!$W$5,\"Ziel-Subsektor\",C21,\"Energieträger\",F21),\"\")","v":""},{"$f":"IFERROR(GETPIVOTDATA(\"Summe von Energieeinsatz [MWh]\",I_Pivot!$G$3,\"ID\",C21,\"EM_Energieträger\",F21),\"\")","v":""},{"$f":"IFERROR(G21*VLOOKUP(F21,EM_Daten_u_Uebersicht!P:Q,2,FALSE),\"\")","v":""},{"$f":"IFERROR(GETPIVOTDATA(\"Summe von THG [t CO2eq]\",I_Pivot!$G$3,\"ID\",C21,\"EM_Energieträger\",F21),\"\")","v":""},"S1",null,null,null,null,null,null,null,null,null,null,null,null,null,null,null,null,null,null,null,"2. Private und öffentliche Dienstleisungen und Anlagen","CO2-eq Direkteingabe","","",null,"","",0]
[19,3,{"$f":"VLOOKUP(B22,'I. Stationäre Energie'!C:E,3,FALSE)","v":"I.2.i."},null,{"$f":"VLOOKUP(B22,'I. Stationäre Energie'!C:G,5,FALSE)","v":"i. Mischbetriebe mit privaten und öffentlichen Dienstleistungen "},"Öl (Heizöl, Gasöl für Heizzwecke, Diesel, Benzin, Petroleum, Flüssiggas)",{"$f":"IFERROR(GETPIVOTDATA(\"Energie\",EM_Daten_u_Uebersicht!$W$5,\"Ziel-Subsektor\",C22,\"Energieträger\",F22),\"\")","v":""},{"$f":"IFERROR(GETPIVOTDATA(\"Summe von Energieeinsatz [MWh]\",I_Pivot!$G$3,\"ID\",C22,\"EM_Energieträger\",F22),\"\")","v":""},{"$f":"IFERROR(G22*VLOOKUP(F22,EM_Daten_u_Uebersicht!P:Q,2,FALSE),\"\")","v":""},{"$f":"IFERROR(GETPIVOTDATA(\"Summe von THG [t CO2eq]\",I_Pivot!$G$3,\"ID\",C22,\"EM_Energieträger\",F22),\"\")","v":""},"S1",null,null,null,null,null,null,null,null,null,null,null,null,null,null,null,null,null,null,null,"i. Mischbetriebe mit privaten und öffentlichen Dienstleistungen ","Kohle (Steinkohle, Braunkohle, Koks, Petrolkoks; Gichtgas, Kokereigas, Brenntorf)","","",null,"","",0]
[20,3,{"$f":"VLOOKUP(B23,'I. Stationäre Energie'!C:E,3,FALSE)","v":"I.2.i."},null,{"$f":"VLOOKUP(B23,'I. Stationäre Energie'!C:G,5,FALSE)","v":"i. Mischbetriebe mit privaten und öffentlichen Dienstleistungen "},"Erdgas",{"$f":"IFERROR(GETPIVOTDATA(\"Energie\",EM_Daten_u_Uebersicht!$W$5,\"Ziel-Subsektor\",C23,\"Energieträger\",F23),\"\")","v":""},{"$f":"IFERROR(GETPIVOTDATA(\"Summe von Energieeinsatz [MWh]\",I_Pivot!$G$3,\"ID\",C23,\"EM_Energieträger\",F23),\"\")","v":""},{"$f":"IFERROR(G23*VLOOKUP(F23,EM_Daten_u_Uebersicht!P:Q,2,FALSE),\"\")","v":""},{"$f":"IFERROR(GETPIVOTDATA(\"Summe von THG [t CO2eq]\",I_Pivot!$G$3,\"ID\",C23,\"EM_Energieträger\",F23),\"\")","v":""},"S1",null,null,null,null,null,null,null,null,null,null,null,null,null,null,null,null,null,null,null,"i. Mischbetriebe mit privaten und öffentlichen Dienstleistungen ","Öl (Heizöl, Gasöl für Heizzwecke, Diesel, Benzin, Petroleum, Flüssiggas)","","",null,"","",0]
[21,3,{"$f":"VLOOKUP(B24,'I. Stationäre Energie'!C:E,3,FALSE)","v":"I.2.i."},null,{"$f":"VLOOKUP(B24,'I. Stationäre Energie'!C:G,5,FALSE)","v":"i. Mischbetriebe mit privaten und öffentlichen Dienstleistungen "},"elektrische Energie",{"$f":"IFERROR(GETPIVOTDATA(\"Energie\",EM_Daten_u_Uebersicht!$W$5,\"Ziel-Subsektor\",C24,\"Energieträger\",F24),\"\")","v":""},{"$f":"IFERROR(GETPIVOTDATA(\"Summe von Energieeinsatz [MWh]\",I_Pivot!$G$3,\"ID\",C24,\"EM_Energieträger\",F24),\"\")","v":""},{"$f":"IFERROR(G24*VLOOKUP(F24,EM_Daten_u_Uebersicht!P:Q,2,FALSE),\"\")","v":""},{"$f":"IFERROR(GETPIVOTDATA(\"Summe von THG [t CO2eq]\",I_Pivot!$G$3,\"ID\",C24,\"EM_Energieträger\",F24),\"\")","v":""},"S2",{"$f":"J24/0.94-J24","v":{"$error":"#VALUE!"}},null,null,null,null,null,null,null,null,null,null,null,null,null,null,null,null,null,null,"i. Mischbetriebe mit privaten und öffentlichen Dienstleistungen ","Erdgas","","",null,"","",0]
[22,3,{"$f":"VLOOKUP(B25,'I. Stationäre Energie'!C:E,3,FALSE)","v":"I.2.i."},null,{"$f":"VLOOKUP(B25,'I. Stationäre Energie'!C:G,5,FALSE)","v":"i. Mischbetriebe mit privaten und öffentlichen Dienstleistungen "},"Fernwärme",{"$f":"IFERROR(GETPIVOTDATA(\"Energie\",EM_Daten_u_Uebersicht!$W$5,\"Ziel-Subsektor\",C25,\"Energieträger\",F25),\"\")","v":""},{"$f":"IFERROR(GETPIVOTDATA(\"Summe von Energieeinsatz [MWh]\",I_Pivot!$G$3,\"ID\",C25,\"EM_Energieträger\",F25),\"\")","v":""},{"$f":"IFERROR(G25*VLOOKUP(F25,EM_Daten_u_Uebersicht!P:Q,2,FALSE),\"\")","v":""},{"$f":"IFERROR(GETPIVOTDATA(\"Summe von THG [t CO2eq]\",I_Pivot!$G$3,\"ID\",C25,\"EM_Energieträger\",F25),\"\")","v":""},"S2",{"$f":"J25/0.86-J25","v":{"$error":"#VALUE!"}},null,null,null,null,null,null,null,null,null,null,null,null,null,null,null,null,null,null,"i. Mischbetriebe mit privaten und öffentlichen Dienstleistungen ","elektrische Energie","","",null,"","",""]
[23,3,{"$f":"VLOOKUP(B26,'I. Stationäre Energie'!C:E,3,FALSE)","v":"I.2.i."},null,{"$f":"VLOOKUP(B26,'I. Stationäre Energie'!C:G,5,FALSE)","v":"i. Mischbetriebe mit privaten und öffentlichen Dienstleistungen "},"Biogene Brenn- und Treibstoffe (Brennholz, biogene Brenn- und Treibstoffe)",{"$f":"IFERROR(GETPIVOTDATA(\"Energie\",EM_Daten_u_Uebersicht!$W$5,\"Ziel-Subsektor\",C26,\"Energieträger\",F26),\"\")","v":""},{"$f":"IFERROR(GETPIVOTDATA(\"Summe von Energieeinsatz [MWh]\",I_Pivot!$G$3,\"ID\",C26,\"EM_Energieträger\",F26),\"\")","v":""},{"$f":"IFERROR(G26*VLOOKUP(F26,EM_Daten_u_Uebersicht!P:Q,2,FALSE),\"\")","v":""},{"$f":"IFERROR(GETPIVOTDATA(\"Summe von THG [t CO2eq]\",I_Pivot!$G$3,\"ID\",C26,\"EM_Energieträger\",F26),\"\")","v":""},"S1",null,null,null,null,null,null,null,null,null,null,null,null,null,null,null,null,null,null,null,"i. Mischbetriebe mit privaten und öffentlichen Dienstleistungen ","Fernwärme","","",null,"","",""]
[24,3,{"$f":"VLOOKUP(B27,'I. Stationäre Energie'!C:E,3,FALSE)","v":"I.2.i."},null,{"$f":"VLOOKUP(B27,'I. Stationäre Energie'!C:G,5,FALSE)","v":"i. Mischbetriebe mit privaten und öffentlichen Dienstleistungen "},"Brennbare Abfälle",{"$f":"IFERROR(GETPIVOTDATA(\"Energie\",EM_Daten_u_Uebersicht!$W$5,\"Ziel-Subsektor\",C27,\"Energieträger\",F27),\"\")","v":""},{"$f":"IFERROR(GETPIVOTDATA(\"Summe von Energieeinsatz [MWh]\",I_Pivot!$G$3,\"ID\",C27,\"EM_Energieträger\",F27),\"\")","v":""},{"$f":"IFERROR(G27*VLOOKUP(F27,EM_Daten_u_Uebersicht!P:Q,2,FALSE),\"\")","v":""},{"$f":"IFERROR(GETPIVOTDATA(\"Summe von THG [t CO2eq]\",I_Pivot!$G$3,\"ID\",C27,\"EM_Energieträger\",F27),\"\")","v":""},"S1",null,null,null,null,null,null,null,null,null,null,null,null,null,null,null,null,null,null,null,"i. Mischbetriebe mit privaten und öffentlichen Dienstleistungen ","Biogene Brenn- und Treibstoffe (Brennholz, biogene Brenn- und Treibstoffe)","","",null,"","",0]
[25,3,{"$f":"VLOOKUP(B28,'I. Stationäre Energie'!C:E,3,FALSE)","v":"I.2.i."},null,{"$f":"VLOOKUP(B28,'I. Stationäre Energie'!C:G,5,FALSE)","v":"i. Mischbetriebe mit privaten und öffentlichen Dienstleistungen "},"Umgebungswärme",{"$f":"IFERROR(GETPIVOTDATA(\"Energie\",EM_Daten_u_Uebersicht!$W$5,\"Ziel-Subsektor\",C28,\"Energieträger\",F28),\"\")","v":""},{"$f":"IFERROR(GETPIVOTDATA(\"Summe von Energieeinsatz [MWh]\",I_Pivot!$G$3,\"ID\",C28,\"EM_Energieträger\",F28),\"\")","v":""},{"$f":"IFERROR(G28*VLOOKUP(F28,EM_Daten_u_Uebersicht!P:Q,2,FALSE),\"\")","v":""},{"$f":"IFERROR(GETPIVOTDATA(\"Summe von THG [t CO2eq]\",I_Pivot!$G$3,\"ID\",C28,\"EM_Energieträger\",F28),\"\")","v":""},"S1",null,null,null,null,null,null,null,null,null,null,null,null,null,null,null,null,null,null,null,"i. Mischbetriebe mit privaten und öffentlichen Dienstleistungen ","Brennbare Abfälle","","",null,"","",0]
[26,3,{"$f":"VLOOKUP(B29,'I. Stationäre Energie'!C:E,3,FALSE)","v":"I.2.i."},null,{"$f":"VLOOKUP(B29,'I. Stationäre Energie'!C:G,5,FALSE)","v":"i. Mischbetriebe mit privaten und öffentlichen Dienstleistungen "},"CO2-eq Direkteingabe",{"$f":"IFERROR(GETPIVOTDATA(\"Energie\",EM_Daten_u_Uebersicht!$W$5,\"Ziel-Subsektor\",C29,\"Energieträger\",F29),\"\")","v":""},{"$f":"IFERROR(GETPIVOTDATA(\"Summe von Energieeinsatz [MWh]\",I_Pivot!$G$3,\"ID\",C29,\"EM_Energieträger\",F29),\"\")","v":""},{"$f":"IFERROR(G29*VLOOKUP(F29,EM_Daten_u_Uebersicht!P:Q,2,FALSE),\"\")","v":""},{"$f":"IFERROR(GETPIVOTDATA(\"Summe von THG [t CO2eq]\",I_Pivot!$G$3,\"ID\",C29,\"EM_Energieträger\",F29),\"\")","v":""},"S1",null,null,null,null,null,null,null,null,null,null,null,null,null,null,null,null,null,null,null,"i. Mischbetriebe mit privaten und öffentlichen Dienstleistungen ","Umgebungswärme","","",null,"","",0]
[27,4,{"$f":"VLOOKUP(B30,'I. Stationäre Energie'!C:E,3,FALSE)","v":"I.2.ii."},null,{"$f":"VLOOKUP(B30,'I. Stationäre Energie'!C:G,5,FALSE)","v":"ii. Private Dienstleistungen"},"Kohle (Steinkohle, Braunkohle, Koks, Petrolkoks; Gichtgas, Kokereigas, Brenntorf)",{"$f":"IFERROR(GETPIVOTDATA(\"Energie\",EM_Daten_u_Uebersicht!$W$5,\"Ziel-Subsektor\",C30,\"Energieträger\",F30),\"\")","v":""},{"$f":"IFERROR(GETPIVOTDATA(\"Summe von Energieeinsatz [MWh]\",I_Pivot!$G$3,\"ID\",C30,\"EM_Energieträger\",F30),\"\")","v":""},{"$f":"IFERROR(G30*VLOOKUP(F30,EM_Daten_u_Uebersicht!P:Q,2,FALSE),\"\")","v":""},{"$f":"IFERROR(GETPIVOTDATA(\"Summe von THG [t CO2eq]\",I_Pivot!$G$3,\"ID\",C30,\"EM_Energieträger\",F30),\"\")","v":""},"S1",null,null,null,null,null,null,null,null,null,null,null,null,null,null,null,null,null,null,null,"i. Mischbetriebe mit privaten und öffentlichen Dienstleistungen ","CO2-eq Direkteingabe","","",null,"","",0]
[28,4,{"$f":"VLOOKUP(B31,'I. Stationäre Energie'!C:E,3,FALSE)","v":"I.2.ii."},null,{"$f":"VLOOKUP(B31,'I. Stationäre Energie'!C:G,5,FALSE)","v":"ii. Private Dienstleistungen"},"Öl (Heizöl, Gasöl für Heizzwecke, Diesel, Benzin, Petroleum, Flüssiggas)",{"$f":"IFERROR(GETPIVOTDATA(\"Energie\",EM_Daten_u_Uebersicht!$W$5,\"Ziel-Subsektor\",C31,\"Energieträger\",F31),\"\")","v":""},{"$f":"IFERROR(GETPIVOTDATA(\"Summe von Energieeinsatz [MWh]\",I_Pivot!$G$3,\"ID\",C31,\"EM_Energieträger\",F31),\"\")","v":""},{"$f":"IFERROR(G31*VLOOKUP(F31,EM_Daten_u_Uebersicht!P:Q,2,FALSE),\"\")","v":""},{"$f":"IFERROR(GETPIVOTDATA(\"Summe von THG [t CO2eq]\",I_Pivot!$G$3,\"ID\",C31,\"EM_Energieträger\",F31),\"\")","v":""},"S1",null,null,null,null,null,null,null,null,null,null,null,null,null,null,null,null,null,null,null,"ii. Private Dienstleistungen","Kohle (Steinkohle, Braunkohle, Koks, Petrolkoks; Gichtgas, Kokereigas, Brenntorf)","","",null,"","",0]
[29,4,{"$f":"VLOOKUP(B32,'I. Stationäre Energie'!C:E,3,FALSE)","v":"I.2.ii."},null,{"$f":"VLOOKUP(B32,'I. Stationäre Energie'!C:G,5,FALSE)","v":"ii. Private Dienstleistungen"},"Erdgas",{"$f":"IFERROR(GETPIVOTDATA(\"Energie\",EM_Daten_u_Uebersicht!$W$5,\"Ziel-Subsektor\",C32,\"Energieträger\",F32),\"\")","v":""},{"$f":"IFERROR(GETPIVOTDATA(\"Summe von Energieeinsatz [MWh]\",I_Pivot!$G$3,\"ID\",C32,\"EM_Energieträger\",F32),\"\")","v":""},{"$f":"IFERROR(G32*VLOOKUP(F32,EM_Daten_u_Uebersicht!P:Q,2,FALSE),\"\")","v":""},{"$f":"IFERROR(GETPIVOTDATA(\"Summe von THG [t CO2eq]\",I_Pivot!$G$3,\"ID\",C32,\"EM_Energieträger\",F32),\"\")","v":""},"S1",null,null,null,null,null,null,null,null,null,null,null,null,null,null,null,null,null,null,null,"ii. Private Dienstleistungen","Öl (Heizöl, Gasöl für Heizzwecke, Diesel, Benzin, Petroleum, Flüssiggas)","","",null,"","",0]
[30,4,{"$f":"VLOOKUP(B33,'I. Stationäre Energie'!C:E,3,FALSE)","v":"I.2.ii."},null,{"$f":"VLOOKUP(B33,'I. Stationäre Energie'!C:G,5,FALSE)","v":"ii. Private Dienstleistungen"},"elektrische Energie",{"$f":"IFERROR(GETPIVOTDATA(\"Energie\",EM_Daten_u_Uebersicht!$W$5,\"Ziel-Subsektor\",C33,\"Energieträger\",F33),\"\")","v":""},{"$f":"IFERROR(GETPIVOTDATA(\"Summe von Energieeinsatz [MWh]\",I_Pivot!$G$3,\"ID\",C33,\"EM_Energieträger\",F33),\"\")","v":""},{"$f":"IFERROR(G33*VLOOKUP(F33,EM_Daten_u_Uebersicht!P:Q,2,FALSE),\"\")","v":""},{"$f":"IFERROR(GETPIVOTDATA(\"Summe von THG [t CO2eq]\",I_Pivot!$G$3,\"ID\",C33,\"EM_Energieträger\",F33),\"\")","v":""},"S2",{"$f":"J33/0.94-J33","v":{"$error":"#VALUE!"}},null,null,null,null,null,null,null,null,null,null,null,null,null,null,null,null,null,null,"ii. Private Dienstleistungen","Erdgas","","",null,"","",0]
[31,4,{"$f":"VLOOKUP(B34,'I. Stationäre Energie'!C:E,3,FALSE)","v":"I.2.ii."},null,{"$f":"VLOOKUP(B34,'I. Stationäre Energie'!C:G,5,FALSE)","v":"ii. Private Dienstleistungen"},"Fernwärme",{"$f":"IFERROR(GETPIVOTDATA(\"Energie\",EM_Daten_u_Uebersicht!$W$5,\"Ziel-Subsektor\",C34,\"Energieträger\",F34),\"\")","v":""},{"$f":"IFERROR(GETPIVOTDATA(\"Summe von Energieeinsatz [MWh]\",I_Pivot!$G$3,\"ID\",C34,\"EM_Energieträger\",F34),\"\")","v":""},{"$f":"IFERROR(G34*VLOOKUP(F34,EM_Daten_u_Uebersicht!P:Q,2,FALSE),\"\")","v":""},{"$f":"IFERROR(GETPIVOTDATA(\"Summe von THG [t CO2eq]\",I_Pivot!$G$3,\"ID\",C34,\"EM_Energieträger\",F34),\"\")","v":""},"S2",{"$f":"J34/0.86-J34","v":{"$error":"#VALUE!"}},null,null,null,null,null,null,null,null,null,null,null,null,null,null,null,null,null,null,"ii. Private Dienstleistungen","elektrische Energie","","",null,"","",""]
[32,4,{"$f":"VLOOKUP(B35,'I. Stationäre Energie'!C:E,3,FALSE)","v":"I.2.ii."},null,{"$f":"VLOOKUP(B35,'I. Stationäre Energie'!C:G,5,FALSE)","v":"ii. Private Dienstleistungen"},"Biogene Brenn- und Treibstoffe (Brennholz, biogene Brenn- und Treibstoffe)",{"$f":"IFERROR(GETPIVOTDATA(\"Energie\",EM_Daten_u_Uebersicht!$W$5,\"Ziel-Subsektor\",C35,\"Energieträger\",F35),\"\")","v":""},{"$f":"IFERROR(GETPIVOTDATA(\"Summe von Energieeinsatz [MWh]\",I_Pivot!$G$3,\"ID\",C35,\"EM_Energieträger\",F35),\"\")","v":""},{"$f":"IFERROR(G35*VLOOKUP(F35,EM_Daten_u_Uebersicht!P:Q,2,FALSE),\"\")","v":""},{"$f":"IFERROR(GETPIVOTDATA(\"Summe von THG [t CO2eq]\",I_Pivot!$G$3,\"ID\",C35,\"EM_Energieträger\",F35),\"\")","v":""},"S1",null,null,null,null,null,null,null,null,null,null,null,null,null,null,null,null,null,null,null,"ii. Private Dienstleistungen","Fernwärme","","",null,"","",""]
[33,4,{"$f":"VLOOKUP(B36,'I. Stationäre Energie'!C:E,3,FALSE)","v":"I.2.ii."},null,{"$f":"VLOOKUP(B36,'I. Stationäre Energie'!C:G,5,FALSE)","v":"ii. Private Dienstleistungen"},"Brennbare Abfälle",{"$f":"IFERROR(GETPIVOTDATA(\"Energie\",EM_Daten_u_Uebersicht!$W$5,\"Ziel-Subsektor\",C36,\"Energieträger\",F36),\"\")","v":""},{"$f":"IFERROR(GETPIVOTDATA(\"Summe von Energieeinsatz [MWh]\",I_Pivot!$G$3,\"ID\",C36,\"EM_Energieträger\",F36),\"\")","v":""},{"$f":"IFERROR(G36*VLOOKUP(F36,EM_Daten_u_Uebersicht!P:Q,2,FALSE),\"\")","v":""},{"$f":"IFERROR(GETPIVOTDATA(\"Summe von THG [t CO2eq]\",I_Pivot!$G$3,\"ID\",C36,\"EM_Energieträger\",F36),\"\")","v":""},"S1",null,null,null,null,null,null,null,null,null,null,null,null,null,null,null,null,null,null,null,"ii. Private Dienstleistungen","Biogene Brenn- und Treibstoffe (Brennholz, biogene Brenn- und Treibstoffe)","","",null,"","",0]
[34,4,{"$f":"VLOOKUP(B37,'I. Stationäre Energie'!C:E,3,FALSE)","v":"I.2.ii."},null,{"$f":"VLOOKUP(B37,'I. Stationäre Energie'!C:G,5,FALSE)","v":"ii. Private Dienstleistungen"},"Umgebungswärme",{"$f":"IFERROR(GETPIVOTDATA(\"Energie\",EM_Daten_u_Uebersicht!$W$5,\"Ziel-Subsektor\",C37,\"Energieträger\",F37),\"\")","v":""},{"$f":"IFERROR(GETPIVOTDATA(\"Summe von Energieeinsatz [MWh]\",I_Pivot!$G$3,\"ID\",C37,\"EM_Energieträger\",F37),\"\")","v":""},{"$f":"IFERROR(G37*VLOOKUP(F37,EM_Daten_u_Uebersicht!P:Q,2,FALSE),\"\")","v":""},{"$f":"IFERROR(GETPIVOTDATA(\"Summe von THG [t CO2eq]\",I_Pivot!$G$3,\"ID\",C37,\"EM_Energieträger\",F37),\"\")","v":""},"S1",null,null,null,null,null,null,null,null,null,null,null,null,null,null,null,null,null,null,null,"ii. Private Dienstleistungen","Brennbare Abfälle","","",null,"","",0]
[35,4,{"$f":"VLOOKUP(B38,'I. Stationäre Energie'!C:E,3,FALSE)","v":"I.2.ii."},null,{"$f":"VLOOKUP(B38,'I. Stationäre Energie'!C:G,5,FALSE)","v":"ii. Private Dienstleistungen"},"CO2-eq Direkteingabe",{"$f":"IFERROR(GETPIVOTDATA(\"Energie\",EM_Daten_u_Uebersicht!$W$5,\"Ziel-Subsektor\",C38,\"Energieträger\",F38),\"\")","v":""},{"$f":"IFERROR(GETPIVOTDATA(\"Summe von Energieeinsatz [MWh]\",I_Pivot!$G$3,\"ID\",C38,\"EM_Energieträger\",F38),\"\")","v":""},{"$f":"IFERROR(G38*VLOOKUP(F38,EM_Daten_u_Uebersicht!P:Q,2,FALSE),\"\")","v":""},{"$f":"IFERROR(GETPIVOTDATA(\"Summe von THG [t CO2eq]\",I_Pivot!$G$3,\"ID\",C38,\"EM_Energieträger\",F38),\"\")","v":""},"S1",null,null,null,null,null,null,null,null,null,null,null,null,null,null,null,null,null,null,null,"ii. Private Dienstleistungen","Umgebungswärme","","",null,"","",0]
[36,5,{"$f":"VLOOKUP(B39,'I. Stationäre Energie'!C:E,3,FALSE)","v":"I.2.iii.a."},null,{"$f":"VLOOKUP(B39,'I. Stationäre Energie'!C:G,5,FALSE)","v":"iii.a. Öffentliche Dienstleistungen, stadtverwaltet"},"Kohle (Steinkohle, Braunkohle, Koks, Petrolkoks; Gichtgas, Kokereigas, Brenntorf)",{"$f":"IFERROR(GETPIVOTDATA(\"Energie\",EM_Daten_u_Uebersicht!$W$5,\"Ziel-Subsektor\",C39,\"Energieträger\",F39),\"\")","v":""},{"$f":"IFERROR(GETPIVOTDATA(\"Summe von Energieeinsatz [MWh]\",I_Pivot!$G$3,\"ID\",C39,\"EM_Energieträger\",F39),\"\")","v":""},{"$f":"IFERROR(G39*VLOOKUP(F39,EM_Daten_u_Uebersicht!P:Q,2,FALSE),\"\")","v":""},{"$f":"IFERROR(GETPIVOTDATA(\"Summe von THG [t CO2eq]\",I_Pivot!$G$3,\"ID\",C39,\"EM_Energieträger\",F39),\"\")","v":""},"S1",null,null,null,null,null,null,null,null,null,null,null,null,null,null,null,null,null,null,null,"ii. Private Dienstleistungen","CO2-eq Direkteingabe","","",null,"","",0]
[37,5,{"$f":"VLOOKUP(B40,'I. Stationäre Energie'!C:E,3,FALSE)","v":"I.2.iii.a."},null,{"$f":"VLOOKUP(B40,'I. Stationäre Energie'!C:G,5,FALSE)","v":"iii.a. Öffentliche Dienstleistungen, stadtverwaltet"},"Öl (Heizöl, Gasöl für Heizzwecke, Diesel, Benzin, Petroleum, Flüssiggas)",{"$f":"IFERROR(GETPIVOTDATA(\"Energie\",EM_Daten_u_Uebersicht!$W$5,\"Ziel-Subsektor\",C40,\"Energieträger\",F40),\"\")","v":""},{"$f":"IFERROR(GETPIVOTDATA(\"Summe von Energieeinsatz [MWh]\",I_Pivot!$G$3,\"ID\",C40,\"EM_Energieträger\",F40),\"\")","v":""},{"$f":"IFERROR(G40*VLOOKUP(F40,EM_Daten_u_Uebersicht!P:Q,2,FALSE),\"\")","v":""},{"$f":"IFERROR(GETPIVOTDATA(\"Summe von THG [t CO2eq]\",I_Pivot!$G$3,\"ID\",C40,\"EM_Energieträger\",F40),\"\")","v":""},"S1",null,null,null,null,null,null,null,null,null,null,null,null,null,null,null,null,null,null,null,"iii.a. Öffentliche Dienstleistungen, stadtverwaltet","Kohle (Steinkohle, Braunkohle, Koks, Petrolkoks; Gichtgas, Kokereigas, Brenntorf)","","",null,"","",0]
[38,5,{"$f":"VLOOKUP(B41,'I. Stationäre Energie'!C:E,3,FALSE)","v":"I.2.iii.a."},null,{"$f":"VLOOKUP(B41,'I. Stationäre Energie'!C:G,5,FALSE)","v":"iii.a. Öffentliche Dienstleistungen, stadtverwaltet"},"Erdgas",{"$f":"IFERROR(GETPIVOTDATA(\"Energie\",EM_Daten_u_Uebersicht!$W$5,\"Ziel-Subsektor\",C41,\"Energieträger\",F41),\"\")","v":""},{"$f":"IFERROR(GETPIVOTDATA(\"Summe von Energieeinsatz [MWh]\",I_Pivot!$G$3,\"ID\",C41,\"EM_Energieträger\",F41),\"\")","v":""},{"$f":"IFERROR(G41*VLOOKUP(F41,EM_Daten_u_Uebersicht!P:Q,2,FALSE),\"\")","v":""},{"$f":"IFERROR(GETPIVOTDATA(\"Summe von THG [t CO2eq]\",I_Pivot!$G$3,\"ID\",C41,\"EM_Energieträger\",F41),\"\")","v":""},"S1",null,null,null,null,null,null,null,null,null,null,null,null,null,null,null,null,null,null,null,"iii.a. Öffentliche Dienstleistungen, stadtverwaltet","Öl (Heizöl, Gasöl für Heizzwecke, Diesel, Benzin, Petroleum, Flüssiggas)","","",null,"","",0]
[39,5,{"$f":"VLOOKUP(B42,'I. Stationäre Energie'!C:E,3,FALSE)","v":"I.2.iii.a."},null,{"$f":"VLOOKUP(B42,'I. Stationäre Energie'!C:G,5,FALSE)","v":"iii.a. Öffentliche Dienstleistungen, stadtverwaltet"},"elektrische Energie",{"$f":"IFERROR(GETPIVOTDATA(\"Energie\",EM_Daten_u_Uebersicht!$W$5,\"Ziel-Subsektor\",C42,\"Energieträger\",F42),\"\")","v":""},{"$f":"IFERROR(GETPIVOTDATA(\"Summe von Energieeinsatz [MWh]\",I_Pivot!$G$3,\"ID\",C42,\"EM_Energieträger\",F42),\"\")","v":""},{"$f":"IFERROR(G42*VLOOKUP(F42,EM_Daten_u_Uebersicht!P:Q,2,FALSE),\"\")","v":""},{"$f":"IFERROR(GETPIVOTDATA(\"Summe von THG [t CO2eq]\",I_Pivot!$G$3,\"ID\",C42,\"EM_Energieträger\",F42),\"\")","v":""},"S2",{"$f":"J42/0.94-J42","v":{"$error":"#VALUE!"}},null,null,null,null,null,null,null,null,null,null,null,null,null,null,null,null,null,null,"iii.a. Öffentliche Dienstleistungen, stadtverwaltet","Erdgas","","",null,"","",0]
[40,5,{"$f":"VLOOKUP(B43,'I. Stationäre Energie'!C:E,3,FALSE)","v":"I.2.iii.a."},null,{"$f":"VLOOKUP(B43,'I. Stationäre Energie'!C:G,5,FALSE)","v":"iii.a. Öffentliche Dienstleistungen, stadtverwaltet"},"Fernwärme",{"$f":"IFERROR(GETPIVOTDATA(\"Energie\",EM_Daten_u_Uebersicht!$W$5,\"Ziel-Subsektor\",C43,\"Energieträger\",F43),\"\")","v":""},{"$f":"IFERROR(GETPIVOTDATA(\"Summe von Energieeinsatz [MWh]\",I_Pivot!$G$3,\"ID\",C43,\"EM_Energieträger\",F43),\"\")","v":""},{"$f":"IFERROR(G43*VLOOKUP(F43,EM_Daten_u_Uebersicht!P:Q,2,FALSE),\"\")","v":""},{"$f":"IFERROR(GETPIVOTDATA(\"Summe von THG [t CO2eq]\",I_Pivot!$G$3,\"ID\",C43,\"EM_Energieträger\",F43),\"\")","v":""},"S2",{"$f":"J43/0.86-J43","v":{"$error":"#VALUE!"}},null,null,null,null,null,null,null,null,null,null,null,null,null,null,null,null,null,null,"iii.a. Öffentliche Dienstleistungen, stadtverwaltet","elektrische Energie","","",null,"","",""]
[41,5,{"$f":"VLOOKUP(B44,'I. Stationäre Energie'!C:E,3,FALSE)","v":"I.2.iii.a."},null,{"$f":"VLOOKUP(B44,'I. Stationäre Energie'!C:G,5,FALSE)","v":"iii.a. Öffentliche Dienstleistungen, stadtverwaltet"},"Biogene Brenn- und Treibstoffe (Brennholz, biogene Brenn- und Treibstoffe)",{"$f":"IFERROR(GETPIVOTDATA(\"Energie\",EM_Daten_u_Uebersicht!$W$5,\"Ziel-Subsektor\",C44,\"Energieträger\",F44),\"\")","v":""},{"$f":"IFERROR(GETPIVOTDATA(\"Summe von Energieeinsatz [MWh]\",I_Pivot!$G$3,\"ID\",C44,\"EM_Energieträger\",F44),\"\")","v":""},{"$f":"IFERROR(G44*VLOOKUP(F44,EM_Daten_u_Uebersicht!P:Q,2,FALSE),\"\")","v":""},{"$f":"IFERROR(GETPIVOTDATA(\"Summe von THG [t CO2eq]\",I_Pivot!$G$3,\"ID\",C44,\"EM_Energieträger\",F44),\"\")","v":""},"S1",null,null,null,null,null,null,null,null,null,null,null,null,null,null,null,null,null,null,null,"iii.a. Öffentliche Dienstleistungen, stadtverwaltet","Fernwärme","","",null,"","",""]
[42,5,{"$f":"VLOOKUP(B45,'I. Stationäre Energie'!C:E,3,FALSE)","v":"I.2.iii.a."},null,{"$f":"VLOOKUP(B45,'I. Stationäre Energie'!C:G,5,FALSE)","v":"iii.a. Öffentliche Dienstleistungen, stadtverwaltet"},"Brennbare Abfälle",{"$f":"IFERROR(GETPIVOTDATA(\"Energie\",EM_Daten_u_Uebersicht!$W$5,\"Ziel-Subsektor\",C45,\"Energieträger\",F45),\"\")","v":""},{"$f":"IFERROR(GETPIVOTDATA(\"Summe von Energieeinsatz [MWh]\",I_Pivot!$G$3,\"ID\",C45,\"EM_Energieträger\",F45),\"\")","v":""},{"$f":"IFERROR(G45*VLOOKUP(F45,EM_Daten_u_Uebersicht!P:Q,2,FALSE),\"\")","v":""},{"$f":"IFERROR(GETPIVOTDATA(\"Summe von THG [t CO2eq]\",I_Pivot!$G$3,\"ID\",C45,\"EM_Energieträger\",F45),\"\")","v":""},"S1",null,null,null,null,null,null,null,null,null,null,null,null,null,null,null,null,null,null,null,"iii.a. Öffentliche Dienstleistungen, stadtverwaltet","Biogene Brenn- und Treibstoffe (Brennholz, biogene Brenn- und Treibstoffe)","","",null,"","",0]
[43,5,{"$f":"VLOOKUP(B46,'I. Stationäre Energie'!C:E,3,FALSE)","v":"I.2.iii.a."},null,{"$f":"VLOOKUP(B46,'I. Stationäre Energie'!C:G,5,FALSE)","v":"iii.a. Öffentliche Dienstleistungen, stadtverwaltet"},"Umgebungswärme",{"$f":"IFERROR(GETPIVOTDATA(\"Energie\",EM_Daten_u_Uebersicht!$W$5,\"Ziel-Subsektor\",C46,\"Energieträger\",F46),\"\")","v":""},{"$f":"IFERROR(GETPIVOTDATA(\"Summe von Energieeinsatz [MWh]\",I_Pivot!$G$3,\"ID\",C46,\"EM_Energieträger\",F46),\"\")","v":""},{"$f":"IFERROR(G46*VLOOKUP(F46,EM_Daten_u_Uebersicht!P:Q,2,FALSE),\"\")","v":""},{"$f":"IFERROR(GETPIVOTDATA(\"Summe von THG [t CO2eq]\",I_Pivot!$G$3,\"ID\",C46,\"EM_Energieträger\",F46),\"\")","v":""},"S1",null,null,null,null,null,null,null,null,null,null,null,null,null,null,null,null,null,null,null,"iii.a. Öffentliche Dienstleistungen, stadtverwaltet","Brennbare Abfälle","","",null,"","",0]
[44,5,{"$f":"VLOOKUP(B47,'I. Stationäre Energie'!C:E,3,FALSE)","v":"I.2.iii.a."},null,{"$f":"VLOOKUP(B47,'I. Stationäre Energie'!C:G,5,FALSE)","v":"iii.a. Öffentliche Dienstleistungen, stadtverwaltet"},"CO2-eq Direkteingabe",{"$f":"IFERROR(GETPIVOTDATA(\"Energie\",EM_Daten_u_Uebersicht!$W$5,\"Ziel-Subsektor\",C47,\"Energieträger\",F47),\"\")","v":""},{"$f":"IFERROR(GETPIVOTDATA(\"Summe von Energieeinsatz [MWh]\",I_Pivot!$G$3,\"ID\",C47,\"EM_Energieträger\",F47),\"\")","v":""},{"$f":"IFERROR(G47*VLOOKUP(F47,EM_Daten_u_Uebersicht!P:Q,2,FALSE),\"\")","v":""},{"$f":"IFERROR(GETPIVOTDATA(\"Summe von THG [t CO2eq]\",I_Pivot!$G$3,\"ID\",C47,\"EM_Energieträger\",F47),\"\")","v":""},"S1",null,null,null,null,null,null,null,null,null,null,null,null,null,null,null,null,null,null,null,"iii.a. Öffentliche Dienstleistungen, stadtverwaltet","Umgebungswärme","","",null,"","",0]
[45,6,{"$f":"VLOOKUP(B48,'I. Stationäre Energie'!C:E,3,FALSE)","v":"I.2.iii.b."},null,{"$f":"VLOOKUP(B48,'I. Stationäre Energie'!C:G,5,FALSE)","v":"iii.b. Öffentliche Dienstleistungen, landesverwaltet"},"Kohle (Steinkohle, Braunkohle, Koks, Petrolkoks; Gichtgas, Kokereigas, Brenntorf)",{"$f":"IFERROR(GETPIVOTDATA(\"Energie\",EM_Daten_u_Uebersicht!$W$5,\"Ziel-Subsektor\",C48,\"Energieträger\",F48),\"\")","v":""},{"$f":"IFERROR(GETPIVOTDATA(\"Summe von Energieeinsatz [MWh]\",I_Pivot!$G$3,\"ID\",C48,\"EM_Energieträger\",F48),\"\")","v":""},{"$f":"IFERROR(G48*VLOOKUP(F48,EM_Daten_u_Uebersicht!P:Q,2,FALSE),\"\")","v":""},{"$f":"IFERROR(GETPIVOTDATA(\"Summe von THG [t CO2eq]\",I_Pivot!$G$3,\"ID\",C48,\"EM_Energieträger\",F48),\"\")","v":""},"S1",null,null,null,null,null,null,null,null,null,null,null,null,null,null,null,null,null,null,null,"iii.a. Öffentliche Dienstleistungen, stadtverwaltet","CO2-eq Direkteingabe","","",null,"","",0]
[46,6,{"$f":"VLOOKUP(B49,'I. Stationäre Energie'!C:E,3,FALSE)","v":"I.2.iii.b."},null,{"$f":"VLOOKUP(B49,'I. Stationäre Energie'!C:G,5,FALSE)","v":"iii.b. Öffentliche Dienstleistungen, landesverwaltet"},"Öl (Heizöl, Gasöl für Heizzwecke, Diesel, Benzin, Petroleum, Flüssiggas)",{"$f":"IFERROR(GETPIVOTDATA(\"Energie\",EM_Daten_u_Uebersicht!$W$5,\"Ziel-Subsektor\",C49,\"Energieträger\",F49),\"\")","v":""},{"$f":"IFERROR(GETPIVOTDATA(\"Summe von Energieeinsatz [MWh]\",I_Pivot!$G$3,\"ID\",C49,\"EM_Energieträger\",F49),\"\")","v":""},{"$f":"IFERROR(G49*VLOOKUP(F49,EM_Daten_u_Uebersicht!P:Q,2,FALSE),\"\")","v":""},{"$f":"IFERROR(GETPIVOTDATA(\"Summe von THG [t CO2eq]\",I_Pivot!$G$3,\"ID\",C49,\"EM_Energieträger\",F49),\"\")","v":""},"S1",null,null,null,null,null,null,null,null,null,null,null,null,null,null,null,null,null,null,null,"iii.b. Öffentliche Dienstleistungen, landesverwaltet","Kohle (Steinkohle, Braunkohle, Koks, Petrolkoks; Gichtgas, Kokereigas, Brenntorf)","","",null,"","",0]
[47,6,{"$f":"VLOOKUP(B50,'I. Stationäre Energie'!C:E,3,FALSE)","v":"I.2.iii.b."},null,{"$f":"VLOOKUP(B50,'I. Stationäre Energie'!C:G,5,FALSE)","v":"iii.b. Öffentliche Dienstleistungen, landesverwaltet"},"Erdgas",{"$f":"IFERROR(GETPIVOTDATA(\"Energie\",EM_Daten_u_Uebersicht!$W$5,\"Ziel-Subsektor\",C50,\"Energieträger\",F50),\"\")","v":""},{"$f":"IFERROR(GETPIVOTDATA(\"Summe von Energieeinsatz [MWh]\",I_Pivot!$G$3,\"ID\",C50,\"EM_Energieträger\",F50),\"\")","v":""},{"$f":"IFERROR(G50*VLOOKUP(F50,EM_Daten_u_Uebersicht!P:Q,2,FALSE),\"\")","v":""},{"$f":"IFERROR(GETPIVOTDATA(\"Summe von THG [t CO2eq]\",I_Pivot!$G$3,\"ID\",C50,\"EM_Energieträger\",F50),\"\")","v":""},"S1",null,null,null,null,null,null,null,null,null,null,null,null,null,null,null,null,null,null,null,"iii.b. Öffentliche Dienstleistungen, landesverwaltet","Öl (Heizöl, Gasöl für Heizzwecke, Diesel, Benzin, Petroleum, Flüssiggas)","","",null,"","",0]
[48,6,{"$f":"VLOOKUP(B51,'I. Stationäre Energie'!C:E,3,FALSE)","v":"I.2.iii.b."},null,{"$f":"VLOOKUP(B51,'I. Stationäre Energie'!C:G,5,FALSE)","v":"iii.b. Öffentliche Dienstleistungen, landesverwaltet"},"elektrische Energie",{"$f":"IFERROR(GETPIVOTDATA(\"Energie\",EM_Daten_u_Uebersicht!$W$5,\"Ziel-Subsektor\",C51,\"Energieträger\",F51),\"\")","v":""},{"$f":"IFERROR(GETPIVOTDATA(\"Summe von Energieeinsatz [MWh]\",I_Pivot!$G$3,\"ID\",C51,\"EM_Energieträger\",F51),\"\")","v":""},{"$f":"IFERROR(G51*VLOOKUP(F51,EM_Daten_u_Uebersicht!P:Q,2,FALSE),\"\")","v":""},{"$f":"IFERROR(GETPIVOTDATA(\"Summe von THG [t CO2eq]\",I_Pivot!$G$3,\"ID\",C51,\"EM_Energieträger\",F51),\"\")","v":""},"S2",{"$f":"J51/0.94-J51","v":{"$error":"#VALUE!"}},null,null,null,null,null,null,null,null,null,null,null,null,null,null,null,null,null,null,"iii.b. Öffentliche Dienstleistungen, landesverwaltet","Erdgas","","",null,"","",0]
[49,6,{"$f":"VLOOKUP(B52,'I. Stationäre Energie'!C:E,3,FALSE)","v":"I.2.iii.b."},null,{"$f":"VLOOKUP(B52,'I. Stationäre Energie'!C:G,5,FALSE)","v":"iii.b. Öffentliche Dienstleistungen, landesverwaltet"},"Fernwärme",{"$f":"IFERROR(GETPIVOTDATA(\"Energie\",EM_Daten_u_Uebersicht!$W$5,\"Ziel-Subsektor\",C52,\"Energieträger\",F52),\"\")","v":""},{"$f":"IFERROR(GETPIVOTDATA(\"Summe von Energieeinsatz [MWh]\",I_Pivot!$G$3,\"ID\",C52,\"EM_Energieträger\",F52),\"\")","v":""},{"$f":"IFERROR(G52*VLOOKUP(F52,EM_Daten_u_Uebersicht!P:Q,2,FALSE),\"\")","v":""},{"$f":"IFERROR(GETPIVOTDATA(\"Summe von THG [t CO2eq]\",I_Pivot!$G$3,\"ID\",C52,\"EM_Energieträger\",F52),\"\")","v":""},"S2",{"$f":"J52/0.86-J52","v":{"$error":"#VALUE!"}},null,null,null,null,null,null,null,null,null,null,null,null,null,null,null,null,null,null,"iii.b. Öffentliche Dienstleistungen, landesverwaltet","elektrische Energie","","",null,"","",""]
[50,6,{"$f":"VLOOKUP(B53,'I. Stationäre Energie'!C:E,3,FALSE)","v":"I.2.iii.b."},null,{"$f":"VLOOKUP(B53,'I. Stationäre Energie'!C:G,5,FALSE)","v":"iii.b. Öffentliche Dienstleistungen, landesverwaltet"},"Biogene Brenn- und Treibstoffe (Brennholz, biogene Brenn- und Treibstoffe)",{"$f":"IFERROR(GETPIVOTDATA(\"Energie\",EM_Daten_u_Uebersicht!$W$5,\"Ziel-Subsektor\",C53,\"Energieträger\",F53),\"\")","v":""},{"$f":"IFERROR(GETPIVOTDATA(\"Summe von Energieeinsatz [MWh]\",I_Pivot!$G$3,\"ID\",C53,\"EM_Energieträger\",F53),\"\")","v":""},{"$f":"IFERROR(G53*VLOOKUP(F53,EM_Daten_u_Uebersicht!P:Q,2,FALSE),\"\")","v":""},{"$f":"IFERROR(GETPIVOTDATA(\"Summe von THG [t CO2eq]\",I_Pivot!$G$3,\"ID\",C53,\"EM_Energieträger\",F53),\"\")","v":""},"S1",null,null,null,null,null,null,null,null,null,null,null,null,null,null,null,null,null,null,null,"iii.b. Öffentliche Dienstleistungen, landesverwaltet","Fernwärme","","",null,"","",""]
[51,6,{"$f":"VLOOKUP(B54,'I. Stationäre Energie'!C:E,3,FALSE)","v":"I.2.iii.b."},null,{"$f":"VLOOKUP(B54,'I. Stationäre Energie'!C:G,5,FALSE)","v":"iii.b. Öffentliche Dienstleistungen, landesverwaltet"},"Brennbare Abfälle",{"$f":"IFERROR(GETPIVOTDATA(\"Energie\",EM_Daten_u_Uebersicht!$W$5,\"Ziel-Subsektor\",C54,\"Energieträger\",F54),\"\")","v":""},{"$f":"IFERROR(GETPIVOTDATA(\"Summe von Energieeinsatz [MWh]\",I_Pivot!$G$3,\"ID\",C54,\"EM_Energieträger\",F54),\"\")","v":""},{"$f":"IFERROR(G54*VLOOKUP(F54,EM_Daten_u_Uebersicht!P:Q,2,FALSE),\"\")","v":""},{"$f":"IFERROR(GETPIVOTDATA(\"Summe von THG [t CO2eq]\",I_Pivot!$G$3,\"ID\",C54,\"EM_Energieträger\",F54),\"\")","v":""},"S1",null,null,null,null,null,null,null,null,null,null,null,null,null,null,null,null,null,null,null,"iii.b. Öffentliche Dienstleistungen, landesverwaltet","Biogene Brenn- und Treibstoffe (Brennholz, biogene Brenn- und Treibstoffe)","","",null,"","",0]
[52,6,{"$f":"VLOOKUP(B55,'I. Stationäre Energie'!C:E,3,FALSE)","v":"I.2.iii.b."},null,{"$f":"VLOOKUP(B55,'I. Stationäre Energie'!C:G,5,FALSE)","v":"iii.b. Öffentliche Dienstleistungen, landesverwaltet"},"Umgebungswärme",{"$f":"IFERROR(GETPIVOTDATA(\"Energie\",EM_Daten_u_Uebersicht!$W$5,\"Ziel-Subsektor\",C55,\"Energieträger\",F55),\"\")","v":""},{"$f":"IFERROR(GETPIVOTDATA(\"Summe von Energieeinsatz [MWh]\",I_Pivot!$G$3,\"ID\",C55,\"EM_Energieträger\",F55),\"\")","v":""},{"$f":"IFERROR(G55*VLOOKUP(F55,EM_Daten_u_Uebersicht!P:Q,2,FALSE),\"\")","v":""},{"$f":"IFERROR(GETPIVOTDATA(\"Summe von THG [t CO2eq]\",I_Pivot!$G$3,\"ID\",C55,\"EM_Energieträger\",F55),\"\")","v":""},"S1",null,null,null,null,null,null,null,null,null,null,null,null,null,null,null,null,null,null,null,"iii.b. Öffentliche Dienstleistungen, landesverwaltet","Brennbare Abfälle","","",null,"","",0]
[53,6,{"$f":"VLOOKUP(B56,'I. Stationäre Energie'!C:E,3,FALSE)","v":"I.2.iii.b."},null,{"$f":"VLOOKUP(B56,'I. Stationäre Energie'!C:G,5,FALSE)","v":"iii.b. Öffentliche Dienstleistungen, landesverwaltet"},"CO2-eq Direkteingabe",{"$f":"IFERROR(GETPIVOTDATA(\"Energie\",EM_Daten_u_Uebersicht!$W$5,\"Ziel-Subsektor\",C56,\"Energieträger\",F56),\"\")","v":""},{"$f":"IFERROR(GETPIVOTDATA(\"Summe von Energieeinsatz [MWh]\",I_Pivot!$G$3,\"ID\",C56,\"EM_Energieträger\",F56),\"\")","v":""},{"$f":"IFERROR(G56*VLOOKUP(F56,EM_Daten_u_Uebersicht!P:Q,2,FALSE),\"\")","v":""},{"$f":"IFERROR(GETPIVOTDATA(\"Summe von THG [t CO2eq]\",I_Pivot!$G$3,\"ID\",C56,\"EM_Energieträger\",F56),\"\")","v":""},"S1",null,null,null,null,null,null,null,null,null,null,null,null,null,null,null,null,null,null,null,"iii.b. Öffentliche Dienstleistungen, landesverwaltet","Umgebungswärme","","",null,"","",0]
[54,7,{"$f":"VLOOKUP(B57,'I. Stationäre Energie'!C:E,3,FALSE)","v":"I.2.iii.c."},null,{"$f":"VLOOKUP(B57,'I. Stationäre Energie'!C:G,5,FALSE)","v":"iii.c. Öffentliche Dienstleistungen, bundesverwaltet"},"Kohle (Steinkohle, Braunkohle, Koks, Petrolkoks; Gichtgas, Kokereigas, Brenntorf)",{"$f":"IFERROR(GETPIVOTDATA(\"Energie\",EM_Daten_u_Uebersicht!$W$5,\"Ziel-Subsektor\",C57,\"Energieträger\",F57),\"\")","v":""},{"$f":"IFERROR(GETPIVOTDATA(\"Summe von Energieeinsatz [MWh]\",I_Pivot!$G$3,\"ID\",C57,\"EM_Energieträger\",F57),\"\")","v":""},{"$f":"IFERROR(G57*VLOOKUP(F57,EM_Daten_u_Uebersicht!P:Q,2,FALSE),\"\")","v":""},{"$f":"IFERROR(GETPIVOTDATA(\"Summe von THG [t CO2eq]\",I_Pivot!$G$3,\"ID\",C57,\"EM_Energieträger\",F57),\"\")","v":""},"S1",null,null,null,null,null,null,null,null,null,null,null,null,null,null,null,null,null,null,null,"iii.b. Öffentliche Dienstleistungen, landesverwaltet","CO2-eq Direkteingabe","","",null,"","",0]
[55,7,{"$f":"VLOOKUP(B58,'I. Stationäre Energie'!C:E,3,FALSE)","v":"I.2.iii.c."},null,{"$f":"VLOOKUP(B58,'I. Stationäre Energie'!C:G,5,FALSE)","v":"iii.c. Öffentliche Dienstleistungen, bundesverwaltet"},"Öl (Heizöl, Gasöl für Heizzwecke, Diesel, Benzin, Petroleum, Flüssiggas)",{"$f":"IFERROR(GETPIVOTDATA(\"Energie\",EM_Daten_u_Uebersicht!$W$5,\"Ziel-Subsektor\",C58,\"Energieträger\",F58),\"\")","v":""},{"$f":"IFERROR(GETPIVOTDATA(\"Summe von Energieeinsatz [MWh]\",I_Pivot!$G$3,\"ID\",C58,\"EM_Energieträger\",F58),\"\")","v":""},{"$f":"IFERROR(G58*VLOOKUP(F58,EM_Daten_u_Uebersicht!P:Q,2,FALSE),\"\")","v":""},{"$f":"IFERROR(GETPIVOTDATA(\"Summe von THG [t CO2eq]\",I_Pivot!$G$3,\"ID\",C58,\"EM_Energieträger\",F58),\"\")","v":""},"S1",null,null,null,null,null,null,null,null,null,null,null,null,null,null,null,null,null,null,null,"iii.c. Öffentliche Dienstleistungen, bundesverwaltet","Kohle (Steinkohle, Braunkohle, Koks, Petrolkoks; Gichtgas, Kokereigas, Brenntorf)","","",null,"","",0]
[56,7,{"$f":"VLOOKUP(B59,'I. Stationäre Energie'!C:E,3,FALSE)","v":"I.2.iii.c."},null,{"$f":"VLOOKUP(B59,'I. Stationäre Energie'!C:G,5,FALSE)","v":"iii.c. Öffentliche Dienstleistungen, bundesverwaltet"},"Erdgas",{"$f":"IFERROR(GETPIVOTDATA(\"Energie\",EM_Daten_u_Uebersicht!$W$5,\"Ziel-Subsektor\",C59,\"Energieträger\",F59),\"\")","v":""},{"$f":"IFERROR(GETPIVOTDATA(\"Summe von Energieeinsatz [MWh]\",I_Pivot!$G$3,\"ID\",C59,\"EM_Energieträger\",F59),\"\")","v":""},{"$f":"IFERROR(G59*VLOOKUP(F59,EM_Daten_u_Uebersicht!P:Q,2,FALSE),\"\")","v":""},{"$f":"IFERROR(GETPIVOTDATA(\"Summe von THG [t CO2eq]\",I_Pivot!$G$3,\"ID\",C59,\"EM_Energieträger\",F59),\"\")","v":""},"S1",null,null,null,null,null,null,null,null,null,null,null,null,null,null,null,null,null,null,null,"iii.c. Öffentliche Dienstleistungen, bundesverwaltet","Öl (Heizöl, Gasöl für Heizzwecke, Diesel, Benzin, Petroleum, Flüssiggas)","","",null,"","",0]
[57,7,{"$f":"VLOOKUP(B60,'I. Stationäre Energie'!C:E,3,FALSE)","v":"I.2.iii.c."},null,{"$f":"VLOOKUP(B60,'I. Stationäre Energie'!C:G,5,FALSE)","v":"iii.c. Öffentliche Dienstleistungen, bundesverwaltet"},"elektrische Energie",{"$f":"IFERROR(GETPIVOTDATA(\"Energie\",EM_Daten_u_Uebersicht!$W$5,\"Ziel-Subsektor\",C60,\"Energieträger\",F60),\"\")","v":""},{"$f":"IFERROR(GETPIVOTDATA(\"Summe von Energieeinsatz [MWh]\",I_Pivot!$G$3,\"ID\",C60,\"EM_Energieträger\",F60),\"\")","v":""},{"$f":"IFERROR(G60*VLOOKUP(F60,EM_Daten_u_Uebersicht!P:Q,2,FALSE),\"\")","v":""},{"$f":"IFERROR(GETPIVOTDATA(\"Summe von THG [t CO2eq]\",I_Pivot!$G$3,\"ID\",C60,\"EM_Energieträger\",F60),\"\")","v":""},"S2",{"$f":"J60/0.94-J60","v":{"$error":"#VALUE!"}},null,null,null,null,null,null,null,null,null,null,null,null,null,null,null,null,null,null,"iii.c. Öffentliche Dienstleistungen, bundesverwaltet","Erdgas","","",null,"","",0]
[58,7,{"$f":"VLOOKUP(B61,'I. Stationäre Energie'!C:E,3,FALSE)","v":"I.2.iii.c."},null,{"$f":"VLOOKUP(B61,'I. Stationäre Energie'!C:G,5,FALSE)","v":"iii.c. Öffentliche Dienstleistungen, bundesverwaltet"},"Fernwärme",{"$f":"IFERROR(GETPIVOTDATA(\"Energie\",EM_Daten_u_Uebersicht!$W$5,\"Ziel-Subsektor\",C61,\"Energieträger\",F61),\"\")","v":""},{"$f":"IFERROR(GETPIVOTDATA(\"Summe von Energieeinsatz [MWh]\",I_Pivot!$G$3,\"ID\",C61,\"EM_Energieträger\",F61),\"\")","v":""},{"$f":"IFERROR(G61*VLOOKUP(F61,EM_Daten_u_Uebersicht!P:Q,2,FALSE),\"\")","v":""},{"$f":"IFERROR(GETPIVOTDATA(\"Summe von THG [t CO2eq]\",I_Pivot!$G$3,\"ID\",C61,\"EM_Energieträger\",F61),\"\")","v":""},"S2",{"$f":"J61/0.86-J61","v":{"$error":"#VALUE!"}},null,null,null,null,null,null,null,null,null,null,null,null,null,null,null,null,null,null,"iii.c. Öffentliche Dienstleistungen, bundesverwaltet","elektrische Energie","","",null,"","",""]
[59,7,{"$f":"VLOOKUP(B62,'I. Stationäre Energie'!C:E,3,FALSE)","v":"I.2.iii.c."},null,{"$f":"VLOOKUP(B62,'I. Stationäre Energie'!C:G,5,FALSE)","v":"iii.c. Öffentliche Dienstleistungen, bundesverwaltet"},"Biogene Brenn- und Treibstoffe (Brennholz, biogene Brenn- und Treibstoffe)",{"$f":"IFERROR(GETPIVOTDATA(\"Energie\",EM_Daten_u_Uebersicht!$W$5,\"Ziel-Subsektor\",C62,\"Energieträger\",F62),\"\")","v":""},{"$f":"IFERROR(GETPIVOTDATA(\"Summe von Energieeinsatz [MWh]\",I_Pivot!$G$3,\"ID\",C62,\"EM_Energieträger\",F62),\"\")","v":""},{"$f":"IFERROR(G62*VLOOKUP(F62,EM_Daten_u_Uebersicht!P:Q,2,FALSE),\"\")","v":""},{"$f":"IFERROR(GETPIVOTDATA(\"Summe von THG [t CO2eq]\",I_Pivot!$G$3,\"ID\",C62,\"EM_Energieträger\",F62),\"\")","v":""},"S1",null,null,null,null,null,null,null,null,null,null,null,null,null,null,null,null,null,null,null,"iii.c. Öffentliche Dienstleistungen, bundesverwaltet","Fernwärme","","",null,"","",""]
[60,7,{"$f":"VLOOKUP(B63,'I. Stationäre Energie'!C:E,3,FALSE)","v":"I.2.iii.c."},null,{"$f":"VLOOKUP(B63,'I. Stationäre Energie'!C:G,5,FALSE)","v":"iii.c. Öffentliche Dienstleistungen, bundesverwaltet"},"Brennbare Abfälle",{"$f":"IFERROR(GETPIVOTDATA(\"Energie\",EM_Daten_u_Uebersicht!$W$5,\"Ziel-Subsektor\",C63,\"Energieträger\",F63),\"\")","v":""},{"$f":"IFERROR(GETPIVOTDATA(\"Summe von Energieeinsatz [MWh]\",I_Pivot!$G$3,\"ID\",C63,\"EM_Energieträger\",F63),\"\")","v":""},{"$f":"IFERROR(G63*VLOOKUP(F63,EM_Daten_u_Uebersicht!P:Q,2,FALSE),\"\")","v":""},{"$f":"IFERROR(GETPIVOTDATA(\"Summe von THG [t CO2eq]\",I_Pivot!$G$3,\"ID\",C63,\"EM_Energieträger\",F63),\"\")","v":""},"S1",null,null,null,null,null,null,null,null,null,null,null,null,null,null,null,null,null,null,null,"iii.c. Öffentliche Dienstleistungen, bundesverwaltet","Biogene Brenn- und Treibstoffe (Brennholz, biogene Brenn- und Treibstoffe)","","",null,"","",0]
[61,7,{"$f":"VLOOKUP(B64,'I. Stationäre Energie'!C:E,3,FALSE)","v":"I.2.iii.c."},null,{"$f":"VLOOKUP(B64,'I. Stationäre Energie'!C:G,5,FALSE)","v":"iii.c. Öffentliche Dienstleistungen, bundesverwaltet"},"Umgebungswärme",{"$f":"IFERROR(GETPIVOTDATA(\"Energie\",EM_Daten_u_Uebersicht!$W$5,\"Ziel-Subsektor\",C64,\"Energieträger\",F64),\"\")","v":""},{"$f":"IFERROR(GETPIVOTDATA(\"Summe von Energieeinsatz [MWh]\",I_Pivot!$G$3,\"ID\",C64,\"EM_Energieträger\",F64),\"\")","v":""},{"$f":"IFERROR(G64*VLOOKUP(F64,EM_Daten_u_Uebersicht!P:Q,2,FALSE),\"\")","v":""},{"$f":"IFERROR(GETPIVOTDATA(\"Summe von THG [t CO2eq]\",I_Pivot!$G$3,\"ID\",C64,\"EM_Energieträger\",F64),\"\")","v":""},"S1",null,null,null,null,null,null,null,null,null,null,null,null,null,null,null,null,null,null,null,"iii.c. Öffentliche Dienstleistungen, bundesverwaltet","Brennbare Abfälle","","",null,"","",0]
[62,7,{"$f":"VLOOKUP(B65,'I. Stationäre Energie'!C:E,3,FALSE)","v":"I.2.iii.c."},null,{"$f":"VLOOKUP(B65,'I. Stationäre Energie'!C:G,5,FALSE)","v":"iii.c. Öffentliche Dienstleistungen, bundesverwaltet"},"CO2-eq Direkteingabe",{"$f":"IFERROR(GETPIVOTDATA(\"Energie\",EM_Daten_u_Uebersicht!$W$5,\"Ziel-Subsektor\",C65,\"Energieträger\",F65),\"\")","v":""},{"$f":"IFERROR(GETPIVOTDATA(\"Summe von Energieeinsatz [MWh]\",I_Pivot!$G$3,\"ID\",C65,\"EM_Energieträger\",F65),\"\")","v":""},{"$f":"IFERROR(G65*VLOOKUP(F65,EM_Daten_u_Uebersicht!P:Q,2,FALSE),\"\")","v":""},{"$f":"IFERROR(GETPIVOTDATA(\"Summe von THG [t CO2eq]\",I_Pivot!$G$3,\"ID\",C65,\"EM_Energieträger\",F65),\"\")","v":""},"S1",null,null,null,null,null,null,null,null,null,null,null,null,null,null,null,null,null,null,null,"iii.c. Öffentliche Dienstleistungen, bundesverwaltet","Umgebungswärme","","",null,"","",0]
[63,8,{"$f":"VLOOKUP(B66,'I. Stationäre Energie'!C:E,3,FALSE)","v":"I.2.iii.d."},null,{"$f":"VLOOKUP(B66,'I. Stationäre Energie'!C:G,5,FALSE)","v":"iii.d. Öffentliche Dienstleistungen, sonstige"},"Kohle (Steinkohle, Braunkohle, Koks, Petrolkoks; Gichtgas, Kokereigas, Brenntorf)",{"$f":"IFERROR(GETPIVOTDATA(\"Energie\",EM_Daten_u_Uebersicht!$W$5,\"Ziel-Subsektor\",C66,\"Energieträger\",F66),\"\")","v":""},{"$f":"IFERROR(GETPIVOTDATA(\"Summe von Energieeinsatz [MWh]\",I_Pivot!$G$3,\"ID\",C66,\"EM_Energieträger\",F66),\"\")","v":""},{"$f":"IFERROR(G66*VLOOKUP(F66,EM_Daten_u_Uebersicht!P:Q,2,FALSE),\"\")","v":""},{"$f":"IFERROR(GETPIVOTDATA(\"Summe von THG [t CO2eq]\",I_Pivot!$G$3,\"ID\",C66,\"EM_Energieträger\",F66),\"\")","v":""},"S1",null,null,null,null,null,null,null,null,null,null,null,null,null,null,null,null,null,null,null,"iii.c. Öffentliche Dienstleistungen, bundesverwaltet","CO2-eq Direkteingabe","","",null,"","",0]
[64,8,{"$f":"VLOOKUP(B67,'I. Stationäre Energie'!C:E,3,FALSE)","v":"I.2.iii.d."},null,{"$f":"VLOOKUP(B67,'I. Stationäre Energie'!C:G,5,FALSE)","v":"iii.d. Öffentliche Dienstleistungen, sonstige"},"Öl (Heizöl, Gasöl für Heizzwecke, Diesel, Benzin, Petroleum, Flüssiggas)",{"$f":"IFERROR(GETPIVOTDATA(\"Energie\",EM_Daten_u_Uebersicht!$W$5,\"Ziel-Subsektor\",C67,\"Energieträger\",F67),\"\")","v":""},{"$f":"IFERROR(GETPIVOTDATA(\"Summe von Energieeinsatz [MWh]\",I_Pivot!$G$3,\"ID\",C67,\"EM_Energieträger\",F67),\"\")","v":""},{"$f":"IFERROR(G67*VLOOKUP(F67,EM_Daten_u_Uebersicht!P:Q,2,FALSE),\"\")","v":""},{"$f":"IFERROR(GETPIVOTDATA(\"Summe von THG [t CO2eq]\",I_Pivot!$G$3,\"ID\",C67,\"EM_Energieträger\",F67),\"\")","v":""},"S1",null,null,null,null,null,null,null,null,null,null,null,null,null,null,null,null,null,null,null,{"$f":"IFERROR(E66,\"\")","v":"iii.d. Öffentliche Dienstleistungen, sonstige"},{"$f":"IFERROR(F66,\"\")","v":"Kohle (Steinkohle, Braunkohle, Koks, Petrolkoks; Gichtgas, Kokereigas, Brenntorf)"},{"$f":"IFERROR(H66,\"\")","v":""},{"$f":"IFERROR(J66,\"\")","v":""},null,"","",{"$f":"IFERROR(L66,\"\")","v":0}]
[65,{"$f":"ROUNDDOWN(A68/9,0)+1","v":8},{"$f":"VLOOKUP(B68,'I. Stationäre Energie'!C:E,3,FALSE)","v":"I.2.iii.d."},null,{"$f":"VLOOKUP(B68,'I. Stationäre Energie'!C:G,5,FALSE)","v":"iii.d. Öffentliche Dienstleistungen, sonstige"},"Erdgas",{"$f":"IFERROR(GETPIVOTDATA(\"Energie\",EM_Daten_u_Uebersicht!$W$5,\"Ziel-Subsektor\",C68,\"Energieträger\",F68),\"\")","v":""},{"$f":"IFERROR(GETPIVOTDATA(\"Summe von Energieeinsatz [MWh]\",I_Pivot!$G$3,\"ID\",C68,\"EM_Energieträger\",F68),\"\")","v":""},{"$f":"IFERROR(G68*VLOOKUP(F68,EM_Daten_u_Uebersicht!P:Q,2,FALSE),\"\")","v":""},{"$f":"IFERROR(GETPIVOTDATA(\"Summe von THG [t CO2eq]\",I_Pivot!$G$3,\"ID\",C68,\"EM_Energieträger\",F68),\"\")","v":""},"S1",null,null,null,null,null,null,null,null,null,null,null,null,null,null,null,null,null,null,null,"iii.d. Öffentliche Dienstleistungen, sonstige","Öl (Heizöl, Gasöl für Heizzwecke, Diesel, Benzin, Petroleum, Flüssiggas)","","",null,{"$f":"IF(K67=\"S1\",J67,\"\")","v":""},{"$f":"IF(K67=\"S2\",J67,\"\")","v":""},0]
[66,8,{"$f":"VLOOKUP(B69,'I. Stationäre Energie'!C:E,3,FALSE)","v":"I.2.iii.d."},null,{"$f":"VLOOKUP(B69,'I. Stationäre Energie'!C:G,5,FALSE)","v":"iii.d. Öffentliche Dienstleistungen, sonstige"},"elektrische Energie",{"$f":"IFERROR(GETPIVOTDATA(\"Energie\",EM_Daten_u_Uebersicht!$W$5,\"Ziel-Subsektor\",C69,\"Energieträger\",F69),\"\")","v":""},{"$f":"IFERROR(GETPIVOTDATA(\"Summe von Energieeinsatz [MWh]\",I_Pivot!$G$3,\"ID\",C69,\"EM_Energieträger\",F69),\"\")","v":""},{"$f":"IFERROR(G69*VLOOKUP(F69,EM_Daten_u_Uebersicht!P:Q,2,FALSE),\"\")","v":""},{"$f":"IFERROR(GETPIVOTDATA(\"Summe von THG [t CO2eq]\",I_Pivot!$G$3,\"ID\",C69,\"EM_Energieträger\",F69),\"\")","v":""},"S2",{"$f":"J69/0.94-J69","v":{"$error":"#VALUE!"}},null,null,null,null,null,null,null,null,null,null,null,null,null,null,null,null,null,null,"iii.d. Öffentliche Dienstleistungen, sonstige","Erdgas","","",null,"","",0]
[67,8,{"$f":"VLOOKUP(B70,'I. Stationäre Energie'!C:E,3,FALSE)","v":"I.2.iii.d."},null,{"$f":"VLOOKUP(B70,'I. Stationäre Energie'!C:G,5,FALSE)","v":"iii.d. Öffentliche Dienstleistungen, sonstige"},"Fernwärme",{"$f":"IFERROR(GETPIVOTDATA(\"Energie\",EM_Daten_u_Uebersicht!$W$5,\"Ziel-Subsektor\",C70,\"Energieträger\",F70),\"\")","v":""},{"$f":"IFERROR(GETPIVOTDATA(\"Summe von Energieeinsatz [MWh]\",I_Pivot!$G$3,\"ID\",C70,\"EM_Energieträger\",F70),\"\")","v":""},{"$f":"IFERROR(G70*VLOOKUP(F70,EM_Daten_u_Uebersicht!P:Q,2,FALSE),\"\")","v":""},{"$f":"IFERROR(GETPIVOTDATA(\"Summe von THG [t CO2eq]\",I_Pivot!$G$3,\"ID\",C70,\"EM_Energieträger\",F70),\"\")","v":""},"S2",{"$f":"J70/0.86-J70","v":{"$error":"#VALUE!"}},null,null,null,null,null,null,null,null,null,null,null,null,null,null,null,null,null,null,"iii.d. Öffentliche Dienstleistungen, sonstige","elektrische Energie","","",null,"","",""]
[68,8,{"$f":"VLOOKUP(B71,'I. Stationäre Energie'!C:E,3,FALSE)","v":"I.2.iii.d."},null,{"$f":"VLOOKUP(B71,'I. Stationäre Energie'!C:G,5,FALSE)","v":"iii.d. Öffentliche Dienstleistungen, sonstige"},"Biogene Brenn- und Treibstoffe (Brennholz, biogene Brenn- und Treibstoffe)",{"$f":"IFERROR(GETPIVOTDATA(\"Energie\",EM_Daten_u_Uebersicht!$W$5,\"Ziel-Subsektor\",C71,\"Energieträger\",F71),\"\")","v":""},{"$f":"IFERROR(GETPIVOTDATA(\"Summe von Energieeinsatz [MWh]\",I_Pivot!$G$3,\"ID\",C71,\"EM_Energieträger\",F71),\"\")","v":""},{"$f":"IFERROR(G71*VLOOKUP(F71,EM_Daten_u_Uebersicht!P:Q,2,FALSE),\"\")","v":""},{"$f":"IFERROR(GETPIVOTDATA(\"Summe von THG [t CO2eq]\",I_Pivot!$G$3,\"ID\",C71,\"EM_Energieträger\",F71),\"\")","v":""},"S1",null,null,null,null,null,null,null,null,null,null,null,null,null,null,null,null,null,null,null,"iii.d. Öffentliche Dienstleistungen, sonstige","Fernwärme","","",null,"","",""]
[69,8,{"$f":"VLOOKUP(B72,'I. Stationäre Energie'!C:E,3,FALSE)","v":"I.2.iii.d."},null,{"$f":"VLOOKUP(B72,'I. Stationäre Energie'!C:G,5,FALSE)","v":"iii.d. Öffentliche Dienstleistungen, sonstige"},"Brennbare Abfälle",{"$f":"IFERROR(GETPIVOTDATA(\"Energie\",EM_Daten_u_Uebersicht!$W$5,\"Ziel-Subsektor\",C72,\"Energieträger\",F72),\"\")","v":""},{"$f":"IFERROR(GETPIVOTDATA(\"Summe von Energieeinsatz [MWh]\",I_Pivot!$G$3,\"ID\",C72,\"EM_Energieträger\",F72),\"\")","v":""},{"$f":"IFERROR(G72*VLOOKUP(F72,EM_Daten_u_Uebersicht!P:Q,2,FALSE),\"\")","v":""},{"$f":"IFERROR(GETPIVOTDATA(\"Summe von THG [t CO2eq]\",I_Pivot!$G$3,\"ID\",C72,\"EM_Energieträger\",F72),\"\")","v":""},"S1",null,null,null,null,null,null,null,null,null,null,null,null,null,null,null,null,null,null,null,"iii.d. Öffentliche Dienstleistungen, sonstige","Biogene Brenn- und Treibstoffe (Brennholz, biogene Brenn- und Treibstoffe)","","",null,"","",0]
[70,8,{"$f":"VLOOKUP(B73,'I. Stationäre Energie'!C:E,3,FALSE)","v":"I.2.iii.d."},null,{"$f":"VLOOKUP(B73,'I. Stationäre Energie'!C:G,5,FALSE)","v":"iii.d. Öffentliche Dienstleistungen, sonstige"},"Umgebungswärme",{"$f":"IFERROR(GETPIVOTDATA(\"Energie\",EM_Daten_u_Uebersicht!$W$5,\"Ziel-Subsektor\",C73,\"Energieträger\",F73),\"\")","v":""},{"$f":"IFERROR(GETPIVOTDATA(\"Summe von Energieeinsatz [MWh]\",I_Pivot!$G$3,\"ID\",C73,\"EM_Energieträger\",F73),\"\")","v":""},{"$f":"IFERROR(G73*VLOOKUP(F73,EM_Daten_u_Uebersicht!P:Q,2,FALSE),\"\")","v":""},{"$f":"IFERROR(GETPIVOTDATA(\"Summe von THG [t CO2eq]\",I_Pivot!$G$3,\"ID\",C73,\"EM_Energieträger\",F73),\"\")","v":""},"S1",null,null,null,null,null,null,null,null,null,null,null,null,null,null,null,null,null,null,null,"iii.d. Öffentliche Dienstleistungen, sonstige","Brennbare Abfälle","","",null,"","",0]
[71,8,{"$f":"VLOOKUP(B74,'I. Stationäre Energie'!C:E,3,FALSE)","v":"I.2.iii.d."},null,{"$f":"VLOOKUP(B74,'I. Stationäre Energie'!C:G,5,FALSE)","v":"iii.d. Öffentliche Dienstleistungen, sonstige"},"CO2-eq Direkteingabe",{"$f":"IFERROR(GETPIVOTDATA(\"Energie\",EM_Daten_u_Uebersicht!$W$5,\"Ziel-Subsektor\",C74,\"Energieträger\",F74),\"\")","v":""},{"$f":"IFERROR(GETPIVOTDATA(\"Summe von Energieeinsatz [MWh]\",I_Pivot!$G$3,\"ID\",C74,\"EM_Energieträger\",F74),\"\")","v":""},{"$f":"IFERROR(G74*VLOOKUP(F74,EM_Daten_u_Uebersicht!P:Q,2,FALSE),\"\")","v":""},{"$f":"IFERROR(GETPIVOTDATA(\"Summe von THG [t CO2eq]\",I_Pivot!$G$3,\"ID\",C74,\"EM_Energieträger\",F74),\"\")","v":""},"S1",null,null,null,null,null,null,null,null,null,null,null,null,null,null,null,null,null,null,null,"iii.d. Öffentliche Dienstleistungen, sonstige","Umgebungswärme","","",null,"","",0]
[72,9,{"$f":"VLOOKUP(B75,'I. Stationäre Energie'!C:E,3,FALSE)","v":"I.2.iv."},null,{"$f":"VLOOKUP(B75,'I. Stationäre Energie'!C:G,5,FALSE)","v":"iv. Straßenbeleuchtung"},"Kohle (Steinkohle, Braunkohle, Koks, Petrolkoks; Gichtgas, Kokereigas, Brenntorf)",{"$f":"IFERROR(GETPIVOTDATA(\"Energie\",EM_Daten_u_Uebersicht!$W$5,\"Ziel-Subsektor\",C75,\"Energieträger\",F75),\"\")","v":""},{"$f":"IFERROR(GETPIVOTDATA(\"Summe von Energieeinsatz [MWh]\",I_Pivot!$G$3,\"ID\",C75,\"EM_Energieträger\",F75),\"\")","v":""},{"$f":"IFERROR(G75*VLOOKUP(F75,EM_Daten_u_Uebersicht!P:Q,2,FALSE),\"\")","v":""},{"$f":"IFERROR(GETPIVOTDATA(\"Summe von THG [t CO2eq]\",I_Pivot!$G$3,\"ID\",C75,\"EM_Energieträger\",F75),\"\")","v":""},"S1",null,null,null,null,null,null,null,null,null,null,null,null,null,null,null,null,null,null,null,"iii.d. Öffentliche Dienstleistungen, sonstige","CO2-eq Direkteingabe","","",null,"","",0]
[73,9,{"$f":"VLOOKUP(B76,'I. Stationäre Energie'!C:E,3,FALSE)","v":"I.2.iv."},null,{"$f":"VLOOKUP(B76,'I. Stationäre Energie'!C:G,5,FALSE)","v":"iv. Straßenbeleuchtung"},"Öl (Heizöl, Gasöl für Heizzwecke, Diesel, Benzin, Petroleum, Flüssiggas)",{"$f":"IFERROR(GETPIVOTDATA(\"Energie\",EM_Daten_u_Uebersicht!$W$5,\"Ziel-Subsektor\",C76,\"Energieträger\",F76),\"\")","v":""},{"$f":"IFERROR(GETPIVOTDATA(\"Summe von Energieeinsatz [MWh]\",I_Pivot!$G$3,\"ID\",C76,\"EM_Energieträger\",F76),\"\")","v":""},{"$f":"IFERROR(G76*VLOOKUP(F76,EM_Daten_u_Uebersicht!P:Q,2,FALSE),\"\")","v":""},{"$f":"IFERROR(GETPIVOTDATA(\"Summe von THG [t CO2eq]\",I_Pivot!$G$3,\"ID\",C76,\"EM_Energieträger\",F76),\"\")","v":""},"S1",null,null,null,null,null,null,null,null,null,null,null,null,null,null,null,null,null,null,null,"iv. Straßenbeleuchtung","Kohle (Steinkohle, Braunkohle, Koks, Petrolkoks; Gichtgas, Kokereigas, Brenntorf)","","",null,"","",0]
[74,9,{"$f":"VLOOKUP(B77,'I. Stationäre Energie'!C:E,3,FALSE)","v":"I.2.iv."},null,{"$f":"VLOOKUP(B77,'I. Stationäre Energie'!C:G,5,FALSE)","v":"iv. Straßenbeleuchtung"},{"$f":"F68","v":"Erdgas"},{"$f":"IFERROR(GETPIVOTDATA(\"Energie\",EM_Daten_u_Uebersicht!$W$5,\"Ziel-Subsektor\",C77,\"Energieträger\",F77),\"\")","v":""},{"$f":"IFERROR(GETPIVOTDATA(\"Summe von Energieeinsatz [MWh]\",I_Pivot!$G$3,\"ID\",C77,\"EM_Energieträger\",F77),\"\")","v":""},{"$f":"IFERROR(G77*VLOOKUP(F77,EM_Daten_u_Uebersicht!P:Q,2,FALSE),\"\")","v":""},{"$f":"IFERROR(GETPIVOTDATA(\"Summe von THG [t CO2eq]\",I_Pivot!$G$3,\"ID\",C77,\"EM_Energieträger\",F77),\"\")","v":""},"S1",null,null,null,null,null,null,null,null,null,null,null,null,null,null,null,null,null,null,null,"iv. Straßenbeleuchtung","Öl (Heizöl, Gasöl für Heizzwecke, Diesel, Benzin, Petroleum, Flüssiggas)","","",null,"","",0]
[75,9,{"$f":"VLOOKUP(B78,'I. Stationäre Energie'!C:E,3,FALSE)","v":"I.2.iv."},null,{"$f":"VLOOKUP(B78,'I. Stationäre Energie'!C:G,5,FALSE)","v":"iv. Straßenbeleuchtung"},"elektrische Energie",{"$f":"IFERROR(GETPIVOTDATA(\"Energie\",EM_Daten_u_Uebersicht!$W$5,\"Ziel-Subsektor\",C78,\"Energieträger\",F78),\"\")","v":""},{"$f":"IFERROR(GETPIVOTDATA(\"Summe von Energieeinsatz [MWh]\",I_Pivot!$G$3,\"ID\",C78,\"EM_Energieträger\",F78),\"\")","v":""},{"$f":"IFERROR(G78*VLOOKUP(F78,EM_Daten_u_Uebersicht!P:Q,2,FALSE),\"\")","v":""},{"$f":"IFERROR(GETPIVOTDATA(\"Summe von THG [t CO2eq]\",I_Pivot!$G$3,\"ID\",C78,\"EM_Energieträger\",F78),\"\")","v":""},"S2",{"$f":"J78/0.94-J78","v":{"$error":"#VALUE!"}},null,null,null,null,null,null,null,null,null,null,null,null,null,null,null,null,null,null,"iv. Straßenbeleuchtung","Erdgas","","",null,"","",0]
[76,9,{"$f":"VLOOKUP(B79,'I. Stationäre Energie'!C:E,3,FALSE)","v":"I.2.iv."},null,{"$f":"VLOOKUP(B79,'I. Stationäre Energie'!C:G,5,FALSE)","v":"iv. Straßenbeleuchtung"},"Fernwärme",{"$f":"IFERROR(GETPIVOTDATA(\"Energie\",EM_Daten_u_Uebersicht!$W$5,\"Ziel-Subsektor\",C79,\"Energieträger\",F79),\"\")","v":""},{"$f":"IFERROR(GETPIVOTDATA(\"Summe von Energieeinsatz [MWh]\",I_Pivot!$G$3,\"ID\",C79,\"EM_Energieträger\",F79),\"\")","v":""},{"$f":"IFERROR(G79*VLOOKUP(F79,EM_Daten_u_Uebersicht!P:Q,2,FALSE),\"\")","v":""},{"$f":"IFERROR(GETPIVOTDATA(\"Summe von THG [t CO2eq]\",I_Pivot!$G$3,\"ID\",C79,\"EM_Energieträger\",F79),\"\")","v":""},"S2",{"$f":"J79/0.86-J79","v":{"$error":"#VALUE!"}},null,null,null,null,null,null,null,null,null,null,null,null,null,null,null,null,null,null,"iv. Straßenbeleuchtung","elektrische Energie","","",null,"","",""]
[77,9,{"$f":"VLOOKUP(B80,'I. Stationäre Energie'!C:E,3,FALSE)","v":"I.2.iv."},null,{"$f":"VLOOKUP(B80,'I. Stationäre Energie'!C:G,5,FALSE)","v":"iv. Straßenbeleuchtung"},"Biogene Brenn- und Treibstoffe (Brennholz, biogene Brenn- und Treibstoffe)",{"$f":"IFERROR(GETPIVOTDATA(\"Energie\",EM_Daten_u_Uebersicht!$W$5,\"Ziel-Subsektor\",C80,\"Energieträger\",F80),\"\")","v":""},{"$f":"IFERROR(GETPIVOTDATA(\"Summe von Energieeinsatz [MWh]\",I_Pivot!$G$3,\"ID\",C80,\"EM_Energieträger\",F80),\"\")","v":""},{"$f":"IFERROR(G80*VLOOKUP(F80,EM_Daten_u_Uebersicht!P:Q,2,FALSE),\"\")","v":""},{"$f":"IFERROR(GETPIVOTDATA(\"Summe von THG [t CO2eq]\",I_Pivot!$G$3,\"ID\",C80,\"EM_Energieträger\",F80),\"\")","v":""},"S1",null,null,null,null,null,null,null,null,null,null,null,null,null,null,null,null,null,null,null,"iv. Straßenbeleuchtung","Fernwärme","","",null,"","",""]
[78,9,{"$f":"VLOOKUP(B81,'I. Stationäre Energie'!C:E,3,FALSE)","v":"I.2.iv."},null,{"$f":"VLOOKUP(B81,'I. Stationäre Energie'!C:G,5,FALSE)","v":"iv. Straßenbeleuchtung"},"Brennbare Abfälle",{"$f":"IFERROR(GETPIVOTDATA(\"Energie\",EM_Daten_u_Uebersicht!$W$5,\"Ziel-Subsektor\",C81,\"Energieträger\",F81),\"\")","v":""},{"$f":"IFERROR(GETPIVOTDATA(\"Summe von Energieeinsatz [MWh]\",I_Pivot!$G$3,\"ID\",C81,\"EM_Energieträger\",F81),\"\")","v":""},{"$f":"IFERROR(G81*VLOOKUP(F81,EM_Daten_u_Uebersicht!P:Q,2,FALSE),\"\")","v":""},{"$f":"IFERROR(GETPIVOTDATA(\"Summe von THG [t CO2eq]\",I_Pivot!$G$3,\"ID\",C81,\"EM_Energieträger\",F81),\"\")","v":""},"S1",null,null,null,null,null,null,null,null,null,null,null,null,null,null,null,null,null,null,null,"iv. Straßenbeleuchtung","Biogene Brenn- und Treibstoffe (Brennholz, biogene Brenn- und Treibstoffe)","","",null,"","",0]
[79,9,{"$f":"VLOOKUP(B82,'I. Stationäre Energie'!C:E,3,FALSE)","v":"I.2.iv."},null,{"$f":"VLOOKUP(B82,'I. Stationäre Energie'!C:G,5,FALSE)","v":"iv. Straßenbeleuchtung"},"Umgebungswärme",{"$f":"IFERROR(GETPIVOTDATA(\"Energie\",EM_Daten_u_Uebersicht!$W$5,\"Ziel-Subsektor\",C82,\"Energieträger\",F82),\"\")","v":""},{"$f":"IFERROR(GETPIVOTDATA(\"Summe von Energieeinsatz [MWh]\",I_Pivot!$G$3,\"ID\",C82,\"EM_Energieträger\",F82),\"\")","v":""},{"$f":"IFERROR(G82*VLOOKUP(F82,EM_Daten_u_Uebersicht!P:Q,2,FALSE),\"\")","v":""},{"$f":"IFERROR(GETPIVOTDATA(\"Summe von THG [t CO2eq]\",I_Pivot!$G$3,\"ID\",C82,\"EM_Energieträger\",F82),\"\")","v":""},"S1",null,null,null,null,null,null,null,null,null,null,null,null,null,null,null,null,null,null,null,"iv. Straßenbeleuchtung","Brennbare Abfälle","","",null,"","",0]
[80,9,{"$f":"VLOOKUP(B83,'I. Stationäre Energie'!C:E,3,FALSE)","v":"I.2.iv."},null,{"$f":"VLOOKUP(B83,'I. Stationäre Energie'!C:G,5,FALSE)","v":"iv. Straßenbeleuchtung"},"CO2-eq Direkteingabe",{"$f":"IFERROR(GETPIVOTDATA(\"Energie\",EM_Daten_u_Uebersicht!$W$5,\"Ziel-Subsektor\",C83,\"Energieträger\",F83),\"\")","v":""},{"$f":"IFERROR(GETPIVOTDATA(\"Summe von Energieeinsatz [MWh]\",I_Pivot!$G$3,\"ID\",C83,\"EM_Energieträger\",F83),\"\")","v":""},{"$f":"IFERROR(G83*VLOOKUP(F83,EM_Daten_u_Uebersicht!P:Q,2,FALSE),\"\")","v":""},{"$f":"IFERROR(GETPIVOTDATA(\"Summe von THG [t CO2eq]\",I_Pivot!$G$3,\"ID\",C83,\"EM_Energieträger\",F83),\"\")","v":""},"S1",null,null,null,null,null,null,null,null,null,null,null,null,null,null,null,null,null,null,null,"iv. Straßenbeleuchtung","Umgebungswärme","","",null,"","",0]
[81,10,{"$f":"VLOOKUP(B84,'I. Stationäre Energie'!C:E,3,FALSE)","v":"I.3. ."},null,{"$f":"VLOOKUP(B84,'I. Stationäre Energie'!C:G,5,FALSE)","v":"3. Erzeugendes/produzierendes Gewerbe"},"Kohle (Steinkohle, Braunkohle, Koks, Petrolkoks; Gichtgas, Kokereigas, Brenntorf)",{"$f":"IFERROR(GETPIVOTDATA(\"Energie\",EM_Daten_u_Uebersicht!$W$5,\"Ziel-Subsektor\",C84,\"Energieträger\",F84),\"\")","v":""},{"$f":"IFERROR(GETPIVOTDATA(\"Summe von Energieeinsatz [MWh]\",I_Pivot!$G$3,\"ID\",C84,\"EM_Energieträger\",F84),\"\")","v":""},{"$f":"IFERROR(G84*VLOOKUP(F84,EM_Daten_u_Uebersicht!P:Q,2,FALSE),\"\")","v":""},{"$f":"IFERROR(GETPIVOTDATA(\"Summe von THG [t CO2eq]\",I_Pivot!$G$3,\"ID\",C84,\"EM_Energieträger\",F84),\"\")","v":""},"S1",null,null,null,null,null,null,null,null,null,null,null,null,null,null,null,null,null,null,null,"iv. Straßenbeleuchtung","CO2-eq Direkteingabe","","",null,"","",0]
[82,10,{"$f":"VLOOKUP(B85,'I. Stationäre Energie'!C:E,3,FALSE)","v":"I.3. ."},null,{"$f":"VLOOKUP(B85,'I. Stationäre Energie'!C:G,5,FALSE)","v":"3. Erzeugendes/produzierendes Gewerbe"},"Öl (Heizöl, Gasöl für Heizzwecke, Diesel, Benzin, Petroleum, Flüssiggas)",{"$f":"IFERROR(GETPIVOTDATA(\"Energie\",EM_Daten_u_Uebersicht!$W$5,\"Ziel-Subsektor\",C85,\"Energieträger\",F85),\"\")","v":""},{"$f":"IFERROR(GETPIVOTDATA(\"Summe von Energieeinsatz [MWh]\",I_Pivot!$G$3,\"ID\",C85,\"EM_Energieträger\",F85),\"\")","v":""},{"$f":"IFERROR(G85*VLOOKUP(F85,EM_Daten_u_Uebersicht!P:Q,2,FALSE),\"\")","v":""},{"$f":"IFERROR(GETPIVOTDATA(\"Summe von THG [t CO2eq]\",I_Pivot!$G$3,\"ID\",C85,\"EM_Energieträger\",F85),\"\")","v":""},"S1",null,null,null,null,null,null,null,null,null,null,null,null,null,null,null,null,null,null,null,"3. Erzeugendes/produzierendes Gewerbe","Kohle (Steinkohle, Braunkohle, Koks, Petrolkoks; Gichtgas, Kokereigas, Brenntorf)","","",null,"","",0]
[83,10,{"$f":"VLOOKUP(B86,'I. Stationäre Energie'!C:E,3,FALSE)","v":"I.3. ."},null,{"$f":"VLOOKUP(B86,'I. Stationäre Energie'!C:G,5,FALSE)","v":"3. Erzeugendes/produzierendes Gewerbe"},"Erdgas",{"$f":"IFERROR(GETPIVOTDATA(\"Energie\",EM_Daten_u_Uebersicht!$W$5,\"Ziel-Subsektor\",C86,\"Energieträger\",F86),\"\")","v":""},{"$f":"IFERROR(GETPIVOTDATA(\"Summe von Energieeinsatz [MWh]\",I_Pivot!$G$3,\"ID\",C86,\"EM_Energieträger\",F86),\"\")","v":""},{"$f":"IFERROR(G86*VLOOKUP(F86,EM_Daten_u_Uebersicht!P:Q,2,FALSE),\"\")","v":""},{"$f":"IFERROR(GETPIVOTDATA(\"Summe von THG [t CO2eq]\",I_Pivot!$G$3,\"ID\",C86,\"EM_Energieträger\",F86),\"\")","v":""},"S1",null,null,null,null,null,null,null,null,null,null,null,null,null,null,null,null,null,null,null,"3. Erzeugendes/produzierendes Gewerbe","Öl (Heizöl, Gasöl für Heizzwecke, Diesel, Benzin, Petroleum, Flüssiggas)","","",null,"","",0]
[84,10,{"$f":"VLOOKUP(B87,'I. Stationäre Energie'!C:E,3,FALSE)","v":"I.3. ."},null,{"$f":"VLOOKUP(B87,'I. Stationäre Energie'!C:G,5,FALSE)","v":"3. Erzeugendes/produzierendes Gewerbe"},"elektrische Energie",{"$f":"IFERROR(GETPIVOTDATA(\"Energie\",EM_Daten_u_Uebersicht!$W$5,\"Ziel-Subsektor\",C87,\"Energieträger\",F87),\"\")","v":""},{"$f":"IFERROR(GETPIVOTDATA(\"Summe von Energieeinsatz [MWh]\",I_Pivot!$G$3,\"ID\",C87,\"EM_Energieträger\",F87),\"\")","v":""},{"$f":"IFERROR(G87*VLOOKUP(F87,EM_Daten_u_Uebersicht!P:Q,2,FALSE),\"\")","v":""},{"$f":"IFERROR(GETPIVOTDATA(\"Summe von THG [t CO2eq]\",I_Pivot!$G$3,\"ID\",C87,\"EM_Energieträger\",F87),\"\")","v":""},"S2",{"$f":"J87/0.94-J87","v":{"$error":"#VALUE!"}},null,null,null,null,null,null,null,null,null,null,null,null,null,null,null,null,null,null,"3. Erzeugendes/produzierendes Gewerbe","Erdgas","","",null,"","",0]
[85,10,{"$f":"VLOOKUP(B88,'I. Stationäre Energie'!C:E,3,FALSE)","v":"I.3. ."},null,{"$f":"VLOOKUP(B88,'I. Stationäre Energie'!C:G,5,FALSE)","v":"3. Erzeugendes/produzierendes Gewerbe"},"Fernwärme",{"$f":"IFERROR(GETPIVOTDATA(\"Energie\",EM_Daten_u_Uebersicht!$W$5,\"Ziel-Subsektor\",C88,\"Energieträger\",F88),\"\")","v":""},{"$f":"IFERROR(GETPIVOTDATA(\"Summe von Energieeinsatz [MWh]\",I_Pivot!$G$3,\"ID\",C88,\"EM_Energieträger\",F88),\"\")","v":""},{"$f":"IFERROR(G88*VLOOKUP(F88,EM_Daten_u_Uebersicht!P:Q,2,FALSE),\"\")","v":""},{"$f":"IFERROR(GETPIVOTDATA(\"Summe von THG [t CO2eq]\",I_Pivot!$G$3,\"ID\",C88,\"EM_Energieträger\",F88),\"\")","v":""},"S2",{"$f":"J88/0.86-J88","v":{"$error":"#VALUE!"}},null,null,null,null,null,null,null,null,null,null,null,null,null,null,null,null,null,null,"3. Erzeugendes/produzierendes Gewerbe","elektrische Energie","","",null,"","",""]
[86,10,{"$f":"VLOOKUP(B89,'I. Stationäre Energie'!C:E,3,FALSE)","v":"I.3. ."},null,{"$f":"VLOOKUP(B89,'I. Stationäre Energie'!C:G,5,FALSE)","v":"3. Erzeugendes/produzierendes Gewerbe"},"Biogene Brenn- und Treibstoffe (Brennholz, biogene Brenn- und Treibstoffe)",{"$f":"IFERROR(GETPIVOTDATA(\"Energie\",EM_Daten_u_Uebersicht!$W$5,\"Ziel-Subsektor\",C89,\"Energieträger\",F89),\"\")","v":""},{"$f":"IFERROR(GETPIVOTDATA(\"Summe von Energieeinsatz [MWh]\",I_Pivot!$G$3,\"ID\",C89,\"EM_Energieträger\",F89),\"\")","v":""},{"$f":"IFERROR(G89*VLOOKUP(F89,EM_Daten_u_Uebersicht!P:Q,2,FALSE),\"\")","v":""},{"$f":"IFERROR(GETPIVOTDATA(\"Summe von THG [t CO2eq]\",I_Pivot!$G$3,\"ID\",C89,\"EM_Energieträger\",F89),\"\")","v":""},"S1",null,null,null,null,null,null,null,null,null,null,null,null,null,null,null,null,null,null,null,"3. Erzeugendes/produzierendes Gewerbe","Fernwärme","","",null,"","",""]
[87,10,{"$f":"VLOOKUP(B90,'I. Stationäre Energie'!C:E,3,FALSE)","v":"I.3. ."},null,{"$f":"VLOOKUP(B90,'I. Stationäre Energie'!C:G,5,FALSE)","v":"3. Erzeugendes/produzierendes Gewerbe"},"Brennbare Abfälle",{"$f":"IFERROR(GETPIVOTDATA(\"Energie\",EM_Daten_u_Uebersicht!$W$5,\"Ziel-Subsektor\",C90,\"Energieträger\",F90),\"\")","v":""},{"$f":"IFERROR(GETPIVOTDATA(\"Summe von Energieeinsatz [MWh]\",I_Pivot!$G$3,\"ID\",C90,\"EM_Energieträger\",F90),\"\")","v":""},{"$f":"IFERROR(G90*VLOOKUP(F90,EM_Daten_u_Uebersicht!P:Q,2,FALSE),\"\")","v":""},{"$f":"IFERROR(GETPIVOTDATA(\"Summe von THG [t CO2eq]\",I_Pivot!$G$3,\"ID\",C90,\"EM_Energieträger\",F90),\"\")","v":""},"S1",null,null,null,null,null,null,null,null,null,null,null,null,null,null,null,null,null,null,null,"3. Erzeugendes/produzierendes Gewerbe","Biogene Brenn- und Treibstoffe (Brennholz, biogene Brenn- und Treibstoffe)","","",null,"","",0]
[88,10,{"$f":"VLOOKUP(B91,'I. Stationäre Energie'!C:E,3,FALSE)","v":"I.3. ."},null,{"$f":"VLOOKUP(B91,'I. Stationäre Energie'!C:G,5,FALSE)","v":"3. Erzeugendes/produzierendes Gewerbe"},"Umgebungswärme",{"$f":"IFERROR(GETPIVOTDATA(\"Energie\",EM_Daten_u_Uebersicht!$W$5,\"Ziel-Subsektor\",C91,\"Energieträger\",F91),\"\")","v":""},{"$f":"IFERROR(GETPIVOTDATA(\"Summe von Energieeinsatz [MWh]\",I_Pivot!$G$3,\"ID\",C91,\"EM_Energieträger\",F91),\"\")","v":""},{"$f":"IFERROR(G91*VLOOKUP(F91,EM_Daten_u_Uebersicht!P:Q,2,FALSE),\"\")","v":""},{"$f":"IFERROR(GETPIVOTDATA(\"Summe von THG [t CO2eq]\",I_Pivot!$G$3,\"ID\",C91,\"EM_Energieträger\",F91),\"\")","v":""},"S1",null,null,null,null,null,null,null,null,null,null,null,null,null,null,null,null,null,null,null,"3. Erzeugendes/produzierendes Gewerbe","Brennbare Abfälle","","",null,"","",0]
[89,10,{"$f":"VLOOKUP(B92,'I. Stationäre Energie'!C:E,3,FALSE)","v":"I.3. ."},null,{"$f":"VLOOKUP(B92,'I. Stationäre Energie'!C:G,5,FALSE)","v":"3. Erzeugendes/produzierendes Gewerbe"},"CO2-eq Direkteingabe",{"$f":"IFERROR(GETPIVOTDATA(\"Energie\",EM_Daten_u_Uebersicht!$W$5,\"Ziel-Subsektor\",C92,\"Energieträger\",F92),\"\")","v":""},{"$f":"IFERROR(GETPIVOTDATA(\"Summe von Energieeinsatz [MWh]\",I_Pivot!$G$3,\"ID\",C92,\"EM_Energieträger\",F92),\"\")","v":""},{"$f":"IFERROR(G92*VLOOKUP(F92,EM_Daten_u_Uebersicht!P:Q,2,FALSE),\"\")","v":""},{"$f":"IFERROR(GETPIVOTDATA(\"Summe von THG [t CO2eq]\",I_Pivot!$G$3,\"ID\",C92,\"EM_Energieträger\",F92),\"\")","v":""},"S1",null,null,null,null,null,null,null,null,null,null,null,null,null,null,null,null,null,null,null,"3. Erzeugendes/produzierendes Gewerbe","Umgebungswärme","","",null,"","",0]
[90,11,{"$f":"VLOOKUP(B93,'I. Stationäre Energie'!C:E,3,FALSE)","v":"I.3.ETS."},null,{"$f":"VLOOKUP(B93,'I. Stationäre Energie'!C:G,5,FALSE)","v":"ETS-Emissionen"},"Kohle (Steinkohle, Braunkohle, Koks, Petrolkoks; Gichtgas, Kokereigas, Brenntorf)",{"$f":"IFERROR(GETPIVOTDATA(\"Energie\",EM_Daten_u_Uebersicht!$W$5,\"Ziel-Subsektor\",C93,\"Energieträger\",F93),\"\")","v":""},{"$f":"IFERROR(GETPIVOTDATA(\"Summe von Energieeinsatz [MWh]\",I_Pivot!$G$3,\"ID\",C93,\"EM_Energieträger\",F93),\"\")","v":""},{"$f":"IFERROR(G93*VLOOKUP(F93,EM_Daten_u_Uebersicht!P:Q,2,FALSE),\"\")","v":""},{"$f":"IFERROR(GETPIVOTDATA(\"Summe von THG [t CO2eq]\",I_Pivot!$G$3,\"ID\",C93,\"EM_Energieträger\",F93),\"\")","v":""},"S1",null,null,null,null,null,null,null,null,null,null,null,null,null,null,null,null,null,null,null,"3. Erzeugendes/produzierendes Gewerbe","CO2-eq Direkteingabe","","",null,"","",0]
[91,11,{"$f":"VLOOKUP(B94,'I. Stationäre Energie'!C:E,3,FALSE)","v":"I.3.ETS."},null,{"$f":"VLOOKUP(B94,'I. Stationäre Energie'!C:G,5,FALSE)","v":"ETS-Emissionen"},"Öl (Heizöl, Gasöl für Heizzwecke, Diesel, Benzin, Petroleum, Flüssiggas)",{"$f":"IFERROR(GETPIVOTDATA(\"Energie\",EM_Daten_u_Uebersicht!$W$5,\"Ziel-Subsektor\",C94,\"Energieträger\",F94),\"\")","v":""},{"$f":"IFERROR(GETPIVOTDATA(\"Summe von Energieeinsatz [MWh]\",I_Pivot!$G$3,\"ID\",C94,\"EM_Energieträger\",F94),\"\")","v":""},{"$f":"IFERROR(G94*VLOOKUP(F94,EM_Daten_u_Uebersicht!P:Q,2,FALSE),\"\")","v":""},{"$f":"IFERROR(GETPIVOTDATA(\"Summe von THG [t CO2eq]\",I_Pivot!$G$3,\"ID\",C94,\"EM_Energieträger\",F94),\"\")","v":""},"S1",null,null,null,null,null,null,null,null,null,null,null,null,null,null,null,null,null,null,null,"ETS-Emissionen","Kohle (Steinkohle, Braunkohle, Koks, Petrolkoks; Gichtgas, Kokereigas, Brenntorf)","","",null,"","",0]
[92,11,{"$f":"VLOOKUP(B95,'I. Stationäre Energie'!C:E,3,FALSE)","v":"I.3.ETS."},null,{"$f":"VLOOKUP(B95,'I. Stationäre Energie'!C:G,5,FALSE)","v":"ETS-Emissionen"},"Erdgas",{"$f":"IFERROR(GETPIVOTDATA(\"Energie\",EM_Daten_u_Uebersicht!$W$5,\"Ziel-Subsektor\",C95,\"Energieträger\",F95),\"\")","v":""},{"$f":"IFERROR(GETPIVOTDATA(\"Summe von Energieeinsatz [MWh]\",I_Pivot!$G$3,\"ID\",C95,\"EM_Energieträger\",F95),\"\")","v":""},{"$f":"IFERROR(G95*VLOOKUP(F95,EM_Daten_u_Uebersicht!P:Q,2,FALSE),\"\")","v":""},{"$f":"IFERROR(GETPIVOTDATA(\"Summe von THG [t CO2eq]\",I_Pivot!$G$3,\"ID\",C95,\"EM_Energieträger\",F95),\"\")","v":""},"S1",null,null,null,null,null,null,null,null,null,null,null,null,null,null,null,null,null,null,null,"ETS-Emissionen","Öl (Heizöl, Gasöl für Heizzwecke, Diesel, Benzin, Petroleum, Flüssiggas)","","",null,"","",0]
[93,11,{"$f":"VLOOKUP(B96,'I. Stationäre Energie'!C:E,3,FALSE)","v":"I.3.ETS."},null,{"$f":"VLOOKUP(B96,'I. Stationäre Energie'!C:G,5,FALSE)","v":"ETS-Emissionen"},"elektrische Energie",{"$f":"IFERROR(GETPIVOTDATA(\"Energie\",EM_Daten_u_Uebersicht!$W$5,\"Ziel-Subsektor\",C96,\"Energieträger\",F96),\"\")","v":""},{"$f":"IFERROR(GETPIVOTDATA(\"Summe von Energieeinsatz [MWh]\",I_Pivot!$G$3,\"ID\",C96,\"EM_Energieträger\",F96),\"\")","v":""},{"$f":"IFERROR(G96*VLOOKUP(F96,EM_Daten_u_Uebersicht!P:Q,2,FALSE),\"\")","v":""},{"$f":"IFERROR(GETPIVOTDATA(\"Summe von THG [t CO2eq]\",I_Pivot!$G$3,\"ID\",C96,\"EM_Energieträger\",F96),\"\")","v":""},"S2",{"$f":"J96/0.94-J96","v":{"$error":"#VALUE!"}},null,null,null,null,null,null,null,null,null,null,null,null,null,null,null,null,null,null,"ETS-Emissionen","Erdgas","","",null,"","",0]
[94,11,{"$f":"VLOOKUP(B97,'I. Stationäre Energie'!C:E,3,FALSE)","v":"I.3.ETS."},null,{"$f":"VLOOKUP(B97,'I. Stationäre Energie'!C:G,5,FALSE)","v":"ETS-Emissionen"},"Fernwärme",{"$f":"IFERROR(GETPIVOTDATA(\"Energie\",EM_Daten_u_Uebersicht!$W$5,\"Ziel-Subsektor\",C97,\"Energieträger\",F97),\"\")","v":""},{"$f":"IFERROR(GETPIVOTDATA(\"Summe von Energieeinsatz [MWh]\",I_Pivot!$G$3,\"ID\",C97,\"EM_Energieträger\",F97),\"\")","v":""},{"$f":"IFERROR(G97*VLOOKUP(F97,EM_Daten_u_Uebersicht!P:Q,2,FALSE),\"\")","v":""},{"$f":"IFERROR(GETPIVOTDATA(\"Summe von THG [t CO2eq]\",I_Pivot!$G$3,\"ID\",C97,\"EM_Energieträger\",F97),\"\")","v":""},"S2",{"$f":"J97/0.86-J97","v":{"$error":"#VALUE!"}},null,null,null,null,null,null,null,null,null,null,null,null,null,null,null,null,null,null,"ETS-Emissionen","elektrische Energie","","",null,"","",""]
[95,11,{"$f":"VLOOKUP(B98,'I. Stationäre Energie'!C:E,3,FALSE)","v":"I.3.ETS."},null,{"$f":"VLOOKUP(B98,'I. Stationäre Energie'!C:G,5,FALSE)","v":"ETS-Emissionen"},"Biogene Brenn- und Treibstoffe (Brennholz, biogene Brenn- und Treibstoffe)",{"$f":"IFERROR(GETPIVOTDATA(\"Energie\",EM_Daten_u_Uebersicht!$W$5,\"Ziel-Subsektor\",C98,\"Energieträger\",F98),\"\")","v":""},{"$f":"IFERROR(GETPIVOTDATA(\"Summe von Energieeinsatz [MWh]\",I_Pivot!$G$3,\"ID\",C98,\"EM_Energieträger\",F98),\"\")","v":""},{"$f":"IFERROR(G98*VLOOKUP(F98,EM_Daten_u_Uebersicht!P:Q,2,FALSE),\"\")","v":""},{"$f":"IFERROR(GETPIVOTDATA(\"Summe von THG [t CO2eq]\",I_Pivot!$G$3,\"ID\",C98,\"EM_Energieträger\",F98),\"\")","v":""},"S1",null,null,null,null,null,null,null,null,null,null,null,null,null,null,null,null,null,null,null,"ETS-Emissionen","Fernwärme","","",null,"","",""]
[96,11,{"$f":"VLOOKUP(B99,'I. Stationäre Energie'!C:E,3,FALSE)","v":"I.3.ETS."},null,{"$f":"VLOOKUP(B99,'I. Stationäre Energie'!C:G,5,FALSE)","v":"ETS-Emissionen"},"Brennbare Abfälle",{"$f":"IFERROR(GETPIVOTDATA(\"Energie\",EM_Daten_u_Uebersicht!$W$5,\"Ziel-Subsektor\",C99,\"Energieträger\",F99),\"\")","v":""},{"$f":"IFERROR(GETPIVOTDATA(\"Summe von Energieeinsatz [MWh]\",I_Pivot!$G$3,\"ID\",C99,\"EM_Energieträger\",F99),\"\")","v":""},{"$f":"IFERROR(G99*VLOOKUP(F99,EM_Daten_u_Uebersicht!P:Q,2,FALSE),\"\")","v":""},{"$f":"IFERROR(GETPIVOTDATA(\"Summe von THG [t CO2eq]\",I_Pivot!$G$3,\"ID\",C99,\"EM_Energieträger\",F99),\"\")","v":""},"S1",null,null,null,null,null,null,null,null,null,null,null,null,null,null,null,null,null,null,null,"ETS-Emissionen","Biogene Brenn- und Treibstoffe (Brennholz, biogene Brenn- und Treibstoffe)","","",null,"","",0]
[97,11,{"$f":"VLOOKUP(B100,'I. Stationäre Energie'!C:E,3,FALSE)","v":"I.3.ETS."},null,{"$f":"VLOOKUP(B100,'I. Stationäre Energie'!C:G,5,FALSE)","v":"ETS-Emissionen"},"Umgebungswärme",{"$f":"IFERROR(GETPIVOTDATA(\"Energie\",EM_Daten_u_Uebersicht!$W$5,\"Ziel-Subsektor\",C100,\"Energieträger\",F100),\"\")","v":""},{"$f":"IFERROR(GETPIVOTDATA(\"Summe von Energieeinsatz [MWh]\",I_Pivot!$G$3,\"ID\",C100,\"EM_Energieträger\",F100),\"\")","v":""},{"$f":"IFERROR(G100*VLOOKUP(F100,EM_Daten_u_Uebersicht!P:Q,2,FALSE),\"\")","v":""},{"$f":"IFERROR(GETPIVOTDATA(\"Summe von THG [t CO2eq]\",I_Pivot!$G$3,\"ID\",C100,\"EM_Energieträger\",F100),\"\")","v":""},"S1",null,null,null,null,null,null,null,null,null,null,null,null,null,null,null,null,null,null,null,"ETS-Emissionen","Brennbare Abfälle","","",null,"","",0]
[98,11,{"$f":"VLOOKUP(B101,'I. Stationäre Energie'!C:E,3,FALSE)","v":"I.3.ETS."},null,{"$f":"VLOOKUP(B101,'I. Stationäre Energie'!C:G,5,FALSE)","v":"ETS-Emissionen"},"CO2-eq Direkteingabe",{"$f":"IFERROR(GETPIVOTDATA(\"Energie\",EM_Daten_u_Uebersicht!$W$5,\"Ziel-Subsektor\",C101,\"Energieträger\",F101),\"\")","v":""},{"$f":"IFERROR(GETPIVOTDATA(\"Summe von Energieeinsatz [MWh]\",I_Pivot!$G$3,\"ID\",C101,\"EM_Energieträger\",F101),\"\")","v":0},{"$f":"IFERROR(G101*VLOOKUP(F101,EM_Daten_u_Uebersicht!P:Q,2,FALSE),\"\")","v":""},{"$f":"IFERROR(GETPIVOTDATA(\"Summe von THG [t CO2eq]\",I_Pivot!$G$3,\"ID\",C101,\"EM_Energieträger\",F101),\"\")","v":0},"S1",null,null,null,null,null,null,null,null,null,null,null,null,null,null,null,null,null,null,null,"ETS-Emissionen","Umgebungswärme","","",null,"","",0]
[99,12,{"$f":"VLOOKUP(B102,'I. Stationäre Energie'!C:E,3,FALSE)","v":"I.3.i."},null,{"$f":"VLOOKUP(B102,'I. Stationäre Energie'!C:G,5,FALSE)","v":"i. Eisen- und Stahlerzeugung "},"Kohle (Steinkohle, Braunkohle, Koks, Petrolkoks; Gichtgas, Kokereigas, Brenntorf)",{"$f":"IFERROR(GETPIVOTDATA(\"Energie\",EM_Daten_u_Uebersicht!$W$5,\"Ziel-Subsektor\",C102,\"Energieträger\",F102),\"\")","v":""},{"$f":"IFERROR(GETPIVOTDATA(\"Summe von Energieeinsatz [MWh]\",I_Pivot!$G$3,\"ID\",C102,\"EM_Energieträger\",F102),\"\")","v":""},{"$f":"IFERROR(G102*VLOOKUP(F102,EM_Daten_u_Uebersicht!P:Q,2,FALSE),\"\")","v":""},{"$f":"IFERROR(GETPIVOTDATA(\"Summe von THG [t CO2eq]\",I_Pivot!$G$3,\"ID\",C102,\"EM_Energieträger\",F102),\"\")","v":""},"S1",null,null,null,null,null,null,null,null,null,null,null,null,null,null,null,null,null,null,null,"ETS-Emissionen","CO2-eq Direkteingabe",0,0,null,0,"",0]
[100,12,{"$f":"VLOOKUP(B103,'I. Stationäre Energie'!C:E,3,FALSE)","v":"I.3.i."},null,{"$f":"VLOOKUP(B103,'I. Stationäre Energie'!C:G,5,FALSE)","v":"i. Eisen- und Stahlerzeugung "},"Öl (Heizöl, Gasöl für Heizzwecke, Diesel, Benzin, Petroleum, Flüssiggas)",{"$f":"IFERROR(GETPIVOTDATA(\"Energie\",EM_Daten_u_Uebersicht!$W$5,\"Ziel-Subsektor\",C103,\"Energieträger\",F103),\"\")","v":""},{"$f":"IFERROR(GETPIVOTDATA(\"Summe von Energieeinsatz [MWh]\",I_Pivot!$G$3,\"ID\",C103,\"EM_Energieträger\",F103),\"\")","v":""},{"$f":"IFERROR(G103*VLOOKUP(F103,EM_Daten_u_Uebersicht!P:Q,2,FALSE),\"\")","v":""},{"$f":"IFERROR(GETPIVOTDATA(\"Summe von THG [t CO2eq]\",I_Pivot!$G$3,\"ID\",C103,\"EM_Energieträger\",F103),\"\")","v":""},"S1",null,null,null,null,null,null,null,null,null,null,null,null,null,null,null,null,null,null,null,"i. Eisen- und Stahlerzeugung ","Kohle (Steinkohle, Braunkohle, Koks, Petrolkoks; Gichtgas, Kokereigas, Brenntorf)","","",null,"","",0]
[101,12,{"$f":"VLOOKUP(B104,'I. Stationäre Energie'!C:E,3,FALSE)","v":"I.3.i."},null,{"$f":"VLOOKUP(B104,'I. Stationäre Energie'!C:G,5,FALSE)","v":"i. Eisen- und Stahlerzeugung "},"Erdgas",{"$f":"IFERROR(GETPIVOTDATA(\"Energie\",EM_Daten_u_Uebersicht!$W$5,\"Ziel-Subsektor\",C104,\"Energieträger\",F104),\"\")","v":""},{"$f":"IFERROR(GETPIVOTDATA(\"Summe von Energieeinsatz [MWh]\",I_Pivot!$G$3,\"ID\",C104,\"EM_Energieträger\",F104),\"\")","v":""},{"$f":"IFERROR(G104*VLOOKUP(F104,EM_Daten_u_Uebersicht!P:Q,2,FALSE),\"\")","v":""},{"$f":"IFERROR(GETPIVOTDATA(\"Summe von THG [t CO2eq]\",I_Pivot!$G$3,\"ID\",C104,\"EM_Energieträger\",F104),\"\")","v":""},"S1",null,null,null,null,null,null,null,null,null,null,null,null,null,null,null,null,null,null,null,"i. Eisen- und Stahlerzeugung ","Öl (Heizöl, Gasöl für Heizzwecke, Diesel, Benzin, Petroleum, Flüssiggas)","","",null,"","",0]
[102,12,{"$f":"VLOOKUP(B105,'I. Stationäre Energie'!C:E,3,FALSE)","v":"I.3.i."},null,{"$f":"VLOOKUP(B105,'I. Stationäre Energie'!C:G,5,FALSE)","v":"i. Eisen- und Stahlerzeugung "},"elektrische Energie",{"$f":"IFERROR(GETPIVOTDATA(\"Energie\",EM_Daten_u_Uebersicht!$W$5,\"Ziel-Subsektor\",C105,\"Energieträger\",F105),\"\")","v":""},{"$f":"IFERROR(GETPIVOTDATA(\"Summe von Energieeinsatz [MWh]\",I_Pivot!$G$3,\"ID\",C105,\"EM_Energieträger\",F105),\"\")","v":""},{"$f":"IFERROR(G105*VLOOKUP(F105,EM_Daten_u_Uebersicht!P:Q,2,FALSE),\"\")","v":""},{"$f":"IFERROR(GETPIVOTDATA(\"Summe von THG [t CO2eq]\",I_Pivot!$G$3,\"ID\",C105,\"EM_Energieträger\",F105),\"\")","v":""},"S2",{"$f":"J105/0.94-J105","v":{"$error":"#VALUE!"}},null,null,null,null,null,null,null,null,null,null,null,null,null,null,null,null,null,null,"i. Eisen- und Stahlerzeugung ","Erdgas","","",null,"","",0]
[103,12,{"$f":"VLOOKUP(B106,'I. Stationäre Energie'!C:E,3,FALSE)","v":"I.3.i."},null,{"$f":"VLOOKUP(B106,'I. Stationäre Energie'!C:G,5,FALSE)","v":"i. Eisen- und Stahlerzeugung "},"Fernwärme",{"$f":"IFERROR(GETPIVOTDATA(\"Energie\",EM_Daten_u_Uebersicht!$W$5,\"Ziel-Subsektor\",C106,\"Energieträger\",F106),\"\")","v":""},{"$f":"IFERROR(GETPIVOTDATA(\"Summe von Energieeinsatz [MWh]\",I_Pivot!$G$3,\"ID\",C106,\"EM_Energieträger\",F106),\"\")","v":""},{"$f":"IFERROR(G106*VLOOKUP(F106,EM_Daten_u_Uebersicht!P:Q,2,FALSE),\"\")","v":""},{"$f":"IFERROR(GETPIVOTDATA(\"Summe von THG [t CO2eq]\",I_Pivot!$G$3,\"ID\",C106,\"EM_Energieträger\",F106),\"\")","v":""},"S2",{"$f":"J106/0.86-J106","v":{"$error":"#VALUE!"}},null,null,null,null,null,null,null,null,null,null,null,null,null,null,null,null,null,null,"i. Eisen- und Stahlerzeugung ","elektrische Energie","","",null,"","",""]
[104,12,{"$f":"VLOOKUP(B107,'I. Stationäre Energie'!C:E,3,FALSE)","v":"I.3.i."},null,{"$f":"VLOOKUP(B107,'I. Stationäre Energie'!C:G,5,FALSE)","v":"i. Eisen- und Stahlerzeugung "},"Biogene Brenn- und Treibstoffe (Brennholz, biogene Brenn- und Treibstoffe)",{"$f":"IFERROR(GETPIVOTDATA(\"Energie\",EM_Daten_u_Uebersicht!$W$5,\"Ziel-Subsektor\",C107,\"Energieträger\",F107),\"\")","v":""},{"$f":"IFERROR(GETPIVOTDATA(\"Summe von Energieeinsatz [MWh]\",I_Pivot!$G$3,\"ID\",C107,\"EM_Energieträger\",F107),\"\")","v":""},{"$f":"IFERROR(G107*VLOOKUP(F107,EM_Daten_u_Uebersicht!P:Q,2,FALSE),\"\")","v":""},{"$f":"IFERROR(GETPIVOTDATA(\"Summe von THG [t CO2eq]\",I_Pivot!$G$3,\"ID\",C107,\"EM_Energieträger\",F107),\"\")","v":""},"S1",null,null,null,null,null,null,null,null,null,null,null,null,null,null,null,null,null,null,null,"i. Eisen- und Stahlerzeugung ","Fernwärme","","",null,"","",""]
[105,12,{"$f":"VLOOKUP(B108,'I. Stationäre Energie'!C:E,3,FALSE)","v":"I.3.i."},null,{"$f":"VLOOKUP(B108,'I. Stationäre Energie'!C:G,5,FALSE)","v":"i. Eisen- und Stahlerzeugung "},"Brennbare Abfälle",{"$f":"IFERROR(GETPIVOTDATA(\"Energie\",EM_Daten_u_Uebersicht!$W$5,\"Ziel-Subsektor\",C108,\"Energieträger\",F108),\"\")","v":""},{"$f":"IFERROR(GETPIVOTDATA(\"Summe von Energieeinsatz [MWh]\",I_Pivot!$G$3,\"ID\",C108,\"EM_Energieträger\",F108),\"\")","v":""},{"$f":"IFERROR(G108*VLOOKUP(F108,EM_Daten_u_Uebersicht!P:Q,2,FALSE),\"\")","v":""},{"$f":"IFERROR(GETPIVOTDATA(\"Summe von THG [t CO2eq]\",I_Pivot!$G$3,\"ID\",C108,\"EM_Energieträger\",F108),\"\")","v":""},"S1",null,null,null,null,null,null,null,null,null,null,null,null,null,null,null,null,null,null,null,"i. Eisen- und Stahlerzeugung ","Biogene Brenn- und Treibstoffe (Brennholz, biogene Brenn- und Treibstoffe)","","",null,"","",0]
[106,12,{"$f":"VLOOKUP(B109,'I. Stationäre Energie'!C:E,3,FALSE)","v":"I.3.i."},null,{"$f":"VLOOKUP(B109,'I. Stationäre Energie'!C:G,5,FALSE)","v":"i. Eisen- und Stahlerzeugung "},"Umgebungswärme",{"$f":"IFERROR(GETPIVOTDATA(\"Energie\",EM_Daten_u_Uebersicht!$W$5,\"Ziel-Subsektor\",C109,\"Energieträger\",F109),\"\")","v":""},{"$f":"IFERROR(GETPIVOTDATA(\"Summe von Energieeinsatz [MWh]\",I_Pivot!$G$3,\"ID\",C109,\"EM_Energieträger\",F109),\"\")","v":""},{"$f":"IFERROR(G109*VLOOKUP(F109,EM_Daten_u_Uebersicht!P:Q,2,FALSE),\"\")","v":""},{"$f":"IFERROR(GETPIVOTDATA(\"Summe von THG [t CO2eq]\",I_Pivot!$G$3,\"ID\",C109,\"EM_Energieträger\",F109),\"\")","v":""},"S1",null,null,null,null,null,null,null,null,null,null,null,null,null,null,null,null,null,null,null,"i. Eisen- und Stahlerzeugung ","Brennbare Abfälle","","",null,"","",0]
[107,12,{"$f":"VLOOKUP(B110,'I. Stationäre Energie'!C:E,3,FALSE)","v":"I.3.i."},null,{"$f":"VLOOKUP(B110,'I. Stationäre Energie'!C:G,5,FALSE)","v":"i. Eisen- und Stahlerzeugung "},"CO2-eq Direkteingabe",{"$f":"IFERROR(GETPIVOTDATA(\"Energie\",EM_Daten_u_Uebersicht!$W$5,\"Ziel-Subsektor\",C110,\"Energieträger\",F110),\"\")","v":""},{"$f":"IFERROR(GETPIVOTDATA(\"Summe von Energieeinsatz [MWh]\",I_Pivot!$G$3,\"ID\",C110,\"EM_Energieträger\",F110),\"\")","v":""},{"$f":"IFERROR(G110*VLOOKUP(F110,EM_Daten_u_Uebersicht!P:Q,2,FALSE),\"\")","v":""},{"$f":"IFERROR(GETPIVOTDATA(\"Summe von THG [t CO2eq]\",I_Pivot!$G$3,\"ID\",C110,\"EM_Energieträger\",F110),\"\")","v":""},"S1",null,null,null,null,null,null,null,null,null,null,null,null,null,null,null,null,null,null,null,"i. Eisen- und Stahlerzeugung ","Umgebungswärme","","",null,"","",0]
[108,13,{"$f":"VLOOKUP(B111,'I. Stationäre Energie'!C:E,3,FALSE)","v":"I.3.ii."},null,{"$f":"VLOOKUP(B111,'I. Stationäre Energie'!C:G,5,FALSE)","v":"ii. Nicht Eisen Metalle "},"Kohle (Steinkohle, Braunkohle, Koks, Petrolkoks; Gichtgas, Kokereigas, Brenntorf)",{"$f":"IFERROR(GETPIVOTDATA(\"Energie\",EM_Daten_u_Uebersicht!$W$5,\"Ziel-Subsektor\",C111,\"Energieträger\",F111),\"\")","v":""},{"$f":"IFERROR(GETPIVOTDATA(\"Summe von Energieeinsatz [MWh]\",I_Pivot!$G$3,\"ID\",C111,\"EM_Energieträger\",F111),\"\")","v":""},{"$f":"IFERROR(G111*VLOOKUP(F111,EM_Daten_u_Uebersicht!P:Q,2,FALSE),\"\")","v":""},{"$f":"IFERROR(GETPIVOTDATA(\"Summe von THG [t CO2eq]\",I_Pivot!$G$3,\"ID\",C111,\"EM_Energieträger\",F111),\"\")","v":""},"S1",null,null,null,null,null,null,null,null,null,null,null,null,null,null,null,null,null,null,null,"i. Eisen- und Stahlerzeugung ","CO2-eq Direkteingabe","","",null,"","",0]
[109,13,{"$f":"VLOOKUP(B112,'I. Stationäre Energie'!C:E,3,FALSE)","v":"I.3.ii."},null,{"$f":"VLOOKUP(B112,'I. Stationäre Energie'!C:G,5,FALSE)","v":"ii. Nicht Eisen Metalle "},"Öl (Heizöl, Gasöl für Heizzwecke, Diesel, Benzin, Petroleum, Flüssiggas)",{"$f":"IFERROR(GETPIVOTDATA(\"Energie\",EM_Daten_u_Uebersicht!$W$5,\"Ziel-Subsektor\",C112,\"Energieträger\",F112),\"\")","v":""},{"$f":"IFERROR(GETPIVOTDATA(\"Summe von Energieeinsatz [MWh]\",I_Pivot!$G$3,\"ID\",C112,\"EM_Energieträger\",F112),\"\")","v":""},{"$f":"IFERROR(G112*VLOOKUP(F112,EM_Daten_u_Uebersicht!P:Q,2,FALSE),\"\")","v":""},{"$f":"IFERROR(GETPIVOTDATA(\"Summe von THG [t CO2eq]\",I_Pivot!$G$3,\"ID\",C112,\"EM_Energieträger\",F112),\"\")","v":""},"S1",null,null,null,null,null,null,null,null,null,null,null,null,null,null,null,null,null,null,null,"ii. Nicht Eisen Metalle ","Kohle (Steinkohle, Braunkohle, Koks, Petrolkoks; Gichtgas, Kokereigas, Brenntorf)","","",null,"","",0]
[110,13,{"$f":"VLOOKUP(B113,'I. Stationäre Energie'!C:E,3,FALSE)","v":"I.3.ii."},null,{"$f":"VLOOKUP(B113,'I. Stationäre Energie'!C:G,5,FALSE)","v":"ii. Nicht Eisen Metalle "},"Erdgas",{"$f":"IFERROR(GETPIVOTDATA(\"Energie\",EM_Daten_u_Uebersicht!$W$5,\"Ziel-Subsektor\",C113,\"Energieträger\",F113),\"\")","v":""},{"$f":"IFERROR(GETPIVOTDATA(\"Summe von Energieeinsatz [MWh]\",I_Pivot!$G$3,\"ID\",C113,\"EM_Energieträger\",F113),\"\")","v":""},{"$f":"IFERROR(G113*VLOOKUP(F113,EM_Daten_u_Uebersicht!P:Q,2,FALSE),\"\")","v":""},{"$f":"IFERROR(GETPIVOTDATA(\"Summe von THG [t CO2eq]\",I_Pivot!$G$3,\"ID\",C113,\"EM_Energieträger\",F113),\"\")","v":""},"S1",null,null,null,null,null,null,null,null,null,null,null,null,null,null,null,null,null,null,null,"ii. Nicht Eisen Metalle ","Öl (Heizöl, Gasöl für Heizzwecke, Diesel, Benzin, Petroleum, Flüssiggas)","","",null,"","",0]
[111,13,{"$f":"VLOOKUP(B114,'I. Stationäre Energie'!C:E,3,FALSE)","v":"I.3.ii."},null,{"$f":"VLOOKUP(B114,'I. Stationäre Energie'!C:G,5,FALSE)","v":"ii. Nicht Eisen Metalle "},"elektrische Energie",{"$f":"IFERROR(GETPIVOTDATA(\"Energie\",EM_Daten_u_Uebersicht!$W$5,\"Ziel-Subsektor\",C114,\"Energieträger\",F114),\"\")","v":""},{"$f":"IFERROR(GETPIVOTDATA(\"Summe von Energieeinsatz [MWh]\",I_Pivot!$G$3,\"ID\",C114,\"EM_Energieträger\",F114),\"\")","v":""},{"$f":"IFERROR(G114*VLOOKUP(F114,EM_Daten_u_Uebersicht!P:Q,2,FALSE),\"\")","v":""},{"$f":"IFERROR(GETPIVOTDATA(\"Summe von THG [t CO2eq]\",I_Pivot!$G$3,\"ID\",C114,\"EM_Energieträger\",F114),\"\")","v":""},"S2",{"$f":"J114/0.94-J114","v":{"$error":"#VALUE!"}},null,null,null,null,null,null,null,null,null,null,null,null,null,null,null,null,null,null,"ii. Nicht Eisen Metalle ","Erdgas","","",null,"","",0]
[112,13,{"$f":"VLOOKUP(B115,'I. Stationäre Energie'!C:E,3,FALSE)","v":"I.3.ii."},null,{"$f":"VLOOKUP(B115,'I. Stationäre Energie'!C:G,5,FALSE)","v":"ii. Nicht Eisen Metalle "},"Fernwärme",{"$f":"IFERROR(GETPIVOTDATA(\"Energie\",EM_Daten_u_Uebersicht!$W$5,\"Ziel-Subsektor\",C115,\"Energieträger\",F115),\"\")","v":""},{"$f":"IFERROR(GETPIVOTDATA(\"Summe von Energieeinsatz [MWh]\",I_Pivot!$G$3,\"ID\",C115,\"EM_Energieträger\",F115),\"\")","v":""},{"$f":"IFERROR(G115*VLOOKUP(F115,EM_Daten_u_Uebersicht!P:Q,2,FALSE),\"\")","v":""},{"$f":"IFERROR(GETPIVOTDATA(\"Summe von THG [t CO2eq]\",I_Pivot!$G$3,\"ID\",C115,\"EM_Energieträger\",F115),\"\")","v":""},"S2",{"$f":"J115/0.86-J115","v":{"$error":"#VALUE!"}},null,null,null,null,null,null,null,null,null,null,null,null,null,null,null,null,null,null,"ii. Nicht Eisen Metalle ","elektrische Energie","","",null,"","",""]
[113,13,{"$f":"VLOOKUP(B116,'I. Stationäre Energie'!C:E,3,FALSE)","v":"I.3.ii."},null,{"$f":"VLOOKUP(B116,'I. Stationäre Energie'!C:G,5,FALSE)","v":"ii. Nicht Eisen Metalle "},"Biogene Brenn- und Treibstoffe (Brennholz, biogene Brenn- und Treibstoffe)",{"$f":"IFERROR(GETPIVOTDATA(\"Energie\",EM_Daten_u_Uebersicht!$W$5,\"Ziel-Subsektor\",C116,\"Energieträger\",F116),\"\")","v":""},{"$f":"IFERROR(GETPIVOTDATA(\"Summe von Energieeinsatz [MWh]\",I_Pivot!$G$3,\"ID\",C116,\"EM_Energieträger\",F116),\"\")","v":""},{"$f":"IFERROR(G116*VLOOKUP(F116,EM_Daten_u_Uebersicht!P:Q,2,FALSE),\"\")","v":""},{"$f":"IFERROR(GETPIVOTDATA(\"Summe von THG [t CO2eq]\",I_Pivot!$G$3,\"ID\",C116,\"EM_Energieträger\",F116),\"\")","v":""},"S1",null,null,null,null,null,null,null,null,null,null,null,null,null,null,null,null,null,null,null,"ii. Nicht Eisen Metalle ","Fernwärme","","",null,"","",""]
[114,13,{"$f":"VLOOKUP(B117,'I. Stationäre Energie'!C:E,3,FALSE)","v":"I.3.ii."},null,{"$f":"VLOOKUP(B117,'I. Stationäre Energie'!C:G,5,FALSE)","v":"ii. Nicht Eisen Metalle "},"Brennbare Abfälle",{"$f":"IFERROR(GETPIVOTDATA(\"Energie\",EM_Daten_u_Uebersicht!$W$5,\"Ziel-Subsektor\",C117,\"Energieträger\",F117),\"\")","v":""},{"$f":"IFERROR(GETPIVOTDATA(\"Summe von Energieeinsatz [MWh]\",I_Pivot!$G$3,\"ID\",C117,\"EM_Energieträger\",F117),\"\")","v":""},{"$f":"IFERROR(G117*VLOOKUP(F117,EM_Daten_u_Uebersicht!P:Q,2,FALSE),\"\")","v":""},{"$f":"IFERROR(GETPIVOTDATA(\"Summe von THG [t CO2eq]\",I_Pivot!$G$3,\"ID\",C117,\"EM_Energieträger\",F117),\"\")","v":""},"S1",null,null,null,null,null,null,null,null,null,null,null,null,null,null,null,null,null,null,null,"ii. Nicht Eisen Metalle ","Biogene Brenn- und Treibstoffe (Brennholz, biogene Brenn- und Treibstoffe)","","",null,"","",0]
[115,13,{"$f":"VLOOKUP(B118,'I. Stationäre Energie'!C:E,3,FALSE)","v":"I.3.ii."},null,{"$f":"VLOOKUP(B118,'I. Stationäre Energie'!C:G,5,FALSE)","v":"ii. Nicht Eisen Metalle "},"Umgebungswärme",{"$f":"IFERROR(GETPIVOTDATA(\"Energie\",EM_Daten_u_Uebersicht!$W$5,\"Ziel-Subsektor\",C118,\"Energieträger\",F118),\"\")","v":""},{"$f":"IFERROR(GETPIVOTDATA(\"Summe von Energieeinsatz [MWh]\",I_Pivot!$G$3,\"ID\",C118,\"EM_Energieträger\",F118),\"\")","v":""},{"$f":"IFERROR(G118*VLOOKUP(F118,EM_Daten_u_Uebersicht!P:Q,2,FALSE),\"\")","v":""},{"$f":"IFERROR(GETPIVOTDATA(\"Summe von THG [t CO2eq]\",I_Pivot!$G$3,\"ID\",C118,\"EM_Energieträger\",F118),\"\")","v":""},"S1",null,null,null,null,null,null,null,null,null,null,null,null,null,null,null,null,null,null,null,"ii. Nicht Eisen Metalle ","Brennbare Abfälle","","",null,"","",0]
[116,13,{"$f":"VLOOKUP(B119,'I. Stationäre Energie'!C:E,3,FALSE)","v":"I.3.ii."},null,{"$f":"VLOOKUP(B119,'I. Stationäre Energie'!C:G,5,FALSE)","v":"ii. Nicht Eisen Metalle "},"CO2-eq Direkteingabe",{"$f":"IFERROR(GETPIVOTDATA(\"Energie\",EM_Daten_u_Uebersicht!$W$5,\"Ziel-Subsektor\",C119,\"Energieträger\",F119),\"\")","v":""},{"$f":"IFERROR(GETPIVOTDATA(\"Summe von Energieeinsatz [MWh]\",I_Pivot!$G$3,\"ID\",C119,\"EM_Energieträger\",F119),\"\")","v":""},{"$f":"IFERROR(G119*VLOOKUP(F119,EM_Daten_u_Uebersicht!P:Q,2,FALSE),\"\")","v":""},{"$f":"IFERROR(GETPIVOTDATA(\"Summe von THG [t CO2eq]\",I_Pivot!$G$3,\"ID\",C119,\"EM_Energieträger\",F119),\"\")","v":""},"S1",null,null,null,null,null,null,null,null,null,null,null,null,null,null,null,null,null,null,null,"ii. Nicht Eisen Metalle ","Umgebungswärme","","",null,"","",0]
[117,14,{"$f":"VLOOKUP(B120,'I. Stationäre Energie'!C:E,3,FALSE)","v":"I.3.iii."},null,{"$f":"VLOOKUP(B120,'I. Stationäre Energie'!C:G,5,FALSE)","v":"iii. Chemie und Petrochemie "},"Kohle (Steinkohle, Braunkohle, Koks, Petrolkoks; Gichtgas, Kokereigas, Brenntorf)",{"$f":"IFERROR(GETPIVOTDATA(\"Energie\",EM_Daten_u_Uebersicht!$W$5,\"Ziel-Subsektor\",C120,\"Energieträger\",F120),\"\")","v":""},{"$f":"IFERROR(GETPIVOTDATA(\"Summe von Energieeinsatz [MWh]\",I_Pivot!$G$3,\"ID\",C120,\"EM_Energieträger\",F120),\"\")","v":""},{"$f":"IFERROR(G120*VLOOKUP(F120,EM_Daten_u_Uebersicht!P:Q,2,FALSE),\"\")","v":""},{"$f":"IFERROR(GETPIVOTDATA(\"Summe von THG [t CO2eq]\",I_Pivot!$G$3,\"ID\",C120,\"EM_Energieträger\",F120),\"\")","v":""},"S1",null,null,null,null,null,null,null,null,null,null,null,null,null,null,null,null,null,null,null,"ii. Nicht Eisen Metalle ","CO2-eq Direkteingabe","","",null,"","",0]
[118,14,{"$f":"VLOOKUP(B121,'I. Stationäre Energie'!C:E,3,FALSE)","v":"I.3.iii."},null,{"$f":"VLOOKUP(B121,'I. Stationäre Energie'!C:G,5,FALSE)","v":"iii. Chemie und Petrochemie "},"Öl (Heizöl, Gasöl für Heizzwecke, Diesel, Benzin, Petroleum, Flüssiggas)",{"$f":"IFERROR(GETPIVOTDATA(\"Energie\",EM_Daten_u_Uebersicht!$W$5,\"Ziel-Subsektor\",C121,\"Energieträger\",F121),\"\")","v":""},{"$f":"IFERROR(GETPIVOTDATA(\"Summe von Energieeinsatz [MWh]\",I_Pivot!$G$3,\"ID\",C121,\"EM_Energieträger\",F121),\"\")","v":""},{"$f":"IFERROR(G121*VLOOKUP(F121,EM_Daten_u_Uebersicht!P:Q,2,FALSE),\"\")","v":""},{"$f":"IFERROR(GETPIVOTDATA(\"Summe von THG [t CO2eq]\",I_Pivot!$G$3,\"ID\",C121,\"EM_Energieträger\",F121),\"\")","v":""},"S1",null,null,null,null,null,null,null,null,null,null,null,null,null,null,null,null,null,null,null,"iii. Chemie und Petrochemie ","Kohle (Steinkohle, Braunkohle, Koks, Petrolkoks; Gichtgas, Kokereigas, Brenntorf)","","",null,"","",0]
[119,14,{"$f":"VLOOKUP(B122,'I. Stationäre Energie'!C:E,3,FALSE)","v":"I.3.iii."},null,{"$f":"VLOOKUP(B122,'I. Stationäre Energie'!C:G,5,FALSE)","v":"iii. Chemie und Petrochemie "},"Erdgas",{"$f":"IFERROR(GETPIVOTDATA(\"Energie\",EM_Daten_u_Uebersicht!$W$5,\"Ziel-Subsektor\",C122,\"Energieträger\",F122),\"\")","v":""},{"$f":"IFERROR(GETPIVOTDATA(\"Summe von Energieeinsatz [MWh]\",I_Pivot!$G$3,\"ID\",C122,\"EM_Energieträger\",F122),\"\")","v":""},{"$f":"IFERROR(G122*VLOOKUP(F122,EM_Daten_u_Uebersicht!P:Q,2,FALSE),\"\")","v":""},{"$f":"IFERROR(GETPIVOTDATA(\"Summe von THG [t CO2eq]\",I_Pivot!$G$3,\"ID\",C122,\"EM_Energieträger\",F122),\"\")","v":""},"S1",null,null,null,null,null,null,null,null,null,null,null,null,null,null,null,null,null,null,null,"iii. Chemie und Petrochemie ","Öl (Heizöl, Gasöl für Heizzwecke, Diesel, Benzin, Petroleum, Flüssiggas)","","",null,"","",0]
[120,14,{"$f":"VLOOKUP(B123,'I. Stationäre Energie'!C:E,3,FALSE)","v":"I.3.iii."},null,{"$f":"VLOOKUP(B123,'I. Stationäre Energie'!C:G,5,FALSE)","v":"iii. Chemie und Petrochemie "},"elektrische Energie",{"$f":"IFERROR(GETPIVOTDATA(\"Energie\",EM_Daten_u_Uebersicht!$W$5,\"Ziel-Subsektor\",C123,\"Energieträger\",F123),\"\")","v":""},{"$f":"IFERROR(GETPIVOTDATA(\"Summe von Energieeinsatz [MWh]\",I_Pivot!$G$3,\"ID\",C123,\"EM_Energieträger\",F123),\"\")","v":""},{"$f":"IFERROR(G123*VLOOKUP(F123,EM_Daten_u_Uebersicht!P:Q,2,FALSE),\"\")","v":""},{"$f":"IFERROR(GETPIVOTDATA(\"Summe von THG [t CO2eq]\",I_Pivot!$G$3,\"ID\",C123,\"EM_Energieträger\",F123),\"\")","v":""},"S2",{"$f":"J123/0.94-J123","v":{"$error":"#VALUE!"}},null,null,null,null,null,null,null,null,null,null,null,null,null,null,null,null,null,null,"iii. Chemie und Petrochemie ","Erdgas","","",null,"","",0]
[121,14,{"$f":"VLOOKUP(B124,'I. Stationäre Energie'!C:E,3,FALSE)","v":"I.3.iii."},null,{"$f":"VLOOKUP(B124,'I. Stationäre Energie'!C:G,5,FALSE)","v":"iii. Chemie und Petrochemie "},"Fernwärme",{"$f":"IFERROR(GETPIVOTDATA(\"Energie\",EM_Daten_u_Uebersicht!$W$5,\"Ziel-Subsektor\",C124,\"Energieträger\",F124),\"\")","v":""},{"$f":"IFERROR(GETPIVOTDATA(\"Summe von Energieeinsatz [MWh]\",I_Pivot!$G$3,\"ID\",C124,\"EM_Energieträger\",F124),\"\")","v":""},{"$f":"IFERROR(G124*VLOOKUP(F124,EM_Daten_u_Uebersicht!P:Q,2,FALSE),\"\")","v":""},{"$f":"IFERROR(GETPIVOTDATA(\"Summe von THG [t CO2eq]\",I_Pivot!$G$3,\"ID\",C124,\"EM_Energieträger\",F124),\"\")","v":""},"S2",{"$f":"J124/0.86-J124","v":{"$error":"#VALUE!"}},null,null,null,null,null,null,null,null,null,null,null,null,null,null,null,null,null,null,"iii. Chemie und Petrochemie ","elektrische Energie","","",null,"","",""]
[122,14,{"$f":"VLOOKUP(B125,'I. Stationäre Energie'!C:E,3,FALSE)","v":"I.3.iii."},null,{"$f":"VLOOKUP(B125,'I. Stationäre Energie'!C:G,5,FALSE)","v":"iii. Chemie und Petrochemie "},"Biogene Brenn- und Treibstoffe (Brennholz, biogene Brenn- und Treibstoffe)",{"$f":"IFERROR(GETPIVOTDATA(\"Energie\",EM_Daten_u_Uebersicht!$W$5,\"Ziel-Subsektor\",C125,\"Energieträger\",F125),\"\")","v":""},{"$f":"IFERROR(GETPIVOTDATA(\"Summe von Energieeinsatz [MWh]\",I_Pivot!$G$3,\"ID\",C125,\"EM_Energieträger\",F125),\"\")","v":""},{"$f":"IFERROR(G125*VLOOKUP(F125,EM_Daten_u_Uebersicht!P:Q,2,FALSE),\"\")","v":""},{"$f":"IFERROR(GETPIVOTDATA(\"Summe von THG [t CO2eq]\",I_Pivot!$G$3,\"ID\",C125,\"EM_Energieträger\",F125),\"\")","v":""},"S1",null,null,null,null,null,null,null,null,null,null,null,null,null,null,null,null,null,null,null,"iii. Chemie und Petrochemie ","Fernwärme","","",null,"","",""]
[123,14,{"$f":"VLOOKUP(B126,'I. Stationäre Energie'!C:E,3,FALSE)","v":"I.3.iii."},null,{"$f":"VLOOKUP(B126,'I. Stationäre Energie'!C:G,5,FALSE)","v":"iii. Chemie und Petrochemie "},"Brennbare Abfälle",{"$f":"IFERROR(GETPIVOTDATA(\"Energie\",EM_Daten_u_Uebersicht!$W$5,\"Ziel-Subsektor\",C126,\"Energieträger\",F126),\"\")","v":""},{"$f":"IFERROR(GETPIVOTDATA(\"Summe von Energieeinsatz [MWh]\",I_Pivot!$G$3,\"ID\",C126,\"EM_Energieträger\",F126),\"\")","v":""},{"$f":"IFERROR(G126*VLOOKUP(F126,EM_Daten_u_Uebersicht!P:Q,2,FALSE),\"\")","v":""},{"$f":"IFERROR(GETPIVOTDATA(\"Summe von THG [t CO2eq]\",I_Pivot!$G$3,\"ID\",C126,\"EM_Energieträger\",F126),\"\")","v":""},"S1",null,null,null,null,null,null,null,null,null,null,null,null,null,null,null,null,null,null,null,"iii. Chemie und Petrochemie ","Biogene Brenn- und Treibstoffe (Brennholz, biogene Brenn- und Treibstoffe)","","",null,"","",0]
[124,14,{"$f":"VLOOKUP(B127,'I. Stationäre Energie'!C:E,3,FALSE)","v":"I.3.iii."},null,{"$f":"VLOOKUP(B127,'I. Stationäre Energie'!C:G,5,FALSE)","v":"iii. Chemie und Petrochemie "},"Umgebungswärme",{"$f":"IFERROR(GETPIVOTDATA(\"Energie\",EM_Daten_u_Uebersicht!$W$5,\"Ziel-Subsektor\",C127,\"Energieträger\",F127),\"\")","v":""},{"$f":"IFERROR(GETPIVOTDATA(\"Summe von Energieeinsatz [MWh]\",I_Pivot!$G$3,\"ID\",C127,\"EM_Energieträger\",F127),\"\")","v":""},{"$f":"IFERROR(G127*VLOOKUP(F127,EM_Daten_u_Uebersicht!P:Q,2,FALSE),\"\")","v":""},{"$f":"IFERROR(GETPIVOTDATA(\"Summe von THG [t CO2eq]\",I_Pivot!$G$3,\"ID\",C127,\"EM_Energieträger\",F127),\"\")","v":""},"S1",null,null,null,null,null,null,null,null,null,null,null,null,null,null,null,null,null,null,null,"iii. Chemie und Petrochemie ","Brennbare Abfälle","","",null,"","",0]
[125,14,{"$f":"VLOOKUP(B128,'I. Stationäre Energie'!C:E,3,FALSE)","v":"I.3.iii."},null,{"$f":"VLOOKUP(B128,'I. Stationäre Energie'!C:G,5,FALSE)","v":"iii. Chemie und Petrochemie "},"CO2-eq Direkteingabe",{"$f":"IFERROR(GETPIVOTDATA(\"Energie\",EM_Daten_u_Uebersicht!$W$5,\"Ziel-Subsektor\",C128,\"Energieträger\",F128),\"\")","v":""},{"$f":"IFERROR(GETPIVOTDATA(\"Summe von Energieeinsatz [MWh]\",I_Pivot!$G$3,\"ID\",C128,\"EM_Energieträger\",F128),\"\")","v":""},{"$f":"IFERROR(G128*VLOOKUP(F128,EM_Daten_u_Uebersicht!P:Q,2,FALSE),\"\")","v":""},{"$f":"IFERROR(GETPIVOTDATA(\"Summe von THG [t CO2eq]\",I_Pivot!$G$3,\"ID\",C128,\"EM_Energieträger\",F128),\"\")","v":""},"S1",null,null,null,null,null,null,null,null,null,null,null,null,null,null,null,null,null,null,null,"iii. Chemie und Petrochemie ","Umgebungswärme","","",null,"","",0]
[126,15,{"$f":"VLOOKUP(B129,'I. Stationäre Energie'!C:E,3,FALSE)","v":"I.3.iv."},null,{"$f":"VLOOKUP(B129,'I. Stationäre Energie'!C:G,5,FALSE)","v":"iv. Papier und Druck "},"Kohle (Steinkohle, Braunkohle, Koks, Petrolkoks; Gichtgas, Kokereigas, Brenntorf)",{"$f":"IFERROR(GETPIVOTDATA(\"Energie\",EM_Daten_u_Uebersicht!$W$5,\"Ziel-Subsektor\",C129,\"Energieträger\",F129),\"\")","v":""},{"$f":"IFERROR(GETPIVOTDATA(\"Summe von Energieeinsatz [MWh]\",I_Pivot!$G$3,\"ID\",C129,\"EM_Energieträger\",F129),\"\")","v":""},{"$f":"IFERROR(G129*VLOOKUP(F129,EM_Daten_u_Uebersicht!P:Q,2,FALSE),\"\")","v":""},{"$f":"IFERROR(GETPIVOTDATA(\"Summe von THG [t CO2eq]\",I_Pivot!$G$3,\"ID\",C129,\"EM_Energieträger\",F129),\"\")","v":""},"S1",null,null,null,null,null,null,null,null,null,null,null,null,null,null,null,null,null,null,null,"iii. Chemie und Petrochemie ","CO2-eq Direkteingabe","","",null,"","",0]
[127,15,{"$f":"VLOOKUP(B130,'I. Stationäre Energie'!C:E,3,FALSE)","v":"I.3.iv."},null,{"$f":"VLOOKUP(B130,'I. Stationäre Energie'!C:G,5,FALSE)","v":"iv. Papier und Druck "},"Öl (Heizöl, Gasöl für Heizzwecke, Diesel, Benzin, Petroleum, Flüssiggas)",{"$f":"IFERROR(GETPIVOTDATA(\"Energie\",EM_Daten_u_Uebersicht!$W$5,\"Ziel-Subsektor\",C130,\"Energieträger\",F130),\"\")","v":""},{"$f":"IFERROR(GETPIVOTDATA(\"Summe von Energieeinsatz [MWh]\",I_Pivot!$G$3,\"ID\",C130,\"EM_Energieträger\",F130),\"\")","v":""},{"$f":"IFERROR(G130*VLOOKUP(F130,EM_Daten_u_Uebersicht!P:Q,2,FALSE),\"\")","v":""},{"$f":"IFERROR(GETPIVOTDATA(\"Summe von THG [t CO2eq]\",I_Pivot!$G$3,\"ID\",C130,\"EM_Energieträger\",F130),\"\")","v":""},"S1",null,null,null,null,null,null,null,null,null,null,null,null,null,null,null,null,null,null,null,"iv. Papier und Druck ","Kohle (Steinkohle, Braunkohle, Koks, Petrolkoks; Gichtgas, Kokereigas, Brenntorf)","","",null,"","",0]
[128,15,{"$f":"VLOOKUP(B131,'I. Stationäre Energie'!C:E,3,FALSE)","v":"I.3.iv."},null,{"$f":"VLOOKUP(B131,'I. Stationäre Energie'!C:G,5,FALSE)","v":"iv. Papier und Druck "},"Erdgas",{"$f":"IFERROR(GETPIVOTDATA(\"Energie\",EM_Daten_u_Uebersicht!$W$5,\"Ziel-Subsektor\",C131,\"Energieträger\",F131),\"\")","v":""},{"$f":"IFERROR(GETPIVOTDATA(\"Summe von Energieeinsatz [MWh]\",I_Pivot!$G$3,\"ID\",C131,\"EM_Energieträger\",F131),\"\")","v":""},{"$f":"IFERROR(G131*VLOOKUP(F131,EM_Daten_u_Uebersicht!P:Q,2,FALSE),\"\")","v":""},{"$f":"IFERROR(GETPIVOTDATA(\"Summe von THG [t CO2eq]\",I_Pivot!$G$3,\"ID\",C131,\"EM_Energieträger\",F131),\"\")","v":""},"S1",null,null,null,null,null,null,null,null,null,null,null,null,null,null,null,null,null,null,null,{"$f":"IFERROR(E130,\"\")","v":"iv. Papier und Druck "},{"$f":"IFERROR(F130,\"\")","v":"Öl (Heizöl, Gasöl für Heizzwecke, Diesel, Benzin, Petroleum, Flüssiggas)"},{"$f":"IFERROR(H130,\"\")","v":""},{"$f":"IFERROR(J130,\"\")","v":""},null,"","",{"$f":"IFERROR(L130,\"\")","v":0}]
[129,{"$f":"ROUNDDOWN(A132/9,0)+1","v":15},{"$f":"VLOOKUP(B132,'I. Stationäre Energie'!C:E,3,FALSE)","v":"I.3.iv."},null,{"$f":"VLOOKUP(B132,'I. Stationäre Energie'!C:G,5,FALSE)","v":"iv. Papier und Druck "},"elektrische Energie",{"$f":"IFERROR(GETPIVOTDATA(\"Energie\",EM_Daten_u_Uebersicht!$W$5,\"Ziel-Subsektor\",C132,\"Energieträger\",F132),\"\")","v":""},{"$f":"IFERROR(GETPIVOTDATA(\"Summe von Energieeinsatz [MWh]\",I_Pivot!$G$3,\"ID\",C132,\"EM_Energieträger\",F132),\"\")","v":""},{"$f":"IFERROR(G132*VLOOKUP(F132,EM_Daten_u_Uebersicht!P:Q,2,FALSE),\"\")","v":""},{"$f":"IFERROR(GETPIVOTDATA(\"Summe von THG [t CO2eq]\",I_Pivot!$G$3,\"ID\",C132,\"EM_Energieträger\",F132),\"\")","v":""},"S2",{"$f":"J132/0.94-J132","v":{"$error":"#VALUE!"}},null,null,null,null,null,null,null,null,null,null,null,null,null,null,null,null,null,null,"iv. Papier und Druck ","Erdgas","","",null,{"$f":"IF(K131=\"S1\",J131,\"\")","v":""},{"$f":"IF(K131=\"S2\",J131,\"\")","v":""},0]
[130,15,{"$f":"VLOOKUP(B133,'I. Stationäre Energie'!C:E,3,FALSE)","v":"I.3.iv."},null,{"$f":"VLOOKUP(B133,'I. Stationäre Energie'!C:G,5,FALSE)","v":"iv. Papier und Druck "},"Fernwärme",{"$f":"IFERROR(GETPIVOTDATA(\"Energie\",EM_Daten_u_Uebersicht!$W$5,\"Ziel-Subsektor\",C133,\"Energieträger\",F133),\"\")","v":""},{"$f":"IFERROR(GETPIVOTDATA(\"Summe von Energieeinsatz [MWh]\",I_Pivot!$G$3,\"ID\",C133,\"EM_Energieträger\",F133),\"\")","v":""},{"$f":"IFERROR(G133*VLOOKUP(F133,EM_Daten_u_Uebersicht!P:Q,2,FALSE),\"\")","v":""},{"$f":"IFERROR(GETPIVOTDATA(\"Summe von THG [t CO2eq]\",I_Pivot!$G$3,\"ID\",C133,\"EM_Energieträger\",F133),\"\")","v":""},"S2",{"$f":"J133/0.86-J133","v":{"$error":"#VALUE!"}},null,null,null,null,null,null,null,null,null,null,null,null,null,null,null,null,null,null,"iv. Papier und Druck ","elektrische Energie","","",null,"","",""]
[131,15,{"$f":"VLOOKUP(B134,'I. Stationäre Energie'!C:E,3,FALSE)","v":"I.3.iv."},null,{"$f":"VLOOKUP(B134,'I. Stationäre Energie'!C:G,5,FALSE)","v":"iv. Papier und Druck "},"Biogene Brenn- und Treibstoffe (Brennholz, biogene Brenn- und Treibstoffe)",{"$f":"IFERROR(GETPIVOTDATA(\"Energie\",EM_Daten_u_Uebersicht!$W$5,\"Ziel-Subsektor\",C134,\"Energieträger\",F134),\"\")","v":""},{"$f":"IFERROR(GETPIVOTDATA(\"Summe von Energieeinsatz [MWh]\",I_Pivot!$G$3,\"ID\",C134,\"EM_Energieträger\",F134),\"\")","v":""},{"$f":"IFERROR(G134*VLOOKUP(F134,EM_Daten_u_Uebersicht!P:Q,2,FALSE),\"\")","v":""},{"$f":"IFERROR(GETPIVOTDATA(\"Summe von THG [t CO2eq]\",I_Pivot!$G$3,\"ID\",C134,\"EM_Energieträger\",F134),\"\")","v":""},"S1",null,null,null,null,null,null,null,null,null,null,null,null,null,null,null,null,null,null,null,"iv. Papier und Druck ","Fernwärme","","",null,"","",""]
[132,15,{"$f":"VLOOKUP(B135,'I. Stationäre Energie'!C:E,3,FALSE)","v":"I.3.iv."},null,{"$f":"VLOOKUP(B135,'I. Stationäre Energie'!C:G,5,FALSE)","v":"iv. Papier und Druck "},"Brennbare Abfälle",{"$f":"IFERROR(GETPIVOTDATA(\"Energie\",EM_Daten_u_Uebersicht!$W$5,\"Ziel-Subsektor\",C135,\"Energieträger\",F135),\"\")","v":""},{"$f":"IFERROR(GETPIVOTDATA(\"Summe von Energieeinsatz [MWh]\",I_Pivot!$G$3,\"ID\",C135,\"EM_Energieträger\",F135),\"\")","v":""},{"$f":"IFERROR(G135*VLOOKUP(F135,EM_Daten_u_Uebersicht!P:Q,2,FALSE),\"\")","v":""},{"$f":"IFERROR(GETPIVOTDATA(\"Summe von THG [t CO2eq]\",I_Pivot!$G$3,\"ID\",C135,\"EM_Energieträger\",F135),\"\")","v":""},"S1",null,null,null,null,null,null,null,null,null,null,null,null,null,null,null,null,null,null,null,"iv. Papier und Druck ","Biogene Brenn- und Treibstoffe (Brennholz, biogene Brenn- und Treibstoffe)","","",null,"","",0]
[133,15,{"$f":"VLOOKUP(B136,'I. Stationäre Energie'!C:E,3,FALSE)","v":"I.3.iv."},null,{"$f":"VLOOKUP(B136,'I. Stationäre Energie'!C:G,5,FALSE)","v":"iv. Papier und Druck "},"Umgebungswärme",{"$f":"IFERROR(GETPIVOTDATA(\"Energie\",EM_Daten_u_Uebersicht!$W$5,\"Ziel-Subsektor\",C136,\"Energieträger\",F136),\"\")","v":""},{"$f":"IFERROR(GETPIVOTDATA(\"Summe von Energieeinsatz [MWh]\",I_Pivot!$G$3,\"ID\",C136,\"EM_Energieträger\",F136),\"\")","v":""},{"$f":"IFERROR(G136*VLOOKUP(F136,EM_Daten_u_Uebersicht!P:Q,2,FALSE),\"\")","v":""},{"$f":"IFERROR(GETPIVOTDATA(\"Summe von THG [t CO2eq]\",I_Pivot!$G$3,\"ID\",C136,\"EM_Energieträger\",F136),\"\")","v":""},"S1",null,null,null,null,null,null,null,null,null,null,null,null,null,null,null,null,null,null,null,"iv. Papier und Druck ","Brennbare Abfälle","","",null,"","",0]
[134,15,{"$f":"VLOOKUP(B137,'I. Stationäre Energie'!C:E,3,FALSE)","v":"I.3.iv."},null,{"$f":"VLOOKUP(B137,'I. Stationäre Energie'!C:G,5,FALSE)","v":"iv. Papier und Druck "},"CO2-eq Direkteingabe",{"$f":"IFERROR(GETPIVOTDATA(\"Energie\",EM_Daten_u_Uebersicht!$W$5,\"Ziel-Subsektor\",C137,\"Energieträger\",F137),\"\")","v":""},{"$f":"IFERROR(GETPIVOTDATA(\"Summe von Energieeinsatz [MWh]\",I_Pivot!$G$3,\"ID\",C137,\"EM_Energieträger\",F137),\"\")","v":""},{"$f":"IFERROR(G137*VLOOKUP(F137,EM_Daten_u_Uebersicht!P:Q,2,FALSE),\"\")","v":""},{"$f":"IFERROR(GETPIVOTDATA(\"Summe von THG [t CO2eq]\",I_Pivot!$G$3,\"ID\",C137,\"EM_Energieträger\",F137),\"\")","v":""},"S1",null,null,null,null,null,null,null,null,null,null,null,null,null,null,null,null,null,null,null,"iv. Papier und Druck ","Umgebungswärme","","",null,"","",0]
[135,16,{"$f":"VLOOKUP(B138,'I. Stationäre Energie'!C:E,3,FALSE)","v":"I.3.v."},null,{"$f":"VLOOKUP(B138,'I. Stationäre Energie'!C:G,5,FALSE)","v":"v. Nahrungs- und Genussmittel, Tabak "},"Kohle (Steinkohle, Braunkohle, Koks, Petrolkoks; Gichtgas, Kokereigas, Brenntorf)",{"$f":"IFERROR(GETPIVOTDATA(\"Energie\",EM_Daten_u_Uebersicht!$W$5,\"Ziel-Subsektor\",C138,\"Energieträger\",F138),\"\")","v":""},{"$f":"IFERROR(GETPIVOTDATA(\"Summe von Energieeinsatz [MWh]\",I_Pivot!$G$3,\"ID\",C138,\"EM_Energieträger\",F138),\"\")","v":""},{"$f":"IFERROR(G138*VLOOKUP(F138,EM_Daten_u_Uebersicht!P:Q,2,FALSE),\"\")","v":""},{"$f":"IFERROR(GETPIVOTDATA(\"Summe von THG [t CO2eq]\",I_Pivot!$G$3,\"ID\",C138,\"EM_Energieträger\",F138),\"\")","v":""},"S1",null,null,null,null,null,null,null,null,null,null,null,null,null,null,null,null,null,null,null,"iv. Papier und Druck ","CO2-eq Direkteingabe","","",null,"","",0]
[136,16,{"$f":"VLOOKUP(B139,'I. Stationäre Energie'!C:E,3,FALSE)","v":"I.3.v."},null,{"$f":"VLOOKUP(B139,'I. Stationäre Energie'!C:G,5,FALSE)","v":"v. Nahrungs- und Genussmittel, Tabak "},"Öl (Heizöl, Gasöl für Heizzwecke, Diesel, Benzin, Petroleum, Flüssiggas)",{"$f":"IFERROR(GETPIVOTDATA(\"Energie\",EM_Daten_u_Uebersicht!$W$5,\"Ziel-Subsektor\",C139,\"Energieträger\",F139),\"\")","v":""},{"$f":"IFERROR(GETPIVOTDATA(\"Summe von Energieeinsatz [MWh]\",I_Pivot!$G$3,\"ID\",C139,\"EM_Energieträger\",F139),\"\")","v":""},{"$f":"IFERROR(G139*VLOOKUP(F139,EM_Daten_u_Uebersicht!P:Q,2,FALSE),\"\")","v":""},{"$f":"IFERROR(GETPIVOTDATA(\"Summe von THG [t CO2eq]\",I_Pivot!$G$3,\"ID\",C139,\"EM_Energieträger\",F139),\"\")","v":""},"S1",null,null,null,null,null,null,null,null,null,null,null,null,null,null,null,null,null,null,null,"v. Nahrungs- und Genussmittel, Tabak ","Kohle (Steinkohle, Braunkohle, Koks, Petrolkoks; Gichtgas, Kokereigas, Brenntorf)","","",null,"","",0]
[137,16,{"$f":"VLOOKUP(B140,'I. Stationäre Energie'!C:E,3,FALSE)","v":"I.3.v."},null,{"$f":"VLOOKUP(B140,'I. Stationäre Energie'!C:G,5,FALSE)","v":"v. Nahrungs- und Genussmittel, Tabak "},"Erdgas",{"$f":"IFERROR(GETPIVOTDATA(\"Energie\",EM_Daten_u_Uebersicht!$W$5,\"Ziel-Subsektor\",C140,\"Energieträger\",F140),\"\")","v":""},{"$f":"IFERROR(GETPIVOTDATA(\"Summe von Energieeinsatz [MWh]\",I_Pivot!$G$3,\"ID\",C140,\"EM_Energieträger\",F140),\"\")","v":""},{"$f":"IFERROR(G140*VLOOKUP(F140,EM_Daten_u_Uebersicht!P:Q,2,FALSE),\"\")","v":""},{"$f":"IFERROR(GETPIVOTDATA(\"Summe von THG [t CO2eq]\",I_Pivot!$G$3,\"ID\",C140,\"EM_Energieträger\",F140),\"\")","v":""},"S1",null,null,null,null,null,null,null,null,null,null,null,null,null,null,null,null,null,null,null,"v. Nahrungs- und Genussmittel, Tabak ","Öl (Heizöl, Gasöl für Heizzwecke, Diesel, Benzin, Petroleum, Flüssiggas)","","",null,"","",0]
[138,16,{"$f":"VLOOKUP(B141,'I. Stationäre Energie'!C:E,3,FALSE)","v":"I.3.v."},null,{"$f":"VLOOKUP(B141,'I. Stationäre Energie'!C:G,5,FALSE)","v":"v. Nahrungs- und Genussmittel, Tabak "},{"$f":"F132","v":"elektrische Energie"},{"$f":"IFERROR(GETPIVOTDATA(\"Energie\",EM_Daten_u_Uebersicht!$W$5,\"Ziel-Subsektor\",C141,\"Energieträger\",F141),\"\")","v":""},{"$f":"IFERROR(GETPIVOTDATA(\"Summe von Energieeinsatz [MWh]\",I_Pivot!$G$3,\"ID\",C141,\"EM_Energieträger\",F141),\"\")","v":""},{"$f":"IFERROR(G141*VLOOKUP(F141,EM_Daten_u_Uebersicht!P:Q,2,FALSE),\"\")","v":""},{"$f":"IFERROR(GETPIVOTDATA(\"Summe von THG [t CO2eq]\",I_Pivot!$G$3,\"ID\",C141,\"EM_Energieträger\",F141),\"\")","v":""},"S2",{"$f":"J141/0.94-J141","v":{"$error":"#VALUE!"}},null,null,null,null,null,null,null,null,null,null,null,null,null,null,null,null,null,null,"v. Nahrungs- und Genussmittel, Tabak ","Erdgas","","",null,"","",0]
[139,16,{"$f":"VLOOKUP(B142,'I. Stationäre Energie'!C:E,3,FALSE)","v":"I.3.v."},null,{"$f":"VLOOKUP(B142,'I. Stationäre Energie'!C:G,5,FALSE)","v":"v. Nahrungs- und Genussmittel, Tabak "},"Fernwärme",{"$f":"IFERROR(GETPIVOTDATA(\"Energie\",EM_Daten_u_Uebersicht!$W$5,\"Ziel-Subsektor\",C142,\"Energieträger\",F142),\"\")","v":""},{"$f":"IFERROR(GETPIVOTDATA(\"Summe von Energieeinsatz [MWh]\",I_Pivot!$G$3,\"ID\",C142,\"EM_Energieträger\",F142),\"\")","v":""},{"$f":"IFERROR(G142*VLOOKUP(F142,EM_Daten_u_Uebersicht!P:Q,2,FALSE),\"\")","v":""},{"$f":"IFERROR(GETPIVOTDATA(\"Summe von THG [t CO2eq]\",I_Pivot!$G$3,\"ID\",C142,\"EM_Energieträger\",F142),\"\")","v":""},"S2",{"$f":"J142/0.86-J142","v":{"$error":"#VALUE!"}},null,null,null,null,null,null,null,null,null,null,null,null,null,null,null,null,null,null,"v. Nahrungs- und Genussmittel, Tabak ","elektrische Energie","","",null,"","",""]
[140,16,{"$f":"VLOOKUP(B143,'I. Stationäre Energie'!C:E,3,FALSE)","v":"I.3.v."},null,{"$f":"VLOOKUP(B143,'I. Stationäre Energie'!C:G,5,FALSE)","v":"v. Nahrungs- und Genussmittel, Tabak "},"Biogene Brenn- und Treibstoffe (Brennholz, biogene Brenn- und Treibstoffe)",{"$f":"IFERROR(GETPIVOTDATA(\"Energie\",EM_Daten_u_Uebersicht!$W$5,\"Ziel-Subsektor\",C143,\"Energieträger\",F143),\"\")","v":""},{"$f":"IFERROR(GETPIVOTDATA(\"Summe von Energieeinsatz [MWh]\",I_Pivot!$G$3,\"ID\",C143,\"EM_Energieträger\",F143),\"\")","v":""},{"$f":"IFERROR(G143*VLOOKUP(F143,EM_Daten_u_Uebersicht!P:Q,2,FALSE),\"\")","v":""},{"$f":"IFERROR(GETPIVOTDATA(\"Summe von THG [t CO2eq]\",I_Pivot!$G$3,\"ID\",C143,\"EM_Energieträger\",F143),\"\")","v":""},"S1",null,null,null,null,null,null,null,null,null,null,null,null,null,null,null,null,null,null,null,"v. Nahrungs- und Genussmittel, Tabak ","Fernwärme","","",null,"","",""]
[141,16,{"$f":"VLOOKUP(B144,'I. Stationäre Energie'!C:E,3,FALSE)","v":"I.3.v."},null,{"$f":"VLOOKUP(B144,'I. Stationäre Energie'!C:G,5,FALSE)","v":"v. Nahrungs- und Genussmittel, Tabak "},"Brennbare Abfälle",{"$f":"IFERROR(GETPIVOTDATA(\"Energie\",EM_Daten_u_Uebersicht!$W$5,\"Ziel-Subsektor\",C144,\"Energieträger\",F144),\"\")","v":""},{"$f":"IFERROR(GETPIVOTDATA(\"Summe von Energieeinsatz [MWh]\",I_Pivot!$G$3,\"ID\",C144,\"EM_Energieträger\",F144),\"\")","v":""},{"$f":"IFERROR(G144*VLOOKUP(F144,EM_Daten_u_Uebersicht!P:Q,2,FALSE),\"\")","v":""},{"$f":"IFERROR(GETPIVOTDATA(\"Summe von THG [t CO2eq]\",I_Pivot!$G$3,\"ID\",C144,\"EM_Energieträger\",F144),\"\")","v":""},"S1",null,null,null,null,null,null,null,null,null,null,null,null,null,null,null,null,null,null,null,"v. Nahrungs- und Genussmittel, Tabak ","Biogene Brenn- und Treibstoffe (Brennholz, biogene Brenn- und Treibstoffe)","","",null,"","",0]
[142,16,{"$f":"VLOOKUP(B145,'I. Stationäre Energie'!C:E,3,FALSE)","v":"I.3.v."},null,{"$f":"VLOOKUP(B145,'I. Stationäre Energie'!C:G,5,FALSE)","v":"v. Nahrungs- und Genussmittel, Tabak "},"Umgebungswärme",{"$f":"IFERROR(GETPIVOTDATA(\"Energie\",EM_Daten_u_Uebersicht!$W$5,\"Ziel-Subsektor\",C145,\"Energieträger\",F145),\"\")","v":""},{"$f":"IFERROR(GETPIVOTDATA(\"Summe von Energieeinsatz [MWh]\",I_Pivot!$G$3,\"ID\",C145,\"EM_Energieträger\",F145),\"\")","v":""},{"$f":"IFERROR(G145*VLOOKUP(F145,EM_Daten_u_Uebersicht!P:Q,2,FALSE),\"\")","v":""},{"$f":"IFERROR(GETPIVOTDATA(\"Summe von THG [t CO2eq]\",I_Pivot!$G$3,\"ID\",C145,\"EM_Energieträger\",F145),\"\")","v":""},"S1",null,null,null,null,null,null,null,null,null,null,null,null,null,null,null,null,null,null,null,"v. Nahrungs- und Genussmittel, Tabak ","Brennbare Abfälle","","",null,"","",0]
[143,16,{"$f":"VLOOKUP(B146,'I. Stationäre Energie'!C:E,3,FALSE)","v":"I.3.v."},null,{"$f":"VLOOKUP(B146,'I. Stationäre Energie'!C:G,5,FALSE)","v":"v. Nahrungs- und Genussmittel, Tabak "},"CO2-eq Direkteingabe",{"$f":"IFERROR(GETPIVOTDATA(\"Energie\",EM_Daten_u_Uebersicht!$W$5,\"Ziel-Subsektor\",C146,\"Energieträger\",F146),\"\")","v":""},{"$f":"IFERROR(GETPIVOTDATA(\"Summe von Energieeinsatz [MWh]\",I_Pivot!$G$3,\"ID\",C146,\"EM_Energieträger\",F146),\"\")","v":""},{"$f":"IFERROR(G146*VLOOKUP(F146,EM_Daten_u_Uebersicht!P:Q,2,FALSE),\"\")","v":""},{"$f":"IFERROR(GETPIVOTDATA(\"Summe von THG [t CO2eq]\",I_Pivot!$G$3,\"ID\",C146,\"EM_Energieträger\",F146),\"\")","v":""},"S1",null,null,null,null,null,null,null,null,null,null,null,null,null,null,null,null,null,null,null,"v. Nahrungs- und Genussmittel, Tabak ","Umgebungswärme","","",null,"","",0]
[144,17,{"$f":"VLOOKUP(B147,'I. Stationäre Energie'!C:E,3,FALSE)","v":"I.3.vi."},null,{"$f":"VLOOKUP(B147,'I. Stationäre Energie'!C:G,5,FALSE)","v":"vi. Steine und Erden, Glas "},"Kohle (Steinkohle, Braunkohle, Koks, Petrolkoks; Gichtgas, Kokereigas, Brenntorf)",{"$f":"IFERROR(GETPIVOTDATA(\"Energie\",EM_Daten_u_Uebersicht!$W$5,\"Ziel-Subsektor\",C147,\"Energieträger\",F147),\"\")","v":""},{"$f":"IFERROR(GETPIVOTDATA(\"Summe von Energieeinsatz [MWh]\",I_Pivot!$G$3,\"ID\",C147,\"EM_Energieträger\",F147),\"\")","v":""},{"$f":"IFERROR(G147*VLOOKUP(F147,EM_Daten_u_Uebersicht!P:Q,2,FALSE),\"\")","v":""},{"$f":"IFERROR(GETPIVOTDATA(\"Summe von THG [t CO2eq]\",I_Pivot!$G$3,\"ID\",C147,\"EM_Energieträger\",F147),\"\")","v":""},"S1",null,null,null,null,null,null,null,null,null,null,null,null,null,null,null,null,null,null,null,"v. Nahrungs- und Genussmittel, Tabak ","CO2-eq Direkteingabe","","",null,"","",0]
[145,17,{"$f":"VLOOKUP(B148,'I. Stationäre Energie'!C:E,3,FALSE)","v":"I.3.vi."},null,{"$f":"VLOOKUP(B148,'I. Stationäre Energie'!C:G,5,FALSE)","v":"vi. Steine und Erden, Glas "},"Öl (Heizöl, Gasöl für Heizzwecke, Diesel, Benzin, Petroleum, Flüssiggas)",{"$f":"IFERROR(GETPIVOTDATA(\"Energie\",EM_Daten_u_Uebersicht!$W$5,\"Ziel-Subsektor\",C148,\"Energieträger\",F148),\"\")","v":""},{"$f":"IFERROR(GETPIVOTDATA(\"Summe von Energieeinsatz [MWh]\",I_Pivot!$G$3,\"ID\",C148,\"EM_Energieträger\",F148),\"\")","v":""},{"$f":"IFERROR(G148*VLOOKUP(F148,EM_Daten_u_Uebersicht!P:Q,2,FALSE),\"\")","v":""},{"$f":"IFERROR(GETPIVOTDATA(\"Summe von THG [t CO2eq]\",I_Pivot!$G$3,\"ID\",C148,\"EM_Energieträger\",F148),\"\")","v":""},"S1",null,null,null,null,null,null,null,null,null,null,null,null,null,null,null,null,null,null,null,"vi. Steine und Erden, Glas ","Kohle (Steinkohle, Braunkohle, Koks, Petrolkoks; Gichtgas, Kokereigas, Brenntorf)","","",null,"","",0]
[146,17,{"$f":"VLOOKUP(B149,'I. Stationäre Energie'!C:E,3,FALSE)","v":"I.3.vi."},null,{"$f":"VLOOKUP(B149,'I. Stationäre Energie'!C:G,5,FALSE)","v":"vi. Steine und Erden, Glas "},"Erdgas",{"$f":"IFERROR(GETPIVOTDATA(\"Energie\",EM_Daten_u_Uebersicht!$W$5,\"Ziel-Subsektor\",C149,\"Energieträger\",F149),\"\")","v":""},{"$f":"IFERROR(GETPIVOTDATA(\"Summe von Energieeinsatz [MWh]\",I_Pivot!$G$3,\"ID\",C149,\"EM_Energieträger\",F149),\"\")","v":""},{"$f":"IFERROR(G149*VLOOKUP(F149,EM_Daten_u_Uebersicht!P:Q,2,FALSE),\"\")","v":""},{"$f":"IFERROR(GETPIVOTDATA(\"Summe von THG [t CO2eq]\",I_Pivot!$G$3,\"ID\",C149,\"EM_Energieträger\",F149),\"\")","v":""},"S1",null,null,null,null,null,null,null,null,null,null,null,null,null,null,null,null,null,null,null,"vi. Steine und Erden, Glas ","Öl (Heizöl, Gasöl für Heizzwecke, Diesel, Benzin, Petroleum, Flüssiggas)","","",null,"","",0]
[147,17,{"$f":"VLOOKUP(B150,'I. Stationäre Energie'!C:E,3,FALSE)","v":"I.3.vi."},null,{"$f":"VLOOKUP(B150,'I. Stationäre Energie'!C:G,5,FALSE)","v":"vi. Steine und Erden, Glas "},"elektrische Energie",{"$f":"IFERROR(GETPIVOTDATA(\"Energie\",EM_Daten_u_Uebersicht!$W$5,\"Ziel-Subsektor\",C150,\"Energieträger\",F150),\"\")","v":""},{"$f":"IFERROR(GETPIVOTDATA(\"Summe von Energieeinsatz [MWh]\",I_Pivot!$G$3,\"ID\",C150,\"EM_Energieträger\",F150),\"\")","v":""},{"$f":"IFERROR(G150*VLOOKUP(F150,EM_Daten_u_Uebersicht!P:Q,2,FALSE),\"\")","v":""},{"$f":"IFERROR(GETPIVOTDATA(\"Summe von THG [t CO2eq]\",I_Pivot!$G$3,\"ID\",C150,\"EM_Energieträger\",F150),\"\")","v":""},"S2",{"$f":"J150/0.94-J150","v":{"$error":"#VALUE!"}},null,null,null,null,null,null,null,null,null,null,null,null,null,null,null,null,null,null,"vi. Steine und Erden, Glas ","Erdgas","","",null,"","",0]
[148,17,{"$f":"VLOOKUP(B151,'I. Stationäre Energie'!C:E,3,FALSE)","v":"I.3.vi."},null,{"$f":"VLOOKUP(B151,'I. Stationäre Energie'!C:G,5,FALSE)","v":"vi. Steine und Erden, Glas "},"Fernwärme",{"$f":"IFERROR(GETPIVOTDATA(\"Energie\",EM_Daten_u_Uebersicht!$W$5,\"Ziel-Subsektor\",C151,\"Energieträger\",F151),\"\")","v":""},{"$f":"IFERROR(GETPIVOTDATA(\"Summe von Energieeinsatz [MWh]\",I_Pivot!$G$3,\"ID\",C151,\"EM_Energieträger\",F151),\"\")","v":""},{"$f":"IFERROR(G151*VLOOKUP(F151,EM_Daten_u_Uebersicht!P:Q,2,FALSE),\"\")","v":""},{"$f":"IFERROR(GETPIVOTDATA(\"Summe von THG [t CO2eq]\",I_Pivot!$G$3,\"ID\",C151,\"EM_Energieträger\",F151),\"\")","v":""},"S2",{"$f":"J151/0.86-J151","v":{"$error":"#VALUE!"}},null,null,null,null,null,null,null,null,null,null,null,null,null,null,null,null,null,null,"vi. Steine und Erden, Glas ","elektrische Energie","","",null,"","",""]
[149,17,{"$f":"VLOOKUP(B152,'I. Stationäre Energie'!C:E,3,FALSE)","v":"I.3.vi."},null,{"$f":"VLOOKUP(B152,'I. Stationäre Energie'!C:G,5,FALSE)","v":"vi. Steine und Erden, Glas "},"Biogene Brenn- und Treibstoffe (Brennholz, biogene Brenn- und Treibstoffe)",{"$f":"IFERROR(GETPIVOTDATA(\"Energie\",EM_Daten_u_Uebersicht!$W$5,\"Ziel-Subsektor\",C152,\"Energieträger\",F152),\"\")","v":""},{"$f":"IFERROR(GETPIVOTDATA(\"Summe von Energieeinsatz [MWh]\",I_Pivot!$G$3,\"ID\",C152,\"EM_Energieträger\",F152),\"\")","v":""},{"$f":"IFERROR(G152*VLOOKUP(F152,EM_Daten_u_Uebersicht!P:Q,2,FALSE),\"\")","v":""},{"$f":"IFERROR(GETPIVOTDATA(\"Summe von THG [t CO2eq]\",I_Pivot!$G$3,\"ID\",C152,\"EM_Energieträger\",F152),\"\")","v":""},"S1",null,null,null,null,null,null,null,null,null,null,null,null,null,null,null,null,null,null,null,"vi. Steine und Erden, Glas ","Fernwärme","","",null,"","",""]
[150,17,{"$f":"VLOOKUP(B153,'I. Stationäre Energie'!C:E,3,FALSE)","v":"I.3.vi."},null,{"$f":"VLOOKUP(B153,'I. Stationäre Energie'!C:G,5,FALSE)","v":"vi. Steine und Erden, Glas "},"Brennbare Abfälle",{"$f":"IFERROR(GETPIVOTDATA(\"Energie\",EM_Daten_u_Uebersicht!$W$5,\"Ziel-Subsektor\",C153,\"Energieträger\",F153),\"\")","v":""},{"$f":"IFERROR(GETPIVOTDATA(\"Summe von Energieeinsatz [MWh]\",I_Pivot!$G$3,\"ID\",C153,\"EM_Energieträger\",F153),\"\")","v":""},{"$f":"IFERROR(G153*VLOOKUP(F153,EM_Daten_u_Uebersicht!P:Q,2,FALSE),\"\")","v":""},{"$f":"IFERROR(GETPIVOTDATA(\"Summe von THG [t CO2eq]\",I_Pivot!$G$3,\"ID\",C153,\"EM_Energieträger\",F153),\"\")","v":""},"S1",null,null,null,null,null,null,null,null,null,null,null,null,null,null,null,null,null,null,null,"vi. Steine und Erden, Glas ","Biogene Brenn- und Treibstoffe (Brennholz, biogene Brenn- und Treibstoffe)","","",null,"","",0]
[151,17,{"$f":"VLOOKUP(B154,'I. Stationäre Energie'!C:E,3,FALSE)","v":"I.3.vi."},null,{"$f":"VLOOKUP(B154,'I. Stationäre Energie'!C:G,5,FALSE)","v":"vi. Steine und Erden, Glas "},"Umgebungswärme",{"$f":"IFERROR(GETPIVOTDATA(\"Energie\",EM_Daten_u_Uebersicht!$W$5,\"Ziel-Subsektor\",C154,\"Energieträger\",F154),\"\")","v":""},{"$f":"IFERROR(GETPIVOTDATA(\"Summe von Energieeinsatz [MWh]\",I_Pivot!$G$3,\"ID\",C154,\"EM_Energieträger\",F154),\"\")","v":""},{"$f":"IFERROR(G154*VLOOKUP(F154,EM_Daten_u_Uebersicht!P:Q,2,FALSE),\"\")","v":""},{"$f":"IFERROR(GETPIVOTDATA(\"Summe von THG [t CO2eq]\",I_Pivot!$G$3,\"ID\",C154,\"EM_Energieträger\",F154),\"\")","v":""},"S1",null,null,null,null,null,null,null,null,null,null,null,null,null,null,null,null,null,null,null,"vi. Steine und Erden, Glas ","Brennbare Abfälle","","",null,"","",0]
[152,17,{"$f":"VLOOKUP(B155,'I. Stationäre Energie'!C:E,3,FALSE)","v":"I.3.vi."},null,{"$f":"VLOOKUP(B155,'I. Stationäre Energie'!C:G,5,FALSE)","v":"vi. Steine und Erden, Glas "},"CO2-eq Direkteingabe",{"$f":"IFERROR(GETPIVOTDATA(\"Energie\",EM_Daten_u_Uebersicht!$W$5,\"Ziel-Subsektor\",C155,\"Energieträger\",F155),\"\")","v":""},{"$f":"IFERROR(GETPIVOTDATA(\"Summe von Energieeinsatz [MWh]\",I_Pivot!$G$3,\"ID\",C155,\"EM_Energieträger\",F155),\"\")","v":""},{"$f":"IFERROR(G155*VLOOKUP(F155,EM_Daten_u_Uebersicht!P:Q,2,FALSE),\"\")","v":""},{"$f":"IFERROR(GETPIVOTDATA(\"Summe von THG [t CO2eq]\",I_Pivot!$G$3,\"ID\",C155,\"EM_Energieträger\",F155),\"\")","v":""},"S1",null,null,null,null,null,null,null,null,null,null,null,null,null,null,null,null,null,null,null,"vi. Steine und Erden, Glas ","Umgebungswärme","","",null,"","",0]
[153,18,{"$f":"VLOOKUP(B156,'I. Stationäre Energie'!C:E,3,FALSE)","v":"I.3.vii."},null,{"$f":"VLOOKUP(B156,'I. Stationäre Energie'!C:G,5,FALSE)","v":"vii. Fahrzeugbau "},"Kohle (Steinkohle, Braunkohle, Koks, Petrolkoks; Gichtgas, Kokereigas, Brenntorf)",{"$f":"IFERROR(GETPIVOTDATA(\"Energie\",EM_Daten_u_Uebersicht!$W$5,\"Ziel-Subsektor\",C156,\"Energieträger\",F156),\"\")","v":""},{"$f":"IFERROR(GETPIVOTDATA(\"Summe von Energieeinsatz [MWh]\",I_Pivot!$G$3,\"ID\",C156,\"EM_Energieträger\",F156),\"\")","v":""},{"$f":"IFERROR(G156*VLOOKUP(F156,EM_Daten_u_Uebersicht!P:Q,2,FALSE),\"\")","v":""},{"$f":"IFERROR(GETPIVOTDATA(\"Summe von THG [t CO2eq]\",I_Pivot!$G$3,\"ID\",C156,\"EM_Energieträger\",F156),\"\")","v":""},"S1",null,null,null,null,null,null,null,null,null,null,null,null,null,null,null,null,null,null,null,"vi. Steine und Erden, Glas ","CO2-eq Direkteingabe","","",null,"","",0]
[154,18,{"$f":"VLOOKUP(B157,'I. Stationäre Energie'!C:E,3,FALSE)","v":"I.3.vii."},null,{"$f":"VLOOKUP(B157,'I. Stationäre Energie'!C:G,5,FALSE)","v":"vii. Fahrzeugbau "},"Öl (Heizöl, Gasöl für Heizzwecke, Diesel, Benzin, Petroleum, Flüssiggas)",{"$f":"IFERROR(GETPIVOTDATA(\"Energie\",EM_Daten_u_Uebersicht!$W$5,\"Ziel-Subsektor\",C157,\"Energieträger\",F157),\"\")","v":""},{"$f":"IFERROR(GETPIVOTDATA(\"Summe von Energieeinsatz [MWh]\",I_Pivot!$G$3,\"ID\",C157,\"EM_Energieträger\",F157),\"\")","v":""},{"$f":"IFERROR(G157*VLOOKUP(F157,EM_Daten_u_Uebersicht!P:Q,2,FALSE),\"\")","v":""},{"$f":"IFERROR(GETPIVOTDATA(\"Summe von THG [t CO2eq]\",I_Pivot!$G$3,\"ID\",C157,\"EM_Energieträger\",F157),\"\")","v":""},"S1",null,null,null,null,null,null,null,null,null,null,null,null,null,null,null,null,null,null,null,"vii. Fahrzeugbau ","Kohle (Steinkohle, Braunkohle, Koks, Petrolkoks; Gichtgas, Kokereigas, Brenntorf)","","",null,"","",0]
[155,18,{"$f":"VLOOKUP(B158,'I. Stationäre Energie'!C:E,3,FALSE)","v":"I.3.vii."},null,{"$f":"VLOOKUP(B158,'I. Stationäre Energie'!C:G,5,FALSE)","v":"vii. Fahrzeugbau "},"Erdgas",{"$f":"IFERROR(GETPIVOTDATA(\"Energie\",EM_Daten_u_Uebersicht!$W$5,\"Ziel-Subsektor\",C158,\"Energieträger\",F158),\"\")","v":""},{"$f":"IFERROR(GETPIVOTDATA(\"Summe von Energieeinsatz [MWh]\",I_Pivot!$G$3,\"ID\",C158,\"EM_Energieträger\",F158),\"\")","v":""},{"$f":"IFERROR(G158*VLOOKUP(F158,EM_Daten_u_Uebersicht!P:Q,2,FALSE),\"\")","v":""},{"$f":"IFERROR(GETPIVOTDATA(\"Summe von THG [t CO2eq]\",I_Pivot!$G$3,\"ID\",C158,\"EM_Energieträger\",F158),\"\")","v":""},"S1",null,null,null,null,null,null,null,null,null,null,null,null,null,null,null,null,null,null,null,"vii. Fahrzeugbau ","Öl (Heizöl, Gasöl für Heizzwecke, Diesel, Benzin, Petroleum, Flüssiggas)","","",null,"","",0]
[156,18,{"$f":"VLOOKUP(B159,'I. Stationäre Energie'!C:E,3,FALSE)","v":"I.3.vii."},null,{"$f":"VLOOKUP(B159,'I. Stationäre Energie'!C:G,5,FALSE)","v":"vii. Fahrzeugbau "},"elektrische Energie",{"$f":"IFERROR(GETPIVOTDATA(\"Energie\",EM_Daten_u_Uebersicht!$W$5,\"Ziel-Subsektor\",C159,\"Energieträger\",F159),\"\")","v":""},{"$f":"IFERROR(GETPIVOTDATA(\"Summe von Energieeinsatz [MWh]\",I_Pivot!$G$3,\"ID\",C159,\"EM_Energieträger\",F159),\"\")","v":""},{"$f":"IFERROR(G159*VLOOKUP(F159,EM_Daten_u_Uebersicht!P:Q,2,FALSE),\"\")","v":""},{"$f":"IFERROR(GETPIVOTDATA(\"Summe von THG [t CO2eq]\",I_Pivot!$G$3,\"ID\",C159,\"EM_Energieträger\",F159),\"\")","v":""},"S2",{"$f":"J159/0.94-J159","v":{"$error":"#VALUE!"}},null,null,null,null,null,null,null,null,null,null,null,null,null,null,null,null,null,null,"vii. Fahrzeugbau ","Erdgas","","",null,"","",0]
[157,18,{"$f":"VLOOKUP(B160,'I. Stationäre Energie'!C:E,3,FALSE)","v":"I.3.vii."},null,{"$f":"VLOOKUP(B160,'I. Stationäre Energie'!C:G,5,FALSE)","v":"vii. Fahrzeugbau "},"Fernwärme",{"$f":"IFERROR(GETPIVOTDATA(\"Energie\",EM_Daten_u_Uebersicht!$W$5,\"Ziel-Subsektor\",C160,\"Energieträger\",F160),\"\")","v":""},{"$f":"IFERROR(GETPIVOTDATA(\"Summe von Energieeinsatz [MWh]\",I_Pivot!$G$3,\"ID\",C160,\"EM_Energieträger\",F160),\"\")","v":""},{"$f":"IFERROR(G160*VLOOKUP(F160,EM_Daten_u_Uebersicht!P:Q,2,FALSE),\"\")","v":""},{"$f":"IFERROR(GETPIVOTDATA(\"Summe von THG [t CO2eq]\",I_Pivot!$G$3,\"ID\",C160,\"EM_Energieträger\",F160),\"\")","v":""},"S2",{"$f":"J160/0.86-J160","v":{"$error":"#VALUE!"}},null,null,null,null,null,null,null,null,null,null,null,null,null,null,null,null,null,null,"vii. Fahrzeugbau ","elektrische Energie","","",null,"","",""]
[158,18,{"$f":"VLOOKUP(B161,'I. Stationäre Energie'!C:E,3,FALSE)","v":"I.3.vii."},null,{"$f":"VLOOKUP(B161,'I. Stationäre Energie'!C:G,5,FALSE)","v":"vii. Fahrzeugbau "},"Biogene Brenn- und Treibstoffe (Brennholz, biogene Brenn- und Treibstoffe)",{"$f":"IFERROR(GETPIVOTDATA(\"Energie\",EM_Daten_u_Uebersicht!$W$5,\"Ziel-Subsektor\",C161,\"Energieträger\",F161),\"\")","v":""},{"$f":"IFERROR(GETPIVOTDATA(\"Summe von Energieeinsatz [MWh]\",I_Pivot!$G$3,\"ID\",C161,\"EM_Energieträger\",F161),\"\")","v":""},{"$f":"IFERROR(G161*VLOOKUP(F161,EM_Daten_u_Uebersicht!P:Q,2,FALSE),\"\")","v":""},{"$f":"IFERROR(GETPIVOTDATA(\"Summe von THG [t CO2eq]\",I_Pivot!$G$3,\"ID\",C161,\"EM_Energieträger\",F161),\"\")","v":""},"S1",null,null,null,null,null,null,null,null,null,null,null,null,null,null,null,null,null,null,null,"vii. Fahrzeugbau ","Fernwärme","","",null,"","",""]
[159,18,{"$f":"VLOOKUP(B162,'I. Stationäre Energie'!C:E,3,FALSE)","v":"I.3.vii."},null,{"$f":"VLOOKUP(B162,'I. Stationäre Energie'!C:G,5,FALSE)","v":"vii. Fahrzeugbau "},"Brennbare Abfälle",{"$f":"IFERROR(GETPIVOTDATA(\"Energie\",EM_Daten_u_Uebersicht!$W$5,\"Ziel-Subsektor\",C162,\"Energieträger\",F162),\"\")","v":""},{"$f":"IFERROR(GETPIVOTDATA(\"Summe von Energieeinsatz [MWh]\",I_Pivot!$G$3,\"ID\",C162,\"EM_Energieträger\",F162),\"\")","v":""},{"$f":"IFERROR(G162*VLOOKUP(F162,EM_Daten_u_Uebersicht!P:Q,2,FALSE),\"\")","v":""},{"$f":"IFERROR(GETPIVOTDATA(\"Summe von THG [t CO2eq]\",I_Pivot!$G$3,\"ID\",C162,\"EM_Energieträger\",F162),\"\")","v":""},"S1",null,null,null,null,null,null,null,null,null,null,null,null,null,null,null,null,null,null,null,"vii. Fahrzeugbau ","Biogene Brenn- und Treibstoffe (Brennholz, biogene Brenn- und Treibstoffe)","","",null,"","",0]
[160,18,{"$f":"VLOOKUP(B163,'I. Stationäre Energie'!C:E,3,FALSE)","v":"I.3.vii."},null,{"$f":"VLOOKUP(B163,'I. Stationäre Energie'!C:G,5,FALSE)","v":"vii. Fahrzeugbau "},"Umgebungswärme",{"$f":"IFERROR(GETPIVOTDATA(\"Energie\",EM_Daten_u_Uebersicht!$W$5,\"Ziel-Subsektor\",C163,\"Energieträger\",F163),\"\")","v":""},{"$f":"IFERROR(GETPIVOTDATA(\"Summe von Energieeinsatz [MWh]\",I_Pivot!$G$3,\"ID\",C163,\"EM_Energieträger\",F163),\"\")","v":""},{"$f":"IFERROR(G163*VLOOKUP(F163,EM_Daten_u_Uebersicht!P:Q,2,FALSE),\"\")","v":""},{"$f":"IFERROR(GETPIVOTDATA(\"Summe von THG [t CO2eq]\",I_Pivot!$G$3,\"ID\",C163,\"EM_Energieträger\",F163),\"\")","v":""},"S1",null,null,null,null,null,null,null,null,null,null,null,null,null,null,null,null,null,null,null,"vii. Fahrzeugbau ","Brennbare Abfälle","","",null,"","",0]
[161,18,{"$f":"VLOOKUP(B164,'I. Stationäre Energie'!C:E,3,FALSE)","v":"I.3.vii."},null,{"$f":"VLOOKUP(B164,'I. Stationäre Energie'!C:G,5,FALSE)","v":"vii. Fahrzeugbau "},"CO2-eq Direkteingabe",{"$f":"IFERROR(GETPIVOTDATA(\"Energie\",EM_Daten_u_Uebersicht!$W$5,\"Ziel-Subsektor\",C164,\"Energieträger\",F164),\"\")","v":""},{"$f":"IFERROR(GETPIVOTDATA(\"Summe von Energieeinsatz [MWh]\",I_Pivot!$G$3,\"ID\",C164,\"EM_Energieträger\",F164),\"\")","v":""},{"$f":"IFERROR(G164*VLOOKUP(F164,EM_Daten_u_Uebersicht!P:Q,2,FALSE),\"\")","v":""},{"$f":"IFERROR(GETPIVOTDATA(\"Summe von THG [t CO2eq]\",I_Pivot!$G$3,\"ID\",C164,\"EM_Energieträger\",F164),\"\")","v":""},"S1",null,null,null,null,null,null,null,null,null,null,null,null,null,null,null,null,null,null,null,"vii. Fahrzeugbau ","Umgebungswärme","","",null,"","",0]
[162,19,{"$f":"VLOOKUP(B165,'I. Stationäre Energie'!C:E,3,FALSE)","v":"I.3.viii."},null,{"$f":"VLOOKUP(B165,'I. Stationäre Energie'!C:G,5,FALSE)","v":"viii. Maschinenbau "},"Kohle (Steinkohle, Braunkohle, Koks, Petrolkoks; Gichtgas, Kokereigas, Brenntorf)",{"$f":"IFERROR(GETPIVOTDATA(\"Energie\",EM_Daten_u_Uebersicht!$W$5,\"Ziel-Subsektor\",C165,\"Energieträger\",F165),\"\")","v":""},{"$f":"IFERROR(GETPIVOTDATA(\"Summe von Energieeinsatz [MWh]\",I_Pivot!$G$3,\"ID\",C165,\"EM_Energieträger\",F165),\"\")","v":""},{"$f":"IFERROR(G165*VLOOKUP(F165,EM_Daten_u_Uebersicht!P:Q,2,FALSE),\"\")","v":""},{"$f":"IFERROR(GETPIVOTDATA(\"Summe von THG [t CO2eq]\",I_Pivot!$G$3,\"ID\",C165,\"EM_Energieträger\",F165),\"\")","v":""},"S1",null,null,null,null,null,null,null,null,null,null,null,null,null,null,null,null,null,null,null,"vii. Fahrzeugbau ","CO2-eq Direkteingabe","","",null,"","",0]
[163,19,{"$f":"VLOOKUP(B166,'I. Stationäre Energie'!C:E,3,FALSE)","v":"I.3.viii."},null,{"$f":"VLOOKUP(B166,'I. Stationäre Energie'!C:G,5,FALSE)","v":"viii. Maschinenbau "},"Öl (Heizöl, Gasöl für Heizzwecke, Diesel, Benzin, Petroleum, Flüssiggas)",{"$f":"IFERROR(GETPIVOTDATA(\"Energie\",EM_Daten_u_Uebersicht!$W$5,\"Ziel-Subsektor\",C166,\"Energieträger\",F166),\"\")","v":""},{"$f":"IFERROR(GETPIVOTDATA(\"Summe von Energieeinsatz [MWh]\",I_Pivot!$G$3,\"ID\",C166,\"EM_Energieträger\",F166),\"\")","v":""},{"$f":"IFERROR(G166*VLOOKUP(F166,EM_Daten_u_Uebersicht!P:Q,2,FALSE),\"\")","v":""},{"$f":"IFERROR(GETPIVOTDATA(\"Summe von THG [t CO2eq]\",I_Pivot!$G$3,\"ID\",C166,\"EM_Energieträger\",F166),\"\")","v":""},"S1",null,null,null,null,null,null,null,null,null,null,null,null,null,null,null,null,null,null,null,"viii. Maschinenbau ","Kohle (Steinkohle, Braunkohle, Koks, Petrolkoks; Gichtgas, Kokereigas, Brenntorf)","","",null,"","",0]
[164,19,{"$f":"VLOOKUP(B167,'I. Stationäre Energie'!C:E,3,FALSE)","v":"I.3.viii."},null,{"$f":"VLOOKUP(B167,'I. Stationäre Energie'!C:G,5,FALSE)","v":"viii. Maschinenbau "},"Erdgas",{"$f":"IFERROR(GETPIVOTDATA(\"Energie\",EM_Daten_u_Uebersicht!$W$5,\"Ziel-Subsektor\",C167,\"Energieträger\",F167),\"\")","v":""},{"$f":"IFERROR(GETPIVOTDATA(\"Summe von Energieeinsatz [MWh]\",I_Pivot!$G$3,\"ID\",C167,\"EM_Energieträger\",F167),\"\")","v":""},{"$f":"IFERROR(G167*VLOOKUP(F167,EM_Daten_u_Uebersicht!P:Q,2,FALSE),\"\")","v":""},{"$f":"IFERROR(GETPIVOTDATA(\"Summe von THG [t CO2eq]\",I_Pivot!$G$3,\"ID\",C167,\"EM_Energieträger\",F167),\"\")","v":""},"S1",null,null,null,null,null,null,null,null,null,null,null,null,null,null,null,null,null,null,null,"viii. Maschinenbau ","Öl (Heizöl, Gasöl für Heizzwecke, Diesel, Benzin, Petroleum, Flüssiggas)","","",null,"","",0]
[165,19,{"$f":"VLOOKUP(B168,'I. Stationäre Energie'!C:E,3,FALSE)","v":"I.3.viii."},null,{"$f":"VLOOKUP(B168,'I. Stationäre Energie'!C:G,5,FALSE)","v":"viii. Maschinenbau "},"elektrische Energie",{"$f":"IFERROR(GETPIVOTDATA(\"Energie\",EM_Daten_u_Uebersicht!$W$5,\"Ziel-Subsektor\",C168,\"Energieträger\",F168),\"\")","v":""},{"$f":"IFERROR(GETPIVOTDATA(\"Summe von Energieeinsatz [MWh]\",I_Pivot!$G$3,\"ID\",C168,\"EM_Energieträger\",F168),\"\")","v":""},{"$f":"IFERROR(G168*VLOOKUP(F168,EM_Daten_u_Uebersicht!P:Q,2,FALSE),\"\")","v":""},{"$f":"IFERROR(GETPIVOTDATA(\"Summe von THG [t CO2eq]\",I_Pivot!$G$3,\"ID\",C168,\"EM_Energieträger\",F168),\"\")","v":""},"S2",{"$f":"J168/0.94-J168","v":{"$error":"#VALUE!"}},null,null,null,null,null,null,null,null,null,null,null,null,null,null,null,null,null,null,"viii. Maschinenbau ","Erdgas","","",null,"","",0]
[166,19,{"$f":"VLOOKUP(B169,'I. Stationäre Energie'!C:E,3,FALSE)","v":"I.3.viii."},null,{"$f":"VLOOKUP(B169,'I. Stationäre Energie'!C:G,5,FALSE)","v":"viii. Maschinenbau "},"Fernwärme",{"$f":"IFERROR(GETPIVOTDATA(\"Energie\",EM_Daten_u_Uebersicht!$W$5,\"Ziel-Subsektor\",C169,\"Energieträger\",F169),\"\")","v":""},{"$f":"IFERROR(GETPIVOTDATA(\"Summe von Energieeinsatz [MWh]\",I_Pivot!$G$3,\"ID\",C169,\"EM_Energieträger\",F169),\"\")","v":""},{"$f":"IFERROR(G169*VLOOKUP(F169,EM_Daten_u_Uebersicht!P:Q,2,FALSE),\"\")","v":""},{"$f":"IFERROR(GETPIVOTDATA(\"Summe von THG [t CO2eq]\",I_Pivot!$G$3,\"ID\",C169,\"EM_Energieträger\",F169),\"\")","v":""},"S2",{"$f":"J169/0.86-J169","v":{"$error":"#VALUE!"}},null,null,null,null,null,null,null,null,null,null,null,null,null,null,null,null,null,null,"viii. Maschinenbau ","elektrische Energie","","",null,"","",""]
[167,19,{"$f":"VLOOKUP(B170,'I. Stationäre Energie'!C:E,3,FALSE)","v":"I.3.viii."},null,{"$f":"VLOOKUP(B170,'I. Stationäre Energie'!C:G,5,FALSE)","v":"viii. Maschinenbau "},"Biogene Brenn- und Treibstoffe (Brennholz, biogene Brenn- und Treibstoffe)",{"$f":"IFERROR(GETPIVOTDATA(\"Energie\",EM_Daten_u_Uebersicht!$W$5,\"Ziel-Subsektor\",C170,\"Energieträger\",F170),\"\")","v":""},{"$f":"IFERROR(GETPIVOTDATA(\"Summe von Energieeinsatz [MWh]\",I_Pivot!$G$3,\"ID\",C170,\"EM_Energieträger\",F170),\"\")","v":""},{"$f":"IFERROR(G170*VLOOKUP(F170,EM_Daten_u_Uebersicht!P:Q,2,FALSE),\"\")","v":""},{"$f":"IFERROR(GETPIVOTDATA(\"Summe von THG [t CO2eq]\",I_Pivot!$G$3,\"ID\",C170,\"EM_Energieträger\",F170),\"\")","v":""},"S1",null,null,null,null,null,null,null,null,null,null,null,null,null,null,null,null,null,null,null,"viii. Maschinenbau ","Fernwärme","","",null,"","",""]
[168,19,{"$f":"VLOOKUP(B171,'I. Stationäre Energie'!C:E,3,FALSE)","v":"I.3.viii."},null,{"$f":"VLOOKUP(B171,'I. Stationäre Energie'!C:G,5,FALSE)","v":"viii. Maschinenbau "},"Brennbare Abfälle",{"$f":"IFERROR(GETPIVOTDATA(\"Energie\",EM_Daten_u_Uebersicht!$W$5,\"Ziel-Subsektor\",C171,\"Energieträger\",F171),\"\")","v":""},{"$f":"IFERROR(GETPIVOTDATA(\"Summe von Energieeinsatz [MWh]\",I_Pivot!$G$3,\"ID\",C171,\"EM_Energieträger\",F171),\"\")","v":""},{"$f":"IFERROR(G171*VLOOKUP(F171,EM_Daten_u_Uebersicht!P:Q,2,FALSE),\"\")","v":""},{"$f":"IFERROR(GETPIVOTDATA(\"Summe von THG [t CO2eq]\",I_Pivot!$G$3,\"ID\",C171,\"EM_Energieträger\",F171),\"\")","v":""},"S1",null,null,null,null,null,null,null,null,null,null,null,null,null,null,null,null,null,null,null,"viii. Maschinenbau ","Biogene Brenn- und Treibstoffe (Brennholz, biogene Brenn- und Treibstoffe)","","",null,"","",0]
[169,19,{"$f":"VLOOKUP(B172,'I. Stationäre Energie'!C:E,3,FALSE)","v":"I.3.viii."},null,{"$f":"VLOOKUP(B172,'I. Stationäre Energie'!C:G,5,FALSE)","v":"viii. Maschinenbau "},"Umgebungswärme",{"$f":"IFERROR(GETPIVOTDATA(\"Energie\",EM_Daten_u_Uebersicht!$W$5,\"Ziel-Subsektor\",C172,\"Energieträger\",F172),\"\")","v":""},{"$f":"IFERROR(GETPIVOTDATA(\"Summe von Energieeinsatz [MWh]\",I_Pivot!$G$3,\"ID\",C172,\"EM_Energieträger\",F172),\"\")","v":""},{"$f":"IFERROR(G172*VLOOKUP(F172,EM_Daten_u_Uebersicht!P:Q,2,FALSE),\"\")","v":""},{"$f":"IFERROR(GETPIVOTDATA(\"Summe von THG [t CO2eq]\",I_Pivot!$G$3,\"ID\",C172,\"EM_Energieträger\",F172),\"\")","v":""},"S1",null,null,null,null,null,null,null,null,null,null,null,null,null,null,null,null,null,null,null,"viii. Maschinenbau ","Brennbare Abfälle","","",null,"","",0]
[170,19,{"$f":"VLOOKUP(B173,'I. Stationäre Energie'!C:E,3,FALSE)","v":"I.3.viii."},null,{"$f":"VLOOKUP(B173,'I. Stationäre Energie'!C:G,5,FALSE)","v":"viii. Maschinenbau "},"CO2-eq Direkteingabe",{"$f":"IFERROR(GETPIVOTDATA(\"Energie\",EM_Daten_u_Uebersicht!$W$5,\"Ziel-Subsektor\",C173,\"Energieträger\",F173),\"\")","v":""},{"$f":"IFERROR(GETPIVOTDATA(\"Summe von Energieeinsatz [MWh]\",I_Pivot!$G$3,\"ID\",C173,\"EM_Energieträger\",F173),\"\")","v":""},{"$f":"IFERROR(G173*VLOOKUP(F173,EM_Daten_u_Uebersicht!P:Q,2,FALSE),\"\")","v":""},{"$f":"IFERROR(GETPIVOTDATA(\"Summe von THG [t CO2eq]\",I_Pivot!$G$3,\"ID\",C173,\"EM_Energieträger\",F173),\"\")","v":""},"S1",null,null,null,null,null,null,null,null,null,null,null,null,null,null,null,null,null,null,null,"viii. Maschinenbau ","Umgebungswärme","","",null,"","",0]
[171,20,{"$f":"VLOOKUP(B174,'I. Stationäre Energie'!C:E,3,FALSE)","v":"I.3.ix."},null,{"$f":"VLOOKUP(B174,'I. Stationäre Energie'!C:G,5,FALSE)","v":"ix. Bergbau "},"Kohle (Steinkohle, Braunkohle, Koks, Petrolkoks; Gichtgas, Kokereigas, Brenntorf)",{"$f":"IFERROR(GETPIVOTDATA(\"Energie\",EM_Daten_u_Uebersicht!$W$5,\"Ziel-Subsektor\",C174,\"Energieträger\",F174),\"\")","v":""},{"$f":"IFERROR(GETPIVOTDATA(\"Summe von Energieeinsatz [MWh]\",I_Pivot!$G$3,\"ID\",C174,\"EM_Energieträger\",F174),\"\")","v":""},{"$f":"IFERROR(G174*VLOOKUP(F174,EM_Daten_u_Uebersicht!P:Q,2,FALSE),\"\")","v":""},{"$f":"IFERROR(GETPIVOTDATA(\"Summe von THG [t CO2eq]\",I_Pivot!$G$3,\"ID\",C174,\"EM_Energieträger\",F174),\"\")","v":""},"S1",null,null,null,null,null,null,null,null,null,null,null,null,null,null,null,null,null,null,null,"viii. Maschinenbau ","CO2-eq Direkteingabe","","",null,"","",0]
[172,20,{"$f":"VLOOKUP(B175,'I. Stationäre Energie'!C:E,3,FALSE)","v":"I.3.ix."},null,{"$f":"VLOOKUP(B175,'I. Stationäre Energie'!C:G,5,FALSE)","v":"ix. Bergbau "},"Öl (Heizöl, Gasöl für Heizzwecke, Diesel, Benzin, Petroleum, Flüssiggas)",{"$f":"IFERROR(GETPIVOTDATA(\"Energie\",EM_Daten_u_Uebersicht!$W$5,\"Ziel-Subsektor\",C175,\"Energieträger\",F175),\"\")","v":""},{"$f":"IFERROR(GETPIVOTDATA(\"Summe von Energieeinsatz [MWh]\",I_Pivot!$G$3,\"ID\",C175,\"EM_Energieträger\",F175),\"\")","v":""},{"$f":"IFERROR(G175*VLOOKUP(F175,EM_Daten_u_Uebersicht!P:Q,2,FALSE),\"\")","v":""},{"$f":"IFERROR(GETPIVOTDATA(\"Summe von THG [t CO2eq]\",I_Pivot!$G$3,\"ID\",C175,\"EM_Energieträger\",F175),\"\")","v":""},"S1",null,null,null,null,null,null,null,null,null,null,null,null,null,null,null,null,null,null,null,"ix. Bergbau ","Kohle (Steinkohle, Braunkohle, Koks, Petrolkoks; Gichtgas, Kokereigas, Brenntorf)","","",null,"","",0]
[173,20,{"$f":"VLOOKUP(B176,'I. Stationäre Energie'!C:E,3,FALSE)","v":"I.3.ix."},null,{"$f":"VLOOKUP(B176,'I. Stationäre Energie'!C:G,5,FALSE)","v":"ix. Bergbau "},"Erdgas",{"$f":"IFERROR(GETPIVOTDATA(\"Energie\",EM_Daten_u_Uebersicht!$W$5,\"Ziel-Subsektor\",C176,\"Energieträger\",F176),\"\")","v":""},{"$f":"IFERROR(GETPIVOTDATA(\"Summe von Energieeinsatz [MWh]\",I_Pivot!$G$3,\"ID\",C176,\"EM_Energieträger\",F176),\"\")","v":""},{"$f":"IFERROR(G176*VLOOKUP(F176,EM_Daten_u_Uebersicht!P:Q,2,FALSE),\"\")","v":""},{"$f":"IFERROR(GETPIVOTDATA(\"Summe von THG [t CO2eq]\",I_Pivot!$G$3,\"ID\",C176,\"EM_Energieträger\",F176),\"\")","v":""},"S1",null,null,null,null,null,null,null,null,null,null,null,null,null,null,null,null,null,null,null,"ix. Bergbau ","Öl (Heizöl, Gasöl für Heizzwecke, Diesel, Benzin, Petroleum, Flüssiggas)","","",null,"","",0]
[174,20,{"$f":"VLOOKUP(B177,'I. Stationäre Energie'!C:E,3,FALSE)","v":"I.3.ix."},null,{"$f":"VLOOKUP(B177,'I. Stationäre Energie'!C:G,5,FALSE)","v":"ix. Bergbau "},"elektrische Energie",{"$f":"IFERROR(GETPIVOTDATA(\"Energie\",EM_Daten_u_Uebersicht!$W$5,\"Ziel-Subsektor\",C177,\"Energieträger\",F177),\"\")","v":""},{"$f":"IFERROR(GETPIVOTDATA(\"Summe von Energieeinsatz [MWh]\",I_Pivot!$G$3,\"ID\",C177,\"EM_Energieträger\",F177),\"\")","v":""},{"$f":"IFERROR(G177*VLOOKUP(F177,EM_Daten_u_Uebersicht!P:Q,2,FALSE),\"\")","v":""},{"$f":"IFERROR(GETPIVOTDATA(\"Summe von THG [t CO2eq]\",I_Pivot!$G$3,\"ID\",C177,\"EM_Energieträger\",F177),\"\")","v":""},"S2",{"$f":"J177/0.94-J177","v":{"$error":"#VALUE!"}},null,null,null,null,null,null,null,null,null,null,null,null,null,null,null,null,null,null,"ix. Bergbau ","Erdgas","","",null,"","",0]
[175,20,{"$f":"VLOOKUP(B178,'I. Stationäre Energie'!C:E,3,FALSE)","v":"I.3.ix."},null,{"$f":"VLOOKUP(B178,'I. Stationäre Energie'!C:G,5,FALSE)","v":"ix. Bergbau "},"Fernwärme",{"$f":"IFERROR(GETPIVOTDATA(\"Energie\",EM_Daten_u_Uebersicht!$W$5,\"Ziel-Subsektor\",C178,\"Energieträger\",F178),\"\")","v":""},{"$f":"IFERROR(GETPIVOTDATA(\"Summe von Energieeinsatz [MWh]\",I_Pivot!$G$3,\"ID\",C178,\"EM_Energieträger\",F178),\"\")","v":""},{"$f":"IFERROR(G178*VLOOKUP(F178,EM_Daten_u_Uebersicht!P:Q,2,FALSE),\"\")","v":""},{"$f":"IFERROR(GETPIVOTDATA(\"Summe von THG [t CO2eq]\",I_Pivot!$G$3,\"ID\",C178,\"EM_Energieträger\",F178),\"\")","v":""},"S2",{"$f":"J178/0.86-J178","v":{"$error":"#VALUE!"}},null,null,null,null,null,null,null,null,null,null,null,null,null,null,null,null,null,null,"ix. Bergbau ","elektrische Energie","","",null,"","",""]
[176,20,{"$f":"VLOOKUP(B179,'I. Stationäre Energie'!C:E,3,FALSE)","v":"I.3.ix."},null,{"$f":"VLOOKUP(B179,'I. Stationäre Energie'!C:G,5,FALSE)","v":"ix. Bergbau "},"Biogene Brenn- und Treibstoffe (Brennholz, biogene Brenn- und Treibstoffe)",{"$f":"IFERROR(GETPIVOTDATA(\"Energie\",EM_Daten_u_Uebersicht!$W$5,\"Ziel-Subsektor\",C179,\"Energieträger\",F179),\"\")","v":""},{"$f":"IFERROR(GETPIVOTDATA(\"Summe von Energieeinsatz [MWh]\",I_Pivot!$G$3,\"ID\",C179,\"EM_Energieträger\",F179),\"\")","v":""},{"$f":"IFERROR(G179*VLOOKUP(F179,EM_Daten_u_Uebersicht!P:Q,2,FALSE),\"\")","v":""},{"$f":"IFERROR(GETPIVOTDATA(\"Summe von THG [t CO2eq]\",I_Pivot!$G$3,\"ID\",C179,\"EM_Energieträger\",F179),\"\")","v":""},"S1",null,null,null,null,null,null,null,null,null,null,null,null,null,null,null,null,null,null,null,"ix. Bergbau ","Fernwärme","","",null,"","",""]
[177,20,{"$f":"VLOOKUP(B180,'I. Stationäre Energie'!C:E,3,FALSE)","v":"I.3.ix."},null,{"$f":"VLOOKUP(B180,'I. Stationäre Energie'!C:G,5,FALSE)","v":"ix. Bergbau "},"Brennbare Abfälle",{"$f":"IFERROR(GETPIVOTDATA(\"Energie\",EM_Daten_u_Uebersicht!$W$5,\"Ziel-Subsektor\",C180,\"Energieträger\",F180),\"\")","v":""},{"$f":"IFERROR(GETPIVOTDATA(\"Summe von Energieeinsatz [MWh]\",I_Pivot!$G$3,\"ID\",C180,\"EM_Energieträger\",F180),\"\")","v":""},{"$f":"IFERROR(G180*VLOOKUP(F180,EM_Daten_u_Uebersicht!P:Q,2,FALSE),\"\")","v":""},{"$f":"IFERROR(GETPIVOTDATA(\"Summe von THG [t CO2eq]\",I_Pivot!$G$3,\"ID\",C180,\"EM_Energieträger\",F180),\"\")","v":""},"S1",null,null,null,null,null,null,null,null,null,null,null,null,null,null,null,null,null,null,null,"ix. Bergbau ","Biogene Brenn- und Treibstoffe (Brennholz, biogene Brenn- und Treibstoffe)","","",null,"","",0]
[178,20,{"$f":"VLOOKUP(B181,'I. Stationäre Energie'!C:E,3,FALSE)","v":"I.3.ix."},null,{"$f":"VLOOKUP(B181,'I. Stationäre Energie'!C:G,5,FALSE)","v":"ix. Bergbau "},"Umgebungswärme",{"$f":"IFERROR(GETPIVOTDATA(\"Energie\",EM_Daten_u_Uebersicht!$W$5,\"Ziel-Subsektor\",C181,\"Energieträger\",F181),\"\")","v":""},{"$f":"IFERROR(GETPIVOTDATA(\"Summe von Energieeinsatz [MWh]\",I_Pivot!$G$3,\"ID\",C181,\"EM_Energieträger\",F181),\"\")","v":""},{"$f":"IFERROR(G181*VLOOKUP(F181,EM_Daten_u_Uebersicht!P:Q,2,FALSE),\"\")","v":""},{"$f":"IFERROR(GETPIVOTDATA(\"Summe von THG [t CO2eq]\",I_Pivot!$G$3,\"ID\",C181,\"EM_Energieträger\",F181),\"\")","v":""},"S1",null,null,null,null,null,null,null,null,null,null,null,null,null,null,null,null,null,null,null,"ix. Bergbau ","Brennbare Abfälle","","",null,"","",0]
[179,20,{"$f":"VLOOKUP(B182,'I. Stationäre Energie'!C:E,3,FALSE)","v":"I.3.ix."},null,{"$f":"VLOOKUP(B182,'I. Stationäre Energie'!C:G,5,FALSE)","v":"ix. Bergbau "},"CO2-eq Direkteingabe",{"$f":"IFERROR(GETPIVOTDATA(\"Energie\",EM_Daten_u_Uebersicht!$W$5,\"Ziel-Subsektor\",C182,\"Energieträger\",F182),\"\")","v":""},{"$f":"IFERROR(GETPIVOTDATA(\"Summe von Energieeinsatz [MWh]\",I_Pivot!$G$3,\"ID\",C182,\"EM_Energieträger\",F182),\"\")","v":""},{"$f":"IFERROR(G182*VLOOKUP(F182,EM_Daten_u_Uebersicht!P:Q,2,FALSE),\"\")","v":""},{"$f":"IFERROR(GETPIVOTDATA(\"Summe von THG [t CO2eq]\",I_Pivot!$G$3,\"ID\",C182,\"EM_Energieträger\",F182),\"\")","v":""},"S1",null,null,null,null,null,null,null,null,null,null,null,null,null,null,null,null,null,null,null,"ix. Bergbau ","Umgebungswärme","","",null,"","",0]
[180,21,{"$f":"VLOOKUP(B183,'I. Stationäre Energie'!C:E,3,FALSE)","v":"I.3.x."},null,{"$f":"VLOOKUP(B183,'I. Stationäre Energie'!C:G,5,FALSE)","v":"x. Holzverarbeitung "},"Kohle (Steinkohle, Braunkohle, Koks, Petrolkoks; Gichtgas, Kokereigas, Brenntorf)",{"$f":"IFERROR(GETPIVOTDATA(\"Energie\",EM_Daten_u_Uebersicht!$W$5,\"Ziel-Subsektor\",C183,\"Energieträger\",F183),\"\")","v":""},{"$f":"IFERROR(GETPIVOTDATA(\"Summe von Energieeinsatz [MWh]\",I_Pivot!$G$3,\"ID\",C183,\"EM_Energieträger\",F183),\"\")","v":""},{"$f":"IFERROR(G183*VLOOKUP(F183,EM_Daten_u_Uebersicht!P:Q,2,FALSE),\"\")","v":""},{"$f":"IFERROR(GETPIVOTDATA(\"Summe von THG [t CO2eq]\",I_Pivot!$G$3,\"ID\",C183,\"EM_Energieträger\",F183),\"\")","v":""},"S1",null,null,null,null,null,null,null,null,null,null,null,null,null,null,null,null,null,null,null,"ix. Bergbau ","CO2-eq Direkteingabe","","",null,"","",0]
[181,21,{"$f":"VLOOKUP(B184,'I. Stationäre Energie'!C:E,3,FALSE)","v":"I.3.x."},null,{"$f":"VLOOKUP(B184,'I. Stationäre Energie'!C:G,5,FALSE)","v":"x. Holzverarbeitung "},"Öl (Heizöl, Gasöl für Heizzwecke, Diesel, Benzin, Petroleum, Flüssiggas)",{"$f":"IFERROR(GETPIVOTDATA(\"Energie\",EM_Daten_u_Uebersicht!$W$5,\"Ziel-Subsektor\",C184,\"Energieträger\",F184),\"\")","v":""},{"$f":"IFERROR(GETPIVOTDATA(\"Summe von Energieeinsatz [MWh]\",I_Pivot!$G$3,\"ID\",C184,\"EM_Energieträger\",F184),\"\")","v":""},{"$f":"IFERROR(G184*VLOOKUP(F184,EM_Daten_u_Uebersicht!P:Q,2,FALSE),\"\")","v":""},{"$f":"IFERROR(GETPIVOTDATA(\"Summe von THG [t CO2eq]\",I_Pivot!$G$3,\"ID\",C184,\"EM_Energieträger\",F184),\"\")","v":""},"S1",null,null,null,null,null,null,null,null,null,null,null,null,null,null,null,null,null,null,null,"x. Holzverarbeitung ","Kohle (Steinkohle, Braunkohle, Koks, Petrolkoks; Gichtgas, Kokereigas, Brenntorf)","","",null,"","",0]
[182,21,{"$f":"VLOOKUP(B185,'I. Stationäre Energie'!C:E,3,FALSE)","v":"I.3.x."},null,{"$f":"VLOOKUP(B185,'I. Stationäre Energie'!C:G,5,FALSE)","v":"x. Holzverarbeitung "},"Erdgas",{"$f":"IFERROR(GETPIVOTDATA(\"Energie\",EM_Daten_u_Uebersicht!$W$5,\"Ziel-Subsektor\",C185,\"Energieträger\",F185),\"\")","v":""},{"$f":"IFERROR(GETPIVOTDATA(\"Summe von Energieeinsatz [MWh]\",I_Pivot!$G$3,\"ID\",C185,\"EM_Energieträger\",F185),\"\")","v":""},{"$f":"IFERROR(G185*VLOOKUP(F185,EM_Daten_u_Uebersicht!P:Q,2,FALSE),\"\")","v":""},{"$f":"IFERROR(GETPIVOTDATA(\"Summe von THG [t CO2eq]\",I_Pivot!$G$3,\"ID\",C185,\"EM_Energieträger\",F185),\"\")","v":""},"S1",null,null,null,null,null,null,null,null,null,null,null,null,null,null,null,null,null,null,null,"x. Holzverarbeitung ","Öl (Heizöl, Gasöl für Heizzwecke, Diesel, Benzin, Petroleum, Flüssiggas)","","",null,"","",0]
[183,21,{"$f":"VLOOKUP(B186,'I. Stationäre Energie'!C:E,3,FALSE)","v":"I.3.x."},null,{"$f":"VLOOKUP(B186,'I. Stationäre Energie'!C:G,5,FALSE)","v":"x. Holzverarbeitung "},"elektrische Energie",{"$f":"IFERROR(GETPIVOTDATA(\"Energie\",EM_Daten_u_Uebersicht!$W$5,\"Ziel-Subsektor\",C186,\"Energieträger\",F186),\"\")","v":""},{"$f":"IFERROR(GETPIVOTDATA(\"Summe von Energieeinsatz [MWh]\",I_Pivot!$G$3,\"ID\",C186,\"EM_Energieträger\",F186),\"\")","v":""},{"$f":"IFERROR(G186*VLOOKUP(F186,EM_Daten_u_Uebersicht!P:Q,2,FALSE),\"\")","v":""},{"$f":"IFERROR(GETPIVOTDATA(\"Summe von THG [t CO2eq]\",I_Pivot!$G$3,\"ID\",C186,\"EM_Energieträger\",F186),\"\")","v":""},"S2",{"$f":"J186/0.94-J186","v":{"$error":"#VALUE!"}},null,null,null,null,null,null,null,null,null,null,null,null,null,null,null,null,null,null,"x. Holzverarbeitung ","Erdgas","","",null,"","",0]
[184,21,{"$f":"VLOOKUP(B187,'I. Stationäre Energie'!C:E,3,FALSE)","v":"I.3.x."},null,{"$f":"VLOOKUP(B187,'I. Stationäre Energie'!C:G,5,FALSE)","v":"x. Holzverarbeitung "},"Fernwärme",{"$f":"IFERROR(GETPIVOTDATA(\"Energie\",EM_Daten_u_Uebersicht!$W$5,\"Ziel-Subsektor\",C187,\"Energieträger\",F187),\"\")","v":""},{"$f":"IFERROR(GETPIVOTDATA(\"Summe von Energieeinsatz [MWh]\",I_Pivot!$G$3,\"ID\",C187,\"EM_Energieträger\",F187),\"\")","v":""},{"$f":"IFERROR(G187*VLOOKUP(F187,EM_Daten_u_Uebersicht!P:Q,2,FALSE),\"\")","v":""},{"$f":"IFERROR(GETPIVOTDATA(\"Summe von THG [t CO2eq]\",I_Pivot!$G$3,\"ID\",C187,\"EM_Energieträger\",F187),\"\")","v":""},"S2",{"$f":"J187/0.86-J187","v":{"$error":"#VALUE!"}},null,null,null,null,null,null,null,null,null,null,null,null,null,null,null,null,null,null,"x. Holzverarbeitung ","elektrische Energie","","",null,"","",""]
[185,21,{"$f":"VLOOKUP(B188,'I. Stationäre Energie'!C:E,3,FALSE)","v":"I.3.x."},null,{"$f":"VLOOKUP(B188,'I. Stationäre Energie'!C:G,5,FALSE)","v":"x. Holzverarbeitung "},"Biogene Brenn- und Treibstoffe (Brennholz, biogene Brenn- und Treibstoffe)",{"$f":"IFERROR(GETPIVOTDATA(\"Energie\",EM_Daten_u_Uebersicht!$W$5,\"Ziel-Subsektor\",C188,\"Energieträger\",F188),\"\")","v":""},{"$f":"IFERROR(GETPIVOTDATA(\"Summe von Energieeinsatz [MWh]\",I_Pivot!$G$3,\"ID\",C188,\"EM_Energieträger\",F188),\"\")","v":""},{"$f":"IFERROR(G188*VLOOKUP(F188,EM_Daten_u_Uebersicht!P:Q,2,FALSE),\"\")","v":""},{"$f":"IFERROR(GETPIVOTDATA(\"Summe von THG [t CO2eq]\",I_Pivot!$G$3,\"ID\",C188,\"EM_Energieträger\",F188),\"\")","v":""},"S1",null,null,null,null,null,null,null,null,null,null,null,null,null,null,null,null,null,null,null,"x. Holzverarbeitung ","Fernwärme","","",null,"","",""]
[186,21,{"$f":"VLOOKUP(B189,'I. Stationäre Energie'!C:E,3,FALSE)","v":"I.3.x."},null,{"$f":"VLOOKUP(B189,'I. Stationäre Energie'!C:G,5,FALSE)","v":"x. Holzverarbeitung "},"Brennbare Abfälle",{"$f":"IFERROR(GETPIVOTDATA(\"Energie\",EM_Daten_u_Uebersicht!$W$5,\"Ziel-Subsektor\",C189,\"Energieträger\",F189),\"\")","v":""},{"$f":"IFERROR(GETPIVOTDATA(\"Summe von Energieeinsatz [MWh]\",I_Pivot!$G$3,\"ID\",C189,\"EM_Energieträger\",F189),\"\")","v":""},{"$f":"IFERROR(G189*VLOOKUP(F189,EM_Daten_u_Uebersicht!P:Q,2,FALSE),\"\")","v":""},{"$f":"IFERROR(GETPIVOTDATA(\"Summe von THG [t CO2eq]\",I_Pivot!$G$3,\"ID\",C189,\"EM_Energieträger\",F189),\"\")","v":""},"S1",null,null,null,null,null,null,null,null,null,null,null,null,null,null,null,null,null,null,null,"x. Holzverarbeitung ","Biogene Brenn- und Treibstoffe (Brennholz, biogene Brenn- und Treibstoffe)","","",null,"","",0]
[187,21,{"$f":"VLOOKUP(B190,'I. Stationäre Energie'!C:E,3,FALSE)","v":"I.3.x."},null,{"$f":"VLOOKUP(B190,'I. Stationäre Energie'!C:G,5,FALSE)","v":"x. Holzverarbeitung "},"Umgebungswärme",{"$f":"IFERROR(GETPIVOTDATA(\"Energie\",EM_Daten_u_Uebersicht!$W$5,\"Ziel-Subsektor\",C190,\"Energieträger\",F190),\"\")","v":""},{"$f":"IFERROR(GETPIVOTDATA(\"Summe von Energieeinsatz [MWh]\",I_Pivot!$G$3,\"ID\",C190,\"EM_Energieträger\",F190),\"\")","v":""},{"$f":"IFERROR(G190*VLOOKUP(F190,EM_Daten_u_Uebersicht!P:Q,2,FALSE),\"\")","v":""},{"$f":"IFERROR(GETPIVOTDATA(\"Summe von THG [t CO2eq]\",I_Pivot!$G$3,\"ID\",C190,\"EM_Energieträger\",F190),\"\")","v":""},"S1",null,null,null,null,null,null,null,null,null,null,null,null,null,null,null,null,null,null,null,"x. Holzverarbeitung ","Brennbare Abfälle","","",null,"","",0]
[188,21,{"$f":"VLOOKUP(B191,'I. Stationäre Energie'!C:E,3,FALSE)","v":"I.3.x."},null,{"$f":"VLOOKUP(B191,'I. Stationäre Energie'!C:G,5,FALSE)","v":"x. Holzverarbeitung "},"CO2-eq Direkteingabe",{"$f":"IFERROR(GETPIVOTDATA(\"Energie\",EM_Daten_u_Uebersicht!$W$5,\"Ziel-Subsektor\",C191,\"Energieträger\",F191),\"\")","v":""},{"$f":"IFERROR(GETPIVOTDATA(\"Summe von Energieeinsatz [MWh]\",I_Pivot!$G$3,\"ID\",C191,\"EM_Energieträger\",F191),\"\")","v":""},{"$f":"IFERROR(G191*VLOOKUP(F191,EM_Daten_u_Uebersicht!P:Q,2,FALSE),\"\")","v":""},{"$f":"IFERROR(GETPIVOTDATA(\"Summe von THG [t CO2eq]\",I_Pivot!$G$3,\"ID\",C191,\"EM_Energieträger\",F191),\"\")","v":""},"S1",null,null,null,null,null,null,null,null,null,null,null,null,null,null,null,null,null,null,null,"x. Holzverarbeitung ","Umgebungswärme","","",null,"","",0]
[189,22,{"$f":"VLOOKUP(B192,'I. Stationäre Energie'!C:E,3,FALSE)","v":"I.3.xi."},null,{"$f":"VLOOKUP(B192,'I. Stationäre Energie'!C:G,5,FALSE)","v":"xi. Bau "},"Kohle (Steinkohle, Braunkohle, Koks, Petrolkoks; Gichtgas, Kokereigas, Brenntorf)",{"$f":"IFERROR(GETPIVOTDATA(\"Energie\",EM_Daten_u_Uebersicht!$W$5,\"Ziel-Subsektor\",C192,\"Energieträger\",F192),\"\")","v":""},{"$f":"IFERROR(GETPIVOTDATA(\"Summe von Energieeinsatz [MWh]\",I_Pivot!$G$3,\"ID\",C192,\"EM_Energieträger\",F192),\"\")","v":""},{"$f":"IFERROR(G192*VLOOKUP(F192,EM_Daten_u_Uebersicht!P:Q,2,FALSE),\"\")","v":""},{"$f":"IFERROR(GETPIVOTDATA(\"Summe von THG [t CO2eq]\",I_Pivot!$G$3,\"ID\",C192,\"EM_Energieträger\",F192),\"\")","v":""},"S1",null,null,null,null,null,null,null,null,null,null,null,null,null,null,null,null,null,null,null,"x. Holzverarbeitung ","CO2-eq Direkteingabe","","",null,"","",0]
[190,22,{"$f":"VLOOKUP(B193,'I. Stationäre Energie'!C:E,3,FALSE)","v":"I.3.xi."},null,{"$f":"VLOOKUP(B193,'I. Stationäre Energie'!C:G,5,FALSE)","v":"xi. Bau "},"Öl (Heizöl, Gasöl für Heizzwecke, Diesel, Benzin, Petroleum, Flüssiggas)",{"$f":"IFERROR(GETPIVOTDATA(\"Energie\",EM_Daten_u_Uebersicht!$W$5,\"Ziel-Subsektor\",C193,\"Energieträger\",F193),\"\")","v":""},{"$f":"IFERROR(GETPIVOTDATA(\"Summe von Energieeinsatz [MWh]\",I_Pivot!$G$3,\"ID\",C193,\"EM_Energieträger\",F193),\"\")","v":""},{"$f":"IFERROR(G193*VLOOKUP(F193,EM_Daten_u_Uebersicht!P:Q,2,FALSE),\"\")","v":""},{"$f":"IFERROR(GETPIVOTDATA(\"Summe von THG [t CO2eq]\",I_Pivot!$G$3,\"ID\",C193,\"EM_Energieträger\",F193),\"\")","v":""},"S1",null,null,null,null,null,null,null,null,null,null,null,null,null,null,null,null,null,null,null,"xi. Bau ","Kohle (Steinkohle, Braunkohle, Koks, Petrolkoks; Gichtgas, Kokereigas, Brenntorf)","","",null,"","",0]
[191,22,{"$f":"VLOOKUP(B194,'I. Stationäre Energie'!C:E,3,FALSE)","v":"I.3.xi."},null,{"$f":"VLOOKUP(B194,'I. Stationäre Energie'!C:G,5,FALSE)","v":"xi. Bau "},"Erdgas",{"$f":"IFERROR(GETPIVOTDATA(\"Energie\",EM_Daten_u_Uebersicht!$W$5,\"Ziel-Subsektor\",C194,\"Energieträger\",F194),\"\")","v":""},{"$f":"IFERROR(GETPIVOTDATA(\"Summe von Energieeinsatz [MWh]\",I_Pivot!$G$3,\"ID\",C194,\"EM_Energieträger\",F194),\"\")","v":""},{"$f":"IFERROR(G194*VLOOKUP(F194,EM_Daten_u_Uebersicht!P:Q,2,FALSE),\"\")","v":""},{"$f":"IFERROR(GETPIVOTDATA(\"Summe von THG [t CO2eq]\",I_Pivot!$G$3,\"ID\",C194,\"EM_Energieträger\",F194),\"\")","v":""},"S1",null,null,null,null,null,null,null,null,null,null,null,null,null,null,null,null,null,null,null,"xi. Bau ","Öl (Heizöl, Gasöl für Heizzwecke, Diesel, Benzin, Petroleum, Flüssiggas)","","",null,"","",0]
[192,22,{"$f":"VLOOKUP(B195,'I. Stationäre Energie'!C:E,3,FALSE)","v":"I.3.xi."},null,{"$f":"VLOOKUP(B195,'I. Stationäre Energie'!C:G,5,FALSE)","v":"xi. Bau "},"elektrische Energie",{"$f":"IFERROR(GETPIVOTDATA(\"Energie\",EM_Daten_u_Uebersicht!$W$5,\"Ziel-Subsektor\",C195,\"Energieträger\",F195),\"\")","v":""},{"$f":"IFERROR(GETPIVOTDATA(\"Summe von Energieeinsatz [MWh]\",I_Pivot!$G$3,\"ID\",C195,\"EM_Energieträger\",F195),\"\")","v":""},{"$f":"IFERROR(G195*VLOOKUP(F195,EM_Daten_u_Uebersicht!P:Q,2,FALSE),\"\")","v":""},{"$f":"IFERROR(GETPIVOTDATA(\"Summe von THG [t CO2eq]\",I_Pivot!$G$3,\"ID\",C195,\"EM_Energieträger\",F195),\"\")","v":""},"S2",{"$f":"J195/0.94-J195","v":{"$error":"#VALUE!"}},null,null,null,null,null,null,null,null,null,null,null,null,null,null,null,null,null,null,{"$f":"IFERROR(E194,\"\")","v":"xi. Bau "},{"$f":"IFERROR(F194,\"\")","v":"Erdgas"},{"$f":"IFERROR(H194,\"\")","v":""},{"$f":"IFERROR(J194,\"\")","v":""},null,"","",{"$f":"IFERROR(L194,\"\")","v":0}]
[193,{"$f":"ROUNDDOWN(A196/9,0)+1","v":22},{"$f":"VLOOKUP(B196,'I. Stationäre Energie'!C:E,3,FALSE)","v":"I.3.xi."},null,{"$f":"VLOOKUP(B196,'I. Stationäre Energie'!C:G,5,FALSE)","v":"xi. Bau "},"Fernwärme",{"$f":"IFERROR(GETPIVOTDATA(\"Energie\",EM_Daten_u_Uebersicht!$W$5,\"Ziel-Subsektor\",C196,\"Energieträger\",F196),\"\")","v":""},{"$f":"IFERROR(GETPIVOTDATA(\"Summe von Energieeinsatz [MWh]\",I_Pivot!$G$3,\"ID\",C196,\"EM_Energieträger\",F196),\"\")","v":""},{"$f":"IFERROR(G196*VLOOKUP(F196,EM_Daten_u_Uebersicht!P:Q,2,FALSE),\"\")","v":""},{"$f":"IFERROR(GETPIVOTDATA(\"Summe von THG [t CO2eq]\",I_Pivot!$G$3,\"ID\",C196,\"EM_Energieträger\",F196),\"\")","v":""},"S2",{"$f":"J196/0.86-J196","v":{"$error":"#VALUE!"}},null,null,null,null,null,null,null,null,null,null,null,null,null,null,null,null,null,null,"xi. Bau ","elektrische Energie","","",null,{"$f":"IF(K195=\"S1\",J195,\"\")","v":""},{"$f":"IF(K195=\"S2\",J195,\"\")","v":""},""]
[194,22,{"$f":"VLOOKUP(B197,'I. Stationäre Energie'!C:E,3,FALSE)","v":"I.3.xi."},null,{"$f":"VLOOKUP(B197,'I. Stationäre Energie'!C:G,5,FALSE)","v":"xi. Bau "},"Biogene Brenn- und Treibstoffe (Brennholz, biogene Brenn- und Treibstoffe)",{"$f":"IFERROR(GETPIVOTDATA(\"Energie\",EM_Daten_u_Uebersicht!$W$5,\"Ziel-Subsektor\",C197,\"Energieträger\",F197),\"\")","v":""},{"$f":"IFERROR(GETPIVOTDATA(\"Summe von Energieeinsatz [MWh]\",I_Pivot!$G$3,\"ID\",C197,\"EM_Energieträger\",F197),\"\")","v":""},{"$f":"IFERROR(G197*VLOOKUP(F197,EM_Daten_u_Uebersicht!P:Q,2,FALSE),\"\")","v":""},{"$f":"IFERROR(GETPIVOTDATA(\"Summe von THG [t CO2eq]\",I_Pivot!$G$3,\"ID\",C197,\"EM_Energieträger\",F197),\"\")","v":""},"S1",null,null,null,null,null,null,null,null,null,null,null,null,null,null,null,null,null,null,null,"xi. Bau ","Fernwärme","","",null,"","",""]
[195,22,{"$f":"VLOOKUP(B198,'I. Stationäre Energie'!C:E,3,FALSE)","v":"I.3.xi."},null,{"$f":"VLOOKUP(B198,'I. Stationäre Energie'!C:G,5,FALSE)","v":"xi. Bau "},"Brennbare Abfälle",{"$f":"IFERROR(GETPIVOTDATA(\"Energie\",EM_Daten_u_Uebersicht!$W$5,\"Ziel-Subsektor\",C198,\"Energieträger\",F198),\"\")","v":""},{"$f":"IFERROR(GETPIVOTDATA(\"Summe von Energieeinsatz [MWh]\",I_Pivot!$G$3,\"ID\",C198,\"EM_Energieträger\",F198),\"\")","v":""},{"$f":"IFERROR(G198*VLOOKUP(F198,EM_Daten_u_Uebersicht!P:Q,2,FALSE),\"\")","v":""},{"$f":"IFERROR(GETPIVOTDATA(\"Summe von THG [t CO2eq]\",I_Pivot!$G$3,\"ID\",C198,\"EM_Energieträger\",F198),\"\")","v":""},"S1",null,null,null,null,null,null,null,null,null,null,null,null,null,null,null,null,null,null,null,"xi. Bau ","Biogene Brenn- und Treibstoffe (Brennholz, biogene Brenn- und Treibstoffe)","","",null,"","",0]
[196,22,{"$f":"VLOOKUP(B199,'I. Stationäre Energie'!C:E,3,FALSE)","v":"I.3.xi."},null,{"$f":"VLOOKUP(B199,'I. Stationäre Energie'!C:G,5,FALSE)","v":"xi. Bau "},"Umgebungswärme",{"$f":"IFERROR(GETPIVOTDATA(\"Energie\",EM_Daten_u_Uebersicht!$W$5,\"Ziel-Subsektor\",C199,\"Energieträger\",F199),\"\")","v":""},{"$f":"IFERROR(GETPIVOTDATA(\"Summe von Energieeinsatz [MWh]\",I_Pivot!$G$3,\"ID\",C199,\"EM_Energieträger\",F199),\"\")","v":""},{"$f":"IFERROR(G199*VLOOKUP(F199,EM_Daten_u_Uebersicht!P:Q,2,FALSE),\"\")","v":""},{"$f":"IFERROR(GETPIVOTDATA(\"Summe von THG [t CO2eq]\",I_Pivot!$G$3,\"ID\",C199,\"EM_Energieträger\",F199),\"\")","v":""},"S1",null,null,null,null,null,null,null,null,null,null,null,null,null,null,null,null,null,null,null,"xi. Bau ","Brennbare Abfälle","","",null,"","",0]
[197,22,{"$f":"VLOOKUP(B200,'I. Stationäre Energie'!C:E,3,FALSE)","v":"I.3.xi."},null,{"$f":"VLOOKUP(B200,'I. Stationäre Energie'!C:G,5,FALSE)","v":"xi. Bau "},"CO2-eq Direkteingabe",{"$f":"IFERROR(GETPIVOTDATA(\"Energie\",EM_Daten_u_Uebersicht!$W$5,\"Ziel-Subsektor\",C200,\"Energieträger\",F200),\"\")","v":""},{"$f":"IFERROR(GETPIVOTDATA(\"Summe von Energieeinsatz [MWh]\",I_Pivot!$G$3,\"ID\",C200,\"EM_Energieträger\",F200),\"\")","v":""},{"$f":"IFERROR(G200*VLOOKUP(F200,EM_Daten_u_Uebersicht!P:Q,2,FALSE),\"\")","v":""},{"$f":"IFERROR(GETPIVOTDATA(\"Summe von THG [t CO2eq]\",I_Pivot!$G$3,\"ID\",C200,\"EM_Energieträger\",F200),\"\")","v":""},"S1",null,null,null,null,null,null,null,null,null,null,null,null,null,null,null,null,null,null,null,"xi. Bau ","Umgebungswärme","","",null,"","",0]
[198,23,{"$f":"VLOOKUP(B201,'I. Stationäre Energie'!C:E,3,FALSE)","v":"I.3.xii."},null,{"$f":"VLOOKUP(B201,'I. Stationäre Energie'!C:G,5,FALSE)","v":"xii. Textil und Leder "},"Kohle (Steinkohle, Braunkohle, Koks, Petrolkoks; Gichtgas, Kokereigas, Brenntorf)",{"$f":"IFERROR(GETPIVOTDATA(\"Energie\",EM_Daten_u_Uebersicht!$W$5,\"Ziel-Subsektor\",C201,\"Energieträger\",F201),\"\")","v":""},{"$f":"IFERROR(GETPIVOTDATA(\"Summe von Energieeinsatz [MWh]\",I_Pivot!$G$3,\"ID\",C201,\"EM_Energieträger\",F201),\"\")","v":""},{"$f":"IFERROR(G201*VLOOKUP(F201,EM_Daten_u_Uebersicht!P:Q,2,FALSE),\"\")","v":""},{"$f":"IFERROR(GETPIVOTDATA(\"Summe von THG [t CO2eq]\",I_Pivot!$G$3,\"ID\",C201,\"EM_Energieträger\",F201),\"\")","v":""},"S1",null,null,null,null,null,null,null,null,null,null,null,null,null,null,null,null,null,null,null,"xi. Bau ","CO2-eq Direkteingabe","","",null,"","",0]
[199,23,{"$f":"VLOOKUP(B202,'I. Stationäre Energie'!C:E,3,FALSE)","v":"I.3.xii."},null,{"$f":"VLOOKUP(B202,'I. Stationäre Energie'!C:G,5,FALSE)","v":"xii. Textil und Leder "},"Öl (Heizöl, Gasöl für Heizzwecke, Diesel, Benzin, Petroleum, Flüssiggas)",{"$f":"IFERROR(GETPIVOTDATA(\"Energie\",EM_Daten_u_Uebersicht!$W$5,\"Ziel-Subsektor\",C202,\"Energieträger\",F202),\"\")","v":""},{"$f":"IFERROR(GETPIVOTDATA(\"Summe von Energieeinsatz [MWh]\",I_Pivot!$G$3,\"ID\",C202,\"EM_Energieträger\",F202),\"\")","v":""},{"$f":"IFERROR(G202*VLOOKUP(F202,EM_Daten_u_Uebersicht!P:Q,2,FALSE),\"\")","v":""},{"$f":"IFERROR(GETPIVOTDATA(\"Summe von THG [t CO2eq]\",I_Pivot!$G$3,\"ID\",C202,\"EM_Energieträger\",F202),\"\")","v":""},"S1",null,null,null,null,null,null,null,null,null,null,null,null,null,null,null,null,null,null,null,"xii. Textil und Leder ","Kohle (Steinkohle, Braunkohle, Koks, Petrolkoks; Gichtgas, Kokereigas, Brenntorf)","","",null,"","",0]
[200,23,{"$f":"VLOOKUP(B203,'I. Stationäre Energie'!C:E,3,FALSE)","v":"I.3.xii."},null,{"$f":"VLOOKUP(B203,'I. Stationäre Energie'!C:G,5,FALSE)","v":"xii. Textil und Leder "},"Erdgas",{"$f":"IFERROR(GETPIVOTDATA(\"Energie\",EM_Daten_u_Uebersicht!$W$5,\"Ziel-Subsektor\",C203,\"Energieträger\",F203),\"\")","v":""},{"$f":"IFERROR(GETPIVOTDATA(\"Summe von Energieeinsatz [MWh]\",I_Pivot!$G$3,\"ID\",C203,\"EM_Energieträger\",F203),\"\")","v":""},{"$f":"IFERROR(G203*VLOOKUP(F203,EM_Daten_u_Uebersicht!P:Q,2,FALSE),\"\")","v":""},{"$f":"IFERROR(GETPIVOTDATA(\"Summe von THG [t CO2eq]\",I_Pivot!$G$3,\"ID\",C203,\"EM_Energieträger\",F203),\"\")","v":""},"S1",null,null,null,null,null,null,null,null,null,null,null,null,null,null,null,null,null,null,null,"xii. Textil und Leder ","Öl (Heizöl, Gasöl für Heizzwecke, Diesel, Benzin, Petroleum, Flüssiggas)","","",null,"","",0]
[201,23,{"$f":"VLOOKUP(B204,'I. Stationäre Energie'!C:E,3,FALSE)","v":"I.3.xii."},null,{"$f":"VLOOKUP(B204,'I. Stationäre Energie'!C:G,5,FALSE)","v":"xii. Textil und Leder "},"elektrische Energie",{"$f":"IFERROR(GETPIVOTDATA(\"Energie\",EM_Daten_u_Uebersicht!$W$5,\"Ziel-Subsektor\",C204,\"Energieträger\",F204),\"\")","v":""},{"$f":"IFERROR(GETPIVOTDATA(\"Summe von Energieeinsatz [MWh]\",I_Pivot!$G$3,\"ID\",C204,\"EM_Energieträger\",F204),\"\")","v":""},{"$f":"IFERROR(G204*VLOOKUP(F204,EM_Daten_u_Uebersicht!P:Q,2,FALSE),\"\")","v":""},{"$f":"IFERROR(GETPIVOTDATA(\"Summe von THG [t CO2eq]\",I_Pivot!$G$3,\"ID\",C204,\"EM_Energieträger\",F204),\"\")","v":""},"S2",{"$f":"J204/0.94-J204","v":{"$error":"#VALUE!"}},null,null,null,null,null,null,null,null,null,null,null,null,null,null,null,null,null,null,"xii. Textil und Leder ","Erdgas","","",null,"","",0]
[202,23,{"$f":"VLOOKUP(B205,'I. Stationäre Energie'!C:E,3,FALSE)","v":"I.3.xii."},null,{"$f":"VLOOKUP(B205,'I. Stationäre Energie'!C:G,5,FALSE)","v":"xii. Textil und Leder "},{"$f":"F196","v":"Fernwärme"},{"$f":"IFERROR(GETPIVOTDATA(\"Energie\",EM_Daten_u_Uebersicht!$W$5,\"Ziel-Subsektor\",C205,\"Energieträger\",F205),\"\")","v":""},{"$f":"IFERROR(GETPIVOTDATA(\"Summe von Energieeinsatz [MWh]\",I_Pivot!$G$3,\"ID\",C205,\"EM_Energieträger\",F205),\"\")","v":""},{"$f":"IFERROR(G205*VLOOKUP(F205,EM_Daten_u_Uebersicht!P:Q,2,FALSE),\"\")","v":""},{"$f":"IFERROR(GETPIVOTDATA(\"Summe von THG [t CO2eq]\",I_Pivot!$G$3,\"ID\",C205,\"EM_Energieträger\",F205),\"\")","v":""},"S2",{"$f":"J205/0.86-J205","v":{"$error":"#VALUE!"}},null,null,null,null,null,null,null,null,null,null,null,null,null,null,null,null,null,null,"xii. Textil und Leder ","elektrische Energie","","",null,"","",""]
[203,23,{"$f":"VLOOKUP(B206,'I. Stationäre Energie'!C:E,3,FALSE)","v":"I.3.xii."},null,{"$f":"VLOOKUP(B206,'I. Stationäre Energie'!C:G,5,FALSE)","v":"xii. Textil und Leder "},"Biogene Brenn- und Treibstoffe (Brennholz, biogene Brenn- und Treibstoffe)",{"$f":"IFERROR(GETPIVOTDATA(\"Energie\",EM_Daten_u_Uebersicht!$W$5,\"Ziel-Subsektor\",C206,\"Energieträger\",F206),\"\")","v":""},{"$f":"IFERROR(GETPIVOTDATA(\"Summe von Energieeinsatz [MWh]\",I_Pivot!$G$3,\"ID\",C206,\"EM_Energieträger\",F206),\"\")","v":""},{"$f":"IFERROR(G206*VLOOKUP(F206,EM_Daten_u_Uebersicht!P:Q,2,FALSE),\"\")","v":""},{"$f":"IFERROR(GETPIVOTDATA(\"Summe von THG [t CO2eq]\",I_Pivot!$G$3,\"ID\",C206,\"EM_Energieträger\",F206),\"\")","v":""},"S1",null,null,null,null,null,null,null,null,null,null,null,null,null,null,null,null,null,null,null,"xii. Textil und Leder ","Fernwärme","","",null,"","",""]
[204,23,{"$f":"VLOOKUP(B207,'I. Stationäre Energie'!C:E,3,FALSE)","v":"I.3.xii."},null,{"$f":"VLOOKUP(B207,'I. Stationäre Energie'!C:G,5,FALSE)","v":"xii. Textil und Leder "},"Brennbare Abfälle",{"$f":"IFERROR(GETPIVOTDATA(\"Energie\",EM_Daten_u_Uebersicht!$W$5,\"Ziel-Subsektor\",C207,\"Energieträger\",F207),\"\")","v":""},{"$f":"IFERROR(GETPIVOTDATA(\"Summe von Energieeinsatz [MWh]\",I_Pivot!$G$3,\"ID\",C207,\"EM_Energieträger\",F207),\"\")","v":""},{"$f":"IFERROR(G207*VLOOKUP(F207,EM_Daten_u_Uebersicht!P:Q,2,FALSE),\"\")","v":""},{"$f":"IFERROR(GETPIVOTDATA(\"Summe von THG [t CO2eq]\",I_Pivot!$G$3,\"ID\",C207,\"EM_Energieträger\",F207),\"\")","v":""},"S1",null,null,null,null,null,null,null,null,null,null,null,null,null,null,null,null,null,null,null,"xii. Textil und Leder ","Biogene Brenn- und Treibstoffe (Brennholz, biogene Brenn- und Treibstoffe)","","",null,"","",0]
[205,23,{"$f":"VLOOKUP(B208,'I. Stationäre Energie'!C:E,3,FALSE)","v":"I.3.xii."},null,{"$f":"VLOOKUP(B208,'I. Stationäre Energie'!C:G,5,FALSE)","v":"xii. Textil und Leder "},"Umgebungswärme",{"$f":"IFERROR(GETPIVOTDATA(\"Energie\",EM_Daten_u_Uebersicht!$W$5,\"Ziel-Subsektor\",C208,\"Energieträger\",F208),\"\")","v":""},{"$f":"IFERROR(GETPIVOTDATA(\"Summe von Energieeinsatz [MWh]\",I_Pivot!$G$3,\"ID\",C208,\"EM_Energieträger\",F208),\"\")","v":""},{"$f":"IFERROR(G208*VLOOKUP(F208,EM_Daten_u_Uebersicht!P:Q,2,FALSE),\"\")","v":""},{"$f":"IFERROR(GETPIVOTDATA(\"Summe von THG [t CO2eq]\",I_Pivot!$G$3,\"ID\",C208,\"EM_Energieträger\",F208),\"\")","v":""},"S1",null,null,null,null,null,null,null,null,null,null,null,null,null,null,null,null,null,null,null,"xii. Textil und Leder ","Brennbare Abfälle","","",null,"","",0]
[206,23,{"$f":"VLOOKUP(B209,'I. Stationäre Energie'!C:E,3,FALSE)","v":"I.3.xii."},null,{"$f":"VLOOKUP(B209,'I. Stationäre Energie'!C:G,5,FALSE)","v":"xii. Textil und Leder "},"CO2-eq Direkteingabe",{"$f":"IFERROR(GETPIVOTDATA(\"Energie\",EM_Daten_u_Uebersicht!$W$5,\"Ziel-Subsektor\",C209,\"Energieträger\",F209),\"\")","v":""},{"$f":"IFERROR(GETPIVOTDATA(\"Summe von Energieeinsatz [MWh]\",I_Pivot!$G$3,\"ID\",C209,\"EM_Energieträger\",F209),\"\")","v":""},{"$f":"IFERROR(G209*VLOOKUP(F209,EM_Daten_u_Uebersicht!P:Q,2,FALSE),\"\")","v":""},{"$f":"IFERROR(GETPIVOTDATA(\"Summe von THG [t CO2eq]\",I_Pivot!$G$3,\"ID\",C209,\"EM_Energieträger\",F209),\"\")","v":""},"S1",null,null,null,null,null,null,null,null,null,null,null,null,null,null,null,null,null,null,null,"xii. Textil und Leder ","Umgebungswärme","","",null,"","",0]
[207,24,{"$f":"VLOOKUP(B210,'I. Stationäre Energie'!C:E,3,FALSE)","v":"I.3.xiii."},null,{"$f":"VLOOKUP(B210,'I. Stationäre Energie'!C:G,5,FALSE)","v":"xiii. Sonst. Produzierender Bereich "},"Kohle (Steinkohle, Braunkohle, Koks, Petrolkoks; Gichtgas, Kokereigas, Brenntorf)",{"$f":"IFERROR(GETPIVOTDATA(\"Energie\",EM_Daten_u_Uebersicht!$W$5,\"Ziel-Subsektor\",C210,\"Energieträger\",F210),\"\")","v":""},{"$f":"IFERROR(GETPIVOTDATA(\"Summe von Energieeinsatz [MWh]\",I_Pivot!$G$3,\"ID\",C210,\"EM_Energieträger\",F210),\"\")","v":""},{"$f":"IFERROR(G210*VLOOKUP(F210,EM_Daten_u_Uebersicht!P:Q,2,FALSE),\"\")","v":""},{"$f":"IFERROR(GETPIVOTDATA(\"Summe von THG [t CO2eq]\",I_Pivot!$G$3,\"ID\",C210,\"EM_Energieträger\",F210),\"\")","v":""},"S1",null,null,null,null,null,null,null,null,null,null,null,null,null,null,null,null,null,null,null,"xii. Textil und Leder ","CO2-eq Direkteingabe","","",null,"","",0]
[208,24,{"$f":"VLOOKUP(B211,'I. Stationäre Energie'!C:E,3,FALSE)","v":"I.3.xiii."},null,{"$f":"VLOOKUP(B211,'I. Stationäre Energie'!C:G,5,FALSE)","v":"xiii. Sonst. Produzierender Bereich "},"Öl (Heizöl, Gasöl für Heizzwecke, Diesel, Benzin, Petroleum, Flüssiggas)",{"$f":"IFERROR(GETPIVOTDATA(\"Energie\",EM_Daten_u_Uebersicht!$W$5,\"Ziel-Subsektor\",C211,\"Energieträger\",F211),\"\")","v":""},{"$f":"IFERROR(GETPIVOTDATA(\"Summe von Energieeinsatz [MWh]\",I_Pivot!$G$3,\"ID\",C211,\"EM_Energieträger\",F211),\"\")","v":""},{"$f":"IFERROR(G211*VLOOKUP(F211,EM_Daten_u_Uebersicht!P:Q,2,FALSE),\"\")","v":""},{"$f":"IFERROR(GETPIVOTDATA(\"Summe von THG [t CO2eq]\",I_Pivot!$G$3,\"ID\",C211,\"EM_Energieträger\",F211),\"\")","v":""},"S1",null,null,null,null,null,null,null,null,null,null,null,null,null,null,null,null,null,null,null,"xiii. Sonst. Produzierender Bereich ","Kohle (Steinkohle, Braunkohle, Koks, Petrolkoks; Gichtgas, Kokereigas, Brenntorf)","","",null,"","",0]
[209,24,{"$f":"VLOOKUP(B212,'I. Stationäre Energie'!C:E,3,FALSE)","v":"I.3.xiii."},null,{"$f":"VLOOKUP(B212,'I. Stationäre Energie'!C:G,5,FALSE)","v":"xiii. Sonst. Produzierender Bereich "},"Erdgas",{"$f":"IFERROR(GETPIVOTDATA(\"Energie\",EM_Daten_u_Uebersicht!$W$5,\"Ziel-Subsektor\",C212,\"Energieträger\",F212),\"\")","v":""},{"$f":"IFERROR(GETPIVOTDATA(\"Summe von Energieeinsatz [MWh]\",I_Pivot!$G$3,\"ID\",C212,\"EM_Energieträger\",F212),\"\")","v":""},{"$f":"IFERROR(G212*VLOOKUP(F212,EM_Daten_u_Uebersicht!P:Q,2,FALSE),\"\")","v":""},{"$f":"IFERROR(GETPIVOTDATA(\"Summe von THG [t CO2eq]\",I_Pivot!$G$3,\"ID\",C212,\"EM_Energieträger\",F212),\"\")","v":""},"S1",null,null,null,null,null,null,null,null,null,null,null,null,null,null,null,null,null,null,null,"xiii. Sonst. Produzierender Bereich ","Öl (Heizöl, Gasöl für Heizzwecke, Diesel, Benzin, Petroleum, Flüssiggas)","","",null,"","",0]
[210,24,{"$f":"VLOOKUP(B213,'I. Stationäre Energie'!C:E,3,FALSE)","v":"I.3.xiii."},null,{"$f":"VLOOKUP(B213,'I. Stationäre Energie'!C:G,5,FALSE)","v":"xiii. Sonst. Produzierender Bereich "},"elektrische Energie",{"$f":"IFERROR(GETPIVOTDATA(\"Energie\",EM_Daten_u_Uebersicht!$W$5,\"Ziel-Subsektor\",C213,\"Energieträger\",F213),\"\")","v":""},{"$f":"IFERROR(GETPIVOTDATA(\"Summe von Energieeinsatz [MWh]\",I_Pivot!$G$3,\"ID\",C213,\"EM_Energieträger\",F213),\"\")","v":""},{"$f":"IFERROR(G213*VLOOKUP(F213,EM_Daten_u_Uebersicht!P:Q,2,FALSE),\"\")","v":""},{"$f":"IFERROR(GETPIVOTDATA(\"Summe von THG [t CO2eq]\",I_Pivot!$G$3,\"ID\",C213,\"EM_Energieträger\",F213),\"\")","v":""},"S2",{"$f":"J213/0.94-J213","v":{"$error":"#VALUE!"}},null,null,null,null,null,null,null,null,null,null,null,null,null,null,null,null,null,null,"xiii. Sonst. Produzierender Bereich ","Erdgas","","",null,"","",0]
[211,24,{"$f":"VLOOKUP(B214,'I. Stationäre Energie'!C:E,3,FALSE)","v":"I.3.xiii."},null,{"$f":"VLOOKUP(B214,'I. Stationäre Energie'!C:G,5,FALSE)","v":"xiii. Sonst. Produzierender Bereich "},"Fernwärme",{"$f":"IFERROR(GETPIVOTDATA(\"Energie\",EM_Daten_u_Uebersicht!$W$5,\"Ziel-Subsektor\",C214,\"Energieträger\",F214),\"\")","v":""},{"$f":"IFERROR(GETPIVOTDATA(\"Summe von Energieeinsatz [MWh]\",I_Pivot!$G$3,\"ID\",C214,\"EM_Energieträger\",F214),\"\")","v":""},{"$f":"IFERROR(G214*VLOOKUP(F214,EM_Daten_u_Uebersicht!P:Q,2,FALSE),\"\")","v":""},{"$f":"IFERROR(GETPIVOTDATA(\"Summe von THG [t CO2eq]\",I_Pivot!$G$3,\"ID\",C214,\"EM_Energieträger\",F214),\"\")","v":""},"S2",{"$f":"J214/0.86-J214","v":{"$error":"#VALUE!"}},null,null,null,null,null,null,null,null,null,null,null,null,null,null,null,null,null,null,"xiii. Sonst. Produzierender Bereich ","elektrische Energie","","",null,"","",""]
[212,24,{"$f":"VLOOKUP(B215,'I. Stationäre Energie'!C:E,3,FALSE)","v":"I.3.xiii."},null,{"$f":"VLOOKUP(B215,'I. Stationäre Energie'!C:G,5,FALSE)","v":"xiii. Sonst. Produzierender Bereich "},"Biogene Brenn- und Treibstoffe (Brennholz, biogene Brenn- und Treibstoffe)",{"$f":"IFERROR(GETPIVOTDATA(\"Energie\",EM_Daten_u_Uebersicht!$W$5,\"Ziel-Subsektor\",C215,\"Energieträger\",F215),\"\")","v":""},{"$f":"IFERROR(GETPIVOTDATA(\"Summe von Energieeinsatz [MWh]\",I_Pivot!$G$3,\"ID\",C215,\"EM_Energieträger\",F215),\"\")","v":""},{"$f":"IFERROR(G215*VLOOKUP(F215,EM_Daten_u_Uebersicht!P:Q,2,FALSE),\"\")","v":""},{"$f":"IFERROR(GETPIVOTDATA(\"Summe von THG [t CO2eq]\",I_Pivot!$G$3,\"ID\",C215,\"EM_Energieträger\",F215),\"\")","v":""},"S1",null,null,null,null,null,null,null,null,null,null,null,null,null,null,null,null,null,null,null,"xiii. Sonst. Produzierender Bereich ","Fernwärme","","",null,"","",""]
[213,24,{"$f":"VLOOKUP(B216,'I. Stationäre Energie'!C:E,3,FALSE)","v":"I.3.xiii."},null,{"$f":"VLOOKUP(B216,'I. Stationäre Energie'!C:G,5,FALSE)","v":"xiii. Sonst. Produzierender Bereich "},"Brennbare Abfälle",{"$f":"IFERROR(GETPIVOTDATA(\"Energie\",EM_Daten_u_Uebersicht!$W$5,\"Ziel-Subsektor\",C216,\"Energieträger\",F216),\"\")","v":""},{"$f":"IFERROR(GETPIVOTDATA(\"Summe von Energieeinsatz [MWh]\",I_Pivot!$G$3,\"ID\",C216,\"EM_Energieträger\",F216),\"\")","v":""},{"$f":"IFERROR(G216*VLOOKUP(F216,EM_Daten_u_Uebersicht!P:Q,2,FALSE),\"\")","v":""},{"$f":"IFERROR(GETPIVOTDATA(\"Summe von THG [t CO2eq]\",I_Pivot!$G$3,\"ID\",C216,\"EM_Energieträger\",F216),\"\")","v":""},"S1",null,null,null,null,null,null,null,null,null,null,null,null,null,null,null,null,null,null,null,"xiii. Sonst. Produzierender Bereich ","Biogene Brenn- und Treibstoffe (Brennholz, biogene Brenn- und Treibstoffe)","","",null,"","",0]
[214,24,{"$f":"VLOOKUP(B217,'I. Stationäre Energie'!C:E,3,FALSE)","v":"I.3.xiii."},null,{"$f":"VLOOKUP(B217,'I. Stationäre Energie'!C:G,5,FALSE)","v":"xiii. Sonst. Produzierender Bereich "},"Umgebungswärme",{"$f":"IFERROR(GETPIVOTDATA(\"Energie\",EM_Daten_u_Uebersicht!$W$5,\"Ziel-Subsektor\",C217,\"Energieträger\",F217),\"\")","v":""},{"$f":"IFERROR(GETPIVOTDATA(\"Summe von Energieeinsatz [MWh]\",I_Pivot!$G$3,\"ID\",C217,\"EM_Energieträger\",F217),\"\")","v":""},{"$f":"IFERROR(G217*VLOOKUP(F217,EM_Daten_u_Uebersicht!P:Q,2,FALSE),\"\")","v":""},{"$f":"IFERROR(GETPIVOTDATA(\"Summe von THG [t CO2eq]\",I_Pivot!$G$3,\"ID\",C217,\"EM_Energieträger\",F217),\"\")","v":""},"S1",null,null,null,null,null,null,null,null,null,null,null,null,null,null,null,null,null,null,null,"xiii. Sonst. Produzierender Bereich ","Brennbare Abfälle","","",null,"","",0]
[215,24,{"$f":"VLOOKUP(B218,'I. Stationäre Energie'!C:E,3,FALSE)","v":"I.3.xiii."},null,{"$f":"VLOOKUP(B218,'I. Stationäre Energie'!C:G,5,FALSE)","v":"xiii. Sonst. Produzierender Bereich "},"CO2-eq Direkteingabe",{"$f":"IFERROR(GETPIVOTDATA(\"Energie\",EM_Daten_u_Uebersicht!$W$5,\"Ziel-Subsektor\",C218,\"Energieträger\",F218),\"\")","v":""},{"$f":"IFERROR(GETPIVOTDATA(\"Summe von Energieeinsatz [MWh]\",I_Pivot!$G$3,\"ID\",C218,\"EM_Energieträger\",F218),\"\")","v":""},{"$f":"IFERROR(G218*VLOOKUP(F218,EM_Daten_u_Uebersicht!P:Q,2,FALSE),\"\")","v":""},{"$f":"IFERROR(GETPIVOTDATA(\"Summe von THG [t CO2eq]\",I_Pivot!$G$3,\"ID\",C218,\"EM_Energieträger\",F218),\"\")","v":""},"S1",null,null,null,null,null,null,null,null,null,null,null,null,null,null,null,null,null,null,null,"xiii. Sonst. Produzierender Bereich ","Umgebungswärme","","",null,"","",0]
[216,25,{"$f":"VLOOKUP(B219,'I. Stationäre Energie'!C:E,3,FALSE)","v":"I.4. ."},null,{"$f":"VLOOKUP(B219,'I. Stationäre Energie'!C:G,5,FALSE)","v":"4. Energiewirtschaft"},"Kohle (Steinkohle, Braunkohle, Koks, Petrolkoks; Gichtgas, Kokereigas, Brenntorf)",{"$f":"IFERROR(GETPIVOTDATA(\"Energie\",EM_Daten_u_Uebersicht!$W$5,\"Ziel-Subsektor\",C219,\"Energieträger\",F219),\"\")","v":""},{"$f":"IFERROR(GETPIVOTDATA(\"Summe von Energieeinsatz [MWh]\",I_Pivot!$G$3,\"ID\",C219,\"EM_Energieträger\",F219),\"\")","v":""},{"$f":"IFERROR(G219*VLOOKUP(F219,EM_Daten_u_Uebersicht!P:Q,2,FALSE),\"\")","v":""},{"$f":"IFERROR(GETPIVOTDATA(\"Summe von THG [t CO2eq]\",I_Pivot!$G$3,\"ID\",C219,\"EM_Energieträger\",F219),\"\")","v":""},"S1",null,null,null,null,null,null,null,null,null,null,null,null,null,null,null,null,null,null,null,"xiii. Sonst. Produzierender Bereich ","CO2-eq Direkteingabe","","",null,"","",0]
[217,25,{"$f":"VLOOKUP(B220,'I. Stationäre Energie'!C:E,3,FALSE)","v":"I.4. ."},null,{"$f":"VLOOKUP(B220,'I. Stationäre Energie'!C:G,5,FALSE)","v":"4. Energiewirtschaft"},"Öl (Heizöl, Gasöl für Heizzwecke, Diesel, Benzin, Petroleum, Flüssiggas)",{"$f":"IFERROR(GETPIVOTDATA(\"Energie\",EM_Daten_u_Uebersicht!$W$5,\"Ziel-Subsektor\",C220,\"Energieträger\",F220),\"\")","v":""},{"$f":"IFERROR(GETPIVOTDATA(\"Summe von Energieeinsatz [MWh]\",I_Pivot!$G$3,\"ID\",C220,\"EM_Energieträger\",F220),\"\")","v":""},{"$f":"IFERROR(G220*VLOOKUP(F220,EM_Daten_u_Uebersicht!P:Q,2,FALSE),\"\")","v":""},{"$f":"IFERROR(GETPIVOTDATA(\"Summe von THG [t CO2eq]\",I_Pivot!$G$3,\"ID\",C220,\"EM_Energieträger\",F220),\"\")","v":""},"S1",null,null,null,null,null,null,null,null,null,null,null,null,null,null,null,null,null,null,null,"4. Energiewirtschaft","Kohle (Steinkohle, Braunkohle, Koks, Petrolkoks; Gichtgas, Kokereigas, Brenntorf)","","",null,"","",0]
[218,25,{"$f":"VLOOKUP(B221,'I. Stationäre Energie'!C:E,3,FALSE)","v":"I.4. ."},null,{"$f":"VLOOKUP(B221,'I. Stationäre Energie'!C:G,5,FALSE)","v":"4. Energiewirtschaft"},"Erdgas",{"$f":"IFERROR(GETPIVOTDATA(\"Energie\",EM_Daten_u_Uebersicht!$W$5,\"Ziel-Subsektor\",C221,\"Energieträger\",F221),\"\")","v":""},{"$f":"IFERROR(GETPIVOTDATA(\"Summe von Energieeinsatz [MWh]\",I_Pivot!$G$3,\"ID\",C221,\"EM_Energieträger\",F221),\"\")","v":""},{"$f":"IFERROR(G221*VLOOKUP(F221,EM_Daten_u_Uebersicht!P:Q,2,FALSE),\"\")","v":""},{"$f":"IFERROR(GETPIVOTDATA(\"Summe von THG [t CO2eq]\",I_Pivot!$G$3,\"ID\",C221,\"EM_Energieträger\",F221),\"\")","v":""},"S1",null,null,null,null,null,null,null,null,null,null,null,null,null,null,null,null,null,null,null,"4. Energiewirtschaft","Öl (Heizöl, Gasöl für Heizzwecke, Diesel, Benzin, Petroleum, Flüssiggas)","","",null,"","",0]
[219,25,{"$f":"VLOOKUP(B222,'I. Stationäre Energie'!C:E,3,FALSE)","v":"I.4. ."},null,{"$f":"VLOOKUP(B222,'I. Stationäre Energie'!C:G,5,FALSE)","v":"4. Energiewirtschaft"},"elektrische Energie",{"$f":"IFERROR(GETPIVOTDATA(\"Energie\",EM_Daten_u_Uebersicht!$W$5,\"Ziel-Subsektor\",C222,\"Energieträger\",F222),\"\")","v":""},{"$f":"IFERROR(GETPIVOTDATA(\"Summe von Energieeinsatz [MWh]\",I_Pivot!$G$3,\"ID\",C222,\"EM_Energieträger\",F222),\"\")","v":""},{"$f":"IFERROR(G222*VLOOKUP(F222,EM_Daten_u_Uebersicht!P:Q,2,FALSE),\"\")","v":""},{"$f":"IFERROR(GETPIVOTDATA(\"Summe von THG [t CO2eq]\",I_Pivot!$G$3,\"ID\",C222,\"EM_Energieträger\",F222),\"\")","v":""},"S2",{"$f":"J222/0.94-J222","v":{"$error":"#VALUE!"}},null,null,null,null,null,null,null,null,null,null,null,null,null,null,null,null,null,null,"4. Energiewirtschaft","Erdgas","","",null,"","",0]
[220,25,{"$f":"VLOOKUP(B223,'I. Stationäre Energie'!C:E,3,FALSE)","v":"I.4. ."},null,{"$f":"VLOOKUP(B223,'I. Stationäre Energie'!C:G,5,FALSE)","v":"4. Energiewirtschaft"},"Fernwärme",{"$f":"IFERROR(GETPIVOTDATA(\"Energie\",EM_Daten_u_Uebersicht!$W$5,\"Ziel-Subsektor\",C223,\"Energieträger\",F223),\"\")","v":""},{"$f":"IFERROR(GETPIVOTDATA(\"Summe von Energieeinsatz [MWh]\",I_Pivot!$G$3,\"ID\",C223,\"EM_Energieträger\",F223),\"\")","v":""},{"$f":"IFERROR(G223*VLOOKUP(F223,EM_Daten_u_Uebersicht!P:Q,2,FALSE),\"\")","v":""},{"$f":"IFERROR(GETPIVOTDATA(\"Summe von THG [t CO2eq]\",I_Pivot!$G$3,\"ID\",C223,\"EM_Energieträger\",F223),\"\")","v":""},"S2",{"$f":"J223/0.86-J223","v":{"$error":"#VALUE!"}},null,null,null,null,null,null,null,null,null,null,null,null,null,null,null,null,null,null,"4. Energiewirtschaft","elektrische Energie","","",null,"","",""]
[221,25,{"$f":"VLOOKUP(B224,'I. Stationäre Energie'!C:E,3,FALSE)","v":"I.4. ."},null,{"$f":"VLOOKUP(B224,'I. Stationäre Energie'!C:G,5,FALSE)","v":"4. Energiewirtschaft"},"Biogene Brenn- und Treibstoffe (Brennholz, biogene Brenn- und Treibstoffe)",{"$f":"IFERROR(GETPIVOTDATA(\"Energie\",EM_Daten_u_Uebersicht!$W$5,\"Ziel-Subsektor\",C224,\"Energieträger\",F224),\"\")","v":""},{"$f":"IFERROR(GETPIVOTDATA(\"Summe von Energieeinsatz [MWh]\",I_Pivot!$G$3,\"ID\",C224,\"EM_Energieträger\",F224),\"\")","v":""},{"$f":"IFERROR(G224*VLOOKUP(F224,EM_Daten_u_Uebersicht!P:Q,2,FALSE),\"\")","v":""},{"$f":"IFERROR(GETPIVOTDATA(\"Summe von THG [t CO2eq]\",I_Pivot!$G$3,\"ID\",C224,\"EM_Energieträger\",F224),\"\")","v":""},"S1",null,null,null,null,null,null,null,null,null,null,null,null,null,null,null,null,null,null,null,"4. Energiewirtschaft","Fernwärme","","",null,"","",""]
[222,25,{"$f":"VLOOKUP(B225,'I. Stationäre Energie'!C:E,3,FALSE)","v":"I.4. ."},null,{"$f":"VLOOKUP(B225,'I. Stationäre Energie'!C:G,5,FALSE)","v":"4. Energiewirtschaft"},"Brennbare Abfälle",{"$f":"IFERROR(GETPIVOTDATA(\"Energie\",EM_Daten_u_Uebersicht!$W$5,\"Ziel-Subsektor\",C225,\"Energieträger\",F225),\"\")","v":""},{"$f":"IFERROR(GETPIVOTDATA(\"Summe von Energieeinsatz [MWh]\",I_Pivot!$G$3,\"ID\",C225,\"EM_Energieträger\",F225),\"\")","v":""},{"$f":"IFERROR(G225*VLOOKUP(F225,EM_Daten_u_Uebersicht!P:Q,2,FALSE),\"\")","v":""},{"$f":"IFERROR(GETPIVOTDATA(\"Summe von THG [t CO2eq]\",I_Pivot!$G$3,\"ID\",C225,\"EM_Energieträger\",F225),\"\")","v":""},"S1",null,null,null,null,null,null,null,null,null,null,null,null,null,null,null,null,null,null,null,"4. Energiewirtschaft","Biogene Brenn- und Treibstoffe (Brennholz, biogene Brenn- und Treibstoffe)","","",null,"","",0]
[223,25,{"$f":"VLOOKUP(B226,'I. Stationäre Energie'!C:E,3,FALSE)","v":"I.4. ."},null,{"$f":"VLOOKUP(B226,'I. Stationäre Energie'!C:G,5,FALSE)","v":"4. Energiewirtschaft"},"Umgebungswärme",{"$f":"IFERROR(GETPIVOTDATA(\"Energie\",EM_Daten_u_Uebersicht!$W$5,\"Ziel-Subsektor\",C226,\"Energieträger\",F226),\"\")","v":""},{"$f":"IFERROR(GETPIVOTDATA(\"Summe von Energieeinsatz [MWh]\",I_Pivot!$G$3,\"ID\",C226,\"EM_Energieträger\",F226),\"\")","v":""},{"$f":"IFERROR(G226*VLOOKUP(F226,EM_Daten_u_Uebersicht!P:Q,2,FALSE),\"\")","v":""},{"$f":"IFERROR(GETPIVOTDATA(\"Summe von THG [t CO2eq]\",I_Pivot!$G$3,\"ID\",C226,\"EM_Energieträger\",F226),\"\")","v":""},"S1",null,null,null,null,null,null,null,null,null,null,null,null,null,null,null,null,null,null,null,"4. Energiewirtschaft","Brennbare Abfälle","","",null,"","",0]
[224,25,{"$f":"VLOOKUP(B227,'I. Stationäre Energie'!C:E,3,FALSE)","v":"I.4. ."},null,{"$f":"VLOOKUP(B227,'I. Stationäre Energie'!C:G,5,FALSE)","v":"4. Energiewirtschaft"},"CO2-eq Direkteingabe",{"$f":"IFERROR(GETPIVOTDATA(\"Energie\",EM_Daten_u_Uebersicht!$W$5,\"Ziel-Subsektor\",C227,\"Energieträger\",F227),\"\")","v":""},{"$f":"IFERROR(GETPIVOTDATA(\"Summe von Energieeinsatz [MWh]\",I_Pivot!$G$3,\"ID\",C227,\"EM_Energieträger\",F227),\"\")","v":""},{"$f":"IFERROR(G227*VLOOKUP(F227,EM_Daten_u_Uebersicht!P:Q,2,FALSE),\"\")","v":""},{"$f":"IFERROR(GETPIVOTDATA(\"Summe von THG [t CO2eq]\",I_Pivot!$G$3,\"ID\",C227,\"EM_Energieträger\",F227),\"\")","v":""},"S1",null,null,null,null,null,null,null,null,null,null,null,null,null,null,null,null,null,null,null,"4. Energiewirtschaft","Umgebungswärme","","",null,"","",0]
[225,26,{"$f":"VLOOKUP(B228,'I. Stationäre Energie'!C:E,3,FALSE)","v":"I.4.ETS."},null,{"$f":"VLOOKUP(B228,'I. Stationäre Energie'!C:G,5,FALSE)","v":"ETS-Emissionen"},"Kohle (Steinkohle, Braunkohle, Koks, Petrolkoks; Gichtgas, Kokereigas, Brenntorf)",{"$f":"IFERROR(GETPIVOTDATA(\"Energie\",EM_Daten_u_Uebersicht!$W$5,\"Ziel-Subsektor\",C228,\"Energieträger\",F228),\"\")","v":""},{"$f":"IFERROR(GETPIVOTDATA(\"Summe von Energieeinsatz [MWh]\",I_Pivot!$G$3,\"ID\",C228,\"EM_Energieträger\",F228),\"\")","v":""},{"$f":"IFERROR(G228*VLOOKUP(F228,EM_Daten_u_Uebersicht!P:Q,2,FALSE),\"\")","v":""},{"$f":"IFERROR(GETPIVOTDATA(\"Summe von THG [t CO2eq]\",I_Pivot!$G$3,\"ID\",C228,\"EM_Energieträger\",F228),\"\")","v":""},"S1",null,null,null,null,null,null,null,null,null,null,null,null,null,null,null,null,null,null,null,"4. Energiewirtschaft","CO2-eq Direkteingabe","","",null,"","",0]
[226,26,{"$f":"VLOOKUP(B229,'I. Stationäre Energie'!C:E,3,FALSE)","v":"I.4.ETS."},null,{"$f":"VLOOKUP(B229,'I. Stationäre Energie'!C:G,5,FALSE)","v":"ETS-Emissionen"},"Öl (Heizöl, Gasöl für Heizzwecke, Diesel, Benzin, Petroleum, Flüssiggas)",{"$f":"IFERROR(GETPIVOTDATA(\"Energie\",EM_Daten_u_Uebersicht!$W$5,\"Ziel-Subsektor\",C229,\"Energieträger\",F229),\"\")","v":""},{"$f":"IFERROR(GETPIVOTDATA(\"Summe von Energieeinsatz [MWh]\",I_Pivot!$G$3,\"ID\",C229,\"EM_Energieträger\",F229),\"\")","v":""},{"$f":"IFERROR(G229*VLOOKUP(F229,EM_Daten_u_Uebersicht!P:Q,2,FALSE),\"\")","v":""},{"$f":"IFERROR(GETPIVOTDATA(\"Summe von THG [t CO2eq]\",I_Pivot!$G$3,\"ID\",C229,\"EM_Energieträger\",F229),\"\")","v":""},"S1",null,null,null,null,null,null,null,null,null,null,null,null,null,null,null,null,null,null,null,"ETS-Emissionen","Kohle (Steinkohle, Braunkohle, Koks, Petrolkoks; Gichtgas, Kokereigas, Brenntorf)","","",null,"","",0]
[227,26,{"$f":"VLOOKUP(B230,'I. Stationäre Energie'!C:E,3,FALSE)","v":"I.4.ETS."},null,{"$f":"VLOOKUP(B230,'I. Stationäre Energie'!C:G,5,FALSE)","v":"ETS-Emissionen"},"Erdgas",{"$f":"IFERROR(GETPIVOTDATA(\"Energie\",EM_Daten_u_Uebersicht!$W$5,\"Ziel-Subsektor\",C230,\"Energieträger\",F230),\"\")","v":""},{"$f":"IFERROR(GETPIVOTDATA(\"Summe von Energieeinsatz [MWh]\",I_Pivot!$G$3,\"ID\",C230,\"EM_Energieträger\",F230),\"\")","v":""},{"$f":"IFERROR(G230*VLOOKUP(F230,EM_Daten_u_Uebersicht!P:Q,2,FALSE),\"\")","v":""},{"$f":"IFERROR(GETPIVOTDATA(\"Summe von THG [t CO2eq]\",I_Pivot!$G$3,\"ID\",C230,\"EM_Energieträger\",F230),\"\")","v":""},"S1",null,null,null,null,null,null,null,null,null,null,null,null,null,null,null,null,null,null,null,"ETS-Emissionen","Öl (Heizöl, Gasöl für Heizzwecke, Diesel, Benzin, Petroleum, Flüssiggas)","","",null,"","",0]
[228,26,{"$f":"VLOOKUP(B231,'I. Stationäre Energie'!C:E,3,FALSE)","v":"I.4.ETS."},null,{"$f":"VLOOKUP(B231,'I. Stationäre Energie'!C:G,5,FALSE)","v":"ETS-Emissionen"},"elektrische Energie",{"$f":"IFERROR(GETPIVOTDATA(\"Energie\",EM_Daten_u_Uebersicht!$W$5,\"Ziel-Subsektor\",C231,\"Energieträger\",F231),\"\")","v":""},{"$f":"IFERROR(GETPIVOTDATA(\"Summe von Energieeinsatz [MWh]\",I_Pivot!$G$3,\"ID\",C231,\"EM_Energieträger\",F231),\"\")","v":""},{"$f":"IFERROR(G231*VLOOKUP(F231,EM_Daten_u_Uebersicht!P:Q,2,FALSE),\"\")","v":""},{"$f":"IFERROR(GETPIVOTDATA(\"Summe von THG [t CO2eq]\",I_Pivot!$G$3,\"ID\",C231,\"EM_Energieträger\",F231),\"\")","v":""},"S2",{"$f":"J231/0.94-J231","v":{"$error":"#VALUE!"}},null,null,null,null,null,null,null,null,null,null,null,null,null,null,null,null,null,null,"ETS-Emissionen","Erdgas","","",null,"","",0]
[229,26,{"$f":"VLOOKUP(B232,'I. Stationäre Energie'!C:E,3,FALSE)","v":"I.4.ETS."},null,{"$f":"VLOOKUP(B232,'I. Stationäre Energie'!C:G,5,FALSE)","v":"ETS-Emissionen"},"Fernwärme",{"$f":"IFERROR(GETPIVOTDATA(\"Energie\",EM_Daten_u_Uebersicht!$W$5,\"Ziel-Subsektor\",C232,\"Energieträger\",F232),\"\")","v":""},{"$f":"IFERROR(GETPIVOTDATA(\"Summe von Energieeinsatz [MWh]\",I_Pivot!$G$3,\"ID\",C232,\"EM_Energieträger\",F232),\"\")","v":""},{"$f":"IFERROR(G232*VLOOKUP(F232,EM_Daten_u_Uebersicht!P:Q,2,FALSE),\"\")","v":""},{"$f":"IFERROR(GETPIVOTDATA(\"Summe von THG [t CO2eq]\",I_Pivot!$G$3,\"ID\",C232,\"EM_Energieträger\",F232),\"\")","v":""},"S2",{"$f":"J232/0.86-J232","v":{"$error":"#VALUE!"}},null,null,null,null,null,null,null,null,null,null,null,null,null,null,null,null,null,null,"ETS-Emissionen","elektrische Energie","","",null,"","",""]
[230,26,{"$f":"VLOOKUP(B233,'I. Stationäre Energie'!C:E,3,FALSE)","v":"I.4.ETS."},null,{"$f":"VLOOKUP(B233,'I. Stationäre Energie'!C:G,5,FALSE)","v":"ETS-Emissionen"},"Biogene Brenn- und Treibstoffe (Brennholz, biogene Brenn- und Treibstoffe)",{"$f":"IFERROR(GETPIVOTDATA(\"Energie\",EM_Daten_u_Uebersicht!$W$5,\"Ziel-Subsektor\",C233,\"Energieträger\",F233),\"\")","v":""},{"$f":"IFERROR(GETPIVOTDATA(\"Summe von Energieeinsatz [MWh]\",I_Pivot!$G$3,\"ID\",C233,\"EM_Energieträger\",F233),\"\")","v":""},{"$f":"IFERROR(G233*VLOOKUP(F233,EM_Daten_u_Uebersicht!P:Q,2,FALSE),\"\")","v":""},{"$f":"IFERROR(GETPIVOTDATA(\"Summe von THG [t CO2eq]\",I_Pivot!$G$3,\"ID\",C233,\"EM_Energieträger\",F233),\"\")","v":""},"S1",null,null,null,null,null,null,null,null,null,null,null,null,null,null,null,null,null,null,null,"ETS-Emissionen","Fernwärme","","",null,"","",""]
[231,26,{"$f":"VLOOKUP(B234,'I. Stationäre Energie'!C:E,3,FALSE)","v":"I.4.ETS."},null,{"$f":"VLOOKUP(B234,'I. Stationäre Energie'!C:G,5,FALSE)","v":"ETS-Emissionen"},"Brennbare Abfälle",{"$f":"IFERROR(GETPIVOTDATA(\"Energie\",EM_Daten_u_Uebersicht!$W$5,\"Ziel-Subsektor\",C234,\"Energieträger\",F234),\"\")","v":""},{"$f":"IFERROR(GETPIVOTDATA(\"Summe von Energieeinsatz [MWh]\",I_Pivot!$G$3,\"ID\",C234,\"EM_Energieträger\",F234),\"\")","v":""},{"$f":"IFERROR(G234*VLOOKUP(F234,EM_Daten_u_Uebersicht!P:Q,2,FALSE),\"\")","v":""},{"$f":"IFERROR(GETPIVOTDATA(\"Summe von THG [t CO2eq]\",I_Pivot!$G$3,\"ID\",C234,\"EM_Energieträger\",F234),\"\")","v":""},"S1",null,null,null,null,null,null,null,null,null,null,null,null,null,null,null,null,null,null,null,"ETS-Emissionen","Biogene Brenn- und Treibstoffe (Brennholz, biogene Brenn- und Treibstoffe)","","",null,"","",0]
[232,26,{"$f":"VLOOKUP(B235,'I. Stationäre Energie'!C:E,3,FALSE)","v":"I.4.ETS."},null,{"$f":"VLOOKUP(B235,'I. Stationäre Energie'!C:G,5,FALSE)","v":"ETS-Emissionen"},"Umgebungswärme",{"$f":"IFERROR(GETPIVOTDATA(\"Energie\",EM_Daten_u_Uebersicht!$W$5,\"Ziel-Subsektor\",C235,\"Energieträger\",F235),\"\")","v":""},{"$f":"IFERROR(GETPIVOTDATA(\"Summe von Energieeinsatz [MWh]\",I_Pivot!$G$3,\"ID\",C235,\"EM_Energieträger\",F235),\"\")","v":""},{"$f":"IFERROR(G235*VLOOKUP(F235,EM_Daten_u_Uebersicht!P:Q,2,FALSE),\"\")","v":""},{"$f":"IFERROR(GETPIVOTDATA(\"Summe von THG [t CO2eq]\",I_Pivot!$G$3,\"ID\",C235,\"EM_Energieträger\",F235),\"\")","v":""},"S1",null,null,null,null,null,null,null,null,null,null,null,null,null,null,null,null,null,null,null,"ETS-Emissionen","Brennbare Abfälle","","",null,"","",0]
[233,26,{"$f":"VLOOKUP(B236,'I. Stationäre Energie'!C:E,3,FALSE)","v":"I.4.ETS."},null,{"$f":"VLOOKUP(B236,'I. Stationäre Energie'!C:G,5,FALSE)","v":"ETS-Emissionen"},"CO2-eq Direkteingabe",{"$f":"IFERROR(GETPIVOTDATA(\"Energie\",EM_Daten_u_Uebersicht!$W$5,\"Ziel-Subsektor\",C236,\"Energieträger\",F236),\"\")","v":""},{"$f":"IFERROR(GETPIVOTDATA(\"Summe von Energieeinsatz [MWh]\",I_Pivot!$G$3,\"ID\",C236,\"EM_Energieträger\",F236),\"\")","v":0},{"$f":"IFERROR(G236*VLOOKUP(F236,EM_Daten_u_Uebersicht!P:Q,2,FALSE),\"\")","v":""},{"$f":"IFERROR(GETPIVOTDATA(\"Summe von THG [t CO2eq]\",I_Pivot!$G$3,\"ID\",C236,\"EM_Energieträger\",F236),\"\")","v":0},"S1",null,null,null,null,null,null,null,null,null,null,null,null,null,null,null,null,null,null,null,"ETS-Emissionen","Umgebungswärme","","",null,"","",0]
[234,27,{"$f":"VLOOKUP(B237,'I. Stationäre Energie'!C:E,3,FALSE)","v":"I.4.i."},null,{"$f":"VLOOKUP(B237,'I. Stationäre Energie'!C:G,5,FALSE)","v":"i. Hilfsenergie, die in Strom- und Heizkraftwerken eingesetzt wird."},"Kohle (Steinkohle, Braunkohle, Koks, Petrolkoks; Gichtgas, Kokereigas, Brenntorf)",{"$f":"IFERROR(GETPIVOTDATA(\"Energie\",EM_Daten_u_Uebersicht!$W$5,\"Ziel-Subsektor\",C237,\"Energieträger\",F237),\"\")","v":""},{"$f":"IFERROR(GETPIVOTDATA(\"Summe von Energieeinsatz [MWh]\",I_Pivot!$G$3,\"ID\",C237,\"EM_Energieträger\",F237),\"\")","v":""},{"$f":"IFERROR(G237*VLOOKUP(F237,EM_Daten_u_Uebersicht!P:Q,2,FALSE),\"\")","v":""},{"$f":"IFERROR(GETPIVOTDATA(\"Summe von THG [t CO2eq]\",I_Pivot!$G$3,\"ID\",C237,\"EM_Energieträger\",F237),\"\")","v":""},"S1",null,null,null,null,null,null,null,null,null,null,null,null,null,null,null,null,null,null,null,"ETS-Emissionen","CO2-eq Direkteingabe",0,0,null,0,"",0]
[235,27,{"$f":"VLOOKUP(B238,'I. Stationäre Energie'!C:E,3,FALSE)","v":"I.4.i."},null,{"$f":"VLOOKUP(B238,'I. Stationäre Energie'!C:G,5,FALSE)","v":"i. Hilfsenergie, die in Strom- und Heizkraftwerken eingesetzt wird."},"Öl (Heizöl, Gasöl für Heizzwecke, Diesel, Benzin, Petroleum, Flüssiggas)",{"$f":"IFERROR(GETPIVOTDATA(\"Energie\",EM_Daten_u_Uebersicht!$W$5,\"Ziel-Subsektor\",C238,\"Energieträger\",F238),\"\")","v":""},{"$f":"IFERROR(GETPIVOTDATA(\"Summe von Energieeinsatz [MWh]\",I_Pivot!$G$3,\"ID\",C238,\"EM_Energieträger\",F238),\"\")","v":""},{"$f":"IFERROR(G238*VLOOKUP(F238,EM_Daten_u_Uebersicht!P:Q,2,FALSE),\"\")","v":""},{"$f":"IFERROR(GETPIVOTDATA(\"Summe von THG [t CO2eq]\",I_Pivot!$G$3,\"ID\",C238,\"EM_Energieträger\",F238),\"\")","v":""},"S1",null,null,null,null,null,null,null,null,null,null,null,null,null,null,null,null,null,null,null,"i. Hilfsenergie, die in Strom- und Heizkraftwerken eingesetzt wird.","Kohle (Steinkohle, Braunkohle, Koks, Petrolkoks; Gichtgas, Kokereigas, Brenntorf)","","",null,"","",0]
[236,27,{"$f":"VLOOKUP(B239,'I. Stationäre Energie'!C:E,3,FALSE)","v":"I.4.i."},null,{"$f":"VLOOKUP(B239,'I. Stationäre Energie'!C:G,5,FALSE)","v":"i. Hilfsenergie, die in Strom- und Heizkraftwerken eingesetzt wird."},"Erdgas",{"$f":"IFERROR(GETPIVOTDATA(\"Energie\",EM_Daten_u_Uebersicht!$W$5,\"Ziel-Subsektor\",C239,\"Energieträger\",F239),\"\")","v":""},{"$f":"IFERROR(GETPIVOTDATA(\"Summe von Energieeinsatz [MWh]\",I_Pivot!$G$3,\"ID\",C239,\"EM_Energieträger\",F239),\"\")","v":""},{"$f":"IFERROR(G239*VLOOKUP(F239,EM_Daten_u_Uebersicht!P:Q,2,FALSE),\"\")","v":""},{"$f":"IFERROR(GETPIVOTDATA(\"Summe von THG [t CO2eq]\",I_Pivot!$G$3,\"ID\",C239,\"EM_Energieträger\",F239),\"\")","v":""},"S1",null,null,null,null,null,null,null,null,null,null,null,null,null,null,null,null,null,null,null,"i. Hilfsenergie, die in Strom- und Heizkraftwerken eingesetzt wird.","Öl (Heizöl, Gasöl für Heizzwecke, Diesel, Benzin, Petroleum, Flüssiggas)","","",null,"","",0]
[237,27,{"$f":"VLOOKUP(B240,'I. Stationäre Energie'!C:E,3,FALSE)","v":"I.4.i."},null,{"$f":"VLOOKUP(B240,'I. Stationäre Energie'!C:G,5,FALSE)","v":"i. Hilfsenergie, die in Strom- und Heizkraftwerken eingesetzt wird."},"elektrische Energie",{"$f":"IFERROR(GETPIVOTDATA(\"Energie\",EM_Daten_u_Uebersicht!$W$5,\"Ziel-Subsektor\",C240,\"Energieträger\",F240),\"\")","v":""},{"$f":"IFERROR(GETPIVOTDATA(\"Summe von Energieeinsatz [MWh]\",I_Pivot!$G$3,\"ID\",C240,\"EM_Energieträger\",F240),\"\")","v":""},{"$f":"IFERROR(G240*VLOOKUP(F240,EM_Daten_u_Uebersicht!P:Q,2,FALSE),\"\")","v":""},{"$f":"IFERROR(GETPIVOTDATA(\"Summe von THG [t CO2eq]\",I_Pivot!$G$3,\"ID\",C240,\"EM_Energieträger\",F240),\"\")","v":""},"S2",{"$f":"J240/0.94-J240","v":{"$error":"#VALUE!"}},null,null,null,null,null,null,null,null,null,null,null,null,null,null,null,null,null,null,"i. Hilfsenergie, die in Strom- und Heizkraftwerken eingesetzt wird.","Erdgas","","",null,"","",0]
[238,27,{"$f":"VLOOKUP(B241,'I. Stationäre Energie'!C:E,3,FALSE)","v":"I.4.i."},null,{"$f":"VLOOKUP(B241,'I. Stationäre Energie'!C:G,5,FALSE)","v":"i. Hilfsenergie, die in Strom- und Heizkraftwerken eingesetzt wird."},"Fernwärme",{"$f":"IFERROR(GETPIVOTDATA(\"Energie\",EM_Daten_u_Uebersicht!$W$5,\"Ziel-Subsektor\",C241,\"Energieträger\",F241),\"\")","v":""},{"$f":"IFERROR(GETPIVOTDATA(\"Summe von Energieeinsatz [MWh]\",I_Pivot!$G$3,\"ID\",C241,\"EM_Energieträger\",F241),\"\")","v":""},{"$f":"IFERROR(G241*VLOOKUP(F241,EM_Daten_u_Uebersicht!P:Q,2,FALSE),\"\")","v":""},{"$f":"IFERROR(GETPIVOTDATA(\"Summe von THG [t CO2eq]\",I_Pivot!$G$3,\"ID\",C241,\"EM_Energieträger\",F241),\"\")","v":""},"S2",{"$f":"J241/0.86-J241","v":{"$error":"#VALUE!"}},null,null,null,null,null,null,null,null,null,null,null,null,null,null,null,null,null,null,"i. Hilfsenergie, die in Strom- und Heizkraftwerken eingesetzt wird.","elektrische Energie","","",null,"","",""]
[239,27,{"$f":"VLOOKUP(B242,'I. Stationäre Energie'!C:E,3,FALSE)","v":"I.4.i."},null,{"$f":"VLOOKUP(B242,'I. Stationäre Energie'!C:G,5,FALSE)","v":"i. Hilfsenergie, die in Strom- und Heizkraftwerken eingesetzt wird."},"Biogene Brenn- und Treibstoffe (Brennholz, biogene Brenn- und Treibstoffe)",{"$f":"IFERROR(GETPIVOTDATA(\"Energie\",EM_Daten_u_Uebersicht!$W$5,\"Ziel-Subsektor\",C242,\"Energieträger\",F242),\"\")","v":""},{"$f":"IFERROR(GETPIVOTDATA(\"Summe von Energieeinsatz [MWh]\",I_Pivot!$G$3,\"ID\",C242,\"EM_Energieträger\",F242),\"\")","v":""},{"$f":"IFERROR(G242*VLOOKUP(F242,EM_Daten_u_Uebersicht!P:Q,2,FALSE),\"\")","v":""},{"$f":"IFERROR(GETPIVOTDATA(\"Summe von THG [t CO2eq]\",I_Pivot!$G$3,\"ID\",C242,\"EM_Energieträger\",F242),\"\")","v":""},"S1",null,null,null,null,null,null,null,null,null,null,null,null,null,null,null,null,null,null,null,"i. Hilfsenergie, die in Strom- und Heizkraftwerken eingesetzt wird.","Fernwärme","","",null,"","",""]
[240,27,{"$f":"VLOOKUP(B243,'I. Stationäre Energie'!C:E,3,FALSE)","v":"I.4.i."},null,{"$f":"VLOOKUP(B243,'I. Stationäre Energie'!C:G,5,FALSE)","v":"i. Hilfsenergie, die in Strom- und Heizkraftwerken eingesetzt wird."},"Brennbare Abfälle",{"$f":"IFERROR(GETPIVOTDATA(\"Energie\",EM_Daten_u_Uebersicht!$W$5,\"Ziel-Subsektor\",C243,\"Energieträger\",F243),\"\")","v":""},{"$f":"IFERROR(GETPIVOTDATA(\"Summe von Energieeinsatz [MWh]\",I_Pivot!$G$3,\"ID\",C243,\"EM_Energieträger\",F243),\"\")","v":""},{"$f":"IFERROR(G243*VLOOKUP(F243,EM_Daten_u_Uebersicht!P:Q,2,FALSE),\"\")","v":""},{"$f":"IFERROR(GETPIVOTDATA(\"Summe von THG [t CO2eq]\",I_Pivot!$G$3,\"ID\",C243,\"EM_Energieträger\",F243),\"\")","v":""},"S1",null,null,null,null,null,null,null,null,null,null,null,null,null,null,null,null,null,null,null,"i. Hilfsenergie, die in Strom- und Heizkraftwerken eingesetzt wird.","Biogene Brenn- und Treibstoffe (Brennholz, biogene Brenn- und Treibstoffe)","","",null,"","",0]
[241,27,{"$f":"VLOOKUP(B244,'I. Stationäre Energie'!C:E,3,FALSE)","v":"I.4.i."},null,{"$f":"VLOOKUP(B244,'I. Stationäre Energie'!C:G,5,FALSE)","v":"i. Hilfsenergie, die in Strom- und Heizkraftwerken eingesetzt wird."},"Umgebungswärme",{"$f":"IFERROR(GETPIVOTDATA(\"Energie\",EM_Daten_u_Uebersicht!$W$5,\"Ziel-Subsektor\",C244,\"Energieträger\",F244),\"\")","v":""},{"$f":"IFERROR(GETPIVOTDATA(\"Summe von Energieeinsatz [MWh]\",I_Pivot!$G$3,\"ID\",C244,\"EM_Energieträger\",F244),\"\")","v":""},{"$f":"IFERROR(G244*VLOOKUP(F244,EM_Daten_u_Uebersicht!P:Q,2,FALSE),\"\")","v":""},{"$f":"IFERROR(GETPIVOTDATA(\"Summe von THG [t CO2eq]\",I_Pivot!$G$3,\"ID\",C244,\"EM_Energieträger\",F244),\"\")","v":""},"S1",null,null,null,null,null,null,null,null,null,null,null,null,null,null,null,null,null,null,null,"i. Hilfsenergie, die in Strom- und Heizkraftwerken eingesetzt wird.","Brennbare Abfälle","","",null,"","",0]
[242,27,{"$f":"VLOOKUP(B245,'I. Stationäre Energie'!C:E,3,FALSE)","v":"I.4.i."},null,{"$f":"VLOOKUP(B245,'I. Stationäre Energie'!C:G,5,FALSE)","v":"i. Hilfsenergie, die in Strom- und Heizkraftwerken eingesetzt wird."},"CO2-eq Direkteingabe",{"$f":"IFERROR(GETPIVOTDATA(\"Energie\",EM_Daten_u_Uebersicht!$W$5,\"Ziel-Subsektor\",C245,\"Energieträger\",F245),\"\")","v":""},{"$f":"IFERROR(GETPIVOTDATA(\"Summe von Energieeinsatz [MWh]\",I_Pivot!$G$3,\"ID\",C245,\"EM_Energieträger\",F245),\"\")","v":""},{"$f":"IFERROR(G245*VLOOKUP(F245,EM_Daten_u_Uebersicht!P:Q,2,FALSE),\"\")","v":""},{"$f":"IFERROR(GETPIVOTDATA(\"Summe von THG [t CO2eq]\",I_Pivot!$G$3,\"ID\",C245,\"EM_Energieträger\",F245),\"\")","v":""},"S1",null,null,null,null,null,null,null,null,null,null,null,null,null,null,null,null,null,null,null,"i. Hilfsenergie, die in Strom- und Heizkraftwerken eingesetzt wird.","Umgebungswärme","","",null,"","",0]
[243,28,{"$f":"VLOOKUP(B246,'I. Stationäre Energie'!C:E,3,FALSE)","v":"I.4.ii."},null,{"$f":"VLOOKUP(B246,'I. Stationäre Energie'!C:G,5,FALSE)","v":"ii. Eigenstromverbrauch: Netzenergie, die in Strom- und Heizkraftwerken eingesetzt wird."},"Kohle (Steinkohle, Braunkohle, Koks, Petrolkoks; Gichtgas, Kokereigas, Brenntorf)",{"$f":"IFERROR(GETPIVOTDATA(\"Energie\",EM_Daten_u_Uebersicht!$W$5,\"Ziel-Subsektor\",C246,\"Energieträger\",F246),\"\")","v":""},{"$f":"IFERROR(GETPIVOTDATA(\"Summe von Energieeinsatz [MWh]\",I_Pivot!$G$3,\"ID\",C246,\"EM_Energieträger\",F246),\"\")","v":""},{"$f":"IFERROR(G246*VLOOKUP(F246,EM_Daten_u_Uebersicht!P:Q,2,FALSE),\"\")","v":""},{"$f":"IFERROR(GETPIVOTDATA(\"Summe von THG [t CO2eq]\",I_Pivot!$G$3,\"ID\",C246,\"EM_Energieträger\",F246),\"\")","v":""},"S1",null,null,null,null,null,null,null,null,null,null,null,null,null,null,null,null,null,null,null,"i. Hilfsenergie, die in Strom- und Heizkraftwerken eingesetzt wird.","CO2-eq Direkteingabe","","",null,"","",0]
[244,28,{"$f":"VLOOKUP(B247,'I. Stationäre Energie'!C:E,3,FALSE)","v":"I.4.ii."},null,{"$f":"VLOOKUP(B247,'I. Stationäre Energie'!C:G,5,FALSE)","v":"ii. Eigenstromverbrauch: Netzenergie, die in Strom- und Heizkraftwerken eingesetzt wird."},"Öl (Heizöl, Gasöl für Heizzwecke, Diesel, Benzin, Petroleum, Flüssiggas)",{"$f":"IFERROR(GETPIVOTDATA(\"Energie\",EM_Daten_u_Uebersicht!$W$5,\"Ziel-Subsektor\",C247,\"Energieträger\",F247),\"\")","v":""},{"$f":"IFERROR(GETPIVOTDATA(\"Summe von Energieeinsatz [MWh]\",I_Pivot!$G$3,\"ID\",C247,\"EM_Energieträger\",F247),\"\")","v":""},{"$f":"IFERROR(G247*VLOOKUP(F247,EM_Daten_u_Uebersicht!P:Q,2,FALSE),\"\")","v":""},{"$f":"IFERROR(GETPIVOTDATA(\"Summe von THG [t CO2eq]\",I_Pivot!$G$3,\"ID\",C247,\"EM_Energieträger\",F247),\"\")","v":""},"S1",null,null,null,null,null,null,null,null,null,null,null,null,null,null,null,null,null,null,null,"ii. Eigenstromverbrauch: Netzenergie, die in Strom- und Heizkraftwerken eingesetzt wird.","Kohle (Steinkohle, Braunkohle, Koks, Petrolkoks; Gichtgas, Kokereigas, Brenntorf)","","",null,"","",0]
[245,28,{"$f":"VLOOKUP(B248,'I. Stationäre Energie'!C:E,3,FALSE)","v":"I.4.ii."},null,{"$f":"VLOOKUP(B248,'I. Stationäre Energie'!C:G,5,FALSE)","v":"ii. Eigenstromverbrauch: Netzenergie, die in Strom- und Heizkraftwerken eingesetzt wird."},"Erdgas",{"$f":"IFERROR(GETPIVOTDATA(\"Energie\",EM_Daten_u_Uebersicht!$W$5,\"Ziel-Subsektor\",C248,\"Energieträger\",F248),\"\")","v":""},{"$f":"IFERROR(GETPIVOTDATA(\"Summe von Energieeinsatz [MWh]\",I_Pivot!$G$3,\"ID\",C248,\"EM_Energieträger\",F248),\"\")","v":""},{"$f":"IFERROR(G248*VLOOKUP(F248,EM_Daten_u_Uebersicht!P:Q,2,FALSE),\"\")","v":""},{"$f":"IFERROR(GETPIVOTDATA(\"Summe von THG [t CO2eq]\",I_Pivot!$G$3,\"ID\",C248,\"EM_Energieträger\",F248),\"\")","v":""},"S1",null,null,null,null,null,null,null,null,null,null,null,null,null,null,null,null,null,null,null,"ii. Eigenstromverbrauch: Netzenergie, die in Strom- und Heizkraftwerken eingesetzt wird.","Öl (Heizöl, Gasöl für Heizzwecke, Diesel, Benzin, Petroleum, Flüssiggas)","","",null,"","",0]
[246,28,{"$f":"VLOOKUP(B249,'I. Stationäre Energie'!C:E,3,FALSE)","v":"I.4.ii."},null,{"$f":"VLOOKUP(B249,'I. Stationäre Energie'!C:G,5,FALSE)","v":"ii. Eigenstromverbrauch: Netzenergie, die in Strom- und Heizkraftwerken eingesetzt wird."},"elektrische Energie",{"$f":"IFERROR(GETPIVOTDATA(\"Energie\",EM_Daten_u_Uebersicht!$W$5,\"Ziel-Subsektor\",C249,\"Energieträger\",F249),\"\")","v":""},{"$f":"IFERROR(GETPIVOTDATA(\"Summe von Energieeinsatz [MWh]\",I_Pivot!$G$3,\"ID\",C249,\"EM_Energieträger\",F249),\"\")","v":""},{"$f":"IFERROR(G249*VLOOKUP(F249,EM_Daten_u_Uebersicht!P:Q,2,FALSE),\"\")","v":""},{"$f":"IFERROR(GETPIVOTDATA(\"Summe von THG [t CO2eq]\",I_Pivot!$G$3,\"ID\",C249,\"EM_Energieträger\",F249),\"\")","v":""},"S2",{"$f":"J249/0.94-J249","v":{"$error":"#VALUE!"}},null,null,null,null,null,null,null,null,null,null,null,null,null,null,null,null,null,null,"ii. Eigenstromverbrauch: Netzenergie, die in Strom- und Heizkraftwerken eingesetzt wird.","Erdgas","","",null,"","",0]
[247,28,{"$f":"VLOOKUP(B250,'I. Stationäre Energie'!C:E,3,FALSE)","v":"I.4.ii."},null,{"$f":"VLOOKUP(B250,'I. Stationäre Energie'!C:G,5,FALSE)","v":"ii. Eigenstromverbrauch: Netzenergie, die in Strom- und Heizkraftwerken eingesetzt wird."},"Fernwärme",{"$f":"IFERROR(GETPIVOTDATA(\"Energie\",EM_Daten_u_Uebersicht!$W$5,\"Ziel-Subsektor\",C250,\"Energieträger\",F250),\"\")","v":""},{"$f":"IFERROR(GETPIVOTDATA(\"Summe von Energieeinsatz [MWh]\",I_Pivot!$G$3,\"ID\",C250,\"EM_Energieträger\",F250),\"\")","v":""},{"$f":"IFERROR(G250*VLOOKUP(F250,EM_Daten_u_Uebersicht!P:Q,2,FALSE),\"\")","v":""},{"$f":"IFERROR(GETPIVOTDATA(\"Summe von THG [t CO2eq]\",I_Pivot!$G$3,\"ID\",C250,\"EM_Energieträger\",F250),\"\")","v":""},"S2",{"$f":"J250/0.86-J250","v":{"$error":"#VALUE!"}},null,null,null,null,null,null,null,null,null,null,null,null,null,null,null,null,null,null,"ii. Eigenstromverbrauch: Netzenergie, die in Strom- und Heizkraftwerken eingesetzt wird.","elektrische Energie","","",null,"","",""]
[248,28,{"$f":"VLOOKUP(B251,'I. Stationäre Energie'!C:E,3,FALSE)","v":"I.4.ii."},null,{"$f":"VLOOKUP(B251,'I. Stationäre Energie'!C:G,5,FALSE)","v":"ii. Eigenstromverbrauch: Netzenergie, die in Strom- und Heizkraftwerken eingesetzt wird."},"Biogene Brenn- und Treibstoffe (Brennholz, biogene Brenn- und Treibstoffe)",{"$f":"IFERROR(GETPIVOTDATA(\"Energie\",EM_Daten_u_Uebersicht!$W$5,\"Ziel-Subsektor\",C251,\"Energieträger\",F251),\"\")","v":""},{"$f":"IFERROR(GETPIVOTDATA(\"Summe von Energieeinsatz [MWh]\",I_Pivot!$G$3,\"ID\",C251,\"EM_Energieträger\",F251),\"\")","v":""},{"$f":"IFERROR(G251*VLOOKUP(F251,EM_Daten_u_Uebersicht!P:Q,2,FALSE),\"\")","v":""},{"$f":"IFERROR(GETPIVOTDATA(\"Summe von THG [t CO2eq]\",I_Pivot!$G$3,\"ID\",C251,\"EM_Energieträger\",F251),\"\")","v":""},"S1",null,null,null,null,null,null,null,null,null,null,null,null,null,null,null,null,null,null,null,"ii. Eigenstromverbrauch: Netzenergie, die in Strom- und Heizkraftwerken eingesetzt wird.","Fernwärme","","",null,"","",""]
[249,28,{"$f":"VLOOKUP(B252,'I. Stationäre Energie'!C:E,3,FALSE)","v":"I.4.ii."},null,{"$f":"VLOOKUP(B252,'I. Stationäre Energie'!C:G,5,FALSE)","v":"ii. Eigenstromverbrauch: Netzenergie, die in Strom- und Heizkraftwerken eingesetzt wird."},"Brennbare Abfälle",{"$f":"IFERROR(GETPIVOTDATA(\"Energie\",EM_Daten_u_Uebersicht!$W$5,\"Ziel-Subsektor\",C252,\"Energieträger\",F252),\"\")","v":""},{"$f":"IFERROR(GETPIVOTDATA(\"Summe von Energieeinsatz [MWh]\",I_Pivot!$G$3,\"ID\",C252,\"EM_Energieträger\",F252),\"\")","v":""},{"$f":"IFERROR(G252*VLOOKUP(F252,EM_Daten_u_Uebersicht!P:Q,2,FALSE),\"\")","v":""},{"$f":"IFERROR(GETPIVOTDATA(\"Summe von THG [t CO2eq]\",I_Pivot!$G$3,\"ID\",C252,\"EM_Energieträger\",F252),\"\")","v":""},"S1",null,null,null,null,null,null,null,null,null,null,null,null,null,null,null,null,null,null,null,"ii. Eigenstromverbrauch: Netzenergie, die in Strom- und Heizkraftwerken eingesetzt wird.","Biogene Brenn- und Treibstoffe (Brennholz, biogene Brenn- und Treibstoffe)","","",null,"","",0]
[250,28,{"$f":"VLOOKUP(B253,'I. Stationäre Energie'!C:E,3,FALSE)","v":"I.4.ii."},null,{"$f":"VLOOKUP(B253,'I. Stationäre Energie'!C:G,5,FALSE)","v":"ii. Eigenstromverbrauch: Netzenergie, die in Strom- und Heizkraftwerken eingesetzt wird."},"Umgebungswärme",{"$f":"IFERROR(GETPIVOTDATA(\"Energie\",EM_Daten_u_Uebersicht!$W$5,\"Ziel-Subsektor\",C253,\"Energieträger\",F253),\"\")","v":""},{"$f":"IFERROR(GETPIVOTDATA(\"Summe von Energieeinsatz [MWh]\",I_Pivot!$G$3,\"ID\",C253,\"EM_Energieträger\",F253),\"\")","v":""},{"$f":"IFERROR(G253*VLOOKUP(F253,EM_Daten_u_Uebersicht!P:Q,2,FALSE),\"\")","v":""},{"$f":"IFERROR(GETPIVOTDATA(\"Summe von THG [t CO2eq]\",I_Pivot!$G$3,\"ID\",C253,\"EM_Energieträger\",F253),\"\")","v":""},"S1",null,null,null,null,null,null,null,null,null,null,null,null,null,null,null,null,null,null,null,"ii. Eigenstromverbrauch: Netzenergie, die in Strom- und Heizkraftwerken eingesetzt wird.","Brennbare Abfälle","","",null,"","",0]
[251,28,{"$f":"VLOOKUP(B254,'I. Stationäre Energie'!C:E,3,FALSE)","v":"I.4.ii."},null,{"$f":"VLOOKUP(B254,'I. Stationäre Energie'!C:G,5,FALSE)","v":"ii. Eigenstromverbrauch: Netzenergie, die in Strom- und Heizkraftwerken eingesetzt wird."},"CO2-eq Direkteingabe",{"$f":"IFERROR(GETPIVOTDATA(\"Energie\",EM_Daten_u_Uebersicht!$W$5,\"Ziel-Subsektor\",C254,\"Energieträger\",F254),\"\")","v":""},{"$f":"IFERROR(GETPIVOTDATA(\"Summe von Energieeinsatz [MWh]\",I_Pivot!$G$3,\"ID\",C254,\"EM_Energieträger\",F254),\"\")","v":""},{"$f":"IFERROR(G254*VLOOKUP(F254,EM_Daten_u_Uebersicht!P:Q,2,FALSE),\"\")","v":""},{"$f":"IFERROR(GETPIVOTDATA(\"Summe von THG [t CO2eq]\",I_Pivot!$G$3,\"ID\",C254,\"EM_Energieträger\",F254),\"\")","v":""},"S1",null,null,null,null,null,null,null,null,null,null,null,null,null,null,null,null,null,null,null,"ii. Eigenstromverbrauch: Netzenergie, die in Strom- und Heizkraftwerken eingesetzt wird.","Umgebungswärme","","",null,"","",0]
[252,29,{"$f":"VLOOKUP(B255,'I. Stationäre Energie'!C:E,3,FALSE)","v":"I.5. ."},null,{"$f":"VLOOKUP(B255,'I. Stationäre Energie'!C:G,5,FALSE)","v":"5. Land-, Forstwirtschaft und Fischerei"},"Kohle (Steinkohle, Braunkohle, Koks, Petrolkoks; Gichtgas, Kokereigas, Brenntorf)",{"$f":"IFERROR(GETPIVOTDATA(\"Energie\",EM_Daten_u_Uebersicht!$W$5,\"Ziel-Subsektor\",C255,\"Energieträger\",F255),\"\")","v":""},{"$f":"IFERROR(GETPIVOTDATA(\"Summe von Energieeinsatz [MWh]\",I_Pivot!$G$3,\"ID\",C255,\"EM_Energieträger\",F255),\"\")","v":""},{"$f":"IFERROR(G255*VLOOKUP(F255,EM_Daten_u_Uebersicht!P:Q,2,FALSE),\"\")","v":""},{"$f":"IFERROR(GETPIVOTDATA(\"Summe von THG [t CO2eq]\",I_Pivot!$G$3,\"ID\",C255,\"EM_Energieträger\",F255),\"\")","v":""},"S1",null,null,null,null,null,null,null,null,null,null,null,null,null,null,null,null,null,null,null,"ii. Eigenstromverbrauch: Netzenergie, die in Strom- und Heizkraftwerken eingesetzt wird.","CO2-eq Direkteingabe","","",null,"","",0]
[253,29,{"$f":"VLOOKUP(B256,'I. Stationäre Energie'!C:E,3,FALSE)","v":"I.5. ."},null,{"$f":"VLOOKUP(B256,'I. Stationäre Energie'!C:G,5,FALSE)","v":"5. Land-, Forstwirtschaft und Fischerei"},"Öl (Heizöl, Gasöl für Heizzwecke, Diesel, Benzin, Petroleum, Flüssiggas)",{"$f":"IFERROR(GETPIVOTDATA(\"Energie\",EM_Daten_u_Uebersicht!$W$5,\"Ziel-Subsektor\",C256,\"Energieträger\",F256),\"\")","v":""},{"$f":"IFERROR(GETPIVOTDATA(\"Summe von Energieeinsatz [MWh]\",I_Pivot!$G$3,\"ID\",C256,\"EM_Energieträger\",F256),\"\")","v":""},{"$f":"IFERROR(G256*VLOOKUP(F256,EM_Daten_u_Uebersicht!P:Q,2,FALSE),\"\")","v":""},{"$f":"IFERROR(GETPIVOTDATA(\"Summe von THG [t CO2eq]\",I_Pivot!$G$3,\"ID\",C256,\"EM_Energieträger\",F256),\"\")","v":""},"S1",null,null,null,null,null,null,null,null,null,null,null,null,null,null,null,null,null,null,null,"5. Land-, Forstwirtschaft und Fischerei","Kohle (Steinkohle, Braunkohle, Koks, Petrolkoks; Gichtgas, Kokereigas, Brenntorf)","","",null,"","",0]
[254,29,{"$f":"VLOOKUP(B257,'I. Stationäre Energie'!C:E,3,FALSE)","v":"I.5. ."},null,{"$f":"VLOOKUP(B257,'I. Stationäre Energie'!C:G,5,FALSE)","v":"5. Land-, Forstwirtschaft und Fischerei"},"Erdgas",{"$f":"IFERROR(GETPIVOTDATA(\"Energie\",EM_Daten_u_Uebersicht!$W$5,\"Ziel-Subsektor\",C257,\"Energieträger\",F257),\"\")","v":""},{"$f":"IFERROR(GETPIVOTDATA(\"Summe von Energieeinsatz [MWh]\",I_Pivot!$G$3,\"ID\",C257,\"EM_Energieträger\",F257),\"\")","v":""},{"$f":"IFERROR(G257*VLOOKUP(F257,EM_Daten_u_Uebersicht!P:Q,2,FALSE),\"\")","v":""},{"$f":"IFERROR(GETPIVOTDATA(\"Summe von THG [t CO2eq]\",I_Pivot!$G$3,\"ID\",C257,\"EM_Energieträger\",F257),\"\")","v":""},"S1",null,null,null,null,null,null,null,null,null,null,null,null,null,null,null,null,null,null,null,"5. Land-, Forstwirtschaft und Fischerei","Öl (Heizöl, Gasöl für Heizzwecke, Diesel, Benzin, Petroleum, Flüssiggas)","","",null,"","",0]
[255,29,{"$f":"VLOOKUP(B258,'I. Stationäre Energie'!C:E,3,FALSE)","v":"I.5. ."},null,{"$f":"VLOOKUP(B258,'I. Stationäre Energie'!C:G,5,FALSE)","v":"5. Land-, Forstwirtschaft und Fischerei"},"elektrische Energie",{"$f":"IFERROR(GETPIVOTDATA(\"Energie\",EM_Daten_u_Uebersicht!$W$5,\"Ziel-Subsektor\",C258,\"Energieträger\",F258),\"\")","v":""},{"$f":"IFERROR(GETPIVOTDATA(\"Summe von Energieeinsatz [MWh]\",I_Pivot!$G$3,\"ID\",C258,\"EM_Energieträger\",F258),\"\")","v":""},{"$f":"IFERROR(G258*VLOOKUP(F258,EM_Daten_u_Uebersicht!P:Q,2,FALSE),\"\")","v":""},{"$f":"IFERROR(GETPIVOTDATA(\"Summe von THG [t CO2eq]\",I_Pivot!$G$3,\"ID\",C258,\"EM_Energieträger\",F258),\"\")","v":""},"S2",{"$f":"J258/0.94-J258","v":{"$error":"#VALUE!"}},null,null,null,null,null,null,null,null,null,null,null,null,null,null,null,null,null,null,"5. Land-, Forstwirtschaft und Fischerei","Erdgas","","",null,"","",0]
[256,29,{"$f":"VLOOKUP(B259,'I. Stationäre Energie'!C:E,3,FALSE)","v":"I.5. ."},null,{"$f":"VLOOKUP(B259,'I. Stationäre Energie'!C:G,5,FALSE)","v":"5. Land-, Forstwirtschaft und Fischerei"},"Fernwärme",{"$f":"IFERROR(GETPIVOTDATA(\"Energie\",EM_Daten_u_Uebersicht!$W$5,\"Ziel-Subsektor\",C259,\"Energieträger\",F259),\"\")","v":""},{"$f":"IFERROR(GETPIVOTDATA(\"Summe von Energieeinsatz [MWh]\",I_Pivot!$G$3,\"ID\",C259,\"EM_Energieträger\",F259),\"\")","v":""},{"$f":"IFERROR(G259*VLOOKUP(F259,EM_Daten_u_Uebersicht!P:Q,2,FALSE),\"\")","v":""},{"$f":"IFERROR(GETPIVOTDATA(\"Summe von THG [t CO2eq]\",I_Pivot!$G$3,\"ID\",C259,\"EM_Energieträger\",F259),\"\")","v":""},"S2",{"$f":"J259/0.86-J259","v":{"$error":"#VALUE!"}},null,null,null,null,null,null,null,null,null,null,null,null,null,null,null,null,null,null,{"$f":"IFERROR(E258,\"\")","v":"5. Land-, Forstwirtschaft und Fischerei"},{"$f":"IFERROR(F258,\"\")","v":"elektrische Energie"},{"$f":"IFERROR(H258,\"\")","v":""},{"$f":"IFERROR(J258,\"\")","v":""},null,"","",{"$f":"IFERROR(L258,\"\")","v":""}]
[257,{"$f":"ROUNDDOWN(A260/9,0)+1","v":29},{"$f":"VLOOKUP(B260,'I. Stationäre Energie'!C:E,3,FALSE)","v":"I.5. ."},null,{"$f":"VLOOKUP(B260,'I. Stationäre Energie'!C:G,5,FALSE)","v":"5. Land-, Forstwirtschaft und Fischerei"},"Biogene Brenn- und Treibstoffe (Brennholz, biogene Brenn- und Treibstoffe)",{"$f":"IFERROR(GETPIVOTDATA(\"Energie\",EM_Daten_u_Uebersicht!$W$5,\"Ziel-Subsektor\",C260,\"Energieträger\",F260),\"\")","v":""},{"$f":"IFERROR(GETPIVOTDATA(\"Summe von Energieeinsatz [MWh]\",I_Pivot!$G$3,\"ID\",C260,\"EM_Energieträger\",F260),\"\")","v":""},{"$f":"IFERROR(G260*VLOOKUP(F260,EM_Daten_u_Uebersicht!P:Q,2,FALSE),\"\")","v":""},{"$f":"IFERROR(GETPIVOTDATA(\"Summe von THG [t CO2eq]\",I_Pivot!$G$3,\"ID\",C260,\"EM_Energieträger\",F260),\"\")","v":""},"S1",null,null,null,null,null,null,null,null,null,null,null,null,null,null,null,null,null,null,null,"5. Land-, Forstwirtschaft und Fischerei","Fernwärme","","",null,{"$f":"IF(K259=\"S1\",J259,\"\")","v":""},{"$f":"IF(K259=\"S2\",J259,\"\")","v":""},""]
[258,29,{"$f":"VLOOKUP(B261,'I. Stationäre Energie'!C:E,3,FALSE)","v":"I.5. ."},null,{"$f":"VLOOKUP(B261,'I. Stationäre Energie'!C:G,5,FALSE)","v":"5. Land-, Forstwirtschaft und Fischerei"},"Brennbare Abfälle",{"$f":"IFERROR(GETPIVOTDATA(\"Energie\",EM_Daten_u_Uebersicht!$W$5,\"Ziel-Subsektor\",C261,\"Energieträger\",F261),\"\")","v":""},{"$f":"IFERROR(GETPIVOTDATA(\"Summe von Energieeinsatz [MWh]\",I_Pivot!$G$3,\"ID\",C261,\"EM_Energieträger\",F261),\"\")","v":""},{"$f":"IFERROR(G261*VLOOKUP(F261,EM_Daten_u_Uebersicht!P:Q,2,FALSE),\"\")","v":""},{"$f":"IFERROR(GETPIVOTDATA(\"Summe von THG [t CO2eq]\",I_Pivot!$G$3,\"ID\",C261,\"EM_Energieträger\",F261),\"\")","v":""},"S1",null,null,null,null,null,null,null,null,null,null,null,null,null,null,null,null,null,null,null,"5. Land-, Forstwirtschaft und Fischerei","Biogene Brenn- und Treibstoffe (Brennholz, biogene Brenn- und Treibstoffe)","","",null,"","",0]
[259,29,{"$f":"VLOOKUP(B262,'I. Stationäre Energie'!C:E,3,FALSE)","v":"I.5. ."},null,{"$f":"VLOOKUP(B262,'I. Stationäre Energie'!C:G,5,FALSE)","v":"5. Land-, Forstwirtschaft und Fischerei"},"Umgebungswärme",{"$f":"IFERROR(GETPIVOTDATA(\"Energie\",EM_Daten_u_Uebersicht!$W$5,\"Ziel-Subsektor\",C262,\"Energieträger\",F262),\"\")","v":""},{"$f":"IFERROR(GETPIVOTDATA(\"Summe von Energieeinsatz [MWh]\",I_Pivot!$G$3,\"ID\",C262,\"EM_Energieträger\",F262),\"\")","v":""},{"$f":"IFERROR(G262*VLOOKUP(F262,EM_Daten_u_Uebersicht!P:Q,2,FALSE),\"\")","v":""},{"$f":"IFERROR(GETPIVOTDATA(\"Summe von THG [t CO2eq]\",I_Pivot!$G$3,\"ID\",C262,\"EM_Energieträger\",F262),\"\")","v":""},"S1",null,null,null,null,null,null,null,null,null,null,null,null,null,null,null,null,null,null,null,"5. Land-, Forstwirtschaft und Fischerei","Brennbare Abfälle","","",null,"","",0]
[260,29,{"$f":"VLOOKUP(B263,'I. Stationäre Energie'!C:E,3,FALSE)","v":"I.5. ."},null,{"$f":"VLOOKUP(B263,'I. Stationäre Energie'!C:G,5,FALSE)","v":"5. Land-, Forstwirtschaft und Fischerei"},"CO2-eq Direkteingabe",{"$f":"IFERROR(GETPIVOTDATA(\"Energie\",EM_Daten_u_Uebersicht!$W$5,\"Ziel-Subsektor\",C263,\"Energieträger\",F263),\"\")","v":""},{"$f":"IFERROR(GETPIVOTDATA(\"Summe von Energieeinsatz [MWh]\",I_Pivot!$G$3,\"ID\",C263,\"EM_Energieträger\",F263),\"\")","v":""},{"$f":"IFERROR(G263*VLOOKUP(F263,EM_Daten_u_Uebersicht!P:Q,2,FALSE),\"\")","v":""},{"$f":"IFERROR(GETPIVOTDATA(\"Summe von THG [t CO2eq]\",I_Pivot!$G$3,\"ID\",C263,\"EM_Energieträger\",F263),\"\")","v":""},"S1",null,null,null,null,null,null,null,null,null,null,null,null,null,null,null,null,null,null,null,"5. Land-, Forstwirtschaft und Fischerei","Umgebungswärme","","",null,"","",0]
[261,30,{"$f":"VLOOKUP(B264,'I. Stationäre Energie'!C:E,3,FALSE)","v":"I.5.i."},null,{"$f":"VLOOKUP(B264,'I. Stationäre Energie'!C:G,5,FALSE)","v":"i. Stationäre Quellen "},"Kohle (Steinkohle, Braunkohle, Koks, Petrolkoks; Gichtgas, Kokereigas, Brenntorf)",{"$f":"IFERROR(GETPIVOTDATA(\"Energie\",EM_Daten_u_Uebersicht!$W$5,\"Ziel-Subsektor\",C264,\"Energieträger\",F264),\"\")","v":""},{"$f":"IFERROR(GETPIVOTDATA(\"Summe von Energieeinsatz [MWh]\",I_Pivot!$G$3,\"ID\",C264,\"EM_Energieträger\",F264),\"\")","v":""},{"$f":"IFERROR(G264*VLOOKUP(F264,EM_Daten_u_Uebersicht!P:Q,2,FALSE),\"\")","v":""},{"$f":"IFERROR(GETPIVOTDATA(\"Summe von THG [t CO2eq]\",I_Pivot!$G$3,\"ID\",C264,\"EM_Energieträger\",F264),\"\")","v":""},"S1",null,null,null,null,null,null,null,null,null,null,null,null,null,null,null,null,null,null,null,"5. Land-, Forstwirtschaft und Fischerei","CO2-eq Direkteingabe","","",null,"","",0]
[262,30,{"$f":"VLOOKUP(B265,'I. Stationäre Energie'!C:E,3,FALSE)","v":"I.5.i."},null,{"$f":"VLOOKUP(B265,'I. Stationäre Energie'!C:G,5,FALSE)","v":"i. Stationäre Quellen "},"Öl (Heizöl, Gasöl für Heizzwecke, Diesel, Benzin, Petroleum, Flüssiggas)",{"$f":"IFERROR(GETPIVOTDATA(\"Energie\",EM_Daten_u_Uebersicht!$W$5,\"Ziel-Subsektor\",C265,\"Energieträger\",F265),\"\")","v":""},{"$f":"IFERROR(GETPIVOTDATA(\"Summe von Energieeinsatz [MWh]\",I_Pivot!$G$3,\"ID\",C265,\"EM_Energieträger\",F265),\"\")","v":""},{"$f":"IFERROR(G265*VLOOKUP(F265,EM_Daten_u_Uebersicht!P:Q,2,FALSE),\"\")","v":""},{"$f":"IFERROR(GETPIVOTDATA(\"Summe von THG [t CO2eq]\",I_Pivot!$G$3,\"ID\",C265,\"EM_Energieträger\",F265),\"\")","v":""},"S1",null,null,null,null,null,null,null,null,null,null,null,null,null,null,null,null,null,null,null,"i. Stationäre Quellen ","Kohle (Steinkohle, Braunkohle, Koks, Petrolkoks; Gichtgas, Kokereigas, Brenntorf)","","",null,"","",0]
[263,30,{"$f":"VLOOKUP(B266,'I. Stationäre Energie'!C:E,3,FALSE)","v":"I.5.i."},null,{"$f":"VLOOKUP(B266,'I. Stationäre Energie'!C:G,5,FALSE)","v":"i. Stationäre Quellen "},"Erdgas",{"$f":"IFERROR(GETPIVOTDATA(\"Energie\",EM_Daten_u_Uebersicht!$W$5,\"Ziel-Subsektor\",C266,\"Energieträger\",F266),\"\")","v":""},{"$f":"IFERROR(GETPIVOTDATA(\"Summe von Energieeinsatz [MWh]\",I_Pivot!$G$3,\"ID\",C266,\"EM_Energieträger\",F266),\"\")","v":""},{"$f":"IFERROR(G266*VLOOKUP(F266,EM_Daten_u_Uebersicht!P:Q,2,FALSE),\"\")","v":""},{"$f":"IFERROR(GETPIVOTDATA(\"Summe von THG [t CO2eq]\",I_Pivot!$G$3,\"ID\",C266,\"EM_Energieträger\",F266),\"\")","v":""},"S1",null,null,null,null,null,null,null,null,null,null,null,null,null,null,null,null,null,null,null,"i. Stationäre Quellen ","Öl (Heizöl, Gasöl für Heizzwecke, Diesel, Benzin, Petroleum, Flüssiggas)","","",null,"","",0]
[264,30,{"$f":"VLOOKUP(B267,'I. Stationäre Energie'!C:E,3,FALSE)","v":"I.5.i."},null,{"$f":"VLOOKUP(B267,'I. Stationäre Energie'!C:G,5,FALSE)","v":"i. Stationäre Quellen "},"elektrische Energie",{"$f":"IFERROR(GETPIVOTDATA(\"Energie\",EM_Daten_u_Uebersicht!$W$5,\"Ziel-Subsektor\",C267,\"Energieträger\",F267),\"\")","v":""},{"$f":"IFERROR(GETPIVOTDATA(\"Summe von Energieeinsatz [MWh]\",I_Pivot!$G$3,\"ID\",C267,\"EM_Energieträger\",F267),\"\")","v":""},{"$f":"IFERROR(G267*VLOOKUP(F267,EM_Daten_u_Uebersicht!P:Q,2,FALSE),\"\")","v":""},{"$f":"IFERROR(GETPIVOTDATA(\"Summe von THG [t CO2eq]\",I_Pivot!$G$3,\"ID\",C267,\"EM_Energieträger\",F267),\"\")","v":""},"S2",{"$f":"J267/0.94-J267","v":{"$error":"#VALUE!"}},null,null,null,null,null,null,null,null,null,null,null,null,null,null,null,null,null,null,"i. Stationäre Quellen ","Erdgas","","",null,"","",0]
[265,30,{"$f":"VLOOKUP(B268,'I. Stationäre Energie'!C:E,3,FALSE)","v":"I.5.i."},null,{"$f":"VLOOKUP(B268,'I. Stationäre Energie'!C:G,5,FALSE)","v":"i. Stationäre Quellen "},"Fernwärme",{"$f":"IFERROR(GETPIVOTDATA(\"Energie\",EM_Daten_u_Uebersicht!$W$5,\"Ziel-Subsektor\",C268,\"Energieträger\",F268),\"\")","v":""},{"$f":"IFERROR(GETPIVOTDATA(\"Summe von Energieeinsatz [MWh]\",I_Pivot!$G$3,\"ID\",C268,\"EM_Energieträger\",F268),\"\")","v":""},{"$f":"IFERROR(G268*VLOOKUP(F268,EM_Daten_u_Uebersicht!P:Q,2,FALSE),\"\")","v":""},{"$f":"IFERROR(GETPIVOTDATA(\"Summe von THG [t CO2eq]\",I_Pivot!$G$3,\"ID\",C268,\"EM_Energieträger\",F268),\"\")","v":""},"S2",{"$f":"J268/0.86-J268","v":{"$error":"#VALUE!"}},null,null,null,null,null,null,null,null,null,null,null,null,null,null,null,null,null,null,"i. Stationäre Quellen ","elektrische Energie","","",null,"","",""]
[266,30,{"$f":"VLOOKUP(B269,'I. Stationäre Energie'!C:E,3,FALSE)","v":"I.5.i."},null,{"$f":"VLOOKUP(B269,'I. Stationäre Energie'!C:G,5,FALSE)","v":"i. Stationäre Quellen "},{"$f":"F260","v":"Biogene Brenn- und Treibstoffe (Brennholz, biogene Brenn- und Treibstoffe)"},{"$f":"IFERROR(GETPIVOTDATA(\"Energie\",EM_Daten_u_Uebersicht!$W$5,\"Ziel-Subsektor\",C269,\"Energieträger\",F269),\"\")","v":""},{"$f":"IFERROR(GETPIVOTDATA(\"Summe von Energieeinsatz [MWh]\",I_Pivot!$G$3,\"ID\",C269,\"EM_Energieträger\",F269),\"\")","v":""},{"$f":"IFERROR(G269*VLOOKUP(F269,EM_Daten_u_Uebersicht!P:Q,2,FALSE),\"\")","v":""},{"$f":"IFERROR(GETPIVOTDATA(\"Summe von THG [t CO2eq]\",I_Pivot!$G$3,\"ID\",C269,\"EM_Energieträger\",F269),\"\")","v":""},"S1",null,null,null,null,null,null,null,null,null,null,null,null,null,null,null,null,null,null,null,"i. Stationäre Quellen ","Fernwärme","","",null,"","",""]
[267,30,{"$f":"VLOOKUP(B270,'I. Stationäre Energie'!C:E,3,FALSE)","v":"I.5.i."},null,{"$f":"VLOOKUP(B270,'I. Stationäre Energie'!C:G,5,FALSE)","v":"i. Stationäre Quellen "},"Brennbare Abfälle",{"$f":"IFERROR(GETPIVOTDATA(\"Energie\",EM_Daten_u_Uebersicht!$W$5,\"Ziel-Subsektor\",C270,\"Energieträger\",F270),\"\")","v":""},{"$f":"IFERROR(GETPIVOTDATA(\"Summe von Energieeinsatz [MWh]\",I_Pivot!$G$3,\"ID\",C270,\"EM_Energieträger\",F270),\"\")","v":""},{"$f":"IFERROR(G270*VLOOKUP(F270,EM_Daten_u_Uebersicht!P:Q,2,FALSE),\"\")","v":""},{"$f":"IFERROR(GETPIVOTDATA(\"Summe von THG [t CO2eq]\",I_Pivot!$G$3,\"ID\",C270,\"EM_Energieträger\",F270),\"\")","v":""},"S1",null,null,null,null,null,null,null,null,null,null,null,null,null,null,null,null,null,null,null,"i. Stationäre Quellen ","Biogene Brenn- und Treibstoffe (Brennholz, biogene Brenn- und Treibstoffe)","","",null,"","",0]
[268,30,{"$f":"VLOOKUP(B271,'I. Stationäre Energie'!C:E,3,FALSE)","v":"I.5.i."},null,{"$f":"VLOOKUP(B271,'I. Stationäre Energie'!C:G,5,FALSE)","v":"i. Stationäre Quellen "},"Umgebungswärme",{"$f":"IFERROR(GETPIVOTDATA(\"Energie\",EM_Daten_u_Uebersicht!$W$5,\"Ziel-Subsektor\",C271,\"Energieträger\",F271),\"\")","v":""},{"$f":"IFERROR(GETPIVOTDATA(\"Summe von Energieeinsatz [MWh]\",I_Pivot!$G$3,\"ID\",C271,\"EM_Energieträger\",F271),\"\")","v":""},{"$f":"IFERROR(G271*VLOOKUP(F271,EM_Daten_u_Uebersicht!P:Q,2,FALSE),\"\")","v":""},{"$f":"IFERROR(GETPIVOTDATA(\"Summe von THG [t CO2eq]\",I_Pivot!$G$3,\"ID\",C271,\"EM_Energieträger\",F271),\"\")","v":""},"S1",null,null,null,null,null,null,null,null,null,null,null,null,null,null,null,null,null,null,null,"i. Stationäre Quellen ","Brennbare Abfälle","","",null,"","",0]
[269,30,{"$f":"VLOOKUP(B272,'I. Stationäre Energie'!C:E,3,FALSE)","v":"I.5.i."},null,{"$f":"VLOOKUP(B272,'I. Stationäre Energie'!C:G,5,FALSE)","v":"i. Stationäre Quellen "},"CO2-eq Direkteingabe",{"$f":"IFERROR(GETPIVOTDATA(\"Energie\",EM_Daten_u_Uebersicht!$W$5,\"Ziel-Subsektor\",C272,\"Energieträger\",F272),\"\")","v":""},{"$f":"IFERROR(GETPIVOTDATA(\"Summe von Energieeinsatz [MWh]\",I_Pivot!$G$3,\"ID\",C272,\"EM_Energieträger\",F272),\"\")","v":""},{"$f":"IFERROR(G272*VLOOKUP(F272,EM_Daten_u_Uebersicht!P:Q,2,FALSE),\"\")","v":""},{"$f":"IFERROR(GETPIVOTDATA(\"Summe von THG [t CO2eq]\",I_Pivot!$G$3,\"ID\",C272,\"EM_Energieträger\",F272),\"\")","v":""},"S1",null,null,null,null,null,null,null,null,null,null,null,null,null,null,null,null,null,null,null,"i. Stationäre Quellen ","Umgebungswärme","","",null,"","",0]
[270,31,{"$f":"VLOOKUP(B273,'I. Stationäre Energie'!C:E,3,FALSE)","v":"I.5.ii."},null,{"$f":"VLOOKUP(B273,'I. Stationäre Energie'!C:G,5,FALSE)","v":"ii. Off-road Fahrzeuge und Maschinen "},"Kohle (Steinkohle, Braunkohle, Koks, Petrolkoks; Gichtgas, Kokereigas, Brenntorf)",{"$f":"IFERROR(GETPIVOTDATA(\"Energie\",EM_Daten_u_Uebersicht!$W$5,\"Ziel-Subsektor\",C273,\"Energieträger\",F273),\"\")","v":""},{"$f":"IFERROR(GETPIVOTDATA(\"Summe von Energieeinsatz [MWh]\",I_Pivot!$G$3,\"ID\",C273,\"EM_Energieträger\",F273),\"\")","v":""},{"$f":"IFERROR(G273*VLOOKUP(F273,EM_Daten_u_Uebersicht!P:Q,2,FALSE),\"\")","v":""},{"$f":"IFERROR(GETPIVOTDATA(\"Summe von THG [t CO2eq]\",I_Pivot!$G$3,\"ID\",C273,\"EM_Energieträger\",F273),\"\")","v":""},"S1",null,null,null,null,null,null,null,null,null,null,null,null,null,null,null,null,null,null,null,"i. Stationäre Quellen ","CO2-eq Direkteingabe","","",null,"","",0]
[271,31,{"$f":"VLOOKUP(B274,'I. Stationäre Energie'!C:E,3,FALSE)","v":"I.5.ii."},null,{"$f":"VLOOKUP(B274,'I. Stationäre Energie'!C:G,5,FALSE)","v":"ii. Off-road Fahrzeuge und Maschinen "},"Öl (Heizöl, Gasöl für Heizzwecke, Diesel, Benzin, Petroleum, Flüssiggas)",{"$f":"IFERROR(GETPIVOTDATA(\"Energie\",EM_Daten_u_Uebersicht!$W$5,\"Ziel-Subsektor\",C274,\"Energieträger\",F274),\"\")","v":""},{"$f":"IFERROR(GETPIVOTDATA(\"Summe von Energieeinsatz [MWh]\",I_Pivot!$G$3,\"ID\",C274,\"EM_Energieträger\",F274),\"\")","v":""},{"$f":"IFERROR(G274*VLOOKUP(F274,EM_Daten_u_Uebersicht!P:Q,2,FALSE),\"\")","v":""},{"$f":"IFERROR(GETPIVOTDATA(\"Summe von THG [t CO2eq]\",I_Pivot!$G$3,\"ID\",C274,\"EM_Energieträger\",F274),\"\")","v":""},"S1",null,null,null,null,null,null,null,null,null,null,null,null,null,null,null,null,null,null,null,"ii. Off-road Fahrzeuge und Maschinen ","Kohle (Steinkohle, Braunkohle, Koks, Petrolkoks; Gichtgas, Kokereigas, Brenntorf)","","",null,"","",0]
[272,31,{"$f":"VLOOKUP(B275,'I. Stationäre Energie'!C:E,3,FALSE)","v":"I.5.ii."},null,{"$f":"VLOOKUP(B275,'I. Stationäre Energie'!C:G,5,FALSE)","v":"ii. Off-road Fahrzeuge und Maschinen "},"Erdgas",{"$f":"IFERROR(GETPIVOTDATA(\"Energie\",EM_Daten_u_Uebersicht!$W$5,\"Ziel-Subsektor\",C275,\"Energieträger\",F275),\"\")","v":""},{"$f":"IFERROR(GETPIVOTDATA(\"Summe von Energieeinsatz [MWh]\",I_Pivot!$G$3,\"ID\",C275,\"EM_Energieträger\",F275),\"\")","v":""},{"$f":"IFERROR(G275*VLOOKUP(F275,EM_Daten_u_Uebersicht!P:Q,2,FALSE),\"\")","v":""},{"$f":"IFERROR(GETPIVOTDATA(\"Summe von THG [t CO2eq]\",I_Pivot!$G$3,\"ID\",C275,\"EM_Energieträger\",F275),\"\")","v":""},"S1",null,null,null,null,null,null,null,null,null,null,null,null,null,null,null,null,null,null,null,"ii. Off-road Fahrzeuge und Maschinen ","Öl (Heizöl, Gasöl für Heizzwecke, Diesel, Benzin, Petroleum, Flüssiggas)","","",null,"","",0]
[273,31,{"$f":"VLOOKUP(B276,'I. Stationäre Energie'!C:E,3,FALSE)","v":"I.5.ii."},null,{"$f":"VLOOKUP(B276,'I. Stationäre Energie'!C:G,5,FALSE)","v":"ii. Off-road Fahrzeuge und Maschinen "},"elektrische Energie",{"$f":"IFERROR(GETPIVOTDATA(\"Energie\",EM_Daten_u_Uebersicht!$W$5,\"Ziel-Subsektor\",C276,\"Energieträger\",F276),\"\")","v":""},{"$f":"IFERROR(GETPIVOTDATA(\"Summe von Energieeinsatz [MWh]\",I_Pivot!$G$3,\"ID\",C276,\"EM_Energieträger\",F276),\"\")","v":""},{"$f":"IFERROR(G276*VLOOKUP(F276,EM_Daten_u_Uebersicht!P:Q,2,FALSE),\"\")","v":""},{"$f":"IFERROR(GETPIVOTDATA(\"Summe von THG [t CO2eq]\",I_Pivot!$G$3,\"ID\",C276,\"EM_Energieträger\",F276),\"\")","v":""},"S2",{"$f":"J276/0.94-J276","v":{"$error":"#VALUE!"}},null,null,null,null,null,null,null,null,null,null,null,null,null,null,null,null,null,null,"ii. Off-road Fahrzeuge und Maschinen ","Erdgas","","",null,"","",0]
[274,31,{"$f":"VLOOKUP(B277,'I. Stationäre Energie'!C:E,3,FALSE)","v":"I.5.ii."},null,{"$f":"VLOOKUP(B277,'I. Stationäre Energie'!C:G,5,FALSE)","v":"ii. Off-road Fahrzeuge und Maschinen "},"Fernwärme",{"$f":"IFERROR(GETPIVOTDATA(\"Energie\",EM_Daten_u_Uebersicht!$W$5,\"Ziel-Subsektor\",C277,\"Energieträger\",F277),\"\")","v":""},{"$f":"IFERROR(GETPIVOTDATA(\"Summe von Energieeinsatz [MWh]\",I_Pivot!$G$3,\"ID\",C277,\"EM_Energieträger\",F277),\"\")","v":""},{"$f":"IFERROR(G277*VLOOKUP(F277,EM_Daten_u_Uebersicht!P:Q,2,FALSE),\"\")","v":""},{"$f":"IFERROR(GETPIVOTDATA(\"Summe von THG [t CO2eq]\",I_Pivot!$G$3,\"ID\",C277,\"EM_Energieträger\",F277),\"\")","v":""},"S2",{"$f":"J277/0.86-J277","v":{"$error":"#VALUE!"}},null,null,null,null,null,null,null,null,null,null,null,null,null,null,null,null,null,null,"ii. Off-road Fahrzeuge und Maschinen ","elektrische Energie","","",null,"","",""]
[275,31,{"$f":"VLOOKUP(B278,'I. Stationäre Energie'!C:E,3,FALSE)","v":"I.5.ii."},null,{"$f":"VLOOKUP(B278,'I. Stationäre Energie'!C:G,5,FALSE)","v":"ii. Off-road Fahrzeuge und Maschinen "},"Biogene Brenn- und Treibstoffe (Brennholz, biogene Brenn- und Treibstoffe)",{"$f":"IFERROR(GETPIVOTDATA(\"Energie\",EM_Daten_u_Uebersicht!$W$5,\"Ziel-Subsektor\",C278,\"Energieträger\",F278),\"\")","v":""},{"$f":"IFERROR(GETPIVOTDATA(\"Summe von Energieeinsatz [MWh]\",I_Pivot!$G$3,\"ID\",C278,\"EM_Energieträger\",F278),\"\")","v":""},{"$f":"IFERROR(G278*VLOOKUP(F278,EM_Daten_u_Uebersicht!P:Q,2,FALSE),\"\")","v":""},{"$f":"IFERROR(GETPIVOTDATA(\"Summe von THG [t CO2eq]\",I_Pivot!$G$3,\"ID\",C278,\"EM_Energieträger\",F278),\"\")","v":""},"S1",null,null,null,null,null,null,null,null,null,null,null,null,null,null,null,null,null,null,null,"ii. Off-road Fahrzeuge und Maschinen ","Fernwärme","","",null,"","",""]
[276,31,{"$f":"VLOOKUP(B279,'I. Stationäre Energie'!C:E,3,FALSE)","v":"I.5.ii."},null,{"$f":"VLOOKUP(B279,'I. Stationäre Energie'!C:G,5,FALSE)","v":"ii. Off-road Fahrzeuge und Maschinen "},"Brennbare Abfälle",{"$f":"IFERROR(GETPIVOTDATA(\"Energie\",EM_Daten_u_Uebersicht!$W$5,\"Ziel-Subsektor\",C279,\"Energieträger\",F279),\"\")","v":""},{"$f":"IFERROR(GETPIVOTDATA(\"Summe von Energieeinsatz [MWh]\",I_Pivot!$G$3,\"ID\",C279,\"EM_Energieträger\",F279),\"\")","v":""},{"$f":"IFERROR(G279*VLOOKUP(F279,EM_Daten_u_Uebersicht!P:Q,2,FALSE),\"\")","v":""},{"$f":"IFERROR(GETPIVOTDATA(\"Summe von THG [t CO2eq]\",I_Pivot!$G$3,\"ID\",C279,\"EM_Energieträger\",F279),\"\")","v":""},"S1",null,null,null,null,null,null,null,null,null,null,null,null,null,null,null,null,null,null,null,"ii. Off-road Fahrzeuge und Maschinen ","Biogene Brenn- und Treibstoffe (Brennholz, biogene Brenn- und Treibstoffe)","","",null,"","",0]
[277,31,{"$f":"VLOOKUP(B280,'I. Stationäre Energie'!C:E,3,FALSE)","v":"I.5.ii."},null,{"$f":"VLOOKUP(B280,'I. Stationäre Energie'!C:G,5,FALSE)","v":"ii. Off-road Fahrzeuge und Maschinen "},"Umgebungswärme",{"$f":"IFERROR(GETPIVOTDATA(\"Energie\",EM_Daten_u_Uebersicht!$W$5,\"Ziel-Subsektor\",C280,\"Energieträger\",F280),\"\")","v":""},{"$f":"IFERROR(GETPIVOTDATA(\"Summe von Energieeinsatz [MWh]\",I_Pivot!$G$3,\"ID\",C280,\"EM_Energieträger\",F280),\"\")","v":""},{"$f":"IFERROR(G280*VLOOKUP(F280,EM_Daten_u_Uebersicht!P:Q,2,FALSE),\"\")","v":""},{"$f":"IFERROR(GETPIVOTDATA(\"Summe von THG [t CO2eq]\",I_Pivot!$G$3,\"ID\",C280,\"EM_Energieträger\",F280),\"\")","v":""},"S1",null,null,null,null,null,null,null,null,null,null,null,null,null,null,null,null,null,null,null,"ii. Off-road Fahrzeuge und Maschinen ","Brennbare Abfälle","","",null,"","",0]
[278,31,{"$f":"VLOOKUP(B281,'I. Stationäre Energie'!C:E,3,FALSE)","v":"I.5.ii."},null,{"$f":"VLOOKUP(B281,'I. Stationäre Energie'!C:G,5,FALSE)","v":"ii. Off-road Fahrzeuge und Maschinen "},"CO2-eq Direkteingabe",{"$f":"IFERROR(GETPIVOTDATA(\"Energie\",EM_Daten_u_Uebersicht!$W$5,\"Ziel-Subsektor\",C281,\"Energieträger\",F281),\"\")","v":""},{"$f":"IFERROR(GETPIVOTDATA(\"Summe von Energieeinsatz [MWh]\",I_Pivot!$G$3,\"ID\",C281,\"EM_Energieträger\",F281),\"\")","v":""},{"$f":"IFERROR(G281*VLOOKUP(F281,EM_Daten_u_Uebersicht!P:Q,2,FALSE),\"\")","v":""},{"$f":"IFERROR(GETPIVOTDATA(\"Summe von THG [t CO2eq]\",I_Pivot!$G$3,\"ID\",C281,\"EM_Energieträger\",F281),\"\")","v":""},"S1",null,null,null,null,null,null,null,null,null,null,null,null,null,null,null,null,null,null,null,"ii. Off-road Fahrzeuge und Maschinen ","Umgebungswärme","","",null,"","",0]
[279,32,{"$f":"VLOOKUP(B282,'I. Stationäre Energie'!C:E,3,FALSE)","v":"I.5.iii."},null,{"$f":"VLOOKUP(B282,'I. Stationäre Energie'!C:G,5,FALSE)","v":"iii. Fischerei (mobile Quellen) "},"Kohle (Steinkohle, Braunkohle, Koks, Petrolkoks; Gichtgas, Kokereigas, Brenntorf)",{"$f":"IFERROR(GETPIVOTDATA(\"Energie\",EM_Daten_u_Uebersicht!$W$5,\"Ziel-Subsektor\",C282,\"Energieträger\",F282),\"\")","v":""},{"$f":"IFERROR(GETPIVOTDATA(\"Summe von Energieeinsatz [MWh]\",I_Pivot!$G$3,\"ID\",C282,\"EM_Energieträger\",F282),\"\")","v":""},{"$f":"IFERROR(G282*VLOOKUP(F282,EM_Daten_u_Uebersicht!P:Q,2,FALSE),\"\")","v":""},{"$f":"IFERROR(GETPIVOTDATA(\"Summe von THG [t CO2eq]\",I_Pivot!$G$3,\"ID\",C282,\"EM_Energieträger\",F282),\"\")","v":""},"S1",null,null,null,null,null,null,null,null,null,null,null,null,null,null,null,null,null,null,null,"ii. Off-road Fahrzeuge und Maschinen ","CO2-eq Direkteingabe","","",null,"","",0]
[280,32,{"$f":"VLOOKUP(B283,'I. Stationäre Energie'!C:E,3,FALSE)","v":"I.5.iii."},null,{"$f":"VLOOKUP(B283,'I. Stationäre Energie'!C:G,5,FALSE)","v":"iii. Fischerei (mobile Quellen) "},"Öl (Heizöl, Gasöl für Heizzwecke, Diesel, Benzin, Petroleum, Flüssiggas)",{"$f":"IFERROR(GETPIVOTDATA(\"Energie\",EM_Daten_u_Uebersicht!$W$5,\"Ziel-Subsektor\",C283,\"Energieträger\",F283),\"\")","v":""},{"$f":"IFERROR(GETPIVOTDATA(\"Summe von Energieeinsatz [MWh]\",I_Pivot!$G$3,\"ID\",C283,\"EM_Energieträger\",F283),\"\")","v":""},{"$f":"IFERROR(G283*VLOOKUP(F283,EM_Daten_u_Uebersicht!P:Q,2,FALSE),\"\")","v":""},{"$f":"IFERROR(GETPIVOTDATA(\"Summe von THG [t CO2eq]\",I_Pivot!$G$3,\"ID\",C283,\"EM_Energieträger\",F283),\"\")","v":""},"S1",null,null,null,null,null,null,null,null,null,null,null,null,null,null,null,null,null,null,null,"iii. Fischerei (mobile Quellen) ","Kohle (Steinkohle, Braunkohle, Koks, Petrolkoks; Gichtgas, Kokereigas, Brenntorf)","","",null,"","",0]
[281,32,{"$f":"VLOOKUP(B284,'I. Stationäre Energie'!C:E,3,FALSE)","v":"I.5.iii."},null,{"$f":"VLOOKUP(B284,'I. Stationäre Energie'!C:G,5,FALSE)","v":"iii. Fischerei (mobile Quellen) "},"Erdgas",{"$f":"IFERROR(GETPIVOTDATA(\"Energie\",EM_Daten_u_Uebersicht!$W$5,\"Ziel-Subsektor\",C284,\"Energieträger\",F284),\"\")","v":""},{"$f":"IFERROR(GETPIVOTDATA(\"Summe von Energieeinsatz [MWh]\",I_Pivot!$G$3,\"ID\",C284,\"EM_Energieträger\",F284),\"\")","v":""},{"$f":"IFERROR(G284*VLOOKUP(F284,EM_Daten_u_Uebersicht!P:Q,2,FALSE),\"\")","v":""},{"$f":"IFERROR(GETPIVOTDATA(\"Summe von THG [t CO2eq]\",I_Pivot!$G$3,\"ID\",C284,\"EM_Energieträger\",F284),\"\")","v":""},"S1",null,null,null,null,null,null,null,null,null,null,null,null,null,null,null,null,null,null,null,"iii. Fischerei (mobile Quellen) ","Öl (Heizöl, Gasöl für Heizzwecke, Diesel, Benzin, Petroleum, Flüssiggas)","","",null,"","",0]
[282,32,{"$f":"VLOOKUP(B285,'I. Stationäre Energie'!C:E,3,FALSE)","v":"I.5.iii."},null,{"$f":"VLOOKUP(B285,'I. Stationäre Energie'!C:G,5,FALSE)","v":"iii. Fischerei (mobile Quellen) "},"elektrische Energie",{"$f":"IFERROR(GETPIVOTDATA(\"Energie\",EM_Daten_u_Uebersicht!$W$5,\"Ziel-Subsektor\",C285,\"Energieträger\",F285),\"\")","v":""},{"$f":"IFERROR(GETPIVOTDATA(\"Summe von Energieeinsatz [MWh]\",I_Pivot!$G$3,\"ID\",C285,\"EM_Energieträger\",F285),\"\")","v":""},{"$f":"IFERROR(G285*VLOOKUP(F285,EM_Daten_u_Uebersicht!P:Q,2,FALSE),\"\")","v":""},{"$f":"IFERROR(GETPIVOTDATA(\"Summe von THG [t CO2eq]\",I_Pivot!$G$3,\"ID\",C285,\"EM_Energieträger\",F285),\"\")","v":""},"S2",{"$f":"J285/0.94-J285","v":{"$error":"#VALUE!"}},null,null,null,null,null,null,null,null,null,null,null,null,null,null,null,null,null,null,"iii. Fischerei (mobile Quellen) ","Erdgas","","",null,"","",0]
[283,32,{"$f":"VLOOKUP(B286,'I. Stationäre Energie'!C:E,3,FALSE)","v":"I.5.iii."},null,{"$f":"VLOOKUP(B286,'I. Stationäre Energie'!C:G,5,FALSE)","v":"iii. Fischerei (mobile Quellen) "},"Fernwärme",{"$f":"IFERROR(GETPIVOTDATA(\"Energie\",EM_Daten_u_Uebersicht!$W$5,\"Ziel-Subsektor\",C286,\"Energieträger\",F286),\"\")","v":""},{"$f":"IFERROR(GETPIVOTDATA(\"Summe von Energieeinsatz [MWh]\",I_Pivot!$G$3,\"ID\",C286,\"EM_Energieträger\",F286),\"\")","v":""},{"$f":"IFERROR(G286*VLOOKUP(F286,EM_Daten_u_Uebersicht!P:Q,2,FALSE),\"\")","v":""},{"$f":"IFERROR(GETPIVOTDATA(\"Summe von THG [t CO2eq]\",I_Pivot!$G$3,\"ID\",C286,\"EM_Energieträger\",F286),\"\")","v":""},"S2",{"$f":"J286/0.86-J286","v":{"$error":"#VALUE!"}},null,null,null,null,null,null,null,null,null,null,null,null,null,null,null,null,null,null,"iii. Fischerei (mobile Quellen) ","elektrische Energie","","",null,"","",""]
[284,32,{"$f":"VLOOKUP(B287,'I. Stationäre Energie'!C:E,3,FALSE)","v":"I.5.iii."},null,{"$f":"VLOOKUP(B287,'I. Stationäre Energie'!C:G,5,FALSE)","v":"iii. Fischerei (mobile Quellen) "},"Biogene Brenn- und Treibstoffe (Brennholz, biogene Brenn- und Treibstoffe)",{"$f":"IFERROR(GETPIVOTDATA(\"Energie\",EM_Daten_u_Uebersicht!$W$5,\"Ziel-Subsektor\",C287,\"Energieträger\",F287),\"\")","v":""},{"$f":"IFERROR(GETPIVOTDATA(\"Summe von Energieeinsatz [MWh]\",I_Pivot!$G$3,\"ID\",C287,\"EM_Energieträger\",F287),\"\")","v":""},{"$f":"IFERROR(G287*VLOOKUP(F287,EM_Daten_u_Uebersicht!P:Q,2,FALSE),\"\")","v":""},{"$f":"IFERROR(GETPIVOTDATA(\"Summe von THG [t CO2eq]\",I_Pivot!$G$3,\"ID\",C287,\"EM_Energieträger\",F287),\"\")","v":""},"S1",null,null,null,null,null,null,null,null,null,null,null,null,null,null,null,null,null,null,null,"iii. Fischerei (mobile Quellen) ","Fernwärme","","",null,"","",""]
[285,32,{"$f":"VLOOKUP(B288,'I. Stationäre Energie'!C:E,3,FALSE)","v":"I.5.iii."},null,{"$f":"VLOOKUP(B288,'I. Stationäre Energie'!C:G,5,FALSE)","v":"iii. Fischerei (mobile Quellen) "},"Brennbare Abfälle",{"$f":"IFERROR(GETPIVOTDATA(\"Energie\",EM_Daten_u_Uebersicht!$W$5,\"Ziel-Subsektor\",C288,\"Energieträger\",F288),\"\")","v":""},{"$f":"IFERROR(GETPIVOTDATA(\"Summe von Energieeinsatz [MWh]\",I_Pivot!$G$3,\"ID\",C288,\"EM_Energieträger\",F288),\"\")","v":""},{"$f":"IFERROR(G288*VLOOKUP(F288,EM_Daten_u_Uebersicht!P:Q,2,FALSE),\"\")","v":""},{"$f":"IFERROR(GETPIVOTDATA(\"Summe von THG [t CO2eq]\",I_Pivot!$G$3,\"ID\",C288,\"EM_Energieträger\",F288),\"\")","v":""},"S1",null,null,null,null,null,null,null,null,null,null,null,null,null,null,null,null,null,null,null,"iii. Fischerei (mobile Quellen) ","Biogene Brenn- und Treibstoffe (Brennholz, biogene Brenn- und Treibstoffe)","","",null,"","",0]
[286,32,{"$f":"VLOOKUP(B289,'I. Stationäre Energie'!C:E,3,FALSE)","v":"I.5.iii."},null,{"$f":"VLOOKUP(B289,'I. Stationäre Energie'!C:G,5,FALSE)","v":"iii. Fischerei (mobile Quellen) "},"Umgebungswärme",{"$f":"IFERROR(GETPIVOTDATA(\"Energie\",EM_Daten_u_Uebersicht!$W$5,\"Ziel-Subsektor\",C289,\"Energieträger\",F289),\"\")","v":""},{"$f":"IFERROR(GETPIVOTDATA(\"Summe von Energieeinsatz [MWh]\",I_Pivot!$G$3,\"ID\",C289,\"EM_Energieträger\",F289),\"\")","v":""},{"$f":"IFERROR(G289*VLOOKUP(F289,EM_Daten_u_Uebersicht!P:Q,2,FALSE),\"\")","v":""},{"$f":"IFERROR(GETPIVOTDATA(\"Summe von THG [t CO2eq]\",I_Pivot!$G$3,\"ID\",C289,\"EM_Energieträger\",F289),\"\")","v":""},"S1",null,null,null,null,null,null,null,null,null,null,null,null,null,null,null,null,null,null,null,"iii. Fischerei (mobile Quellen) ","Brennbare Abfälle","","",null,"","",0]
[287,32,{"$f":"VLOOKUP(B290,'I. Stationäre Energie'!C:E,3,FALSE)","v":"I.5.iii."},null,{"$f":"VLOOKUP(B290,'I. Stationäre Energie'!C:G,5,FALSE)","v":"iii. Fischerei (mobile Quellen) "},"CO2-eq Direkteingabe",{"$f":"IFERROR(GETPIVOTDATA(\"Energie\",EM_Daten_u_Uebersicht!$W$5,\"Ziel-Subsektor\",C290,\"Energieträger\",F290),\"\")","v":""},{"$f":"IFERROR(GETPIVOTDATA(\"Summe von Energieeinsatz [MWh]\",I_Pivot!$G$3,\"ID\",C290,\"EM_Energieträger\",F290),\"\")","v":""},{"$f":"IFERROR(G290*VLOOKUP(F290,EM_Daten_u_Uebersicht!P:Q,2,FALSE),\"\")","v":""},{"$f":"IFERROR(GETPIVOTDATA(\"Summe von THG [t CO2eq]\",I_Pivot!$G$3,\"ID\",C290,\"EM_Energieträger\",F290),\"\")","v":""},"S1",null,null,null,null,null,null,null,null,null,null,null,null,null,null,null,null,null,null,null,"iii. Fischerei (mobile Quellen) ","Umgebungswärme","","",null,"","",0]
[288,{"$f":"ROUNDDOWN(A291/9,0)+1","v":33},{"$f":"VLOOKUP(B291,'I. Stationäre Energie'!C:E,3,FALSE)","v":"I.6. ."},null,{"$f":"VLOOKUP(B291,'I. Stationäre Energie'!C:G,5,FALSE)","v":"6. Andere Bereiche"},"Kohle (Steinkohle, Braunkohle, Koks, Petrolkoks; Gichtgas, Kokereigas, Brenntorf)",{"$f":"IFERROR(GETPIVOTDATA(\"Energie\",EM_Daten_u_Uebersicht!$W$5,\"Ziel-Subsektor\",C291,\"Energieträger\",F291),\"\")","v":""},{"$f":"IFERROR(GETPIVOTDATA(\"Summe von Energieeinsatz [MWh]\",I_Pivot!$G$3,\"ID\",C291,\"EM_Energieträger\",F291),\"\")","v":""},{"$f":"IFERROR(G291*VLOOKUP(F291,EM_Daten_u_Uebersicht!P:Q,2,FALSE),\"\")","v":""},{"$f":"IFERROR(GETPIVOTDATA(\"Summe von THG [t CO2eq]\",I_Pivot!$G$3,\"ID\",C291,\"EM_Energieträger\",F291),\"\")","v":""},"S1",null,null,null,null,null,null,null,null,null,null,null,null,null,null,null,null,null,null,null,"iii. Fischerei (mobile Quellen) ","CO2-eq Direkteingabe","","",null,"","",0]
[289,33,{"$f":"VLOOKUP(B292,'I. Stationäre Energie'!C:E,3,FALSE)","v":"I.6. ."},null,{"$f":"VLOOKUP(B292,'I. Stationäre Energie'!C:G,5,FALSE)","v":"6. Andere Bereiche"},"Öl (Heizöl, Gasöl für Heizzwecke, Diesel, Benzin, Petroleum, Flüssiggas)",{"$f":"IFERROR(GETPIVOTDATA(\"Energie\",EM_Daten_u_Uebersicht!$W$5,\"Ziel-Subsektor\",C292,\"Energieträger\",F292),\"\")","v":""},{"$f":"IFERROR(GETPIVOTDATA(\"Summe von Energieeinsatz [MWh]\",I_Pivot!$G$3,\"ID\",C292,\"EM_Energieträger\",F292),\"\")","v":""},{"$f":"IFERROR(G292*VLOOKUP(F292,EM_Daten_u_Uebersicht!P:Q,2,FALSE),\"\")","v":""},{"$f":"IFERROR(GETPIVOTDATA(\"Summe von THG [t CO2eq]\",I_Pivot!$G$3,\"ID\",C292,\"EM_Energieträger\",F292),\"\")","v":""},"S1",null,null,null,null,null,null,null,null,null,null,null,null,null,null,null,null,null,null,null,"6. Andere Bereiche","Kohle (Steinkohle, Braunkohle, Koks, Petrolkoks; Gichtgas, Kokereigas, Brenntorf)","","",null,"","",0]
[290,33,{"$f":"VLOOKUP(B293,'I. Stationäre Energie'!C:E,3,FALSE)","v":"I.6. ."},null,{"$f":"VLOOKUP(B293,'I. Stationäre Energie'!C:G,5,FALSE)","v":"6. Andere Bereiche"},"Erdgas",{"$f":"IFERROR(GETPIVOTDATA(\"Energie\",EM_Daten_u_Uebersicht!$W$5,\"Ziel-Subsektor\",C293,\"Energieträger\",F293),\"\")","v":""},{"$f":"IFERROR(GETPIVOTDATA(\"Summe von Energieeinsatz [MWh]\",I_Pivot!$G$3,\"ID\",C293,\"EM_Energieträger\",F293),\"\")","v":""},{"$f":"IFERROR(G293*VLOOKUP(F293,EM_Daten_u_Uebersicht!P:Q,2,FALSE),\"\")","v":""},{"$f":"IFERROR(GETPIVOTDATA(\"Summe von THG [t CO2eq]\",I_Pivot!$G$3,\"ID\",C293,\"EM_Energieträger\",F293),\"\")","v":""},"S1",null,null,null,null,null,null,null,null,null,null,null,null,null,null,null,null,null,null,null,"6. Andere Bereiche","Öl (Heizöl, Gasöl für Heizzwecke, Diesel, Benzin, Petroleum, Flüssiggas)","","",null,"","",0]
[291,33,{"$f":"VLOOKUP(B294,'I. Stationäre Energie'!C:E,3,FALSE)","v":"I.6. ."},null,{"$f":"VLOOKUP(B294,'I. Stationäre Energie'!C:G,5,FALSE)","v":"6. Andere Bereiche"},"elektrische Energie",{"$f":"IFERROR(GETPIVOTDATA(\"Energie\",EM_Daten_u_Uebersicht!$W$5,\"Ziel-Subsektor\",C294,\"Energieträger\",F294),\"\")","v":""},{"$f":"IFERROR(GETPIVOTDATA(\"Summe von Energieeinsatz [MWh]\",I_Pivot!$G$3,\"ID\",C294,\"EM_Energieträger\",F294),\"\")","v":""},{"$f":"IFERROR(G294*VLOOKUP(F294,EM_Daten_u_Uebersicht!P:Q,2,FALSE),\"\")","v":""},{"$f":"IFERROR(GETPIVOTDATA(\"Summe von THG [t CO2eq]\",I_Pivot!$G$3,\"ID\",C294,\"EM_Energieträger\",F294),\"\")","v":""},"S2",{"$f":"J294/0.94-J294","v":{"$error":"#VALUE!"}},null,null,null,null,null,null,null,null,null,null,null,null,null,null,null,null,null,null,"6. Andere Bereiche","Erdgas","","",null,"","",0]
[292,33,{"$f":"VLOOKUP(B295,'I. Stationäre Energie'!C:E,3,FALSE)","v":"I.6. ."},null,{"$f":"VLOOKUP(B295,'I. Stationäre Energie'!C:G,5,FALSE)","v":"6. Andere Bereiche"},"Fernwärme",{"$f":"IFERROR(GETPIVOTDATA(\"Energie\",EM_Daten_u_Uebersicht!$W$5,\"Ziel-Subsektor\",C295,\"Energieträger\",F295),\"\")","v":""},{"$f":"IFERROR(GETPIVOTDATA(\"Summe von Energieeinsatz [MWh]\",I_Pivot!$G$3,\"ID\",C295,\"EM_Energieträger\",F295),\"\")","v":""},{"$f":"IFERROR(G295*VLOOKUP(F295,EM_Daten_u_Uebersicht!P:Q,2,FALSE),\"\")","v":""},{"$f":"IFERROR(GETPIVOTDATA(\"Summe von THG [t CO2eq]\",I_Pivot!$G$3,\"ID\",C295,\"EM_Energieträger\",F295),\"\")","v":""},"S2",{"$f":"J295/0.86-J295","v":{"$error":"#VALUE!"}},null,null,null,null,null,null,null,null,null,null,null,null,null,null,null,null,null,null,"6. Andere Bereiche","elektrische Energie","","",null,"","",""]
[293,33,{"$f":"VLOOKUP(B296,'I. Stationäre Energie'!C:E,3,FALSE)","v":"I.6. ."},null,{"$f":"VLOOKUP(B296,'I. Stationäre Energie'!C:G,5,FALSE)","v":"6. Andere Bereiche"},"Biogene Brenn- und Treibstoffe (Brennholz, biogene Brenn- und Treibstoffe)",{"$f":"IFERROR(GETPIVOTDATA(\"Energie\",EM_Daten_u_Uebersicht!$W$5,\"Ziel-Subsektor\",C296,\"Energieträger\",F296),\"\")","v":""},{"$f":"IFERROR(GETPIVOTDATA(\"Summe von Energieeinsatz [MWh]\",I_Pivot!$G$3,\"ID\",C296,\"EM_Energieträger\",F296),\"\")","v":""},{"$f":"IFERROR(G296*VLOOKUP(F296,EM_Daten_u_Uebersicht!P:Q,2,FALSE),\"\")","v":""},{"$f":"IFERROR(GETPIVOTDATA(\"Summe von THG [t CO2eq]\",I_Pivot!$G$3,\"ID\",C296,\"EM_Energieträger\",F296),\"\")","v":""},"S1",null,null,null,null,null,null,null,null,null,null,null,null,null,null,null,null,null,null,null,"6. Andere Bereiche","Fernwärme","","",null,"","",""]
[294,33,{"$f":"VLOOKUP(B297,'I. Stationäre Energie'!C:E,3,FALSE)","v":"I.6. ."},null,{"$f":"VLOOKUP(B297,'I. Stationäre Energie'!C:G,5,FALSE)","v":"6. Andere Bereiche"},"Brennbare Abfälle",{"$f":"IFERROR(GETPIVOTDATA(\"Energie\",EM_Daten_u_Uebersicht!$W$5,\"Ziel-Subsektor\",C297,\"Energieträger\",F297),\"\")","v":""},{"$f":"IFERROR(GETPIVOTDATA(\"Summe von Energieeinsatz [MWh]\",I_Pivot!$G$3,\"ID\",C297,\"EM_Energieträger\",F297),\"\")","v":""},{"$f":"IFERROR(G297*VLOOKUP(F297,EM_Daten_u_Uebersicht!P:Q,2,FALSE),\"\")","v":""},{"$f":"IFERROR(GETPIVOTDATA(\"Summe von THG [t CO2eq]\",I_Pivot!$G$3,\"ID\",C297,\"EM_Energieträger\",F297),\"\")","v":""},"S1",null,null,null,null,null,null,null,null,null,null,null,null,null,null,null,null,null,null,null,"6. Andere Bereiche","Biogene Brenn- und Treibstoffe (Brennholz, biogene Brenn- und Treibstoffe)","","",null,"","",0]
[295,33,{"$f":"VLOOKUP(B298,'I. Stationäre Energie'!C:E,3,FALSE)","v":"I.6. ."},null,{"$f":"VLOOKUP(B298,'I. Stationäre Energie'!C:G,5,FALSE)","v":"6. Andere Bereiche"},"Umgebungswärme",{"$f":"IFERROR(GETPIVOTDATA(\"Energie\",EM_Daten_u_Uebersicht!$W$5,\"Ziel-Subsektor\",C298,\"Energieträger\",F298),\"\")","v":""},{"$f":"IFERROR(GETPIVOTDATA(\"Summe von Energieeinsatz [MWh]\",I_Pivot!$G$3,\"ID\",C298,\"EM_Energieträger\",F298),\"\")","v":""},{"$f":"IFERROR(G298*VLOOKUP(F298,EM_Daten_u_Uebersicht!P:Q,2,FALSE),\"\")","v":""},{"$f":"IFERROR(GETPIVOTDATA(\"Summe von THG [t CO2eq]\",I_Pivot!$G$3,\"ID\",C298,\"EM_Energieträger\",F298),\"\")","v":""},"S1",null,null,null,null,null,null,null,null,null,null,null,null,null,null,null,null,null,null,null,"6. Andere Bereiche","Brennbare Abfälle","","",null,"","",0]
[296,33,{"$f":"VLOOKUP(B299,'I. Stationäre Energie'!C:E,3,FALSE)","v":"I.6. ."},null,{"$f":"VLOOKUP(B299,'I. Stationäre Energie'!C:G,5,FALSE)","v":"6. Andere Bereiche"},"CO2-eq Direkteingabe",{"$f":"IFERROR(GETPIVOTDATA(\"Energie\",EM_Daten_u_Uebersicht!$W$5,\"Ziel-Subsektor\",C299,\"Energieträger\",F299),\"\")","v":""},{"$f":"IFERROR(GETPIVOTDATA(\"Summe von Energieeinsatz [MWh]\",I_Pivot!$G$3,\"ID\",C299,\"EM_Energieträger\",F299),\"\")","v":""},{"$f":"IFERROR(G299*VLOOKUP(F299,EM_Daten_u_Uebersicht!P:Q,2,FALSE),\"\")","v":""},{"$f":"IFERROR(GETPIVOTDATA(\"Summe von THG [t CO2eq]\",I_Pivot!$G$3,\"ID\",C299,\"EM_Energieträger\",F299),\"\")","v":""},"S1",null,null,null,null,null,null,null,null,null,null,null,null,null,null,null,null,null,null,null,"6. Andere Bereiche","Umgebungswärme","","",null,"","",0]
[297,34,{"$f":"VLOOKUP(B300,'I. Stationäre Energie'!C:E,3,FALSE)","v":"I.6.i."},null,{"$f":"VLOOKUP(B300,'I. Stationäre Energie'!C:G,5,FALSE)","v":"i. Stationäre Quellen "},"Kohle (Steinkohle, Braunkohle, Koks, Petrolkoks; Gichtgas, Kokereigas, Brenntorf)",{"$f":"IFERROR(GETPIVOTDATA(\"Energie\",EM_Daten_u_Uebersicht!$W$5,\"Ziel-Subsektor\",C300,\"Energieträger\",F300),\"\")","v":""},{"$f":"IFERROR(GETPIVOTDATA(\"Summe von Energieeinsatz [MWh]\",I_Pivot!$G$3,\"ID\",C300,\"EM_Energieträger\",F300),\"\")","v":""},{"$f":"IFERROR(G300*VLOOKUP(F300,EM_Daten_u_Uebersicht!P:Q,2,FALSE),\"\")","v":""},{"$f":"IFERROR(GETPIVOTDATA(\"Summe von THG [t CO2eq]\",I_Pivot!$G$3,\"ID\",C300,\"EM_Energieträger\",F300),\"\")","v":""},"S1",null,null,null,null,null,null,null,null,null,null,null,null,null,null,null,null,null,null,null,"6. Andere Bereiche","CO2-eq Direkteingabe","","",null,"","",0]
[298,34,{"$f":"VLOOKUP(B301,'I. Stationäre Energie'!C:E,3,FALSE)","v":"I.6.i."},null,{"$f":"VLOOKUP(B301,'I. Stationäre Energie'!C:G,5,FALSE)","v":"i. Stationäre Quellen "},"Öl (Heizöl, Gasöl für Heizzwecke, Diesel, Benzin, Petroleum, Flüssiggas)",{"$f":"IFERROR(GETPIVOTDATA(\"Energie\",EM_Daten_u_Uebersicht!$W$5,\"Ziel-Subsektor\",C301,\"Energieträger\",F301),\"\")","v":""},{"$f":"IFERROR(GETPIVOTDATA(\"Summe von Energieeinsatz [MWh]\",I_Pivot!$G$3,\"ID\",C301,\"EM_Energieträger\",F301),\"\")","v":""},{"$f":"IFERROR(G301*VLOOKUP(F301,EM_Daten_u_Uebersicht!P:Q,2,FALSE),\"\")","v":""},{"$f":"IFERROR(GETPIVOTDATA(\"Summe von THG [t CO2eq]\",I_Pivot!$G$3,\"ID\",C301,\"EM_Energieträger\",F301),\"\")","v":""},"S1",null,null,null,null,null,null,null,null,null,null,null,null,null,null,null,null,null,null,null,"i. Stationäre Quellen ","Kohle (Steinkohle, Braunkohle, Koks, Petrolkoks; Gichtgas, Kokereigas, Brenntorf)","","",null,"","",0]
[299,34,{"$f":"VLOOKUP(B302,'I. Stationäre Energie'!C:E,3,FALSE)","v":"I.6.i."},null,{"$f":"VLOOKUP(B302,'I. Stationäre Energie'!C:G,5,FALSE)","v":"i. Stationäre Quellen "},"Erdgas",{"$f":"IFERROR(GETPIVOTDATA(\"Energie\",EM_Daten_u_Uebersicht!$W$5,\"Ziel-Subsektor\",C302,\"Energieträger\",F302),\"\")","v":""},{"$f":"IFERROR(GETPIVOTDATA(\"Summe von Energieeinsatz [MWh]\",I_Pivot!$G$3,\"ID\",C302,\"EM_Energieträger\",F302),\"\")","v":""},{"$f":"IFERROR(G302*VLOOKUP(F302,EM_Daten_u_Uebersicht!P:Q,2,FALSE),\"\")","v":""},{"$f":"IFERROR(GETPIVOTDATA(\"Summe von THG [t CO2eq]\",I_Pivot!$G$3,\"ID\",C302,\"EM_Energieträger\",F302),\"\")","v":""},"S1",null,null,null,null,null,null,null,null,null,null,null,null,null,null,null,null,null,null,null,"i. Stationäre Quellen ","Öl (Heizöl, Gasöl für Heizzwecke, Diesel, Benzin, Petroleum, Flüssiggas)","","",null,"","",0]
[300,34,{"$f":"VLOOKUP(B303,'I. Stationäre Energie'!C:E,3,FALSE)","v":"I.6.i."},null,{"$f":"VLOOKUP(B303,'I. Stationäre Energie'!C:G,5,FALSE)","v":"i. Stationäre Quellen "},"elektrische Energie",{"$f":"IFERROR(GETPIVOTDATA(\"Energie\",EM_Daten_u_Uebersicht!$W$5,\"Ziel-Subsektor\",C303,\"Energieträger\",F303),\"\")","v":""},{"$f":"IFERROR(GETPIVOTDATA(\"Summe von Energieeinsatz [MWh]\",I_Pivot!$G$3,\"ID\",C303,\"EM_Energieträger\",F303),\"\")","v":""},{"$f":"IFERROR(G303*VLOOKUP(F303,EM_Daten_u_Uebersicht!P:Q,2,FALSE),\"\")","v":""},{"$f":"IFERROR(GETPIVOTDATA(\"Summe von THG [t CO2eq]\",I_Pivot!$G$3,\"ID\",C303,\"EM_Energieträger\",F303),\"\")","v":""},"S2",{"$f":"J303/0.94-J303","v":{"$error":"#VALUE!"}},null,null,null,null,null,null,null,null,null,null,null,null,null,null,null,null,null,null,"i. Stationäre Quellen ","Erdgas","","",null,"","",0]
[301,34,{"$f":"VLOOKUP(B304,'I. Stationäre Energie'!C:E,3,FALSE)","v":"I.6.i."},null,{"$f":"VLOOKUP(B304,'I. Stationäre Energie'!C:G,5,FALSE)","v":"i. Stationäre Quellen "},"Fernwärme",{"$f":"IFERROR(GETPIVOTDATA(\"Energie\",EM_Daten_u_Uebersicht!$W$5,\"Ziel-Subsektor\",C304,\"Energieträger\",F304),\"\")","v":""},{"$f":"IFERROR(GETPIVOTDATA(\"Summe von Energieeinsatz [MWh]\",I_Pivot!$G$3,\"ID\",C304,\"EM_Energieträger\",F304),\"\")","v":""},{"$f":"IFERROR(G304*VLOOKUP(F304,EM_Daten_u_Uebersicht!P:Q,2,FALSE),\"\")","v":""},{"$f":"IFERROR(GETPIVOTDATA(\"Summe von THG [t CO2eq]\",I_Pivot!$G$3,\"ID\",C304,\"EM_Energieträger\",F304),\"\")","v":""},"S2",{"$f":"J304/0.86-J304","v":{"$error":"#VALUE!"}},null,null,null,null,null,null,null,null,null,null,null,null,null,null,null,null,null,null,"i. Stationäre Quellen ","elektrische Energie","","",null,"","",""]
[302,34,{"$f":"VLOOKUP(B305,'I. Stationäre Energie'!C:E,3,FALSE)","v":"I.6.i."},null,{"$f":"VLOOKUP(B305,'I. Stationäre Energie'!C:G,5,FALSE)","v":"i. Stationäre Quellen "},"Biogene Brenn- und Treibstoffe (Brennholz, biogene Brenn- und Treibstoffe)",{"$f":"IFERROR(GETPIVOTDATA(\"Energie\",EM_Daten_u_Uebersicht!$W$5,\"Ziel-Subsektor\",C305,\"Energieträger\",F305),\"\")","v":""},{"$f":"IFERROR(GETPIVOTDATA(\"Summe von Energieeinsatz [MWh]\",I_Pivot!$G$3,\"ID\",C305,\"EM_Energieträger\",F305),\"\")","v":""},{"$f":"IFERROR(G305*VLOOKUP(F305,EM_Daten_u_Uebersicht!P:Q,2,FALSE),\"\")","v":""},{"$f":"IFERROR(GETPIVOTDATA(\"Summe von THG [t CO2eq]\",I_Pivot!$G$3,\"ID\",C305,\"EM_Energieträger\",F305),\"\")","v":""},"S1",null,null,null,null,null,null,null,null,null,null,null,null,null,null,null,null,null,null,null,"i. Stationäre Quellen ","Fernwärme","","",null,"","",""]
[303,34,{"$f":"VLOOKUP(B306,'I. Stationäre Energie'!C:E,3,FALSE)","v":"I.6.i."},null,{"$f":"VLOOKUP(B306,'I. Stationäre Energie'!C:G,5,FALSE)","v":"i. Stationäre Quellen "},"Brennbare Abfälle",{"$f":"IFERROR(GETPIVOTDATA(\"Energie\",EM_Daten_u_Uebersicht!$W$5,\"Ziel-Subsektor\",C306,\"Energieträger\",F306),\"\")","v":""},{"$f":"IFERROR(GETPIVOTDATA(\"Summe von Energieeinsatz [MWh]\",I_Pivot!$G$3,\"ID\",C306,\"EM_Energieträger\",F306),\"\")","v":""},{"$f":"IFERROR(G306*VLOOKUP(F306,EM_Daten_u_Uebersicht!P:Q,2,FALSE),\"\")","v":""},{"$f":"IFERROR(GETPIVOTDATA(\"Summe von THG [t CO2eq]\",I_Pivot!$G$3,\"ID\",C306,\"EM_Energieträger\",F306),\"\")","v":""},"S1",null,null,null,null,null,null,null,null,null,null,null,null,null,null,null,null,null,null,null,"i. Stationäre Quellen ","Biogene Brenn- und Treibstoffe (Brennholz, biogene Brenn- und Treibstoffe)","","",null,"","",0]
[304,34,{"$f":"VLOOKUP(B307,'I. Stationäre Energie'!C:E,3,FALSE)","v":"I.6.i."},null,{"$f":"VLOOKUP(B307,'I. Stationäre Energie'!C:G,5,FALSE)","v":"i. Stationäre Quellen "},"Umgebungswärme",{"$f":"IFERROR(GETPIVOTDATA(\"Energie\",EM_Daten_u_Uebersicht!$W$5,\"Ziel-Subsektor\",C307,\"Energieträger\",F307),\"\")","v":""},{"$f":"IFERROR(GETPIVOTDATA(\"Summe von Energieeinsatz [MWh]\",I_Pivot!$G$3,\"ID\",C307,\"EM_Energieträger\",F307),\"\")","v":""},{"$f":"IFERROR(G307*VLOOKUP(F307,EM_Daten_u_Uebersicht!P:Q,2,FALSE),\"\")","v":""},{"$f":"IFERROR(GETPIVOTDATA(\"Summe von THG [t CO2eq]\",I_Pivot!$G$3,\"ID\",C307,\"EM_Energieträger\",F307),\"\")","v":""},"S1",null,null,null,null,null,null,null,null,null,null,null,null,null,null,null,null,null,null,null,"i. Stationäre Quellen ","Brennbare Abfälle","","",null,"","",0]
[305,34,{"$f":"VLOOKUP(B308,'I. Stationäre Energie'!C:E,3,FALSE)","v":"I.6.i."},null,{"$f":"VLOOKUP(B308,'I. Stationäre Energie'!C:G,5,FALSE)","v":"i. Stationäre Quellen "},"CO2-eq Direkteingabe",{"$f":"IFERROR(GETPIVOTDATA(\"Energie\",EM_Daten_u_Uebersicht!$W$5,\"Ziel-Subsektor\",C308,\"Energieträger\",F308),\"\")","v":""},{"$f":"IFERROR(GETPIVOTDATA(\"Summe von Energieeinsatz [MWh]\",I_Pivot!$G$3,\"ID\",C308,\"EM_Energieträger\",F308),\"\")","v":""},{"$f":"IFERROR(G308*VLOOKUP(F308,EM_Daten_u_Uebersicht!P:Q,2,FALSE),\"\")","v":""},{"$f":"IFERROR(GETPIVOTDATA(\"Summe von THG [t CO2eq]\",I_Pivot!$G$3,\"ID\",C308,\"EM_Energieträger\",F308),\"\")","v":""},"S1",null,null,null,null,null,null,null,null,null,null,null,null,null,null,null,null,null,null,null,"i. Stationäre Quellen ","Umgebungswärme","","",null,"","",0]
[306,35,{"$f":"VLOOKUP(B309,'I. Stationäre Energie'!C:E,3,FALSE)","v":"I.6.ii."},null,{"$f":"VLOOKUP(B309,'I. Stationäre Energie'!C:G,5,FALSE)","v":"ii. Mobile Quellen "},"Kohle (Steinkohle, Braunkohle, Koks, Petrolkoks; Gichtgas, Kokereigas, Brenntorf)",{"$f":"IFERROR(GETPIVOTDATA(\"Energie\",EM_Daten_u_Uebersicht!$W$5,\"Ziel-Subsektor\",C309,\"Energieträger\",F309),\"\")","v":""},{"$f":"IFERROR(GETPIVOTDATA(\"Summe von Energieeinsatz [MWh]\",I_Pivot!$G$3,\"ID\",C309,\"EM_Energieträger\",F309),\"\")","v":""},{"$f":"IFERROR(G309*VLOOKUP(F309,EM_Daten_u_Uebersicht!P:Q,2,FALSE),\"\")","v":""},{"$f":"IFERROR(GETPIVOTDATA(\"Summe von THG [t CO2eq]\",I_Pivot!$G$3,\"ID\",C309,\"EM_Energieträger\",F309),\"\")","v":""},"S1",null,null,null,null,null,null,null,null,null,null,null,null,null,null,null,null,null,null,null,"i. Stationäre Quellen ","CO2-eq Direkteingabe","","",null,"","",0]
[307,35,{"$f":"VLOOKUP(B310,'I. Stationäre Energie'!C:E,3,FALSE)","v":"I.6.ii."},null,{"$f":"VLOOKUP(B310,'I. Stationäre Energie'!C:G,5,FALSE)","v":"ii. Mobile Quellen "},"Öl (Heizöl, Gasöl für Heizzwecke, Diesel, Benzin, Petroleum, Flüssiggas)",{"$f":"IFERROR(GETPIVOTDATA(\"Energie\",EM_Daten_u_Uebersicht!$W$5,\"Ziel-Subsektor\",C310,\"Energieträger\",F310),\"\")","v":""},{"$f":"IFERROR(GETPIVOTDATA(\"Summe von Energieeinsatz [MWh]\",I_Pivot!$G$3,\"ID\",C310,\"EM_Energieträger\",F310),\"\")","v":""},{"$f":"IFERROR(G310*VLOOKUP(F310,EM_Daten_u_Uebersicht!P:Q,2,FALSE),\"\")","v":""},{"$f":"IFERROR(GETPIVOTDATA(\"Summe von THG [t CO2eq]\",I_Pivot!$G$3,\"ID\",C310,\"EM_Energieträger\",F310),\"\")","v":""},"S1",null,null,null,null,null,null,null,null,null,null,null,null,null,null,null,null,null,null,null,"ii. Mobile Quellen ","Kohle (Steinkohle, Braunkohle, Koks, Petrolkoks; Gichtgas, Kokereigas, Brenntorf)","","",null,"","",0]
[308,35,{"$f":"VLOOKUP(B311,'I. Stationäre Energie'!C:E,3,FALSE)","v":"I.6.ii."},null,{"$f":"VLOOKUP(B311,'I. Stationäre Energie'!C:G,5,FALSE)","v":"ii. Mobile Quellen "},"Erdgas",{"$f":"IFERROR(GETPIVOTDATA(\"Energie\",EM_Daten_u_Uebersicht!$W$5,\"Ziel-Subsektor\",C311,\"Energieträger\",F311),\"\")","v":""},{"$f":"IFERROR(GETPIVOTDATA(\"Summe von Energieeinsatz [MWh]\",I_Pivot!$G$3,\"ID\",C311,\"EM_Energieträger\",F311),\"\")","v":""},{"$f":"IFERROR(G311*VLOOKUP(F311,EM_Daten_u_Uebersicht!P:Q,2,FALSE),\"\")","v":""},{"$f":"IFERROR(GETPIVOTDATA(\"Summe von THG [t CO2eq]\",I_Pivot!$G$3,\"ID\",C311,\"EM_Energieträger\",F311),\"\")","v":""},"S1",null,null,null,null,null,null,null,null,null,null,null,null,null,null,null,null,null,null,null,"ii. Mobile Quellen ","Öl (Heizöl, Gasöl für Heizzwecke, Diesel, Benzin, Petroleum, Flüssiggas)","","",null,"","",0]
[309,35,{"$f":"VLOOKUP(B312,'I. Stationäre Energie'!C:E,3,FALSE)","v":"I.6.ii."},null,{"$f":"VLOOKUP(B312,'I. Stationäre Energie'!C:G,5,FALSE)","v":"ii. Mobile Quellen "},"elektrische Energie",{"$f":"IFERROR(GETPIVOTDATA(\"Energie\",EM_Daten_u_Uebersicht!$W$5,\"Ziel-Subsektor\",C312,\"Energieträger\",F312),\"\")","v":""},{"$f":"IFERROR(GETPIVOTDATA(\"Summe von Energieeinsatz [MWh]\",I_Pivot!$G$3,\"ID\",C312,\"EM_Energieträger\",F312),\"\")","v":""},{"$f":"IFERROR(G312*VLOOKUP(F312,EM_Daten_u_Uebersicht!P:Q,2,FALSE),\"\")","v":""},{"$f":"IFERROR(GETPIVOTDATA(\"Summe von THG [t CO2eq]\",I_Pivot!$G$3,\"ID\",C312,\"EM_Energieträger\",F312),\"\")","v":""},"S2",{"$f":"J312/0.94-J312","v":{"$error":"#VALUE!"}},null,null,null,null,null,null,null,null,null,null,null,null,null,null,null,null,null,null,"ii. Mobile Quellen ","Erdgas","","",null,"","",0]
[310,35,{"$f":"VLOOKUP(B313,'I. Stationäre Energie'!C:E,3,FALSE)","v":"I.6.ii."},null,{"$f":"VLOOKUP(B313,'I. Stationäre Energie'!C:G,5,FALSE)","v":"ii. Mobile Quellen "},"Fernwärme",{"$f":"IFERROR(GETPIVOTDATA(\"Energie\",EM_Daten_u_Uebersicht!$W$5,\"Ziel-Subsektor\",C313,\"Energieträger\",F313),\"\")","v":""},{"$f":"IFERROR(GETPIVOTDATA(\"Summe von Energieeinsatz [MWh]\",I_Pivot!$G$3,\"ID\",C313,\"EM_Energieträger\",F313),\"\")","v":""},{"$f":"IFERROR(G313*VLOOKUP(F313,EM_Daten_u_Uebersicht!P:Q,2,FALSE),\"\")","v":""},{"$f":"IFERROR(GETPIVOTDATA(\"Summe von THG [t CO2eq]\",I_Pivot!$G$3,\"ID\",C313,\"EM_Energieträger\",F313),\"\")","v":""},"S2",{"$f":"J313/0.86-J313","v":{"$error":"#VALUE!"}},null,null,null,null,null,null,null,null,null,null,null,null,null,null,null,null,null,null,"ii. Mobile Quellen ","elektrische Energie","","",null,"","",""]
[311,35,{"$f":"VLOOKUP(B314,'I. Stationäre Energie'!C:E,3,FALSE)","v":"I.6.ii."},null,{"$f":"VLOOKUP(B314,'I. Stationäre Energie'!C:G,5,FALSE)","v":"ii. Mobile Quellen "},"Biogene Brenn- und Treibstoffe (Brennholz, biogene Brenn- und Treibstoffe)",{"$f":"IFERROR(GETPIVOTDATA(\"Energie\",EM_Daten_u_Uebersicht!$W$5,\"Ziel-Subsektor\",C314,\"Energieträger\",F314),\"\")","v":""},{"$f":"IFERROR(GETPIVOTDATA(\"Summe von Energieeinsatz [MWh]\",I_Pivot!$G$3,\"ID\",C314,\"EM_Energieträger\",F314),\"\")","v":""},{"$f":"IFERROR(G314*VLOOKUP(F314,EM_Daten_u_Uebersicht!P:Q,2,FALSE),\"\")","v":""},{"$f":"IFERROR(GETPIVOTDATA(\"Summe von THG [t CO2eq]\",I_Pivot!$G$3,\"ID\",C314,\"EM_Energieträger\",F314),\"\")","v":""},"S1",null,null,null,null,null,null,null,null,null,null,null,null,null,null,null,null,null,null,null,"ii. Mobile Quellen ","Fernwärme","","",null,"","",""]
[312,35,{"$f":"VLOOKUP(B315,'I. Stationäre Energie'!C:E,3,FALSE)","v":"I.6.ii."},null,{"$f":"VLOOKUP(B315,'I. Stationäre Energie'!C:G,5,FALSE)","v":"ii. Mobile Quellen "},"Brennbare Abfälle",{"$f":"IFERROR(GETPIVOTDATA(\"Energie\",EM_Daten_u_Uebersicht!$W$5,\"Ziel-Subsektor\",C315,\"Energieträger\",F315),\"\")","v":""},{"$f":"IFERROR(GETPIVOTDATA(\"Summe von Energieeinsatz [MWh]\",I_Pivot!$G$3,\"ID\",C315,\"EM_Energieträger\",F315),\"\")","v":""},{"$f":"IFERROR(G315*VLOOKUP(F315,EM_Daten_u_Uebersicht!P:Q,2,FALSE),\"\")","v":""},{"$f":"IFERROR(GETPIVOTDATA(\"Summe von THG [t CO2eq]\",I_Pivot!$G$3,\"ID\",C315,\"EM_Energieträger\",F315),\"\")","v":""},"S1",null,null,null,null,null,null,null,null,null,null,null,null,null,null,null,null,null,null,null,"ii. Mobile Quellen ","Biogene Brenn- und Treibstoffe (Brennholz, biogene Brenn- und Treibstoffe)","","",null,"","",0]
[313,35,{"$f":"VLOOKUP(B316,'I. Stationäre Energie'!C:E,3,FALSE)","v":"I.6.ii."},null,{"$f":"VLOOKUP(B316,'I. Stationäre Energie'!C:G,5,FALSE)","v":"ii. Mobile Quellen "},"Umgebungswärme",{"$f":"IFERROR(GETPIVOTDATA(\"Energie\",EM_Daten_u_Uebersicht!$W$5,\"Ziel-Subsektor\",C316,\"Energieträger\",F316),\"\")","v":""},{"$f":"IFERROR(GETPIVOTDATA(\"Summe von Energieeinsatz [MWh]\",I_Pivot!$G$3,\"ID\",C316,\"EM_Energieträger\",F316),\"\")","v":""},{"$f":"IFERROR(G316*VLOOKUP(F316,EM_Daten_u_Uebersicht!P:Q,2,FALSE),\"\")","v":""},{"$f":"IFERROR(GETPIVOTDATA(\"Summe von THG [t CO2eq]\",I_Pivot!$G$3,\"ID\",C316,\"EM_Energieträger\",F316),\"\")","v":""},"S1",null,null,null,null,null,null,null,null,null,null,null,null,null,null,null,null,null,null,null,"ii. Mobile Quellen ","Brennbare Abfälle","","",null,"","",0]
[314,35,{"$f":"VLOOKUP(B317,'I. Stationäre Energie'!C:E,3,FALSE)","v":"I.6.ii."},null,{"$f":"VLOOKUP(B317,'I. Stationäre Energie'!C:G,5,FALSE)","v":"ii. Mobile Quellen "},"CO2-eq Direkteingabe",{"$f":"IFERROR(GETPIVOTDATA(\"Energie\",EM_Daten_u_Uebersicht!$W$5,\"Ziel-Subsektor\",C317,\"Energieträger\",F317),\"\")","v":""},{"$f":"IFERROR(GETPIVOTDATA(\"Summe von Energieeinsatz [MWh]\",I_Pivot!$G$3,\"ID\",C317,\"EM_Energieträger\",F317),\"\")","v":""},{"$f":"IFERROR(G317*VLOOKUP(F317,EM_Daten_u_Uebersicht!P:Q,2,FALSE),\"\")","v":""},{"$f":"IFERROR(GETPIVOTDATA(\"Summe von THG [t CO2eq]\",I_Pivot!$G$3,\"ID\",C317,\"EM_Energieträger\",F317),\"\")","v":""},"S1",null,null,null,null,null,null,null,null,null,null,null,null,null,null,null,null,null,null,null,"ii. Mobile Quellen ","Umgebungswärme","","",null,"","",0]
[315,36,{"$f":"VLOOKUP(B318,'I. Stationäre Energie'!C:E,3,FALSE)","v":"I.7. ."},null,{"$f":"VLOOKUP(B318,'I. Stationäre Energie'!C:G,5,FALSE)","v":"7. Diffuse Emissionen aus Kohlebergbau und-umwandlung "},"Kohle (Steinkohle, Braunkohle, Koks, Petrolkoks; Gichtgas, Kokereigas, Brenntorf)",{"$f":"IFERROR(GETPIVOTDATA(\"Energie\",EM_Daten_u_Uebersicht!$W$5,\"Ziel-Subsektor\",C318,\"Energieträger\",F318),\"\")","v":""},{"$f":"IFERROR(GETPIVOTDATA(\"Summe von Energieeinsatz [MWh]\",I_Pivot!$G$3,\"ID\",C318,\"EM_Energieträger\",F318),\"\")","v":""},{"$f":"IFERROR(G318*VLOOKUP(F318,EM_Daten_u_Uebersicht!P:Q,2,FALSE),\"\")","v":""},{"$f":"IFERROR(GETPIVOTDATA(\"Summe von THG [t CO2eq]\",I_Pivot!$G$3,\"ID\",C318,\"EM_Energieträger\",F318),\"\")","v":""},"S1",null,null,null,null,null,null,null,null,null,null,null,null,null,null,null,null,null,null,null,"ii. Mobile Quellen ","CO2-eq Direkteingabe","","",null,"","",0]
[316,36,{"$f":"VLOOKUP(B319,'I. Stationäre Energie'!C:E,3,FALSE)","v":"I.7. ."},null,{"$f":"VLOOKUP(B319,'I. Stationäre Energie'!C:G,5,FALSE)","v":"7. Diffuse Emissionen aus Kohlebergbau und-umwandlung "},"Öl (Heizöl, Gasöl für Heizzwecke, Diesel, Benzin, Petroleum, Flüssiggas)",{"$f":"IFERROR(GETPIVOTDATA(\"Energie\",EM_Daten_u_Uebersicht!$W$5,\"Ziel-Subsektor\",C319,\"Energieträger\",F319),\"\")","v":""},{"$f":"IFERROR(GETPIVOTDATA(\"Summe von Energieeinsatz [MWh]\",I_Pivot!$G$3,\"ID\",C319,\"EM_Energieträger\",F319),\"\")","v":""},{"$f":"IFERROR(G319*VLOOKUP(F319,EM_Daten_u_Uebersicht!P:Q,2,FALSE),\"\")","v":""},{"$f":"IFERROR(GETPIVOTDATA(\"Summe von THG [t CO2eq]\",I_Pivot!$G$3,\"ID\",C319,\"EM_Energieträger\",F319),\"\")","v":""},"S1",null,null,null,null,null,null,null,null,null,null,null,null,null,null,null,null,null,null,null,"7. Diffuse Emissionen aus Kohlebergbau und-umwandlung ","Kohle (Steinkohle, Braunkohle, Koks, Petrolkoks; Gichtgas, Kokereigas, Brenntorf)","","",null,"","",0]
[317,36,{"$f":"VLOOKUP(B320,'I. Stationäre Energie'!C:E,3,FALSE)","v":"I.7. ."},null,{"$f":"VLOOKUP(B320,'I. Stationäre Energie'!C:G,5,FALSE)","v":"7. Diffuse Emissionen aus Kohlebergbau und-umwandlung "},"Erdgas",{"$f":"IFERROR(GETPIVOTDATA(\"Energie\",EM_Daten_u_Uebersicht!$W$5,\"Ziel-Subsektor\",C320,\"Energieträger\",F320),\"\")","v":""},{"$f":"IFERROR(GETPIVOTDATA(\"Summe von Energieeinsatz [MWh]\",I_Pivot!$G$3,\"ID\",C320,\"EM_Energieträger\",F320),\"\")","v":""},{"$f":"IFERROR(G320*VLOOKUP(F320,EM_Daten_u_Uebersicht!P:Q,2,FALSE),\"\")","v":""},{"$f":"IFERROR(GETPIVOTDATA(\"Summe von THG [t CO2eq]\",I_Pivot!$G$3,\"ID\",C320,\"EM_Energieträger\",F320),\"\")","v":""},"S1",null,null,null,null,null,null,null,null,null,null,null,null,null,null,null,null,null,null,null,"7. Diffuse Emissionen aus Kohlebergbau und-umwandlung ","Öl (Heizöl, Gasöl für Heizzwecke, Diesel, Benzin, Petroleum, Flüssiggas)","","",null,"","",0]
[318,36,{"$f":"VLOOKUP(B321,'I. Stationäre Energie'!C:E,3,FALSE)","v":"I.7. ."},null,{"$f":"VLOOKUP(B321,'I. Stationäre Energie'!C:G,5,FALSE)","v":"7. Diffuse Emissionen aus Kohlebergbau und-umwandlung "},"elektrische Energie",{"$f":"IFERROR(GETPIVOTDATA(\"Energie\",EM_Daten_u_Uebersicht!$W$5,\"Ziel-Subsektor\",C321,\"Energieträger\",F321),\"\")","v":""},{"$f":"IFERROR(GETPIVOTDATA(\"Summe von Energieeinsatz [MWh]\",I_Pivot!$G$3,\"ID\",C321,\"EM_Energieträger\",F321),\"\")","v":""},{"$f":"IFERROR(G321*VLOOKUP(F321,EM_Daten_u_Uebersicht!P:Q,2,FALSE),\"\")","v":""},{"$f":"IFERROR(GETPIVOTDATA(\"Summe von THG [t CO2eq]\",I_Pivot!$G$3,\"ID\",C321,\"EM_Energieträger\",F321),\"\")","v":""},"S2",{"$f":"J321/0.94-J321","v":{"$error":"#VALUE!"}},null,null,null,null,null,null,null,null,null,null,null,null,null,null,null,null,null,null,"7. Diffuse Emissionen aus Kohlebergbau und-umwandlung ","Erdgas","","",null,"","",0]
[319,36,{"$f":"VLOOKUP(B322,'I. Stationäre Energie'!C:E,3,FALSE)","v":"I.7. ."},null,{"$f":"VLOOKUP(B322,'I. Stationäre Energie'!C:G,5,FALSE)","v":"7. Diffuse Emissionen aus Kohlebergbau und-umwandlung "},"Fernwärme",{"$f":"IFERROR(GETPIVOTDATA(\"Energie\",EM_Daten_u_Uebersicht!$W$5,\"Ziel-Subsektor\",C322,\"Energieträger\",F322),\"\")","v":""},{"$f":"IFERROR(GETPIVOTDATA(\"Summe von Energieeinsatz [MWh]\",I_Pivot!$G$3,\"ID\",C322,\"EM_Energieträger\",F322),\"\")","v":""},{"$f":"IFERROR(G322*VLOOKUP(F322,EM_Daten_u_Uebersicht!P:Q,2,FALSE),\"\")","v":""},{"$f":"IFERROR(GETPIVOTDATA(\"Summe von THG [t CO2eq]\",I_Pivot!$G$3,\"ID\",C322,\"EM_Energieträger\",F322),\"\")","v":""},"S2",{"$f":"J322/0.86-J322","v":{"$error":"#VALUE!"}},null,null,null,null,null,null,null,null,null,null,null,null,null,null,null,null,null,null,"7. Diffuse Emissionen aus Kohlebergbau und-umwandlung ","elektrische Energie","","",null,"","",""]
[320,36,{"$f":"VLOOKUP(B323,'I. Stationäre Energie'!C:E,3,FALSE)","v":"I.7. ."},null,{"$f":"VLOOKUP(B323,'I. Stationäre Energie'!C:G,5,FALSE)","v":"7. Diffuse Emissionen aus Kohlebergbau und-umwandlung "},"Biogene Brenn- und Treibstoffe (Brennholz, biogene Brenn- und Treibstoffe)",{"$f":"IFERROR(GETPIVOTDATA(\"Energie\",EM_Daten_u_Uebersicht!$W$5,\"Ziel-Subsektor\",C323,\"Energieträger\",F323),\"\")","v":""},{"$f":"IFERROR(GETPIVOTDATA(\"Summe von Energieeinsatz [MWh]\",I_Pivot!$G$3,\"ID\",C323,\"EM_Energieträger\",F323),\"\")","v":""},{"$f":"IFERROR(G323*VLOOKUP(F323,EM_Daten_u_Uebersicht!P:Q,2,FALSE),\"\")","v":""},{"$f":"IFERROR(GETPIVOTDATA(\"Summe von THG [t CO2eq]\",I_Pivot!$G$3,\"ID\",C323,\"EM_Energieträger\",F323),\"\")","v":""},"S1",null,null,null,null,null,null,null,null,null,null,null,null,null,null,null,null,null,null,null,{"$f":"IFERROR(E322,\"\")","v":"7. Diffuse Emissionen aus Kohlebergbau und-umwandlung "},{"$f":"IFERROR(F322,\"\")","v":"Fernwärme"},{"$f":"IFERROR(H322,\"\")","v":""},{"$f":"IFERROR(J322,\"\")","v":""},null,"","",{"$f":"IFERROR(L322,\"\")","v":""}]
[321,{"$f":"ROUNDDOWN(A324/9,0)+1","v":36},{"$f":"VLOOKUP(B324,'I. Stationäre Energie'!C:E,3,FALSE)","v":"I.7. ."},null,{"$f":"VLOOKUP(B324,'I. Stationäre Energie'!C:G,5,FALSE)","v":"7. Diffuse Emissionen aus Kohlebergbau und-umwandlung "},"Brennbare Abfälle",{"$f":"IFERROR(GETPIVOTDATA(\"Energie\",EM_Daten_u_Uebersicht!$W$5,\"Ziel-Subsektor\",C324,\"Energieträger\",F324),\"\")","v":""},{"$f":"IFERROR(GETPIVOTDATA(\"Summe von Energieeinsatz [MWh]\",I_Pivot!$G$3,\"ID\",C324,\"EM_Energieträger\",F324),\"\")","v":""},{"$f":"IFERROR(G324*VLOOKUP(F324,EM_Daten_u_Uebersicht!P:Q,2,FALSE),\"\")","v":""},{"$f":"IFERROR(GETPIVOTDATA(\"Summe von THG [t CO2eq]\",I_Pivot!$G$3,\"ID\",C324,\"EM_Energieträger\",F324),\"\")","v":""},"S1",null,null,null,null,null,null,null,null,null,null,null,null,null,null,null,null,null,null,null,"7. Diffuse Emissionen aus Kohlebergbau und-umwandlung ","Biogene Brenn- und Treibstoffe (Brennholz, biogene Brenn- und Treibstoffe)","","",null,{"$f":"IF(K323=\"S1\",J323,\"\")","v":""},{"$f":"IF(K323=\"S2\",J323,\"\")","v":""},0]
[322,36,{"$f":"VLOOKUP(B325,'I. Stationäre Energie'!C:E,3,FALSE)","v":"I.7. ."},null,{"$f":"VLOOKUP(B325,'I. Stationäre Energie'!C:G,5,FALSE)","v":"7. Diffuse Emissionen aus Kohlebergbau und-umwandlung "},"Umgebungswärme",{"$f":"IFERROR(GETPIVOTDATA(\"Energie\",EM_Daten_u_Uebersicht!$W$5,\"Ziel-Subsektor\",C325,\"Energieträger\",F325),\"\")","v":""},{"$f":"IFERROR(GETPIVOTDATA(\"Summe von Energieeinsatz [MWh]\",I_Pivot!$G$3,\"ID\",C325,\"EM_Energieträger\",F325),\"\")","v":""},{"$f":"IFERROR(G325*VLOOKUP(F325,EM_Daten_u_Uebersicht!P:Q,2,FALSE),\"\")","v":""},{"$f":"IFERROR(GETPIVOTDATA(\"Summe von THG [t CO2eq]\",I_Pivot!$G$3,\"ID\",C325,\"EM_Energieträger\",F325),\"\")","v":""},"S1",null,null,null,null,null,null,null,null,null,null,null,null,null,null,null,null,null,null,null,"7. Diffuse Emissionen aus Kohlebergbau und-umwandlung ","Brennbare Abfälle","","",null,"","",0]
[323,36,{"$f":"VLOOKUP(B326,'I. Stationäre Energie'!C:E,3,FALSE)","v":"I.7. ."},null,{"$f":"VLOOKUP(B326,'I. Stationäre Energie'!C:G,5,FALSE)","v":"7. Diffuse Emissionen aus Kohlebergbau und-umwandlung "},"CO2-eq Direkteingabe",{"$f":"IFERROR(GETPIVOTDATA(\"Energie\",EM_Daten_u_Uebersicht!$W$5,\"Ziel-Subsektor\",C326,\"Energieträger\",F326),\"\")","v":""},{"$f":"IFERROR(GETPIVOTDATA(\"Summe von Energieeinsatz [MWh]\",I_Pivot!$G$3,\"ID\",C326,\"EM_Energieträger\",F326),\"\")","v":""},{"$f":"IFERROR(G326*VLOOKUP(F326,EM_Daten_u_Uebersicht!P:Q,2,FALSE),\"\")","v":""},{"$f":"IFERROR(GETPIVOTDATA(\"Summe von THG [t CO2eq]\",I_Pivot!$G$3,\"ID\",C326,\"EM_Energieträger\",F326),\"\")","v":""},"S1",null,null,null,null,null,null,null,null,null,null,null,null,null,null,null,null,null,null,null,"7. Diffuse Emissionen aus Kohlebergbau und-umwandlung ","Umgebungswärme","","",null,"","",0]
[324,37,{"$f":"VLOOKUP(B327,'I. Stationäre Energie'!C:E,3,FALSE)","v":"I.8. ."},null,{"$f":"VLOOKUP(B327,'I. Stationäre Energie'!C:G,5,FALSE)","v":"8. Öl und Erdgas und diffuse Emissionen aus der Energieerzeugung"},"Kohle (Steinkohle, Braunkohle, Koks, Petrolkoks; Gichtgas, Kokereigas, Brenntorf)",{"$f":"IFERROR(GETPIVOTDATA(\"Energie\",EM_Daten_u_Uebersicht!$W$5,\"Ziel-Subsektor\",C327,\"Energieträger\",F327),\"\")","v":""},{"$f":"IFERROR(GETPIVOTDATA(\"Summe von Energieeinsatz [MWh]\",I_Pivot!$G$3,\"ID\",C327,\"EM_Energieträger\",F327),\"\")","v":""},{"$f":"IFERROR(G327*VLOOKUP(F327,EM_Daten_u_Uebersicht!P:Q,2,FALSE),\"\")","v":""},{"$f":"IFERROR(GETPIVOTDATA(\"Summe von THG [t CO2eq]\",I_Pivot!$G$3,\"ID\",C327,\"EM_Energieträger\",F327),\"\")","v":""},"S1",null,null,null,null,null,null,null,null,null,null,null,null,null,null,null,null,null,null,null,"7. Diffuse Emissionen aus Kohlebergbau und-umwandlung ","CO2-eq Direkteingabe","","",null,"","",0]
[325,37,{"$f":"VLOOKUP(B328,'I. Stationäre Energie'!C:E,3,FALSE)","v":"I.8. ."},null,{"$f":"VLOOKUP(B328,'I. Stationäre Energie'!C:G,5,FALSE)","v":"8. Öl und Erdgas und diffuse Emissionen aus der Energieerzeugung"},"Öl (Heizöl, Gasöl für Heizzwecke, Diesel, Benzin, Petroleum, Flüssiggas)",{"$f":"IFERROR(GETPIVOTDATA(\"Energie\",EM_Daten_u_Uebersicht!$W$5,\"Ziel-Subsektor\",C328,\"Energieträger\",F328),\"\")","v":""},{"$f":"IFERROR(GETPIVOTDATA(\"Summe von Energieeinsatz [MWh]\",I_Pivot!$G$3,\"ID\",C328,\"EM_Energieträger\",F328),\"\")","v":""},{"$f":"IFERROR(G328*VLOOKUP(F328,EM_Daten_u_Uebersicht!P:Q,2,FALSE),\"\")","v":""},{"$f":"IFERROR(GETPIVOTDATA(\"Summe von THG [t CO2eq]\",I_Pivot!$G$3,\"ID\",C328,\"EM_Energieträger\",F328),\"\")","v":""},"S1",null,null,null,null,null,null,null,null,null,null,null,null,null,null,null,null,null,null,null,"8. Öl und Erdgas und diffuse Emissionen aus der Energieerzeugung","Kohle (Steinkohle, Braunkohle, Koks, Petrolkoks; Gichtgas, Kokereigas, Brenntorf)","","",null,"","",0]
[326,37,{"$f":"VLOOKUP(B329,'I. Stationäre Energie'!C:E,3,FALSE)","v":"I.8. ."},null,{"$f":"VLOOKUP(B329,'I. Stationäre Energie'!C:G,5,FALSE)","v":"8. Öl und Erdgas und diffuse Emissionen aus der Energieerzeugung"},"Erdgas",{"$f":"IFERROR(GETPIVOTDATA(\"Energie\",EM_Daten_u_Uebersicht!$W$5,\"Ziel-Subsektor\",C329,\"Energieträger\",F329),\"\")","v":""},{"$f":"IFERROR(GETPIVOTDATA(\"Summe von Energieeinsatz [MWh]\",I_Pivot!$G$3,\"ID\",C329,\"EM_Energieträger\",F329),\"\")","v":""},{"$f":"IFERROR(G329*VLOOKUP(F329,EM_Daten_u_Uebersicht!P:Q,2,FALSE),\"\")","v":""},{"$f":"IFERROR(GETPIVOTDATA(\"Summe von THG [t CO2eq]\",I_Pivot!$G$3,\"ID\",C329,\"EM_Energieträger\",F329),\"\")","v":""},"S1",null,null,null,null,null,null,null,null,null,null,null,null,null,null,null,null,null,null,null,"8. Öl und Erdgas und diffuse Emissionen aus der Energieerzeugung","Öl (Heizöl, Gasöl für Heizzwecke, Diesel, Benzin, Petroleum, Flüssiggas)","","",null,"","",0]
[327,37,{"$f":"VLOOKUP(B330,'I. Stationäre Energie'!C:E,3,FALSE)","v":"I.8. ."},null,{"$f":"VLOOKUP(B330,'I. Stationäre Energie'!C:G,5,FALSE)","v":"8. Öl und Erdgas und diffuse Emissionen aus der Energieerzeugung"},"elektrische Energie",{"$f":"IFERROR(GETPIVOTDATA(\"Energie\",EM_Daten_u_Uebersicht!$W$5,\"Ziel-Subsektor\",C330,\"Energieträger\",F330),\"\")","v":""},{"$f":"IFERROR(GETPIVOTDATA(\"Summe von Energieeinsatz [MWh]\",I_Pivot!$G$3,\"ID\",C330,\"EM_Energieträger\",F330),\"\")","v":""},{"$f":"IFERROR(G330*VLOOKUP(F330,EM_Daten_u_Uebersicht!P:Q,2,FALSE),\"\")","v":""},{"$f":"IFERROR(GETPIVOTDATA(\"Summe von THG [t CO2eq]\",I_Pivot!$G$3,\"ID\",C330,\"EM_Energieträger\",F330),\"\")","v":""},"S2",{"$f":"J330/0.94-J330","v":{"$error":"#VALUE!"}},null,null,null,null,null,null,null,null,null,null,null,null,null,null,null,null,null,null,"8. Öl und Erdgas und diffuse Emissionen aus der Energieerzeugung","Erdgas","","",null,"","",0]
[328,37,{"$f":"VLOOKUP(B331,'I. Stationäre Energie'!C:E,3,FALSE)","v":"I.8. ."},null,{"$f":"VLOOKUP(B331,'I. Stationäre Energie'!C:G,5,FALSE)","v":"8. Öl und Erdgas und diffuse Emissionen aus der Energieerzeugung"},"Fernwärme",{"$f":"IFERROR(GETPIVOTDATA(\"Energie\",EM_Daten_u_Uebersicht!$W$5,\"Ziel-Subsektor\",C331,\"Energieträger\",F331),\"\")","v":""},{"$f":"IFERROR(GETPIVOTDATA(\"Summe von Energieeinsatz [MWh]\",I_Pivot!$G$3,\"ID\",C331,\"EM_Energieträger\",F331),\"\")","v":""},{"$f":"IFERROR(G331*VLOOKUP(F331,EM_Daten_u_Uebersicht!P:Q,2,FALSE),\"\")","v":""},{"$f":"IFERROR(GETPIVOTDATA(\"Summe von THG [t CO2eq]\",I_Pivot!$G$3,\"ID\",C331,\"EM_Energieträger\",F331),\"\")","v":""},"S2",{"$f":"J331/0.86-J331","v":{"$error":"#VALUE!"}},null,null,null,null,null,null,null,null,null,null,null,null,null,null,null,null,null,null,"8. Öl und Erdgas und diffuse Emissionen aus der Energieerzeugung","elektrische Energie","","",null,"","",""]
[329,37,{"$f":"VLOOKUP(B332,'I. Stationäre Energie'!C:E,3,FALSE)","v":"I.8. ."},null,{"$f":"VLOOKUP(B332,'I. Stationäre Energie'!C:G,5,FALSE)","v":"8. Öl und Erdgas und diffuse Emissionen aus der Energieerzeugung"},"Biogene Brenn- und Treibstoffe (Brennholz, biogene Brenn- und Treibstoffe)",{"$f":"IFERROR(GETPIVOTDATA(\"Energie\",EM_Daten_u_Uebersicht!$W$5,\"Ziel-Subsektor\",C332,\"Energieträger\",F332),\"\")","v":""},{"$f":"IFERROR(GETPIVOTDATA(\"Summe von Energieeinsatz [MWh]\",I_Pivot!$G$3,\"ID\",C332,\"EM_Energieträger\",F332),\"\")","v":""},{"$f":"IFERROR(G332*VLOOKUP(F332,EM_Daten_u_Uebersicht!P:Q,2,FALSE),\"\")","v":""},{"$f":"IFERROR(GETPIVOTDATA(\"Summe von THG [t CO2eq]\",I_Pivot!$G$3,\"ID\",C332,\"EM_Energieträger\",F332),\"\")","v":""},"S1",null,null,null,null,null,null,null,null,null,null,null,null,null,null,null,null,null,null,null,"8. Öl und Erdgas und diffuse Emissionen aus der Energieerzeugung","Fernwärme","","",null,"","",""]
[330,37,{"$f":"VLOOKUP(B333,'I. Stationäre Energie'!C:E,3,FALSE)","v":"I.8. ."},null,{"$f":"VLOOKUP(B333,'I. Stationäre Energie'!C:G,5,FALSE)","v":"8. Öl und Erdgas und diffuse Emissionen aus der Energieerzeugung"},{"$f":"F324","v":"Brennbare Abfälle"},{"$f":"IFERROR(GETPIVOTDATA(\"Energie\",EM_Daten_u_Uebersicht!$W$5,\"Ziel-Subsektor\",C333,\"Energieträger\",F333),\"\")","v":""},{"$f":"IFERROR(GETPIVOTDATA(\"Summe von Energieeinsatz [MWh]\",I_Pivot!$G$3,\"ID\",C333,\"EM_Energieträger\",F333),\"\")","v":""},{"$f":"IFERROR(G333*VLOOKUP(F333,EM_Daten_u_Uebersicht!P:Q,2,FALSE),\"\")","v":""},{"$f":"IFERROR(GETPIVOTDATA(\"Summe von THG [t CO2eq]\",I_Pivot!$G$3,\"ID\",C333,\"EM_Energieträger\",F333),\"\")","v":""},"S1",null,null,null,null,null,null,null,null,null,null,null,null,null,null,null,null,null,null,null,"8. Öl und Erdgas und diffuse Emissionen aus der Energieerzeugung","Biogene Brenn- und Treibstoffe (Brennholz, biogene Brenn- und Treibstoffe)","","",null,"","",0]
[331,37,{"$f":"VLOOKUP(B334,'I. Stationäre Energie'!C:E,3,FALSE)","v":"I.8. ."},null,{"$f":"VLOOKUP(B334,'I. Stationäre Energie'!C:G,5,FALSE)","v":"8. Öl und Erdgas und diffuse Emissionen aus der Energieerzeugung"},"Umgebungswärme",{"$f":"IFERROR(GETPIVOTDATA(\"Energie\",EM_Daten_u_Uebersicht!$W$5,\"Ziel-Subsektor\",C334,\"Energieträger\",F334),\"\")","v":""},{"$f":"IFERROR(GETPIVOTDATA(\"Summe von Energieeinsatz [MWh]\",I_Pivot!$G$3,\"ID\",C334,\"EM_Energieträger\",F334),\"\")","v":""},{"$f":"IFERROR(G334*VLOOKUP(F334,EM_Daten_u_Uebersicht!P:Q,2,FALSE),\"\")","v":""},{"$f":"IFERROR(GETPIVOTDATA(\"Summe von THG [t CO2eq]\",I_Pivot!$G$3,\"ID\",C334,\"EM_Energieträger\",F334),\"\")","v":""},"S1",null,null,null,null,null,null,null,null,null,null,null,null,null,null,null,null,null,null,null,"8. Öl und Erdgas und diffuse Emissionen aus der Energieerzeugung","Brennbare Abfälle","","",null,"","",0]
[332,37,{"$f":"VLOOKUP(B335,'I. Stationäre Energie'!C:E,3,FALSE)","v":"I.8. ."},null,{"$f":"VLOOKUP(B335,'I. Stationäre Energie'!C:G,5,FALSE)","v":"8. Öl und Erdgas und diffuse Emissionen aus der Energieerzeugung"},"CO2-eq Direkteingabe",{"$f":"IFERROR(GETPIVOTDATA(\"Energie\",EM_Daten_u_Uebersicht!$W$5,\"Ziel-Subsektor\",C335,\"Energieträger\",F335),\"\")","v":""},{"$f":"IFERROR(GETPIVOTDATA(\"Summe von Energieeinsatz [MWh]\",I_Pivot!$G$3,\"ID\",C335,\"EM_Energieträger\",F335),\"\")","v":""},{"$f":"IFERROR(G335*VLOOKUP(F335,EM_Daten_u_Uebersicht!P:Q,2,FALSE),\"\")","v":""},{"$f":"IFERROR(GETPIVOTDATA(\"Summe von THG [t CO2eq]\",I_Pivot!$G$3,\"ID\",C335,\"EM_Energieträger\",F335),\"\")","v":""},"S1",null,null,null,null,null,null,null,null,null,null,null,null,null,null,null,null,null,null,null,"8. Öl und Erdgas und diffuse Emissionen aus der Energieerzeugung","Umgebungswärme","","",null,"","",0]
[333,38,{"$f":"VLOOKUP(B336,'I. Stationäre Energie'!C:E,3,FALSE)","v":{"$error":"#N/A"}},null,{"$f":"VLOOKUP(B336,'I. Stationäre Energie'!C:G,5,FALSE)","v":{"$error":"#N/A"}},"Kohle (Steinkohle, Braunkohle, Koks, Petrolkoks; Gichtgas, Kokereigas, Brenntorf)",{"$f":"IFERROR(GETPIVOTDATA(\"Energie\",EM_Daten_u_Uebersicht!$W$5,\"Ziel-Subsektor\",C336,\"Energieträger\",F336),\"\")","v":""},{"$f":"IFERROR(GETPIVOTDATA(\"Summe von Energieeinsatz [MWh]\",I_Pivot!$G$3,\"ID\",C336,\"EM_Energieträger\",F336),\"\")","v":""},{"$f":"IFERROR(G336*VLOOKUP(F336,EM_Daten_u_Uebersicht!P:Q,2,FALSE),\"\")","v":""},{"$f":"IFERROR(GETPIVOTDATA(\"Summe von THG [t CO2eq]\",I_Pivot!$G$3,\"ID\",C336,\"EM_Energieträger\",F336),\"\")","v":""},"S1",null,null,null,null,null,null,null,null,null,null,null,null,null,null,null,null,null,null,null,"8. Öl und Erdgas und diffuse Emissionen aus der Energieerzeugung","CO2-eq Direkteingabe","","",null,"","",0]
[334,38,{"$f":"VLOOKUP(B337,'I. Stationäre Energie'!C:E,3,FALSE)","v":{"$error":"#N/A"}},null,{"$f":"VLOOKUP(B337,'I. Stationäre Energie'!C:G,5,FALSE)","v":{"$error":"#N/A"}},"Öl (Heizöl, Gasöl für Heizzwecke, Diesel, Benzin, Petroleum, Flüssiggas)",{"$f":"IFERROR(GETPIVOTDATA(\"Energie\",EM_Daten_u_Uebersicht!$W$5,\"Ziel-Subsektor\",C337,\"Energieträger\",F337),\"\")","v":""},{"$f":"IFERROR(GETPIVOTDATA(\"Summe von Energieeinsatz [MWh]\",I_Pivot!$G$3,\"ID\",C337,\"EM_Energieträger\",F337),\"\")","v":""},{"$f":"IFERROR(G337*VLOOKUP(F337,EM_Daten_u_Uebersicht!P:Q,2,FALSE),\"\")","v":""},{"$f":"IFERROR(GETPIVOTDATA(\"Summe von THG [t CO2eq]\",I_Pivot!$G$3,\"ID\",C337,\"EM_Energieträger\",F337),\"\")","v":""},"S1",null,null,null,null,null,null,null,null,null,null,null,null,null,null,null,null,null,null,null,null,null,null,null,null,null,null,null,null,null,null,null,null,{"$f":"IFERROR(E336,\"\")","v":""}]
[335,38,{"$f":"VLOOKUP(B338,'I. Stationäre Energie'!C:E,3,FALSE)","v":{"$error":"#N/A"}},null,{"$f":"VLOOKUP(B338,'I. Stationäre Energie'!C:G,5,FALSE)","v":{"$error":"#N/A"}},"Erdgas",{"$f":"IFERROR(GETPIVOTDATA(\"Energie\",EM_Daten_u_Uebersicht!$W$5,\"Ziel-Subsektor\",C338,\"Energieträger\",F338),\"\")","v":""},{"$f":"IFERROR(GETPIVOTDATA(\"Summe von Energieeinsatz [MWh]\",I_Pivot!$G$3,\"ID\",C338,\"EM_Energieträger\",F338),\"\")","v":""},{"$f":"IFERROR(G338*VLOOKUP(F338,EM_Daten_u_Uebersicht!P:Q,2,FALSE),\"\")","v":""},{"$f":"IFERROR(GETPIVOTDATA(\"Summe von THG [t CO2eq]\",I_Pivot!$G$3,\"ID\",C338,\"EM_Energieträger\",F338),\"\")","v":""},"S1",null,null,null,null,null,null,null,null,null,null,null,null,null,null,null,null,null,null,null,null,null,null,null,null,null,null,null,null,null,null,null,null,""]
[336,38,{"$f":"VLOOKUP(B339,'I. Stationäre Energie'!C:E,3,FALSE)","v":{"$error":"#N/A"}},null,{"$f":"VLOOKUP(B339,'I. Stationäre Energie'!C:G,5,FALSE)","v":{"$error":"#N/A"}},"elektrische Energie",{"$f":"IFERROR(GETPIVOTDATA(\"Energie\",EM_Daten_u_Uebersicht!$W$5,\"Ziel-Subsektor\",C339,\"Energieträger\",F339),\"\")","v":""},{"$f":"IFERROR(GETPIVOTDATA(\"Summe von Energieeinsatz [MWh]\",I_Pivot!$G$3,\"ID\",C339,\"EM_Energieträger\",F339),\"\")","v":""},{"$f":"IFERROR(G339*VLOOKUP(F339,EM_Daten_u_Uebersicht!P:Q,2,FALSE),\"\")","v":""},{"$f":"IFERROR(GETPIVOTDATA(\"Summe von THG [t CO2eq]\",I_Pivot!$G$3,\"ID\",C339,\"EM_Energieträger\",F339),\"\")","v":""},"S2",{"$f":"J339/0.94-J339","v":{"$error":"#VALUE!"}},null,null,null,null,null,null,null,null,null,null,null,null,null,null,null,null,null,null,null,null,null,null,null,null,null,null,null,null,null,null,null,""]
[337,38,{"$f":"VLOOKUP(B340,'I. Stationäre Energie'!C:E,3,FALSE)","v":{"$error":"#N/A"}},null,{"$f":"VLOOKUP(B340,'I. Stationäre Energie'!C:G,5,FALSE)","v":{"$error":"#N/A"}},"Fernwärme",{"$f":"IFERROR(GETPIVOTDATA(\"Energie\",EM_Daten_u_Uebersicht!$W$5,\"Ziel-Subsektor\",C340,\"Energieträger\",F340),\"\")","v":""},{"$f":"IFERROR(GETPIVOTDATA(\"Summe von Energieeinsatz [MWh]\",I_Pivot!$G$3,\"ID\",C340,\"EM_Energieträger\",F340),\"\")","v":""},{"$f":"IFERROR(G340*VLOOKUP(F340,EM_Daten_u_Uebersicht!P:Q,2,FALSE),\"\")","v":""},{"$f":"IFERROR(GETPIVOTDATA(\"Summe von THG [t CO2eq]\",I_Pivot!$G$3,\"ID\",C340,\"EM_Energieträger\",F340),\"\")","v":""},"S2",{"$f":"J340/0.86-J340","v":{"$error":"#VALUE!"}},null,null,null,null,null,null,null,null,null,null,null,null,null,null,null,null,null,null,null,null,null,null,null,null,null,null,null,null,null,null,null,""]
[338,38,{"$f":"VLOOKUP(B341,'I. Stationäre Energie'!C:E,3,FALSE)","v":{"$error":"#N/A"}},null,{"$f":"VLOOKUP(B341,'I. Stationäre Energie'!C:G,5,FALSE)","v":{"$error":"#N/A"}},"Biogene Brenn- und Treibstoffe (Brennholz, biogene Brenn- und Treibstoffe)",{"$f":"IFERROR(GETPIVOTDATA(\"Energie\",EM_Daten_u_Uebersicht!$W$5,\"Ziel-Subsektor\",C341,\"Energieträger\",F341),\"\")","v":""},{"$f":"IFERROR(GETPIVOTDATA(\"Summe von Energieeinsatz [MWh]\",I_Pivot!$G$3,\"ID\",C341,\"EM_Energieträger\",F341),\"\")","v":""},{"$f":"IFERROR(G341*VLOOKUP(F341,EM_Daten_u_Uebersicht!P:Q,2,FALSE),\"\")","v":""},{"$f":"IFERROR(GETPIVOTDATA(\"Summe von THG [t CO2eq]\",I_Pivot!$G$3,\"ID\",C341,\"EM_Energieträger\",F341),\"\")","v":""},"S1",null,null,null,null,null,null,null,null,null,null,null,null,null,null,null,null,null,null,null,null,null,null,null,null,null,null,null,null,null,null,null,null,""]
[339,38,{"$f":"VLOOKUP(B342,'I. Stationäre Energie'!C:E,3,FALSE)","v":{"$error":"#N/A"}},null,{"$f":"VLOOKUP(B342,'I. Stationäre Energie'!C:G,5,FALSE)","v":{"$error":"#N/A"}},"Brennbare Abfälle",{"$f":"IFERROR(GETPIVOTDATA(\"Energie\",EM_Daten_u_Uebersicht!$W$5,\"Ziel-Subsektor\",C342,\"Energieträger\",F342),\"\")","v":""},{"$f":"IFERROR(GETPIVOTDATA(\"Summe von Energieeinsatz [MWh]\",I_Pivot!$G$3,\"ID\",C342,\"EM_Energieträger\",F342),\"\")","v":""},{"$f":"IFERROR(G342*VLOOKUP(F342,EM_Daten_u_Uebersicht!P:Q,2,FALSE),\"\")","v":""},{"$f":"IFERROR(GETPIVOTDATA(\"Summe von THG [t CO2eq]\",I_Pivot!$G$3,\"ID\",C342,\"EM_Energieträger\",F342),\"\")","v":""},"S1",null,null,null,null,null,null,null,null,null,null,null,null,null,null,null,null,null,null,null,null,null,null,null,null,null,null,null,null,null,null,null,null,""]
[340,38,{"$f":"VLOOKUP(B343,'I. Stationäre Energie'!C:E,3,FALSE)","v":{"$error":"#N/A"}},null,{"$f":"VLOOKUP(B343,'I. Stationäre Energie'!C:G,5,FALSE)","v":{"$error":"#N/A"}},"Umgebungswärme",{"$f":"IFERROR(GETPIVOTDATA(\"Energie\",EM_Daten_u_Uebersicht!$W$5,\"Ziel-Subsektor\",C343,\"Energieträger\",F343),\"\")","v":""},{"$f":"IFERROR(GETPIVOTDATA(\"Summe von Energieeinsatz [MWh]\",I_Pivot!$G$3,\"ID\",C343,\"EM_Energieträger\",F343),\"\")","v":""},{"$f":"IFERROR(G343*VLOOKUP(F343,EM_Daten_u_Uebersicht!P:Q,2,FALSE),\"\")","v":""},{"$f":"IFERROR(GETPIVOTDATA(\"Summe von THG [t CO2eq]\",I_Pivot!$G$3,\"ID\",C343,\"EM_Energieträger\",F343),\"\")","v":""},"S1",null,null,null,null,null,null,null,null,null,null,null,null,null,null,null,null,null,null,null,null,null,null,null,null,null,null,null,null,null,null,null,null,""]
[341,38,{"$f":"VLOOKUP(B344,'I. Stationäre Energie'!C:E,3,FALSE)","v":{"$error":"#N/A"}},null,{"$f":"VLOOKUP(B344,'I. Stationäre Energie'!C:G,5,FALSE)","v":{"$error":"#N/A"}},"CO2-eq Direkteingabe",{"$f":"IFERROR(GETPIVOTDATA(\"Energie\",EM_Daten_u_Uebersicht!$W$5,\"Ziel-Subsektor\",C344,\"Energieträger\",F344),\"\")","v":""},{"$f":"IFERROR(GETPIVOTDATA(\"Summe von Energieeinsatz [MWh]\",I_Pivot!$G$3,\"ID\",C344,\"EM_Energieträger\",F344),\"\")","v":""},{"$f":"IFERROR(G344*VLOOKUP(F344,EM_Daten_u_Uebersicht!P:Q,2,FALSE),\"\")","v":""},{"$f":"IFERROR(GETPIVOTDATA(\"Summe von THG [t CO2eq]\",I_Pivot!$G$3,\"ID\",C344,\"EM_Energieträger\",F344),\"\")","v":""},"S1",null,null,null,null,null,null,null,null,null,null,null,null,null,null,null,null,null,null,null,null,null,null,null,null,null,null,null,null,null,null,null,null,""]
[null,null,null,null,null,null,{"$f":"SUM(G3:G344)","v":0},{"$f":"SUM(H3:H344)","v":0},0,0,null,{"$f":"_xlfn.AGGREGATE(9,6,L3:L344)","v":0}]
[null,null,null,null,null,null,{"$f":"G345-SUM(N3:N11)","v":0},{"$f":"H345-SUM(O3:O11)","v":0},{"$f":"I345-SUM(P3:P11)","v":0},{"$f":"J345-SUM(Q3:Q11)","v":0}]

{"sheet":"II. Auswertung T","index":8,"n_rows":229,"n_cols":33,"rows_kept":229,"cut":false,"hidden":true,"merged":[]}
[null,null,null,null,null,null,null,null,null,null,null,"II. Transport"]
["lfd nr","Subsektornummer","ID","Subsektoren","Energieträger",{"$f":"\"MWh Energiemosaik\" & \" \" & EM_Daten_u_Uebersicht!A3","v":"MWh Energiemosaik 0"},"MWh Eingabe","Tonnen THG Energiemosaik","Tonnen THG Eingabe","Scope","Scope 3",null,"MWh Eingabe","Tonnen THG Eingabe",null,null,"Mobilität","Mobilität, exkl. Flughafen","Flughafen",null,null,null,null,null,null,"Detailauswertung nach Energieträger"]
[0,{"$f":"ROUNDDOWN(A3/9,0)+1","v":1},{"$f":"VLOOKUP(B3,'II. Transport'!C:E,3,FALSE)","v":"II.1. ."},{"$f":"VLOOKUP(B3,'II. Transport'!C:G,5,FALSE)","v":"1. Straßenverkehr"},{"$f":"EM_Daten_u_Uebersicht!P2","v":"Kohle (Steinkohle, Braunkohle, Koks, Petrolkoks; Gichtgas, Kokereigas, Brenntorf)"},{"$f":"IFERROR(GETPIVOTDATA(\"Energie\",EM_Daten_u_Uebersicht!$W$5,\"Ziel-Subsektor\",C3,\"Energieträger\",E3),\"\")","v":""},{"$f":"IFERROR(GETPIVOTDATA(\"Summe von Energieeinsatz [MWh]\",II_Pivot!$G$3,\"ID\",C3,\"EM_Energieträger\",E3),\"\")","v":""},{"$f":"IFERROR(F3*VLOOKUP(E3,EM_Daten_u_Uebersicht!P:Q,2,FALSE),\"\")","v":""},{"$f":"IFERROR(GETPIVOTDATA(\"Summe von THG [t CO2eq]\",II_Pivot!$G$3,\"ID\",C3,\"EM_Energieträger\",E3),\"\")","v":""},"S1",null,{"$f":"D3","v":"1. Straßenverkehr"},{"$f":"SUM(G3:G38)-SUM(G11,G20,G29,G38)","v":0},{"$f":"SUM(I3:I38)+_xlfn.AGGREGATE(9,6,$K$3:$K$38)","v":0},null,"Scope 1",{"$f":"SUMIF($J$3:$J$146,\"S1\",$I$3:$I$146)","v":0},{"$f":"SUMIF($J$3:$J$146,\"S1\",$I$3:$I$146)-N7","v":0},{"$f":"N7","v":0},null,null,null,null,null,null,{"$f":"IFERROR(D2,\"\")","v":"Subsektoren"},{"$f":"IFERROR(E2,\"\")","v":"Energieträger"},{"$f":"IFERROR(G2,\"\")","v":"MWh Eingabe"},{"$f":"IFERROR(I2,\"\")","v":"Tonnen THG Eingabe"},"davon","Scope 1","Scope 2",{"$f":"IFERROR(K2,\"\")","v":"Scope 3"}]
[1,{"$f":"ROUNDDOWN(A4/9,0)+1","v":1},{"$f":"VLOOKUP(B4,'II. Transport'!C:E,3,FALSE)","v":"II.1. ."},{"$f":"VLOOKUP(B4,'II. Transport'!C:G,5,FALSE)","v":"1. Straßenverkehr"},{"$f":"EM_Daten_u_Uebersicht!P3","v":"Öl (Heizöl, Gasöl für Heizzwecke, Diesel, Benzin, Petroleum, Flüssiggas)"},{"$f":"IFERROR(GETPIVOTDATA(\"Energie\",EM_Daten_u_Uebersicht!$W$5,\"Ziel-Subsektor\",C4,\"Energieträger\",E4),\"\")","v":""},{"$f":"IFERROR(GETPIVOTDATA(\"Summe von Energieeinsatz [MWh]\",II_Pivot!$G$3,\"ID\",C4,\"EM_Energieträger\",E4),\"\")","v":""},{"$f":"IFERROR(F4*VLOOKUP(E4,EM_Daten_u_Uebersicht!P:Q,2,FALSE),\"\")","v":""},{"$f":"IFERROR(GETPIVOTDATA(\"Summe von THG [t CO2eq]\",II_Pivot!$G$3,\"ID\",C4,\"EM_Energieträger\",E4),\"\")","v":""},"S1",null,{"$f":"D39","v":"2. Schienenverkehr"},{"$f":"SUM(G39:G65)-SUM(G47,G56,G65)","v":0},{"$f":"SUM(I39:I65)+_xlfn.AGGREGATE(9,6,$K$39:$K$65)","v":0},null,"Scope 2",{"$f":"SUMIF($J$3:$J$146,\"S2\",$I$3:$I$146)","v":0},{"$f":"SUMIF($J$3:$J$146,\"S2\",$I$3:$I$146)","v":0},null,null,null,null,null,null,null,{"$f":"IFERROR(D3,\"\")","v":"1. Straßenverkehr"},{"$f":"IFERROR(E3,\"\")","v":"Kohle (Steinkohle, Braunkohle, Koks, Petrolkoks; Gichtgas, Kokereigas, Brenntorf)"},{"$f":"IFERROR(G3,\"\")","v":""},{"$f":"IFERROR(I3,\"\")","v":""},null,{"$f":"IF(J3=\"S1\",I3,\"\")","v":""},{"$f":"IF(J3=\"S2\",I3,\"\")","v":""},0]
[2,1,{"$f":"VLOOKUP(B5,'II. Transport'!C:E,3,FALSE)","v":"II.1. ."},{"$f":"VLOOKUP(B5,'II. Transport'!C:G,5,FALSE)","v":"1. Straßenverkehr"},{"$f":"EM_Daten_u_Uebersicht!P4","v":"Erdgas"},{"$f":"IFERROR(GETPIVOTDATA(\"Energie\",EM_Daten_u_Uebersicht!$W$5,\"Ziel-Subsektor\",C5,\"Energieträger\",E5),\"\")","v":""},{"$f":"IFERROR(GETPIVOTDATA(\"Summe von Energieeinsatz [MWh]\",II_Pivot!$G$3,\"ID\",C5,\"EM_Energieträger\",E5),\"\")","v":""},{"$f":"IFERROR(F5*VLOOKUP(E5,EM_Daten_u_Uebersicht!P:Q,2,FALSE),\"\")","v":""},{"$f":"IFERROR(GETPIVOTDATA(\"Summe von THG [t CO2eq]\",II_Pivot!$G$3,\"ID\",C5,\"EM_Energieträger\",E5),\"\")","v":""},"S1",null,{"$f":"D66","v":"3. Schiffsverkehr"},{"$f":"SUM(G66:G101)-SUM(G101,G92,G83)","v":0},{"$f":"SUM(I66:I101)+_xlfn.AGGREGATE(9,6,$K$66:$K$101)","v":0},null,"Scope 3",{"$f":"K147","v":0},{"$f":"K147","v":0},null,null,null,null,null,null,null,"1. Straßenverkehr","Öl (Heizöl, Gasöl für Heizzwecke, Diesel, Benzin, Petroleum, Flüssiggas)","",{"$f":"IFERROR(I4,\"\")","v":""},null,"","",0]
[3,1,{"$f":"VLOOKUP(B6,'II. Transport'!C:E,3,FALSE)","v":"II.1. ."},{"$f":"VLOOKUP(B6,'II. Transport'!C:G,5,FALSE)","v":"1. Straßenverkehr"},{"$f":"EM_Daten_u_Uebersicht!P5","v":"elektrische Energie"},{"$f":"IFERROR(GETPIVOTDATA(\"Energie\",EM_Daten_u_Uebersicht!$W$5,\"Ziel-Subsektor\",C6,\"Energieträger\",E6),\"\")","v":""},{"$f":"IFERROR(GETPIVOTDATA(\"Summe von Energieeinsatz [MWh]\",II_Pivot!$G$3,\"ID\",C6,\"EM_Energieträger\",E6),\"\")","v":""},{"$f":"IFERROR(F6*VLOOKUP(E6,EM_Daten_u_Uebersicht!P:Q,2,FALSE),\"\")","v":""},{"$f":"IFERROR(GETPIVOTDATA(\"Summe von THG [t CO2eq]\",II_Pivot!$G$3,\"ID\",C6,\"EM_Energieträger\",E6),\"\")","v":""},"S2",{"$f":"I6/0.94-I6","v":{"$error":"#VALUE!"}},{"$f":"D102","v":"4. Flug"},{"$f":"SUM(G102:G137)-SUM(G137,G128,G119,G110)-M7","v":0},{"$f":"SUM(I102:I137)-N7+_xlfn.AGGREGATE(9,6,$K$102:$K$137)","v":0},null,null,null,null,null,null,null,null,null,null,null,"1. Straßenverkehr","Erdgas","","",null,"","",0]
[4,1,{"$f":"VLOOKUP(B7,'II. Transport'!C:E,3,FALSE)","v":"II.1. ."},{"$f":"VLOOKUP(B7,'II. Transport'!C:G,5,FALSE)","v":"1. Straßenverkehr"},{"$f":"EM_Daten_u_Uebersicht!P6","v":"Fernwärme"},{"$f":"IFERROR(GETPIVOTDATA(\"Energie\",EM_Daten_u_Uebersicht!$W$5,\"Ziel-Subsektor\",C7,\"Energieträger\",E7),\"\")","v":""},{"$f":"IFERROR(GETPIVOTDATA(\"Summe von Energieeinsatz [MWh]\",II_Pivot!$G$3,\"ID\",C7,\"EM_Energieträger\",E7),\"\")","v":""},{"$f":"IFERROR(F7*VLOOKUP(E7,EM_Daten_u_Uebersicht!P:Q,2,FALSE),\"\")","v":""},{"$f":"IFERROR(GETPIVOTDATA(\"Summe von THG [t CO2eq]\",II_Pivot!$G$3,\"ID\",C7,\"EM_Energieträger\",E7),\"\")","v":""},"S2",{"$f":"I7/0.86-I7","v":{"$error":"#VALUE!"}},"4a. Flughafen",{"$f":"SUM(G120:G128)","v":0},{"$f":"SUM(I120:I128)","v":0},null,null,null,null,null,null,null,null,null,null,null,"1. Straßenverkehr","elektrische Energie","","",null,"","",""]
[5,1,{"$f":"VLOOKUP(B8,'II. Transport'!C:E,3,FALSE)","v":"II.1. ."},{"$f":"VLOOKUP(B8,'II. Transport'!C:G,5,FALSE)","v":"1. Straßenverkehr"},{"$f":"EM_Daten_u_Uebersicht!P7","v":"Biogene Brenn- und Treibstoffe (Brennholz, biogene Brenn- und Treibstoffe)"},{"$f":"IFERROR(GETPIVOTDATA(\"Energie\",EM_Daten_u_Uebersicht!$W$5,\"Ziel-Subsektor\",C8,\"Energieträger\",E8),\"\")","v":""},{"$f":"IFERROR(GETPIVOTDATA(\"Summe von Energieeinsatz [MWh]\",II_Pivot!$G$3,\"ID\",C8,\"EM_Energieträger\",E8),\"\")","v":""},{"$f":"IFERROR(F8*VLOOKUP(E8,EM_Daten_u_Uebersicht!P:Q,2,FALSE),\"\")","v":""},{"$f":"IFERROR(GETPIVOTDATA(\"Summe von THG [t CO2eq]\",II_Pivot!$G$3,\"ID\",C8,\"EM_Energieträger\",E8),\"\")","v":""},"S1",null,{"$f":"D138","v":"5. off-road Transport"},{"$f":"SUM(G138:G145)","v":0},{"$f":"SUM(I138:I146)+_xlfn.AGGREGATE(9,6,$K$138:$K$146)","v":0},null,null,null,null,null,null,null,null,null,null,null,"1. Straßenverkehr","Fernwärme","","",null,"","",""]
[6,1,{"$f":"VLOOKUP(B9,'II. Transport'!C:E,3,FALSE)","v":"II.1. ."},{"$f":"VLOOKUP(B9,'II. Transport'!C:G,5,FALSE)","v":"1. Straßenverkehr"},{"$f":"EM_Daten_u_Uebersicht!P8","v":"Brennbare Abfälle"},{"$f":"IFERROR(GETPIVOTDATA(\"Energie\",EM_Daten_u_Uebersicht!$W$5,\"Ziel-Subsektor\",C9,\"Energieträger\",E9),\"\")","v":""},{"$f":"IFERROR(GETPIVOTDATA(\"Summe von Energieeinsatz [MWh]\",II_Pivot!$G$3,\"ID\",C9,\"EM_Energieträger\",E9),\"\")","v":""},{"$f":"IFERROR(F9*VLOOKUP(E9,EM_Daten_u_Uebersicht!P:Q,2,FALSE),\"\")","v":""},{"$f":"IFERROR(GETPIVOTDATA(\"Summe von THG [t CO2eq]\",II_Pivot!$G$3,\"ID\",C9,\"EM_Energieträger\",E9),\"\")","v":""},"S1",null,null,null,{"$f":"SUM(N3:N8)-SUM(Q3:Q5)","v":0},null,null,{"$f":"L3","v":"1. Straßenverkehr"},{"$f":"L4","v":"2. Schienenverkehr"},{"$f":"L5","v":"3. Schiffsverkehr"},{"$f":"L6","v":"4. Flug"},{"$f":"L8","v":"5. off-road Transport"},null,null,null,null,"1. Straßenverkehr","Biogene Brenn- und Treibstoffe (Brennholz, biogene Brenn- und Treibstoffe)","","",null,"","",0]
[7,1,{"$f":"VLOOKUP(B10,'II. Transport'!C:E,3,FALSE)","v":"II.1. ."},{"$f":"VLOOKUP(B10,'II. Transport'!C:G,5,FALSE)","v":"1. Straßenverkehr"},{"$f":"EM_Daten_u_Uebersicht!P9","v":"Umgebungswärme"},{"$f":"IFERROR(GETPIVOTDATA(\"Energie\",EM_Daten_u_Uebersicht!$W$5,\"Ziel-Subsektor\",C10,\"Energieträger\",E10),\"\")","v":""},{"$f":"IFERROR(GETPIVOTDATA(\"Summe von Energieeinsatz [MWh]\",II_Pivot!$G$3,\"ID\",C10,\"EM_Energieträger\",E10),\"\")","v":""},{"$f":"IFERROR(F10*VLOOKUP(E10,EM_Daten_u_Uebersicht!P:Q,2,FALSE),\"\")","v":""},{"$f":"IFERROR(GETPIVOTDATA(\"Summe von THG [t CO2eq]\",II_Pivot!$G$3,\"ID\",C10,\"EM_Energieträger\",E10),\"\")","v":""},"S1",null,null,null,{"$f":"SUM(N3:N8)","v":0},null,"Scope 1",{"$f":"SUMIF($J$3:$J$38,\"S1\",$I$3:$I$38)","v":0},{"$f":"SUMIF($J$39:$J$65,\"S1\",$I$39:$I$65)","v":0},{"$f":"SUMIF($J$66:$J$101,\"S1\",$I$66:$I$101)","v":0},{"$f":"SUMIF($J$102:$J$137,\"S1\",$I$102:$I$137)","v":0},{"$f":"SUMIF($J$138:$J$146,\"S1\",$I$138:$I$146)","v":0},null,null,null,null,"1. Straßenverkehr","Brennbare Abfälle","","",null,"","",0]
[8,1,{"$f":"VLOOKUP(B11,'II. Transport'!C:E,3,FALSE)","v":"II.1. ."},{"$f":"VLOOKUP(B11,'II. Transport'!C:G,5,FALSE)","v":"1. Straßenverkehr"},{"$f":"EM_Daten_u_Uebersicht!P10","v":"CO2-eq Direkteingabe"},{"$f":"IFERROR(GETPIVOTDATA(\"Energie\",EM_Daten_u_Uebersicht!$W$5,\"Ziel-Subsektor\",C11,\"Energieträger\",E11),\"\")","v":""},{"$f":"IFERROR(GETPIVOTDATA(\"Summe von Energieeinsatz [MWh]\",II_Pivot!$G$3,\"ID\",C11,\"EM_Energieträger\",E11),\"\")","v":""},{"$f":"IFERROR(F11*VLOOKUP(E11,EM_Daten_u_Uebersicht!P:Q,2,FALSE),\"\")","v":""},{"$f":"IFERROR(GETPIVOTDATA(\"Summe von THG [t CO2eq]\",II_Pivot!$G$3,\"ID\",C11,\"EM_Energieträger\",E11),\"\")","v":""},"S1",null,null,null,null,null,"Scope 2",{"$f":"SUMIF($J$3:$J$38,\"S2\",$I$3:$I$38)","v":0},{"$f":"SUMIF($J$39:$J$65,\"S2\",$I$39:$I$65)","v":0},{"$f":"SUMIF($J$66:$J$101,\"S2\",$I$66:$I$101)","v":0},{"$f":"SUMIF($J$102:$J$137,\"S2\",$I$102:$I$137)","v":0},{"$f":"SUMIF($J$138:$J$146,\"S2\",$I$138:$I$146)","v":0},null,null,null,null,"1. Straßenverkehr","Umgebungswärme","","",null,"","",0]
[9,2,{"$f":"VLOOKUP(B12,'II. Transport'!C:E,3,FALSE)","v":"II.1.i."},{"$f":"VLOOKUP(B12,'II. Transport'!C:G,5,FALSE)","v":"i. Städtischer Fuhrpark"},{"$f":"E3","v":"Kohle (Steinkohle, Braunkohle, Koks, Petrolkoks; Gichtgas, Kokereigas, Brenntorf)"},{"$f":"IFERROR(GETPIVOTDATA(\"Energie\",EM_Daten_u_Uebersicht!$W$5,\"Ziel-Subsektor\",C12,\"Energieträger\",E12),\"\")","v":""},{"$f":"IFERROR(GETPIVOTDATA(\"Summe von Energieeinsatz [MWh]\",II_Pivot!$G$3,\"ID\",C12,\"EM_Energieträger\",E12),\"\")","v":""},{"$f":"IFERROR(F12*VLOOKUP(E12,EM_Daten_u_Uebersicht!P:Q,2,FALSE),\"\")","v":""},{"$f":"IFERROR(GETPIVOTDATA(\"Summe von THG [t CO2eq]\",II_Pivot!$G$3,\"ID\",C12,\"EM_Energieträger\",E12),\"\")","v":""},"S1",null,null,null,null,null,"Scope 3",{"$f":"_xlfn.AGGREGATE(9,6,$K$3:$K$38)","v":0},{"$f":"_xlfn.AGGREGATE(9,6,$K$39:$K$65)","v":0},{"$f":"_xlfn.AGGREGATE(9,6,$K$66:$K$101)","v":0},{"$f":"_xlfn.AGGREGATE(9,6,$K$102:$K$137)","v":0},{"$f":"_xlfn.AGGREGATE(9,6,$K$138:$K$146)","v":0},null,null,null,null,"1. Straßenverkehr","CO2-eq Direkteingabe","","",null,"","",0]
[10,2,{"$f":"VLOOKUP(B13,'II. Transport'!C:E,3,FALSE)","v":"II.1.i."},{"$f":"VLOOKUP(B13,'II. Transport'!C:G,5,FALSE)","v":"i. Städtischer Fuhrpark"},{"$f":"E4","v":"Öl (Heizöl, Gasöl für Heizzwecke, Diesel, Benzin, Petroleum, Flüssiggas)"},{"$f":"IFERROR(GETPIVOTDATA(\"Energie\",EM_Daten_u_Uebersicht!$W$5,\"Ziel-Subsektor\",C13,\"Energieträger\",E13),\"\")","v":""},{"$f":"IFERROR(GETPIVOTDATA(\"Summe von Energieeinsatz [MWh]\",II_Pivot!$G$3,\"ID\",C13,\"EM_Energieträger\",E13),\"\")","v":""},{"$f":"IFERROR(F13*VLOOKUP(E13,EM_Daten_u_Uebersicht!P:Q,2,FALSE),\"\")","v":""},{"$f":"IFERROR(GETPIVOTDATA(\"Summe von THG [t CO2eq]\",II_Pivot!$G$3,\"ID\",C13,\"EM_Energieträger\",E13),\"\")","v":""},"S1",null,null,null,null,null,null,null,null,null,null,null,null,null,null,null,"i. Städtischer Fuhrpark","Kohle (Steinkohle, Braunkohle, Koks, Petrolkoks; Gichtgas, Kokereigas, Brenntorf)","","",null,"","",0]
[11,2,{"$f":"VLOOKUP(B14,'II. Transport'!C:E,3,FALSE)","v":"II.1.i."},{"$f":"VLOOKUP(B14,'II. Transport'!C:G,5,FALSE)","v":"i. Städtischer Fuhrpark"},"Erdgas",{"$f":"IFERROR(GETPIVOTDATA(\"Energie\",EM_Daten_u_Uebersicht!$W$5,\"Ziel-Subsektor\",C14,\"Energieträger\",E14),\"\")","v":""},{"$f":"IFERROR(GETPIVOTDATA(\"Summe von Energieeinsatz [MWh]\",II_Pivot!$G$3,\"ID\",C14,\"EM_Energieträger\",E14),\"\")","v":""},{"$f":"IFERROR(F14*VLOOKUP(E14,EM_Daten_u_Uebersicht!P:Q,2,FALSE),\"\")","v":""},{"$f":"IFERROR(GETPIVOTDATA(\"Summe von THG [t CO2eq]\",II_Pivot!$G$3,\"ID\",C14,\"EM_Energieträger\",E14),\"\")","v":""},"S1",null,null,null,null,null,null,null,null,null,null,null,null,null,null,null,"i. Städtischer Fuhrpark","Öl (Heizöl, Gasöl für Heizzwecke, Diesel, Benzin, Petroleum, Flüssiggas)","","",null,"","",0]
[12,2,{"$f":"VLOOKUP(B15,'II. Transport'!C:E,3,FALSE)","v":"II.1.i."},{"$f":"VLOOKUP(B15,'II. Transport'!C:G,5,FALSE)","v":"i. Städtischer Fuhrpark"},"elektrische Energie",{"$f":"IFERROR(GETPIVOTDATA(\"Energie\",EM_Daten_u_Uebersicht!$W$5,\"Ziel-Subsektor\",C15,\"Energieträger\",E15),\"\")","v":""},{"$f":"IFERROR(GETPIVOTDATA(\"Summe von Energieeinsatz [MWh]\",II_Pivot!$G$3,\"ID\",C15,\"EM_Energieträger\",E15),\"\")","v":""},{"$f":"IFERROR(F15*VLOOKUP(E15,EM_Daten_u_Uebersicht!P:Q,2,FALSE),\"\")","v":""},{"$f":"IFERROR(GETPIVOTDATA(\"Summe von THG [t CO2eq]\",II_Pivot!$G$3,\"ID\",C15,\"EM_Energieträger\",E15),\"\")","v":""},"S2",{"$f":"I15/0.94-I15","v":{"$error":"#VALUE!"}},null,null,null,null,null,null,null,null,null,null,null,null,null,null,"i. Städtischer Fuhrpark","Erdgas","","",null,"","",0]
[13,2,{"$f":"VLOOKUP(B16,'II. Transport'!C:E,3,FALSE)","v":"II.1.i."},{"$f":"VLOOKUP(B16,'II. Transport'!C:G,5,FALSE)","v":"i. Städtischer Fuhrpark"},"Fernwärme",{"$f":"IFERROR(GETPIVOTDATA(\"Energie\",EM_Daten_u_Uebersicht!$W$5,\"Ziel-Subsektor\",C16,\"Energieträger\",E16),\"\")","v":""},{"$f":"IFERROR(GETPIVOTDATA(\"Summe von Energieeinsatz [MWh]\",II_Pivot!$G$3,\"ID\",C16,\"EM_Energieträger\",E16),\"\")","v":""},{"$f":"IFERROR(F16*VLOOKUP(E16,EM_Daten_u_Uebersicht!P:Q,2,FALSE),\"\")","v":""},{"$f":"IFERROR(GETPIVOTDATA(\"Summe von THG [t CO2eq]\",II_Pivot!$G$3,\"ID\",C16,\"EM_Energieträger\",E16),\"\")","v":""},"S2",{"$f":"I16/0.86-I16","v":{"$error":"#VALUE!"}},null,null,null,null,null,null,null,null,null,null,null,null,null,null,"i. Städtischer Fuhrpark","elektrische Energie","","",null,"","",""]
[14,2,{"$f":"VLOOKUP(B17,'II. Transport'!C:E,3,FALSE)","v":"II.1.i."},{"$f":"VLOOKUP(B17,'II. Transport'!C:G,5,FALSE)","v":"i. Städtischer Fuhrpark"},"Biogene Brenn- und Treibstoffe (Brennholz, biogene Brenn- und Treibstoffe)",{"$f":"IFERROR(GETPIVOTDATA(\"Energie\",EM_Daten_u_Uebersicht!$W$5,\"Ziel-Subsektor\",C17,\"Energieträger\",E17),\"\")","v":""},{"$f":"IFERROR(GETPIVOTDATA(\"Summe von Energieeinsatz [MWh]\",II_Pivot!$G$3,\"ID\",C17,\"EM_Energieträger\",E17),\"\")","v":""},{"$f":"IFERROR(F17*VLOOKUP(E17,EM_Daten_u_Uebersicht!P:Q,2,FALSE),\"\")","v":""},{"$f":"IFERROR(GETPIVOTDATA(\"Summe von THG [t CO2eq]\",II_Pivot!$G$3,\"ID\",C17,\"EM_Energieträger\",E17),\"\")","v":""},"S1",null,null,null,null,null,null,null,null,null,null,null,null,null,null,null,"i. Städtischer Fuhrpark","Fernwärme","","",null,"","",""]
[15,2,{"$f":"VLOOKUP(B18,'II. Transport'!C:E,3,FALSE)","v":"II.1.i."},{"$f":"VLOOKUP(B18,'II. Transport'!C:G,5,FALSE)","v":"i. Städtischer Fuhrpark"},"Brennbare Abfälle",{"$f":"IFERROR(GETPIVOTDATA(\"Energie\",EM_Daten_u_Uebersicht!$W$5,\"Ziel-Subsektor\",C18,\"Energieträger\",E18),\"\")","v":""},{"$f":"IFERROR(GETPIVOTDATA(\"Summe von Energieeinsatz [MWh]\",II_Pivot!$G$3,\"ID\",C18,\"EM_Energieträger\",E18),\"\")","v":""},{"$f":"IFERROR(F18*VLOOKUP(E18,EM_Daten_u_Uebersicht!P:Q,2,FALSE),\"\")","v":""},{"$f":"IFERROR(GETPIVOTDATA(\"Summe von THG [t CO2eq]\",II_Pivot!$G$3,\"ID\",C18,\"EM_Energieträger\",E18),\"\")","v":""},"S1",null,null,null,null,null,null,null,null,null,null,null,null,null,null,null,"i. Städtischer Fuhrpark","Biogene Brenn- und Treibstoffe (Brennholz, biogene Brenn- und Treibstoffe)","","",null,"","",0]
[16,2,{"$f":"VLOOKUP(B19,'II. Transport'!C:E,3,FALSE)","v":"II.1.i."},{"$f":"VLOOKUP(B19,'II. Transport'!C:G,5,FALSE)","v":"i. Städtischer Fuhrpark"},"Umgebungswärme",{"$f":"IFERROR(GETPIVOTDATA(\"Energie\",EM_Daten_u_Uebersicht!$W$5,\"Ziel-Subsektor\",C19,\"Energieträger\",E19),\"\")","v":""},{"$f":"IFERROR(GETPIVOTDATA(\"Summe von Energieeinsatz [MWh]\",II_Pivot!$G$3,\"ID\",C19,\"EM_Energieträger\",E19),\"\")","v":""},{"$f":"IFERROR(F19*VLOOKUP(E19,EM_Daten_u_Uebersicht!P:Q,2,FALSE),\"\")","v":""},{"$f":"IFERROR(GETPIVOTDATA(\"Summe von THG [t CO2eq]\",II_Pivot!$G$3,\"ID\",C19,\"EM_Energieträger\",E19),\"\")","v":""},"S1",null,null,null,null,null,null,null,null,null,null,null,null,null,null,null,"i. Städtischer Fuhrpark","Brennbare Abfälle","","",null,"","",0]
[17,2,{"$f":"VLOOKUP(B20,'II. Transport'!C:E,3,FALSE)","v":"II.1.i."},{"$f":"VLOOKUP(B20,'II. Transport'!C:G,5,FALSE)","v":"i. Städtischer Fuhrpark"},"CO2-eq Direkteingabe",{"$f":"IFERROR(GETPIVOTDATA(\"Energie\",EM_Daten_u_Uebersicht!$W$5,\"Ziel-Subsektor\",C20,\"Energieträger\",E20),\"\")","v":""},{"$f":"IFERROR(GETPIVOTDATA(\"Summe von Energieeinsatz [MWh]\",II_Pivot!$G$3,\"ID\",C20,\"EM_Energieträger\",E20),\"\")","v":""},{"$f":"IFERROR(F20*VLOOKUP(E20,EM_Daten_u_Uebersicht!P:Q,2,FALSE),\"\")","v":""},{"$f":"IFERROR(GETPIVOTDATA(\"Summe von THG [t CO2eq]\",II_Pivot!$G$3,\"ID\",C20,\"EM_Energieträger\",E20),\"\")","v":""},"S1",null,null,null,null,null,null,null,null,null,null,null,null,null,null,null,"i. Städtischer Fuhrpark","Umgebungswärme","","",null,"","",0]
[18,3,{"$f":"VLOOKUP(B21,'II. Transport'!C:E,3,FALSE)","v":"II.1.ii."},{"$f":"VLOOKUP(B21,'II. Transport'!C:G,5,FALSE)","v":"ii. ÖPNV"},"Kohle (Steinkohle, Braunkohle, Koks, Petrolkoks; Gichtgas, Kokereigas, Brenntorf)",{"$f":"IFERROR(GETPIVOTDATA(\"Energie\",EM_Daten_u_Uebersicht!$W$5,\"Ziel-Subsektor\",C21,\"Energieträger\",E21),\"\")","v":""},{"$f":"IFERROR(GETPIVOTDATA(\"Summe von Energieeinsatz [MWh]\",II_Pivot!$G$3,\"ID\",C21,\"EM_Energieträger\",E21),\"\")","v":""},{"$f":"IFERROR(F21*VLOOKUP(E21,EM_Daten_u_Uebersicht!P:Q,2,FALSE),\"\")","v":""},{"$f":"IFERROR(GETPIVOTDATA(\"Summe von THG [t CO2eq]\",II_Pivot!$G$3,\"ID\",C21,\"EM_Energieträger\",E21),\"\")","v":""},"S1",null,null,null,null,null,null,null,null,null,null,null,null,null,null,null,"i. Städtischer Fuhrpark","CO2-eq Direkteingabe","","",null,"","",0]
[19,3,{"$f":"VLOOKUP(B22,'II. Transport'!C:E,3,FALSE)","v":"II.1.ii."},{"$f":"VLOOKUP(B22,'II. Transport'!C:G,5,FALSE)","v":"ii. ÖPNV"},"Öl (Heizöl, Gasöl für Heizzwecke, Diesel, Benzin, Petroleum, Flüssiggas)",{"$f":"IFERROR(GETPIVOTDATA(\"Energie\",EM_Daten_u_Uebersicht!$W$5,\"Ziel-Subsektor\",C22,\"Energieträger\",E22),\"\")","v":""},{"$f":"IFERROR(GETPIVOTDATA(\"Summe von Energieeinsatz [MWh]\",II_Pivot!$G$3,\"ID\",C22,\"EM_Energieträger\",E22),\"\")","v":""},{"$f":"IFERROR(F22*VLOOKUP(E22,EM_Daten_u_Uebersicht!P:Q,2,FALSE),\"\")","v":""},{"$f":"IFERROR(GETPIVOTDATA(\"Summe von THG [t CO2eq]\",II_Pivot!$G$3,\"ID\",C22,\"EM_Energieträger\",E22),\"\")","v":""},"S1",null,null,null,null,null,null,null,null,null,null,null,null,null,null,null,"ii. ÖPNV","Kohle (Steinkohle, Braunkohle, Koks, Petrolkoks; Gichtgas, Kokereigas, Brenntorf)","","",null,"","",0]
[20,3,{"$f":"VLOOKUP(B23,'II. Transport'!C:E,3,FALSE)","v":"II.1.ii."},{"$f":"VLOOKUP(B23,'II. Transport'!C:G,5,FALSE)","v":"ii. ÖPNV"},"Erdgas",{"$f":"IFERROR(GETPIVOTDATA(\"Energie\",EM_Daten_u_Uebersicht!$W$5,\"Ziel-Subsektor\",C23,\"Energieträger\",E23),\"\")","v":""},{"$f":"IFERROR(GETPIVOTDATA(\"Summe von Energieeinsatz [MWh]\",II_Pivot!$G$3,\"ID\",C23,\"EM_Energieträger\",E23),\"\")","v":""},{"$f":"IFERROR(F23*VLOOKUP(E23,EM_Daten_u_Uebersicht!P:Q,2,FALSE),\"\")","v":""},{"$f":"IFERROR(GETPIVOTDATA(\"Summe von THG [t CO2eq]\",II_Pivot!$G$3,\"ID\",C23,\"EM_Energieträger\",E23),\"\")","v":""},"S1",null,null,null,null,null,null,null,null,null,null,null,null,null,null,null,"ii. ÖPNV","Öl (Heizöl, Gasöl für Heizzwecke, Diesel, Benzin, Petroleum, Flüssiggas)","","",null,"","",0]
[21,3,{"$f":"VLOOKUP(B24,'II. Transport'!C:E,3,FALSE)","v":"II.1.ii."},{"$f":"VLOOKUP(B24,'II. Transport'!C:G,5,FALSE)","v":"ii. ÖPNV"},"elektrische Energie",{"$f":"IFERROR(GETPIVOTDATA(\"Energie\",EM_Daten_u_Uebersicht!$W$5,\"Ziel-Subsektor\",C24,\"Energieträger\",E24),\"\")","v":""},{"$f":"IFERROR(GETPIVOTDATA(\"Summe von Energieeinsatz [MWh]\",II_Pivot!$G$3,\"ID\",C24,\"EM_Energieträger\",E24),\"\")","v":""},{"$f":"IFERROR(F24*VLOOKUP(E24,EM_Daten_u_Uebersicht!P:Q,2,FALSE),\"\")","v":""},{"$f":"IFERROR(GETPIVOTDATA(\"Summe von THG [t CO2eq]\",II_Pivot!$G$3,\"ID\",C24,\"EM_Energieträger\",E24),\"\")","v":""},"S2",{"$f":"I24/0.94-I24","v":{"$error":"#VALUE!"}},null,null,null,null,null,null,null,null,null,null,null,null,null,null,"ii. ÖPNV","Erdgas","","",null,"","",0]
[22,3,{"$f":"VLOOKUP(B25,'II. Transport'!C:E,3,FALSE)","v":"II.1.ii."},{"$f":"VLOOKUP(B25,'II. Transport'!C:G,5,FALSE)","v":"ii. ÖPNV"},"Fernwärme",{"$f":"IFERROR(GETPIVOTDATA(\"Energie\",EM_Daten_u_Uebersicht!$W$5,\"Ziel-Subsektor\",C25,\"Energieträger\",E25),\"\")","v":""},{"$f":"IFERROR(GETPIVOTDATA(\"Summe von Energieeinsatz [MWh]\",II_Pivot!$G$3,\"ID\",C25,\"EM_Energieträger\",E25),\"\")","v":""},{"$f":"IFERROR(F25*VLOOKUP(E25,EM_Daten_u_Uebersicht!P:Q,2,FALSE),\"\")","v":""},{"$f":"IFERROR(GETPIVOTDATA(\"Summe von THG [t CO2eq]\",II_Pivot!$G$3,\"ID\",C25,\"EM_Energieträger\",E25),\"\")","v":""},"S2",{"$f":"I25/0.86-I25","v":{"$error":"#VALUE!"}},null,null,null,null,null,null,null,null,null,null,null,null,null,null,"ii. ÖPNV","elektrische Energie","","",null,"","",""]
[23,3,{"$f":"VLOOKUP(B26,'II. Transport'!C:E,3,FALSE)","v":"II.1.ii."},{"$f":"VLOOKUP(B26,'II. Transport'!C:G,5,FALSE)","v":"ii. ÖPNV"},"Biogene Brenn- und Treibstoffe (Brennholz, biogene Brenn- und Treibstoffe)",{"$f":"IFERROR(GETPIVOTDATA(\"Energie\",EM_Daten_u_Uebersicht!$W$5,\"Ziel-Subsektor\",C26,\"Energieträger\",E26),\"\")","v":""},{"$f":"IFERROR(GETPIVOTDATA(\"Summe von Energieeinsatz [MWh]\",II_Pivot!$G$3,\"ID\",C26,\"EM_Energieträger\",E26),\"\")","v":""},{"$f":"IFERROR(F26*VLOOKUP(E26,EM_Daten_u_Uebersicht!P:Q,2,FALSE),\"\")","v":""},{"$f":"IFERROR(GETPIVOTDATA(\"Summe von THG [t CO2eq]\",II_Pivot!$G$3,\"ID\",C26,\"EM_Energieträger\",E26),\"\")","v":""},"S1",null,null,null,null,null,null,null,null,null,null,null,null,null,null,null,"ii. ÖPNV","Fernwärme","","",null,"","",""]
[24,3,{"$f":"VLOOKUP(B27,'II. Transport'!C:E,3,FALSE)","v":"II.1.ii."},{"$f":"VLOOKUP(B27,'II. Transport'!C:G,5,FALSE)","v":"ii. ÖPNV"},"Brennbare Abfälle",{"$f":"IFERROR(GETPIVOTDATA(\"Energie\",EM_Daten_u_Uebersicht!$W$5,\"Ziel-Subsektor\",C27,\"Energieträger\",E27),\"\")","v":""},{"$f":"IFERROR(GETPIVOTDATA(\"Summe von Energieeinsatz [MWh]\",II_Pivot!$G$3,\"ID\",C27,\"EM_Energieträger\",E27),\"\")","v":""},{"$f":"IFERROR(F27*VLOOKUP(E27,EM_Daten_u_Uebersicht!P:Q,2,FALSE),\"\")","v":""},{"$f":"IFERROR(GETPIVOTDATA(\"Summe von THG [t CO2eq]\",II_Pivot!$G$3,\"ID\",C27,\"EM_Energieträger\",E27),\"\")","v":""},"S1",null,null,null,null,null,null,null,null,null,null,null,null,null,null,null,"ii. ÖPNV","Biogene Brenn- und Treibstoffe (Brennholz, biogene Brenn- und Treibstoffe)","","",null,"","",0]
[25,3,{"$f":"VLOOKUP(B28,'II. Transport'!C:E,3,FALSE)","v":"II.1.ii."},{"$f":"VLOOKUP(B28,'II. Transport'!C:G,5,FALSE)","v":"ii. ÖPNV"},"Umgebungswärme",{"$f":"IFERROR(GETPIVOTDATA(\"Energie\",EM_Daten_u_Uebersicht!$W$5,\"Ziel-Subsektor\",C28,\"Energieträger\",E28),\"\")","v":""},{"$f":"IFERROR(GETPIVOTDATA(\"Summe von Energieeinsatz [MWh]\",II_Pivot!$G$3,\"ID\",C28,\"EM_Energieträger\",E28),\"\")","v":""},{"$f":"IFERROR(F28*VLOOKUP(E28,EM_Daten_u_Uebersicht!P:Q,2,FALSE),\"\")","v":""},{"$f":"IFERROR(GETPIVOTDATA(\"Summe von THG [t CO2eq]\",II_Pivot!$G$3,\"ID\",C28,\"EM_Energieträger\",E28),\"\")","v":""},"S1",null,null,null,null,null,null,null,null,null,null,null,null,null,null,null,"ii. ÖPNV","Brennbare Abfälle","","",null,"","",0]
[26,3,{"$f":"VLOOKUP(B29,'II. Transport'!C:E,3,FALSE)","v":"II.1.ii."},{"$f":"VLOOKUP(B29,'II. Transport'!C:G,5,FALSE)","v":"ii. ÖPNV"},"CO2-eq Direkteingabe",{"$f":"IFERROR(GETPIVOTDATA(\"Energie\",EM_Daten_u_Uebersicht!$W$5,\"Ziel-Subsektor\",C29,\"Energieträger\",E29),\"\")","v":""},{"$f":"IFERROR(GETPIVOTDATA(\"Summe von Energieeinsatz [MWh]\",II_Pivot!$G$3,\"ID\",C29,\"EM_Energieträger\",E29),\"\")","v":""},{"$f":"IFERROR(F29*VLOOKUP(E29,EM_Daten_u_Uebersicht!P:Q,2,FALSE),\"\")","v":""},{"$f":"IFERROR(GETPIVOTDATA(\"Summe von THG [t CO2eq]\",II_Pivot!$G$3,\"ID\",C29,\"EM_Energieträger\",E29),\"\")","v":""},"S1",null,null,null,null,null,null,null,null,null,null,null,null,null,null,null,"ii. ÖPNV","Umgebungswärme","","",null,"","",0]
[27,4,{"$f":"VLOOKUP(B30,'II. Transport'!C:E,3,FALSE)","v":"II.1.iii."},{"$f":"VLOOKUP(B30,'II. Transport'!C:G,5,FALSE)","v":"iii. Privat"},"Kohle (Steinkohle, Braunkohle, Koks, Petrolkoks; Gichtgas, Kokereigas, Brenntorf)",{"$f":"IFERROR(GETPIVOTDATA(\"Energie\",EM_Daten_u_Uebersicht!$W$5,\"Ziel-Subsektor\",C30,\"Energieträger\",E30),\"\")","v":""},{"$f":"IFERROR(GETPIVOTDATA(\"Summe von Energieeinsatz [MWh]\",II_Pivot!$G$3,\"ID\",C30,\"EM_Energieträger\",E30),\"\")","v":""},{"$f":"IFERROR(F30*VLOOKUP(E30,EM_Daten_u_Uebersicht!P:Q,2,FALSE),\"\")","v":""},{"$f":"IFERROR(GETPIVOTDATA(\"Summe von THG [t CO2eq]\",II_Pivot!$G$3,\"ID\",C30,\"EM_Energieträger\",E30),\"\")","v":""},"S1",null,null,null,null,null,null,null,null,null,null,null,null,null,null,null,"ii. ÖPNV","CO2-eq Direkteingabe","","",null,"","",0]
[28,4,{"$f":"VLOOKUP(B31,'II. Transport'!C:E,3,FALSE)","v":"II.1.iii."},{"$f":"VLOOKUP(B31,'II. Transport'!C:G,5,FALSE)","v":"iii. Privat"},"Öl (Heizöl, Gasöl für Heizzwecke, Diesel, Benzin, Petroleum, Flüssiggas)",{"$f":"IFERROR(GETPIVOTDATA(\"Energie\",EM_Daten_u_Uebersicht!$W$5,\"Ziel-Subsektor\",C31,\"Energieträger\",E31),\"\")","v":""},{"$f":"IFERROR(GETPIVOTDATA(\"Summe von Energieeinsatz [MWh]\",II_Pivot!$G$3,\"ID\",C31,\"EM_Energieträger\",E31),\"\")","v":""},{"$f":"IFERROR(F31*VLOOKUP(E31,EM_Daten_u_Uebersicht!P:Q,2,FALSE),\"\")","v":""},{"$f":"IFERROR(GETPIVOTDATA(\"Summe von THG [t CO2eq]\",II_Pivot!$G$3,\"ID\",C31,\"EM_Energieträger\",E31),\"\")","v":""},"S1",null,null,null,null,null,null,null,null,null,null,null,null,null,null,null,"iii. Privat","Kohle (Steinkohle, Braunkohle, Koks, Petrolkoks; Gichtgas, Kokereigas, Brenntorf)","","",null,"","",0]
[29,4,{"$f":"VLOOKUP(B32,'II. Transport'!C:E,3,FALSE)","v":"II.1.iii."},{"$f":"VLOOKUP(B32,'II. Transport'!C:G,5,FALSE)","v":"iii. Privat"},"Erdgas",{"$f":"IFERROR(GETPIVOTDATA(\"Energie\",EM_Daten_u_Uebersicht!$W$5,\"Ziel-Subsektor\",C32,\"Energieträger\",E32),\"\")","v":""},{"$f":"IFERROR(GETPIVOTDATA(\"Summe von Energieeinsatz [MWh]\",II_Pivot!$G$3,\"ID\",C32,\"EM_Energieträger\",E32),\"\")","v":""},{"$f":"IFERROR(F32*VLOOKUP(E32,EM_Daten_u_Uebersicht!P:Q,2,FALSE),\"\")","v":""},{"$f":"IFERROR(GETPIVOTDATA(\"Summe von THG [t CO2eq]\",II_Pivot!$G$3,\"ID\",C32,\"EM_Energieträger\",E32),\"\")","v":""},"S1",null,null,null,null,null,null,null,null,null,null,null,null,null,null,null,"iii. Privat","Öl (Heizöl, Gasöl für Heizzwecke, Diesel, Benzin, Petroleum, Flüssiggas)","","",null,"","",0]
[30,4,{"$f":"VLOOKUP(B33,'II. Transport'!C:E,3,FALSE)","v":"II.1.iii."},{"$f":"VLOOKUP(B33,'II. Transport'!C:G,5,FALSE)","v":"iii. Privat"},"elektrische Energie",{"$f":"IFERROR(GETPIVOTDATA(\"Energie\",EM_Daten_u_Uebersicht!$W$5,\"Ziel-Subsektor\",C33,\"Energieträger\",E33),\"\")","v":""},{"$f":"IFERROR(GETPIVOTDATA(\"Summe von Energieeinsatz [MWh]\",II_Pivot!$G$3,\"ID\",C33,\"EM_Energieträger\",E33),\"\")","v":""},{"$f":"IFERROR(F33*VLOOKUP(E33,EM_Daten_u_Uebersicht!P:Q,2,FALSE),\"\")","v":""},{"$f":"IFERROR(GETPIVOTDATA(\"Summe von THG [t CO2eq]\",II_Pivot!$G$3,\"ID\",C33,\"EM_Energieträger\",E33),\"\")","v":""},"S2",{"$f":"I33/0.94-I33","v":{"$error":"#VALUE!"}},null,null,null,null,null,null,null,null,null,null,null,null,null,null,"iii. Privat","Erdgas","","",null,"","",0]
[31,4,{"$f":"VLOOKUP(B34,'II. Transport'!C:E,3,FALSE)","v":"II.1.iii."},{"$f":"VLOOKUP(B34,'II. Transport'!C:G,5,FALSE)","v":"iii. Privat"},"Fernwärme",{"$f":"IFERROR(GETPIVOTDATA(\"Energie\",EM_Daten_u_Uebersicht!$W$5,\"Ziel-Subsektor\",C34,\"Energieträger\",E34),\"\")","v":""},{"$f":"IFERROR(GETPIVOTDATA(\"Summe von Energieeinsatz [MWh]\",II_Pivot!$G$3,\"ID\",C34,\"EM_Energieträger\",E34),\"\")","v":""},{"$f":"IFERROR(F34*VLOOKUP(E34,EM_Daten_u_Uebersicht!P:Q,2,FALSE),\"\")","v":""},{"$f":"IFERROR(GETPIVOTDATA(\"Summe von THG [t CO2eq]\",II_Pivot!$G$3,\"ID\",C34,\"EM_Energieträger\",E34),\"\")","v":""},"S2",{"$f":"I34/0.86-I34","v":{"$error":"#VALUE!"}},null,null,null,null,null,null,null,null,null,null,null,null,null,null,"iii. Privat","elektrische Energie","","",null,"","",""]
[32,4,{"$f":"VLOOKUP(B35,'II. Transport'!C:E,3,FALSE)","v":"II.1.iii."},{"$f":"VLOOKUP(B35,'II. Transport'!C:G,5,FALSE)","v":"iii. Privat"},"Biogene Brenn- und Treibstoffe (Brennholz, biogene Brenn- und Treibstoffe)",{"$f":"IFERROR(GETPIVOTDATA(\"Energie\",EM_Daten_u_Uebersicht!$W$5,\"Ziel-Subsektor\",C35,\"Energieträger\",E35),\"\")","v":""},{"$f":"IFERROR(GETPIVOTDATA(\"Summe von Energieeinsatz [MWh]\",II_Pivot!$G$3,\"ID\",C35,\"EM_Energieträger\",E35),\"\")","v":""},{"$f":"IFERROR(F35*VLOOKUP(E35,EM_Daten_u_Uebersicht!P:Q,2,FALSE),\"\")","v":""},{"$f":"IFERROR(GETPIVOTDATA(\"Summe von THG [t CO2eq]\",II_Pivot!$G$3,\"ID\",C35,\"EM_Energieträger\",E35),\"\")","v":""},"S1",null,null,null,null,null,null,null,null,null,null,null,null,null,null,null,"iii. Privat","Fernwärme","","",null,"","",{"$f":"IFERROR(K34,\"\")","v":""}]
[33,4,{"$f":"VLOOKUP(B36,'II. Transport'!C:E,3,FALSE)","v":"II.1.iii."},{"$f":"VLOOKUP(B36,'II. Transport'!C:G,5,FALSE)","v":"iii. Privat"},"Brennbare Abfälle",{"$f":"IFERROR(GETPIVOTDATA(\"Energie\",EM_Daten_u_Uebersicht!$W$5,\"Ziel-Subsektor\",C36,\"Energieträger\",E36),\"\")","v":""},{"$f":"IFERROR(GETPIVOTDATA(\"Summe von Energieeinsatz [MWh]\",II_Pivot!$G$3,\"ID\",C36,\"EM_Energieträger\",E36),\"\")","v":""},{"$f":"IFERROR(F36*VLOOKUP(E36,EM_Daten_u_Uebersicht!P:Q,2,FALSE),\"\")","v":""},{"$f":"IFERROR(GETPIVOTDATA(\"Summe von THG [t CO2eq]\",II_Pivot!$G$3,\"ID\",C36,\"EM_Energieträger\",E36),\"\")","v":""},"S1",null,null,null,null,null,null,null,null,null,null,null,null,null,null,null,"iii. Privat","Biogene Brenn- und Treibstoffe (Brennholz, biogene Brenn- und Treibstoffe)","","",null,{"$f":"IF(J35=\"S1\",I35,\"\")","v":""},{"$f":"IF(J35=\"S2\",I35,\"\")","v":""},0]
[34,4,{"$f":"VLOOKUP(B37,'II. Transport'!C:E,3,FALSE)","v":"II.1.iii."},{"$f":"VLOOKUP(B37,'II. Transport'!C:G,5,FALSE)","v":"iii. Privat"},"Umgebungswärme",{"$f":"IFERROR(GETPIVOTDATA(\"Energie\",EM_Daten_u_Uebersicht!$W$5,\"Ziel-Subsektor\",C37,\"Energieträger\",E37),\"\")","v":""},{"$f":"IFERROR(GETPIVOTDATA(\"Summe von Energieeinsatz [MWh]\",II_Pivot!$G$3,\"ID\",C37,\"EM_Energieträger\",E37),\"\")","v":""},{"$f":"IFERROR(F37*VLOOKUP(E37,EM_Daten_u_Uebersicht!P:Q,2,FALSE),\"\")","v":""},{"$f":"IFERROR(GETPIVOTDATA(\"Summe von THG [t CO2eq]\",II_Pivot!$G$3,\"ID\",C37,\"EM_Energieträger\",E37),\"\")","v":""},"S1",null,null,null,null,null,null,null,null,null,null,null,null,null,null,null,"iii. Privat","Brennbare Abfälle","","",null,"","",0]
[35,4,{"$f":"VLOOKUP(B38,'II. Transport'!C:E,3,FALSE)","v":"II.1.iii."},{"$f":"VLOOKUP(B38,'II. Transport'!C:G,5,FALSE)","v":"iii. Privat"},"CO2-eq Direkteingabe",{"$f":"IFERROR(GETPIVOTDATA(\"Energie\",EM_Daten_u_Uebersicht!$W$5,\"Ziel-Subsektor\",C38,\"Energieträger\",E38),\"\")","v":""},{"$f":"IFERROR(GETPIVOTDATA(\"Summe von Energieeinsatz [MWh]\",II_Pivot!$G$3,\"ID\",C38,\"EM_Energieträger\",E38),\"\")","v":""},{"$f":"IFERROR(F38*VLOOKUP(E38,EM_Daten_u_Uebersicht!P:Q,2,FALSE),\"\")","v":""},{"$f":"IFERROR(GETPIVOTDATA(\"Summe von THG [t CO2eq]\",II_Pivot!$G$3,\"ID\",C38,\"EM_Energieträger\",E38),\"\")","v":""},"S1",null,null,null,null,null,null,null,null,null,null,null,null,null,null,null,"iii. Privat","Umgebungswärme","","",null,"","",0]
[36,5,{"$f":"VLOOKUP(B39,'II. Transport'!C:E,3,FALSE)","v":"II.2. ."},{"$f":"VLOOKUP(B39,'II. Transport'!C:G,5,FALSE)","v":"2. Schienenverkehr"},"Kohle (Steinkohle, Braunkohle, Koks, Petrolkoks; Gichtgas, Kokereigas, Brenntorf)",{"$f":"IFERROR(GETPIVOTDATA(\"Energie\",EM_Daten_u_Uebersicht!$W$5,\"Ziel-Subsektor\",C39,\"Energieträger\",E39),\"\")","v":""},{"$f":"IFERROR(GETPIVOTDATA(\"Summe von Energieeinsatz [MWh]\",II_Pivot!$G$3,\"ID\",C39,\"EM_Energieträger\",E39),\"\")","v":""},{"$f":"IFERROR(F39*VLOOKUP(E39,EM_Daten_u_Uebersicht!P:Q,2,FALSE),\"\")","v":""},{"$f":"IFERROR(GETPIVOTDATA(\"Summe von THG [t CO2eq]\",II_Pivot!$G$3,\"ID\",C39,\"EM_Energieträger\",E39),\"\")","v":""},"S1",null,null,null,null,null,null,null,null,null,null,null,null,null,null,null,"iii. Privat","CO2-eq Direkteingabe","","",null,"","",0]
[37,5,{"$f":"VLOOKUP(B40,'II. Transport'!C:E,3,FALSE)","v":"II.2. ."},{"$f":"VLOOKUP(B40,'II. Transport'!C:G,5,FALSE)","v":"2. Schienenverkehr"},"Öl (Heizöl, Gasöl für Heizzwecke, Diesel, Benzin, Petroleum, Flüssiggas)",{"$f":"IFERROR(GETPIVOTDATA(\"Energie\",EM_Daten_u_Uebersicht!$W$5,\"Ziel-Subsektor\",C40,\"Energieträger\",E40),\"\")","v":""},{"$f":"IFERROR(GETPIVOTDATA(\"Summe von Energieeinsatz [MWh]\",II_Pivot!$G$3,\"ID\",C40,\"EM_Energieträger\",E40),\"\")","v":""},{"$f":"IFERROR(F40*VLOOKUP(E40,EM_Daten_u_Uebersicht!P:Q,2,FALSE),\"\")","v":""},{"$f":"IFERROR(GETPIVOTDATA(\"Summe von THG [t CO2eq]\",II_Pivot!$G$3,\"ID\",C40,\"EM_Energieträger\",E40),\"\")","v":""},"S1",null,null,null,null,null,null,null,null,null,null,null,null,null,null,null,"2. Schienenverkehr","Kohle (Steinkohle, Braunkohle, Koks, Petrolkoks; Gichtgas, Kokereigas, Brenntorf)","","",null,"","",0]
[38,5,{"$f":"VLOOKUP(B41,'II. Transport'!C:E,3,FALSE)","v":"II.2. ."},{"$f":"VLOOKUP(B41,'II. Transport'!C:G,5,FALSE)","v":"2. Schienenverkehr"},"Erdgas",{"$f":"IFERROR(GETPIVOTDATA(\"Energie\",EM_Daten_u_Uebersicht!$W$5,\"Ziel-Subsektor\",C41,\"Energieträger\",E41),\"\")","v":""},{"$f":"IFERROR(GETPIVOTDATA(\"Summe von Energieeinsatz [MWh]\",II_Pivot!$G$3,\"ID\",C41,\"EM_Energieträger\",E41),\"\")","v":""},{"$f":"IFERROR(F41*VLOOKUP(E41,EM_Daten_u_Uebersicht!P:Q,2,FALSE),\"\")","v":""},{"$f":"IFERROR(GETPIVOTDATA(\"Summe von THG [t CO2eq]\",II_Pivot!$G$3,\"ID\",C41,\"EM_Energieträger\",E41),\"\")","v":""},"S1",null,null,null,null,null,null,null,null,null,null,null,null,null,null,null,"2. Schienenverkehr","Öl (Heizöl, Gasöl für Heizzwecke, Diesel, Benzin, Petroleum, Flüssiggas)","","",null,"","",0]
[39,5,{"$f":"VLOOKUP(B42,'II. Transport'!C:E,3,FALSE)","v":"II.2. ."},{"$f":"VLOOKUP(B42,'II. Transport'!C:G,5,FALSE)","v":"2. Schienenverkehr"},"elektrische Energie",{"$f":"IFERROR(GETPIVOTDATA(\"Energie\",EM_Daten_u_Uebersicht!$W$5,\"Ziel-Subsektor\",C42,\"Energieträger\",E42),\"\")","v":""},{"$f":"IFERROR(GETPIVOTDATA(\"Summe von Energieeinsatz [MWh]\",II_Pivot!$G$3,\"ID\",C42,\"EM_Energieträger\",E42),\"\")","v":""},{"$f":"IFERROR(F42*VLOOKUP(E42,EM_Daten_u_Uebersicht!P:Q,2,FALSE),\"\")","v":""},{"$f":"IFERROR(GETPIVOTDATA(\"Summe von THG [t CO2eq]\",II_Pivot!$G$3,\"ID\",C42,\"EM_Energieträger\",E42),\"\")","v":""},"S2",{"$f":"I42/0.94-I42","v":{"$error":"#VALUE!"}},null,null,null,null,null,null,null,null,null,null,null,null,null,null,"2. Schienenverkehr","Erdgas","","",null,"","",0]
[40,5,{"$f":"VLOOKUP(B43,'II. Transport'!C:E,3,FALSE)","v":"II.2. ."},{"$f":"VLOOKUP(B43,'II. Transport'!C:G,5,FALSE)","v":"2. Schienenverkehr"},"Fernwärme",{"$f":"IFERROR(GETPIVOTDATA(\"Energie\",EM_Daten_u_Uebersicht!$W$5,\"Ziel-Subsektor\",C43,\"Energieträger\",E43),\"\")","v":""},{"$f":"IFERROR(GETPIVOTDATA(\"Summe von Energieeinsatz [MWh]\",II_Pivot!$G$3,\"ID\",C43,\"EM_Energieträger\",E43),\"\")","v":""},{"$f":"IFERROR(F43*VLOOKUP(E43,EM_Daten_u_Uebersicht!P:Q,2,FALSE),\"\")","v":""},{"$f":"IFERROR(GETPIVOTDATA(\"Summe von THG [t CO2eq]\",II_Pivot!$G$3,\"ID\",C43,\"EM_Energieträger\",E43),\"\")","v":""},"S2",{"$f":"I43/0.86-I43","v":{"$error":"#VALUE!"}},null,null,null,null,null,null,null,null,null,null,null,null,null,null,"2. Schienenverkehr","elektrische Energie","","",null,"","",""]
[41,5,{"$f":"VLOOKUP(B44,'II. Transport'!C:E,3,FALSE)","v":"II.2. ."},{"$f":"VLOOKUP(B44,'II. Transport'!C:G,5,FALSE)","v":"2. Schienenverkehr"},"Biogene Brenn- und Treibstoffe (Brennholz, biogene Brenn- und Treibstoffe)",{"$f":"IFERROR(GETPIVOTDATA(\"Energie\",EM_Daten_u_Uebersicht!$W$5,\"Ziel-Subsektor\",C44,\"Energieträger\",E44),\"\")","v":""},{"$f":"IFERROR(GETPIVOTDATA(\"Summe von Energieeinsatz [MWh]\",II_Pivot!$G$3,\"ID\",C44,\"EM_Energieträger\",E44),\"\")","v":""},{"$f":"IFERROR(F44*VLOOKUP(E44,EM_Daten_u_Uebersicht!P:Q,2,FALSE),\"\")","v":""},{"$f":"IFERROR(GETPIVOTDATA(\"Summe von THG [t CO2eq]\",II_Pivot!$G$3,\"ID\",C44,\"EM_Energieträger\",E44),\"\")","v":""},"S1",null,null,null,null,null,null,null,null,null,null,null,null,null,null,null,"2. Schienenverkehr","Fernwärme","","",null,"","",""]
[42,5,{"$f":"VLOOKUP(B45,'II. Transport'!C:E,3,FALSE)","v":"II.2. ."},{"$f":"VLOOKUP(B45,'II. Transport'!C:G,5,FALSE)","v":"2. Schienenverkehr"},"Brennbare Abfälle",{"$f":"IFERROR(GETPIVOTDATA(\"Energie\",EM_Daten_u_Uebersicht!$W$5,\"Ziel-Subsektor\",C45,\"Energieträger\",E45),\"\")","v":""},{"$f":"IFERROR(GETPIVOTDATA(\"Summe von Energieeinsatz [MWh]\",II_Pivot!$G$3,\"ID\",C45,\"EM_Energieträger\",E45),\"\")","v":""},{"$f":"IFERROR(F45*VLOOKUP(E45,EM_Daten_u_Uebersicht!P:Q,2,FALSE),\"\")","v":""},{"$f":"IFERROR(GETPIVOTDATA(\"Summe von THG [t CO2eq]\",II_Pivot!$G$3,\"ID\",C45,\"EM_Energieträger\",E45),\"\")","v":""},"S1",null,null,null,null,null,null,null,null,null,null,null,null,null,null,null,"2. Schienenverkehr","Biogene Brenn- und Treibstoffe (Brennholz, biogene Brenn- und Treibstoffe)","","",null,"","",0]
[43,5,{"$f":"VLOOKUP(B46,'II. Transport'!C:E,3,FALSE)","v":"II.2. ."},{"$f":"VLOOKUP(B46,'II. Transport'!C:G,5,FALSE)","v":"2. Schienenverkehr"},"Umgebungswärme",{"$f":"IFERROR(GETPIVOTDATA(\"Energie\",EM_Daten_u_Uebersicht!$W$5,\"Ziel-Subsektor\",C46,\"Energieträger\",E46),\"\")","v":""},{"$f":"IFERROR(GETPIVOTDATA(\"Summe von Energieeinsatz [MWh]\",II_Pivot!$G$3,\"ID\",C46,\"EM_Energieträger\",E46),\"\")","v":""},{"$f":"IFERROR(F46*VLOOKUP(E46,EM_Daten_u_Uebersicht!P:Q,2,FALSE),\"\")","v":""},{"$f":"IFERROR(GETPIVOTDATA(\"Summe von THG [t CO2eq]\",II_Pivot!$G$3,\"ID\",C46,\"EM_Energieträger\",E46),\"\")","v":""},"S1",null,null,null,null,null,null,null,null,null,null,null,null,null,null,null,"2. Schienenverkehr","Brennbare Abfälle","","",null,"","",0]
[44,5,{"$f":"VLOOKUP(B47,'II. Transport'!C:E,3,FALSE)","v":"II.2. ."},{"$f":"VLOOKUP(B47,'II. Transport'!C:G,5,FALSE)","v":"2. Schienenverkehr"},"CO2-eq Direkteingabe",{"$f":"IFERROR(GETPIVOTDATA(\"Energie\",EM_Daten_u_Uebersicht!$W$5,\"Ziel-Subsektor\",C47,\"Energieträger\",E47),\"\")","v":""},{"$f":"IFERROR(GETPIVOTDATA(\"Summe von Energieeinsatz [MWh]\",II_Pivot!$G$3,\"ID\",C47,\"EM_Energieträger\",E47),\"\")","v":""},{"$f":"IFERROR(F47*VLOOKUP(E47,EM_Daten_u_Uebersicht!P:Q,2,FALSE),\"\")","v":""},{"$f":"IFERROR(GETPIVOTDATA(\"Summe von THG [t CO2eq]\",II_Pivot!$G$3,\"ID\",C47,\"EM_Energieträger\",E47),\"\")","v":""},"S1",null,null,null,null,null,null,null,null,null,null,null,null,null,null,null,"2. Schienenverkehr","Umgebungswärme","","",null,"","",0]
[45,6,{"$f":"VLOOKUP(B48,'II. Transport'!C:E,3,FALSE)","v":"II.2.i."},{"$f":"VLOOKUP(B48,'II. Transport'!C:G,5,FALSE)","v":"i. ÖPNV"},"Kohle (Steinkohle, Braunkohle, Koks, Petrolkoks; Gichtgas, Kokereigas, Brenntorf)",{"$f":"IFERROR(GETPIVOTDATA(\"Energie\",EM_Daten_u_Uebersicht!$W$5,\"Ziel-Subsektor\",C48,\"Energieträger\",E48),\"\")","v":""},{"$f":"IFERROR(GETPIVOTDATA(\"Summe von Energieeinsatz [MWh]\",II_Pivot!$G$3,\"ID\",C48,\"EM_Energieträger\",E48),\"\")","v":""},{"$f":"IFERROR(F48*VLOOKUP(E48,EM_Daten_u_Uebersicht!P:Q,2,FALSE),\"\")","v":""},{"$f":"IFERROR(GETPIVOTDATA(\"Summe von THG [t CO2eq]\",II_Pivot!$G$3,\"ID\",C48,\"EM_Energieträger\",E48),\"\")","v":""},"S1",null,null,null,null,null,null,null,null,null,null,null,null,null,null,null,"2. Schienenverkehr","CO2-eq Direkteingabe","","",null,"","",0]
[46,6,{"$f":"VLOOKUP(B49,'II. Transport'!C:E,3,FALSE)","v":"II.2.i."},{"$f":"VLOOKUP(B49,'II. Transport'!C:G,5,FALSE)","v":"i. ÖPNV"},"Öl (Heizöl, Gasöl für Heizzwecke, Diesel, Benzin, Petroleum, Flüssiggas)",{"$f":"IFERROR(GETPIVOTDATA(\"Energie\",EM_Daten_u_Uebersicht!$W$5,\"Ziel-Subsektor\",C49,\"Energieträger\",E49),\"\")","v":""},{"$f":"IFERROR(GETPIVOTDATA(\"Summe von Energieeinsatz [MWh]\",II_Pivot!$G$3,\"ID\",C49,\"EM_Energieträger\",E49),\"\")","v":""},{"$f":"IFERROR(F49*VLOOKUP(E49,EM_Daten_u_Uebersicht!P:Q,2,FALSE),\"\")","v":""},{"$f":"IFERROR(GETPIVOTDATA(\"Summe von THG [t CO2eq]\",II_Pivot!$G$3,\"ID\",C49,\"EM_Energieträger\",E49),\"\")","v":""},"S1",null,null,null,null,null,null,null,null,null,null,null,null,null,null,null,"i. ÖPNV","Kohle (Steinkohle, Braunkohle, Koks, Petrolkoks; Gichtgas, Kokereigas, Brenntorf)","","",null,"","",0]
[47,6,{"$f":"VLOOKUP(B50,'II. Transport'!C:E,3,FALSE)","v":"II.2.i."},{"$f":"VLOOKUP(B50,'II. Transport'!C:G,5,FALSE)","v":"i. ÖPNV"},"Erdgas",{"$f":"IFERROR(GETPIVOTDATA(\"Energie\",EM_Daten_u_Uebersicht!$W$5,\"Ziel-Subsektor\",C50,\"Energieträger\",E50),\"\")","v":""},{"$f":"IFERROR(GETPIVOTDATA(\"Summe von Energieeinsatz [MWh]\",II_Pivot!$G$3,\"ID\",C50,\"EM_Energieträger\",E50),\"\")","v":""},{"$f":"IFERROR(F50*VLOOKUP(E50,EM_Daten_u_Uebersicht!P:Q,2,FALSE),\"\")","v":""},{"$f":"IFERROR(GETPIVOTDATA(\"Summe von THG [t CO2eq]\",II_Pivot!$G$3,\"ID\",C50,\"EM_Energieträger\",E50),\"\")","v":""},"S1",null,null,null,null,null,null,null,null,null,null,null,null,null,null,null,"i. ÖPNV","Öl (Heizöl, Gasöl für Heizzwecke, Diesel, Benzin, Petroleum, Flüssiggas)","","",null,"","",0]
[48,6,{"$f":"VLOOKUP(B51,'II. Transport'!C:E,3,FALSE)","v":"II.2.i."},{"$f":"VLOOKUP(B51,'II. Transport'!C:G,5,FALSE)","v":"i. ÖPNV"},"elektrische Energie",{"$f":"IFERROR(GETPIVOTDATA(\"Energie\",EM_Daten_u_Uebersicht!$W$5,\"Ziel-Subsektor\",C51,\"Energieträger\",E51),\"\")","v":""},{"$f":"IFERROR(GETPIVOTDATA(\"Summe von Energieeinsatz [MWh]\",II_Pivot!$G$3,\"ID\",C51,\"EM_Energieträger\",E51),\"\")","v":""},{"$f":"IFERROR(F51*VLOOKUP(E51,EM_Daten_u_Uebersicht!P:Q,2,FALSE),\"\")","v":""},{"$f":"IFERROR(GETPIVOTDATA(\"Summe von THG [t CO2eq]\",II_Pivot!$G$3,\"ID\",C51,\"EM_Energieträger\",E51),\"\")","v":""},"S2",{"$f":"I51/0.94-I51","v":{"$error":"#VALUE!"}},null,null,null,null,null,null,null,null,null,null,null,null,null,null,"i. ÖPNV","Erdgas","","",null,"","",0]
[49,6,{"$f":"VLOOKUP(B52,'II. Transport'!C:E,3,FALSE)","v":"II.2.i."},{"$f":"VLOOKUP(B52,'II. Transport'!C:G,5,FALSE)","v":"i. ÖPNV"},"Fernwärme",{"$f":"IFERROR(GETPIVOTDATA(\"Energie\",EM_Daten_u_Uebersicht!$W$5,\"Ziel-Subsektor\",C52,\"Energieträger\",E52),\"\")","v":""},{"$f":"IFERROR(GETPIVOTDATA(\"Summe von Energieeinsatz [MWh]\",II_Pivot!$G$3,\"ID\",C52,\"EM_Energieträger\",E52),\"\")","v":""},{"$f":"IFERROR(F52*VLOOKUP(E52,EM_Daten_u_Uebersicht!P:Q,2,FALSE),\"\")","v":""},{"$f":"IFERROR(GETPIVOTDATA(\"Summe von THG [t CO2eq]\",II_Pivot!$G$3,\"ID\",C52,\"EM_Energieträger\",E52),\"\")","v":""},"S2",{"$f":"I52/0.86-I52","v":{"$error":"#VALUE!"}},null,null,null,null,null,null,null,null,null,null,null,null,null,null,"i. ÖPNV","elektrische Energie","","",null,"","",""]
[50,6,{"$f":"VLOOKUP(B53,'II. Transport'!C:E,3,FALSE)","v":"II.2.i."},{"$f":"VLOOKUP(B53,'II. Transport'!C:G,5,FALSE)","v":"i. ÖPNV"},"Biogene Brenn- und Treibstoffe (Brennholz, biogene Brenn- und Treibstoffe)",{"$f":"IFERROR(GETPIVOTDATA(\"Energie\",EM_Daten_u_Uebersicht!$W$5,\"Ziel-Subsektor\",C53,\"Energieträger\",E53),\"\")","v":""},{"$f":"IFERROR(GETPIVOTDATA(\"Summe von Energieeinsatz [MWh]\",II_Pivot!$G$3,\"ID\",C53,\"EM_Energieträger\",E53),\"\")","v":""},{"$f":"IFERROR(F53*VLOOKUP(E53,EM_Daten_u_Uebersicht!P:Q,2,FALSE),\"\")","v":""},{"$f":"IFERROR(GETPIVOTDATA(\"Summe von THG [t CO2eq]\",II_Pivot!$G$3,\"ID\",C53,\"EM_Energieträger\",E53),\"\")","v":""},"S1",null,null,null,null,null,null,null,null,null,null,null,null,null,null,null,"i. ÖPNV","Fernwärme","","",null,"","",""]
[51,6,{"$f":"VLOOKUP(B54,'II. Transport'!C:E,3,FALSE)","v":"II.2.i."},{"$f":"VLOOKUP(B54,'II. Transport'!C:G,5,FALSE)","v":"i. ÖPNV"},"Brennbare Abfälle",{"$f":"IFERROR(GETPIVOTDATA(\"Energie\",EM_Daten_u_Uebersicht!$W$5,\"Ziel-Subsektor\",C54,\"Energieträger\",E54),\"\")","v":""},{"$f":"IFERROR(GETPIVOTDATA(\"Summe von Energieeinsatz [MWh]\",II_Pivot!$G$3,\"ID\",C54,\"EM_Energieträger\",E54),\"\")","v":""},{"$f":"IFERROR(F54*VLOOKUP(E54,EM_Daten_u_Uebersicht!P:Q,2,FALSE),\"\")","v":""},{"$f":"IFERROR(GETPIVOTDATA(\"Summe von THG [t CO2eq]\",II_Pivot!$G$3,\"ID\",C54,\"EM_Energieträger\",E54),\"\")","v":""},"S1",null,null,null,null,null,null,null,null,null,null,null,null,null,null,null,"i. ÖPNV","Biogene Brenn- und Treibstoffe (Brennholz, biogene Brenn- und Treibstoffe)","","",null,"","",0]
[52,6,{"$f":"VLOOKUP(B55,'II. Transport'!C:E,3,FALSE)","v":"II.2.i."},{"$f":"VLOOKUP(B55,'II. Transport'!C:G,5,FALSE)","v":"i. ÖPNV"},"Umgebungswärme",{"$f":"IFERROR(GETPIVOTDATA(\"Energie\",EM_Daten_u_Uebersicht!$W$5,\"Ziel-Subsektor\",C55,\"Energieträger\",E55),\"\")","v":""},{"$f":"IFERROR(GETPIVOTDATA(\"Summe von Energieeinsatz [MWh]\",II_Pivot!$G$3,\"ID\",C55,\"EM_Energieträger\",E55),\"\")","v":""},{"$f":"IFERROR(F55*VLOOKUP(E55,EM_Daten_u_Uebersicht!P:Q,2,FALSE),\"\")","v":""},{"$f":"IFERROR(GETPIVOTDATA(\"Summe von THG [t CO2eq]\",II_Pivot!$G$3,\"ID\",C55,\"EM_Energieträger\",E55),\"\")","v":""},"S1",null,null,null,null,null,null,null,null,null,null,null,null,null,null,null,"i. ÖPNV","Brennbare Abfälle","","",null,"","",0]
[53,6,{"$f":"VLOOKUP(B56,'II. Transport'!C:E,3,FALSE)","v":"II.2.i."},{"$f":"VLOOKUP(B56,'II. Transport'!C:G,5,FALSE)","v":"i. ÖPNV"},"CO2-eq Direkteingabe",{"$f":"IFERROR(GETPIVOTDATA(\"Energie\",EM_Daten_u_Uebersicht!$W$5,\"Ziel-Subsektor\",C56,\"Energieträger\",E56),\"\")","v":""},{"$f":"IFERROR(GETPIVOTDATA(\"Summe von Energieeinsatz [MWh]\",II_Pivot!$G$3,\"ID\",C56,\"EM_Energieträger\",E56),\"\")","v":""},{"$f":"IFERROR(F56*VLOOKUP(E56,EM_Daten_u_Uebersicht!P:Q,2,FALSE),\"\")","v":""},{"$f":"IFERROR(GETPIVOTDATA(\"Summe von THG [t CO2eq]\",II_Pivot!$G$3,\"ID\",C56,\"EM_Energieträger\",E56),\"\")","v":""},"S1",null,null,null,null,null,null,null,null,null,null,null,null,null,null,null,"i. ÖPNV","Umgebungswärme","","",null,"","",0]
[54,7,{"$f":"VLOOKUP(B57,'II. Transport'!C:E,3,FALSE)","v":"II.2.ii."},{"$f":"VLOOKUP(B57,'II. Transport'!C:G,5,FALSE)","v":"ii. Privat"},"Kohle (Steinkohle, Braunkohle, Koks, Petrolkoks; Gichtgas, Kokereigas, Brenntorf)",{"$f":"IFERROR(GETPIVOTDATA(\"Energie\",EM_Daten_u_Uebersicht!$W$5,\"Ziel-Subsektor\",C57,\"Energieträger\",E57),\"\")","v":""},{"$f":"IFERROR(GETPIVOTDATA(\"Summe von Energieeinsatz [MWh]\",II_Pivot!$G$3,\"ID\",C57,\"EM_Energieträger\",E57),\"\")","v":""},{"$f":"IFERROR(F57*VLOOKUP(E57,EM_Daten_u_Uebersicht!P:Q,2,FALSE),\"\")","v":""},{"$f":"IFERROR(GETPIVOTDATA(\"Summe von THG [t CO2eq]\",II_Pivot!$G$3,\"ID\",C57,\"EM_Energieträger\",E57),\"\")","v":""},"S1",null,null,null,null,null,null,null,null,null,null,null,null,null,null,null,"i. ÖPNV","CO2-eq Direkteingabe","","",null,"","",0]
[55,7,{"$f":"VLOOKUP(B58,'II. Transport'!C:E,3,FALSE)","v":"II.2.ii."},{"$f":"VLOOKUP(B58,'II. Transport'!C:G,5,FALSE)","v":"ii. Privat"},"Öl (Heizöl, Gasöl für Heizzwecke, Diesel, Benzin, Petroleum, Flüssiggas)",{"$f":"IFERROR(GETPIVOTDATA(\"Energie\",EM_Daten_u_Uebersicht!$W$5,\"Ziel-Subsektor\",C58,\"Energieträger\",E58),\"\")","v":""},{"$f":"IFERROR(GETPIVOTDATA(\"Summe von Energieeinsatz [MWh]\",II_Pivot!$G$3,\"ID\",C58,\"EM_Energieträger\",E58),\"\")","v":""},{"$f":"IFERROR(F58*VLOOKUP(E58,EM_Daten_u_Uebersicht!P:Q,2,FALSE),\"\")","v":""},{"$f":"IFERROR(GETPIVOTDATA(\"Summe von THG [t CO2eq]\",II_Pivot!$G$3,\"ID\",C58,\"EM_Energieträger\",E58),\"\")","v":""},"S1",null,null,null,null,null,null,null,null,null,null,null,null,null,null,null,"ii. Privat","Kohle (Steinkohle, Braunkohle, Koks, Petrolkoks; Gichtgas, Kokereigas, Brenntorf)","","",null,"","",0]
[56,7,{"$f":"VLOOKUP(B59,'II. Transport'!C:E,3,FALSE)","v":"II.2.ii."},{"$f":"VLOOKUP(B59,'II. Transport'!C:G,5,FALSE)","v":"ii. Privat"},"Erdgas",{"$f":"IFERROR(GETPIVOTDATA(\"Energie\",EM_Daten_u_Uebersicht!$W$5,\"Ziel-Subsektor\",C59,\"Energieträger\",E59),\"\")","v":""},{"$f":"IFERROR(GETPIVOTDATA(\"Summe von Energieeinsatz [MWh]\",II_Pivot!$G$3,\"ID\",C59,\"EM_Energieträger\",E59),\"\")","v":""},{"$f":"IFERROR(F59*VLOOKUP(E59,EM_Daten_u_Uebersicht!P:Q,2,FALSE),\"\")","v":""},{"$f":"IFERROR(GETPIVOTDATA(\"Summe von THG [t CO2eq]\",II_Pivot!$G$3,\"ID\",C59,\"EM_Energieträger\",E59),\"\")","v":""},"S1",null,null,null,null,null,null,null,null,null,null,null,null,null,null,null,"ii. Privat","Öl (Heizöl, Gasöl für Heizzwecke, Diesel, Benzin, Petroleum, Flüssiggas)","","",null,"","",0]
[57,7,{"$f":"VLOOKUP(B60,'II. Transport'!C:E,3,FALSE)","v":"II.2.ii."},{"$f":"VLOOKUP(B60,'II. Transport'!C:G,5,FALSE)","v":"ii. Privat"},"elektrische Energie",{"$f":"IFERROR(GETPIVOTDATA(\"Energie\",EM_Daten_u_Uebersicht!$W$5,\"Ziel-Subsektor\",C60,\"Energieträger\",E60),\"\")","v":""},{"$f":"IFERROR(GETPIVOTDATA(\"Summe von Energieeinsatz [MWh]\",II_Pivot!$G$3,\"ID\",C60,\"EM_Energieträger\",E60),\"\")","v":""},{"$f":"IFERROR(F60*VLOOKUP(E60,EM_Daten_u_Uebersicht!P:Q,2,FALSE),\"\")","v":""},{"$f":"IFERROR(GETPIVOTDATA(\"Summe von THG [t CO2eq]\",II_Pivot!$G$3,\"ID\",C60,\"EM_Energieträger\",E60),\"\")","v":""},"S2",{"$f":"I60/0.94-I60","v":{"$error":"#VALUE!"}},null,null,null,null,null,null,null,null,null,null,null,null,null,null,"ii. Privat","Erdgas","","",null,"","",0]
[58,7,{"$f":"VLOOKUP(B61,'II. Transport'!C:E,3,FALSE)","v":"II.2.ii."},{"$f":"VLOOKUP(B61,'II. Transport'!C:G,5,FALSE)","v":"ii. Privat"},"Fernwärme",{"$f":"IFERROR(GETPIVOTDATA(\"Energie\",EM_Daten_u_Uebersicht!$W$5,\"Ziel-Subsektor\",C61,\"Energieträger\",E61),\"\")","v":""},{"$f":"IFERROR(GETPIVOTDATA(\"Summe von Energieeinsatz [MWh]\",II_Pivot!$G$3,\"ID\",C61,\"EM_Energieträger\",E61),\"\")","v":""},{"$f":"IFERROR(F61*VLOOKUP(E61,EM_Daten_u_Uebersicht!P:Q,2,FALSE),\"\")","v":""},{"$f":"IFERROR(GETPIVOTDATA(\"Summe von THG [t CO2eq]\",II_Pivot!$G$3,\"ID\",C61,\"EM_Energieträger\",E61),\"\")","v":""},"S2",{"$f":"I61/0.86-I61","v":{"$error":"#VALUE!"}},null,null,null,null,null,null,null,null,null,null,null,null,null,null,"ii. Privat","elektrische Energie","","",null,"","",""]
[59,7,{"$f":"VLOOKUP(B62,'II. Transport'!C:E,3,FALSE)","v":"II.2.ii."},{"$f":"VLOOKUP(B62,'II. Transport'!C:G,5,FALSE)","v":"ii. Privat"},"Biogene Brenn- und Treibstoffe (Brennholz, biogene Brenn- und Treibstoffe)",{"$f":"IFERROR(GETPIVOTDATA(\"Energie\",EM_Daten_u_Uebersicht!$W$5,\"Ziel-Subsektor\",C62,\"Energieträger\",E62),\"\")","v":""},{"$f":"IFERROR(GETPIVOTDATA(\"Summe von Energieeinsatz [MWh]\",II_Pivot!$G$3,\"ID\",C62,\"EM_Energieträger\",E62),\"\")","v":""},{"$f":"IFERROR(F62*VLOOKUP(E62,EM_Daten_u_Uebersicht!P:Q,2,FALSE),\"\")","v":""},{"$f":"IFERROR(GETPIVOTDATA(\"Summe von THG [t CO2eq]\",II_Pivot!$G$3,\"ID\",C62,\"EM_Energieträger\",E62),\"\")","v":""},"S1",null,null,null,null,null,null,null,null,null,null,null,null,null,null,null,"ii. Privat","Fernwärme","","",null,"","",""]
[60,7,{"$f":"VLOOKUP(B63,'II. Transport'!C:E,3,FALSE)","v":"II.2.ii."},{"$f":"VLOOKUP(B63,'II. Transport'!C:G,5,FALSE)","v":"ii. Privat"},"Brennbare Abfälle",{"$f":"IFERROR(GETPIVOTDATA(\"Energie\",EM_Daten_u_Uebersicht!$W$5,\"Ziel-Subsektor\",C63,\"Energieträger\",E63),\"\")","v":""},{"$f":"IFERROR(GETPIVOTDATA(\"Summe von Energieeinsatz [MWh]\",II_Pivot!$G$3,\"ID\",C63,\"EM_Energieträger\",E63),\"\")","v":""},{"$f":"IFERROR(F63*VLOOKUP(E63,EM_Daten_u_Uebersicht!P:Q,2,FALSE),\"\")","v":""},{"$f":"IFERROR(GETPIVOTDATA(\"Summe von THG [t CO2eq]\",II_Pivot!$G$3,\"ID\",C63,\"EM_Energieträger\",E63),\"\")","v":""},"S1",null,null,null,null,null,null,null,null,null,null,null,null,null,null,null,"ii. Privat","Biogene Brenn- und Treibstoffe (Brennholz, biogene Brenn- und Treibstoffe)","","",null,"","",0]
[61,7,{"$f":"VLOOKUP(B64,'II. Transport'!C:E,3,FALSE)","v":"II.2.ii."},{"$f":"VLOOKUP(B64,'II. Transport'!C:G,5,FALSE)","v":"ii. Privat"},"Umgebungswärme",{"$f":"IFERROR(GETPIVOTDATA(\"Energie\",EM_Daten_u_Uebersicht!$W$5,\"Ziel-Subsektor\",C64,\"Energieträger\",E64),\"\")","v":""},{"$f":"IFERROR(GETPIVOTDATA(\"Summe von Energieeinsatz [MWh]\",II_Pivot!$G$3,\"ID\",C64,\"EM_Energieträger\",E64),\"\")","v":""},{"$f":"IFERROR(F64*VLOOKUP(E64,EM_Daten_u_Uebersicht!P:Q,2,FALSE),\"\")","v":""},{"$f":"IFERROR(GETPIVOTDATA(\"Summe von THG [t CO2eq]\",II_Pivot!$G$3,\"ID\",C64,\"EM_Energieträger\",E64),\"\")","v":""},"S1",null,null,null,null,null,null,null,null,null,null,null,null,null,null,null,"ii. Privat","Brennbare Abfälle","","",null,"","",0]
[62,7,{"$f":"VLOOKUP(B65,'II. Transport'!C:E,3,FALSE)","v":"II.2.ii."},{"$f":"VLOOKUP(B65,'II. Transport'!C:G,5,FALSE)","v":"ii. Privat"},"CO2-eq Direkteingabe",{"$f":"IFERROR(GETPIVOTDATA(\"Energie\",EM_Daten_u_Uebersicht!$W$5,\"Ziel-Subsektor\",C65,\"Energieträger\",E65),\"\")","v":""},{"$f":"IFERROR(GETPIVOTDATA(\"Summe von Energieeinsatz [MWh]\",II_Pivot!$G$3,\"ID\",C65,\"EM_Energieträger\",E65),\"\")","v":""},{"$f":"IFERROR(F65*VLOOKUP(E65,EM_Daten_u_Uebersicht!P:Q,2,FALSE),\"\")","v":""},{"$f":"IFERROR(GETPIVOTDATA(\"Summe von THG [t CO2eq]\",II_Pivot!$G$3,\"ID\",C65,\"EM_Energieträger\",E65),\"\")","v":""},"S1",null,null,null,null,null,null,null,null,null,null,null,null,null,null,null,"ii. Privat","Umgebungswärme","","",null,"","",0]
[63,8,{"$f":"VLOOKUP(B66,'II. Transport'!C:E,3,FALSE)","v":"II.3. ."},{"$f":"VLOOKUP(B66,'II. Transport'!C:G,5,FALSE)","v":"3. Schiffsverkehr"},"Kohle (Steinkohle, Braunkohle, Koks, Petrolkoks; Gichtgas, Kokereigas, Brenntorf)",{"$f":"IFERROR(GETPIVOTDATA(\"Energie\",EM_Daten_u_Uebersicht!$W$5,\"Ziel-Subsektor\",C66,\"Energieträger\",E66),\"\")","v":""},{"$f":"IFERROR(GETPIVOTDATA(\"Summe von Energieeinsatz [MWh]\",II_Pivot!$G$3,\"ID\",C66,\"EM_Energieträger\",E66),\"\")","v":""},{"$f":"IFERROR(F66*VLOOKUP(E66,EM_Daten_u_Uebersicht!P:Q,2,FALSE),\"\")","v":""},{"$f":"IFERROR(GETPIVOTDATA(\"Summe von THG [t CO2eq]\",II_Pivot!$G$3,\"ID\",C66,\"EM_Energieträger\",E66),\"\")","v":""},"S1",null,null,null,null,null,null,null,null,null,null,null,null,null,null,null,"ii. Privat","CO2-eq Direkteingabe","","",null,"","",0]
[64,8,{"$f":"VLOOKUP(B67,'II. Transport'!C:E,3,FALSE)","v":"II.3. ."},{"$f":"VLOOKUP(B67,'II. Transport'!C:G,5,FALSE)","v":"3. Schiffsverkehr"},"Öl (Heizöl, Gasöl für Heizzwecke, Diesel, Benzin, Petroleum, Flüssiggas)",{"$f":"IFERROR(GETPIVOTDATA(\"Energie\",EM_Daten_u_Uebersicht!$W$5,\"Ziel-Subsektor\",C67,\"Energieträger\",E67),\"\")","v":""},{"$f":"IFERROR(GETPIVOTDATA(\"Summe von Energieeinsatz [MWh]\",II_Pivot!$G$3,\"ID\",C67,\"EM_Energieträger\",E67),\"\")","v":""},{"$f":"IFERROR(F67*VLOOKUP(E67,EM_Daten_u_Uebersicht!P:Q,2,FALSE),\"\")","v":""},{"$f":"IFERROR(GETPIVOTDATA(\"Summe von THG [t CO2eq]\",II_Pivot!$G$3,\"ID\",C67,\"EM_Energieträger\",E67),\"\")","v":""},"S1",null,null,null,null,null,null,null,null,null,null,null,null,null,null,null,"3. Schiffsverkehr","Kohle (Steinkohle, Braunkohle, Koks, Petrolkoks; Gichtgas, Kokereigas, Brenntorf)","","",null,"","",{"$f":"IFERROR(K66,\"\")","v":0}]
[65,{"$f":"ROUNDDOWN(A68/9,0)+1","v":8},{"$f":"VLOOKUP(B68,'II. Transport'!C:E,3,FALSE)","v":"II.3. ."},{"$f":"VLOOKUP(B68,'II. Transport'!C:G,5,FALSE)","v":"3. Schiffsverkehr"},"Erdgas",{"$f":"IFERROR(GETPIVOTDATA(\"Energie\",EM_Daten_u_Uebersicht!$W$5,\"Ziel-Subsektor\",C68,\"Energieträger\",E68),\"\")","v":""},{"$f":"IFERROR(GETPIVOTDATA(\"Summe von Energieeinsatz [MWh]\",II_Pivot!$G$3,\"ID\",C68,\"EM_Energieträger\",E68),\"\")","v":""},{"$f":"IFERROR(F68*VLOOKUP(E68,EM_Daten_u_Uebersicht!P:Q,2,FALSE),\"\")","v":""},{"$f":"IFERROR(GETPIVOTDATA(\"Summe von THG [t CO2eq]\",II_Pivot!$G$3,\"ID\",C68,\"EM_Energieträger\",E68),\"\")","v":""},"S1",null,null,null,null,null,null,null,null,null,null,null,null,null,null,null,{"$f":"IFERROR(D67,\"\")","v":"3. Schiffsverkehr"},{"$f":"IFERROR(E67,\"\")","v":"Öl (Heizöl, Gasöl für Heizzwecke, Diesel, Benzin, Petroleum, Flüssiggas)"},{"$f":"IFERROR(G67,\"\")","v":""},{"$f":"IFERROR(I67,\"\")","v":""},null,{"$f":"IF(J67=\"S1\",I67,\"\")","v":""},{"$f":"IF(J67=\"S2\",I67,\"\")","v":""},0]
[66,8,{"$f":"VLOOKUP(B69,'II. Transport'!C:E,3,FALSE)","v":"II.3. ."},{"$f":"VLOOKUP(B69,'II. Transport'!C:G,5,FALSE)","v":"3. Schiffsverkehr"},"elektrische Energie",{"$f":"IFERROR(GETPIVOTDATA(\"Energie\",EM_Daten_u_Uebersicht!$W$5,\"Ziel-Subsektor\",C69,\"Energieträger\",E69),\"\")","v":""},{"$f":"IFERROR(GETPIVOTDATA(\"Summe von Energieeinsatz [MWh]\",II_Pivot!$G$3,\"ID\",C69,\"EM_Energieträger\",E69),\"\")","v":""},{"$f":"IFERROR(F69*VLOOKUP(E69,EM_Daten_u_Uebersicht!P:Q,2,FALSE),\"\")","v":""},{"$f":"IFERROR(GETPIVOTDATA(\"Summe von THG [t CO2eq]\",II_Pivot!$G$3,\"ID\",C69,\"EM_Energieträger\",E69),\"\")","v":""},"S2",{"$f":"I69/0.94-I69","v":{"$error":"#VALUE!"}},null,null,null,null,null,null,null,null,null,null,null,null,null,null,"3. Schiffsverkehr","Erdgas","","",null,"","",0]
[67,8,{"$f":"VLOOKUP(B70,'II. Transport'!C:E,3,FALSE)","v":"II.3. ."},{"$f":"VLOOKUP(B70,'II. Transport'!C:G,5,FALSE)","v":"3. Schiffsverkehr"},"Fernwärme",{"$f":"IFERROR(GETPIVOTDATA(\"Energie\",EM_Daten_u_Uebersicht!$W$5,\"Ziel-Subsektor\",C70,\"Energieträger\",E70),\"\")","v":""},{"$f":"IFERROR(GETPIVOTDATA(\"Summe von Energieeinsatz [MWh]\",II_Pivot!$G$3,\"ID\",C70,\"EM_Energieträger\",E70),\"\")","v":""},{"$f":"IFERROR(F70*VLOOKUP(E70,EM_Daten_u_Uebersicht!P:Q,2,FALSE),\"\")","v":""},{"$f":"IFERROR(GETPIVOTDATA(\"Summe von THG [t CO2eq]\",II_Pivot!$G$3,\"ID\",C70,\"EM_Energieträger\",E70),\"\")","v":""},"S2",{"$f":"I70/0.86-I70","v":{"$error":"#VALUE!"}},null,null,null,null,null,null,null,null,null,null,null,null,null,null,"3. Schiffsverkehr","elektrische Energie","","",null,"","",""]
[68,8,{"$f":"VLOOKUP(B71,'II. Transport'!C:E,3,FALSE)","v":"II.3. ."},{"$f":"VLOOKUP(B71,'II. Transport'!C:G,5,FALSE)","v":"3. Schiffsverkehr"},"Biogene Brenn- und Treibstoffe (Brennholz, biogene Brenn- und Treibstoffe)",{"$f":"IFERROR(GETPIVOTDATA(\"Energie\",EM_Daten_u_Uebersicht!$W$5,\"Ziel-Subsektor\",C71,\"Energieträger\",E71),\"\")","v":""},{"$f":"IFERROR(GETPIVOTDATA(\"Summe von Energieeinsatz [MWh]\",II_Pivot!$G$3,\"ID\",C71,\"EM_Energieträger\",E71),\"\")","v":""},{"$f":"IFERROR(F71*VLOOKUP(E71,EM_Daten_u_Uebersicht!P:Q,2,FALSE),\"\")","v":""},{"$f":"IFERROR(GETPIVOTDATA(\"Summe von THG [t CO2eq]\",II_Pivot!$G$3,\"ID\",C71,\"EM_Energieträger\",E71),\"\")","v":""},"S1",null,null,null,null,null,null,null,null,null,null,null,null,null,null,null,"3. Schiffsverkehr","Fernwärme","","",null,"","",""]
[69,8,{"$f":"VLOOKUP(B72,'II. Transport'!C:E,3,FALSE)","v":"II.3. ."},{"$f":"VLOOKUP(B72,'II. Transport'!C:G,5,FALSE)","v":"3. Schiffsverkehr"},"Brennbare Abfälle",{"$f":"IFERROR(GETPIVOTDATA(\"Energie\",EM_Daten_u_Uebersicht!$W$5,\"Ziel-Subsektor\",C72,\"Energieträger\",E72),\"\")","v":""},{"$f":"IFERROR(GETPIVOTDATA(\"Summe von Energieeinsatz [MWh]\",II_Pivot!$G$3,\"ID\",C72,\"EM_Energieträger\",E72),\"\")","v":""},{"$f":"IFERROR(F72*VLOOKUP(E72,EM_Daten_u_Uebersicht!P:Q,2,FALSE),\"\")","v":""},{"$f":"IFERROR(GETPIVOTDATA(\"Summe von THG [t CO2eq]\",II_Pivot!$G$3,\"ID\",C72,\"EM_Energieträger\",E72),\"\")","v":""},"S1",null,null,null,null,null,null,null,null,null,null,null,null,null,null,null,"3. Schiffsverkehr","Biogene Brenn- und Treibstoffe (Brennholz, biogene Brenn- und Treibstoffe)","","",null,"","",0]
[70,8,{"$f":"VLOOKUP(B73,'II. Transport'!C:E,3,FALSE)","v":"II.3. ."},{"$f":"VLOOKUP(B73,'II. Transport'!C:G,5,FALSE)","v":"3. Schiffsverkehr"},"Umgebungswärme",{"$f":"IFERROR(GETPIVOTDATA(\"Energie\",EM_Daten_u_Uebersicht!$W$5,\"Ziel-Subsektor\",C73,\"Energieträger\",E73),\"\")","v":""},{"$f":"IFERROR(GETPIVOTDATA(\"Summe von Energieeinsatz [MWh]\",II_Pivot!$G$3,\"ID\",C73,\"EM_Energieträger\",E73),\"\")","v":""},{"$f":"IFERROR(F73*VLOOKUP(E73,EM_Daten_u_Uebersicht!P:Q,2,FALSE),\"\")","v":""},{"$f":"IFERROR(GETPIVOTDATA(\"Summe von THG [t CO2eq]\",II_Pivot!$G$3,\"ID\",C73,\"EM_Energieträger\",E73),\"\")","v":""},"S1",null,null,null,null,null,null,null,null,null,null,null,null,null,null,null,"3. Schiffsverkehr","Brennbare Abfälle","","",null,"","",0]
[71,8,{"$f":"VLOOKUP(B74,'II. Transport'!C:E,3,FALSE)","v":"II.3. ."},{"$f":"VLOOKUP(B74,'II. Transport'!C:G,5,FALSE)","v":"3. Schiffsverkehr"},"CO2-eq Direkteingabe",{"$f":"IFERROR(GETPIVOTDATA(\"Energie\",EM_Daten_u_Uebersicht!$W$5,\"Ziel-Subsektor\",C74,\"Energieträger\",E74),\"\")","v":""},{"$f":"IFERROR(GETPIVOTDATA(\"Summe von Energieeinsatz [MWh]\",II_Pivot!$G$3,\"ID\",C74,\"EM_Energieträger\",E74),\"\")","v":""},{"$f":"IFERROR(F74*VLOOKUP(E74,EM_Daten_u_Uebersicht!P:Q,2,FALSE),\"\")","v":""},{"$f":"IFERROR(GETPIVOTDATA(\"Summe von THG [t CO2eq]\",II_Pivot!$G$3,\"ID\",C74,\"EM_Energieträger\",E74),\"\")","v":""},"S1",null,null,null,null,null,null,null,null,null,null,null,null,null,null,null,"3. Schiffsverkehr","Umgebungswärme","","",null,"","",0]
[72,9,{"$f":"VLOOKUP(B75,'II. Transport'!C:E,3,FALSE)","v":"II.3.i."},{"$f":"VLOOKUP(B75,'II. Transport'!C:G,5,FALSE)","v":"i. Fahrten innerhalb der Stadtgrenze"},"Kohle (Steinkohle, Braunkohle, Koks, Petrolkoks; Gichtgas, Kokereigas, Brenntorf)",{"$f":"IFERROR(GETPIVOTDATA(\"Energie\",EM_Daten_u_Uebersicht!$W$5,\"Ziel-Subsektor\",C75,\"Energieträger\",E75),\"\")","v":""},{"$f":"IFERROR(GETPIVOTDATA(\"Summe von Energieeinsatz [MWh]\",II_Pivot!$G$3,\"ID\",C75,\"EM_Energieträger\",E75),\"\")","v":""},{"$f":"IFERROR(F75*VLOOKUP(E75,EM_Daten_u_Uebersicht!P:Q,2,FALSE),\"\")","v":""},{"$f":"IFERROR(GETPIVOTDATA(\"Summe von THG [t CO2eq]\",II_Pivot!$G$3,\"ID\",C75,\"EM_Energieträger\",E75),\"\")","v":""},"S1",null,null,null,null,null,null,null,null,null,null,null,null,null,null,null,"3. Schiffsverkehr","CO2-eq Direkteingabe","","",null,"","",0]
[73,9,{"$f":"VLOOKUP(B76,'II. Transport'!C:E,3,FALSE)","v":"II.3.i."},{"$f":"VLOOKUP(B76,'II. Transport'!C:G,5,FALSE)","v":"i. Fahrten innerhalb der Stadtgrenze"},"Öl (Heizöl, Gasöl für Heizzwecke, Diesel, Benzin, Petroleum, Flüssiggas)",{"$f":"IFERROR(GETPIVOTDATA(\"Energie\",EM_Daten_u_Uebersicht!$W$5,\"Ziel-Subsektor\",C76,\"Energieträger\",E76),\"\")","v":""},{"$f":"IFERROR(GETPIVOTDATA(\"Summe von Energieeinsatz [MWh]\",II_Pivot!$G$3,\"ID\",C76,\"EM_Energieträger\",E76),\"\")","v":""},{"$f":"IFERROR(F76*VLOOKUP(E76,EM_Daten_u_Uebersicht!P:Q,2,FALSE),\"\")","v":""},{"$f":"IFERROR(GETPIVOTDATA(\"Summe von THG [t CO2eq]\",II_Pivot!$G$3,\"ID\",C76,\"EM_Energieträger\",E76),\"\")","v":""},"S1",null,null,null,null,null,null,null,null,null,null,null,null,null,null,null,"i. Fahrten innerhalb der Stadtgrenze","Kohle (Steinkohle, Braunkohle, Koks, Petrolkoks; Gichtgas, Kokereigas, Brenntorf)","","",null,"","",0]
[74,9,{"$f":"VLOOKUP(B77,'II. Transport'!C:E,3,FALSE)","v":"II.3.i."},{"$f":"VLOOKUP(B77,'II. Transport'!C:G,5,FALSE)","v":"i. Fahrten innerhalb der Stadtgrenze"},{"$f":"E68","v":"Erdgas"},{"$f":"IFERROR(GETPIVOTDATA(\"Energie\",EM_Daten_u_Uebersicht!$W$5,\"Ziel-Subsektor\",C77,\"Energieträger\",E77),\"\")","v":""},{"$f":"IFERROR(GETPIVOTDATA(\"Summe von Energieeinsatz [MWh]\",II_Pivot!$G$3,\"ID\",C77,\"EM_Energieträger\",E77),\"\")","v":""},{"$f":"IFERROR(F77*VLOOKUP(E77,EM_Daten_u_Uebersicht!P:Q,2,FALSE),\"\")","v":""},{"$f":"IFERROR(GETPIVOTDATA(\"Summe von THG [t CO2eq]\",II_Pivot!$G$3,\"ID\",C77,\"EM_Energieträger\",E77),\"\")","v":""},"S1",null,null,null,null,null,null,null,null,null,null,null,null,null,null,null,"i. Fahrten innerhalb der Stadtgrenze","Öl (Heizöl, Gasöl für Heizzwecke, Diesel, Benzin, Petroleum, Flüssiggas)","","",null,"","",0]
[75,9,{"$f":"VLOOKUP(B78,'II. Transport'!C:E,3,FALSE)","v":"II.3.i."},{"$f":"VLOOKUP(B78,'II. Transport'!C:G,5,FALSE)","v":"i. Fahrten innerhalb der Stadtgrenze"},"elektrische Energie",{"$f":"IFERROR(GETPIVOTDATA(\"Energie\",EM_Daten_u_Uebersicht!$W$5,\"Ziel-Subsektor\",C78,\"Energieträger\",E78),\"\")","v":""},{"$f":"IFERROR(GETPIVOTDATA(\"Summe von Energieeinsatz [MWh]\",II_Pivot!$G$3,\"ID\",C78,\"EM_Energieträger\",E78),\"\")","v":""},{"$f":"IFERROR(F78*VLOOKUP(E78,EM_Daten_u_Uebersicht!P:Q,2,FALSE),\"\")","v":""},{"$f":"IFERROR(GETPIVOTDATA(\"Summe von THG [t CO2eq]\",II_Pivot!$G$3,\"ID\",C78,\"EM_Energieträger\",E78),\"\")","v":""},"S2",{"$f":"I78/0.94-I78","v":{"$error":"#VALUE!"}},null,null,null,null,null,null,null,null,null,null,null,null,null,null,"i. Fahrten innerhalb der Stadtgrenze","Erdgas","","",null,"","",0]
[76,9,{"$f":"VLOOKUP(B79,'II. Transport'!C:E,3,FALSE)","v":"II.3.i."},{"$f":"VLOOKUP(B79,'II. Transport'!C:G,5,FALSE)","v":"i. Fahrten innerhalb der Stadtgrenze"},"Fernwärme",{"$f":"IFERROR(GETPIVOTDATA(\"Energie\",EM_Daten_u_Uebersicht!$W$5,\"Ziel-Subsektor\",C79,\"Energieträger\",E79),\"\")","v":""},{"$f":"IFERROR(GETPIVOTDATA(\"Summe von Energieeinsatz [MWh]\",II_Pivot!$G$3,\"ID\",C79,\"EM_Energieträger\",E79),\"\")","v":""},{"$f":"IFERROR(F79*VLOOKUP(E79,EM_Daten_u_Uebersicht!P:Q,2,FALSE),\"\")","v":""},{"$f":"IFERROR(GETPIVOTDATA(\"Summe von THG [t CO2eq]\",II_Pivot!$G$3,\"ID\",C79,\"EM_Energieträger\",E79),\"\")","v":""},"S2",{"$f":"I79/0.86-I79","v":{"$error":"#VALUE!"}},null,null,null,null,null,null,null,null,null,null,null,null,null,null,"i. Fahrten innerhalb der Stadtgrenze","elektrische Energie","","",null,"","",""]
[77,9,{"$f":"VLOOKUP(B80,'II. Transport'!C:E,3,FALSE)","v":"II.3.i."},{"$f":"VLOOKUP(B80,'II. Transport'!C:G,5,FALSE)","v":"i. Fahrten innerhalb der Stadtgrenze"},"Biogene Brenn- und Treibstoffe (Brennholz, biogene Brenn- und Treibstoffe)",{"$f":"IFERROR(GETPIVOTDATA(\"Energie\",EM_Daten_u_Uebersicht!$W$5,\"Ziel-Subsektor\",C80,\"Energieträger\",E80),\"\")","v":""},{"$f":"IFERROR(GETPIVOTDATA(\"Summe von Energieeinsatz [MWh]\",II_Pivot!$G$3,\"ID\",C80,\"EM_Energieträger\",E80),\"\")","v":""},{"$f":"IFERROR(F80*VLOOKUP(E80,EM_Daten_u_Uebersicht!P:Q,2,FALSE),\"\")","v":""},{"$f":"IFERROR(GETPIVOTDATA(\"Summe von THG [t CO2eq]\",II_Pivot!$G$3,\"ID\",C80,\"EM_Energieträger\",E80),\"\")","v":""},"S1",null,null,null,null,null,null,null,null,null,null,null,null,null,null,null,"i. Fahrten innerhalb der Stadtgrenze","Fernwärme","","",null,"","",""]
[78,9,{"$f":"VLOOKUP(B81,'II. Transport'!C:E,3,FALSE)","v":"II.3.i."},{"$f":"VLOOKUP(B81,'II. Transport'!C:G,5,FALSE)","v":"i. Fahrten innerhalb der Stadtgrenze"},"Brennbare Abfälle",{"$f":"IFERROR(GETPIVOTDATA(\"Energie\",EM_Daten_u_Uebersicht!$W$5,\"Ziel-Subsektor\",C81,\"Energieträger\",E81),\"\")","v":""},{"$f":"IFERROR(GETPIVOTDATA(\"Summe von Energieeinsatz [MWh]\",II_Pivot!$G$3,\"ID\",C81,\"EM_Energieträger\",E81),\"\")","v":""},{"$f":"IFERROR(F81*VLOOKUP(E81,EM_Daten_u_Uebersicht!P:Q,2,FALSE),\"\")","v":""},{"$f":"IFERROR(GETPIVOTDATA(\"Summe von THG [t CO2eq]\",II_Pivot!$G$3,\"ID\",C81,\"EM_Energieträger\",E81),\"\")","v":""},"S1",null,null,null,null,null,null,null,null,null,null,null,null,null,null,null,"i. Fahrten innerhalb der Stadtgrenze","Biogene Brenn- und Treibstoffe (Brennholz, biogene Brenn- und Treibstoffe)","","",null,"","",0]
[79,9,{"$f":"VLOOKUP(B82,'II. Transport'!C:E,3,FALSE)","v":"II.3.i."},{"$f":"VLOOKUP(B82,'II. Transport'!C:G,5,FALSE)","v":"i. Fahrten innerhalb der Stadtgrenze"},"Umgebungswärme",{"$f":"IFERROR(GETPIVOTDATA(\"Energie\",EM_Daten_u_Uebersicht!$W$5,\"Ziel-Subsektor\",C82,\"Energieträger\",E82),\"\")","v":""},{"$f":"IFERROR(GETPIVOTDATA(\"Summe von Energieeinsatz [MWh]\",II_Pivot!$G$3,\"ID\",C82,\"EM_Energieträger\",E82),\"\")","v":""},{"$f":"IFERROR(F82*VLOOKUP(E82,EM_Daten_u_Uebersicht!P:Q,2,FALSE),\"\")","v":""},{"$f":"IFERROR(GETPIVOTDATA(\"Summe von THG [t CO2eq]\",II_Pivot!$G$3,\"ID\",C82,\"EM_Energieträger\",E82),\"\")","v":""},"S1",null,null,null,null,null,null,null,null,null,null,null,null,null,null,null,"i. Fahrten innerhalb der Stadtgrenze","Brennbare Abfälle","","",null,"","",0]
[80,9,{"$f":"VLOOKUP(B83,'II. Transport'!C:E,3,FALSE)","v":"II.3.i."},{"$f":"VLOOKUP(B83,'II. Transport'!C:G,5,FALSE)","v":"i. Fahrten innerhalb der Stadtgrenze"},"CO2-eq Direkteingabe",{"$f":"IFERROR(GETPIVOTDATA(\"Energie\",EM_Daten_u_Uebersicht!$W$5,\"Ziel-Subsektor\",C83,\"Energieträger\",E83),\"\")","v":""},{"$f":"IFERROR(GETPIVOTDATA(\"Summe von Energieeinsatz [MWh]\",II_Pivot!$G$3,\"ID\",C83,\"EM_Energieträger\",E83),\"\")","v":""},{"$f":"IFERROR(F83*VLOOKUP(E83,EM_Daten_u_Uebersicht!P:Q,2,FALSE),\"\")","v":""},{"$f":"IFERROR(GETPIVOTDATA(\"Summe von THG [t CO2eq]\",II_Pivot!$G$3,\"ID\",C83,\"EM_Energieträger\",E83),\"\")","v":""},"S1",null,null,null,null,null,null,null,null,null,null,null,null,null,null,null,"i. Fahrten innerhalb der Stadtgrenze","Umgebungswärme","","",null,"","",0]
[81,10,{"$f":"VLOOKUP(B84,'II. Transport'!C:E,3,FALSE)","v":"II.3.ii."},{"$f":"VLOOKUP(B84,'II. Transport'!C:G,5,FALSE)","v":"ii. Grenzüberschreitendes Ablegen"},"Kohle (Steinkohle, Braunkohle, Koks, Petrolkoks; Gichtgas, Kokereigas, Brenntorf)",{"$f":"IFERROR(GETPIVOTDATA(\"Energie\",EM_Daten_u_Uebersicht!$W$5,\"Ziel-Subsektor\",C84,\"Energieträger\",E84),\"\")","v":""},{"$f":"IFERROR(GETPIVOTDATA(\"Summe von Energieeinsatz [MWh]\",II_Pivot!$G$3,\"ID\",C84,\"EM_Energieträger\",E84),\"\")","v":""},{"$f":"IFERROR(F84*VLOOKUP(E84,EM_Daten_u_Uebersicht!P:Q,2,FALSE),\"\")","v":""},{"$f":"IFERROR(GETPIVOTDATA(\"Summe von THG [t CO2eq]\",II_Pivot!$G$3,\"ID\",C84,\"EM_Energieträger\",E84),\"\")","v":""},"S1",null,null,null,null,null,null,null,null,null,null,null,null,null,null,null,"i. Fahrten innerhalb der Stadtgrenze","CO2-eq Direkteingabe","","",null,"","",0]
[82,10,{"$f":"VLOOKUP(B85,'II. Transport'!C:E,3,FALSE)","v":"II.3.ii."},{"$f":"VLOOKUP(B85,'II. Transport'!C:G,5,FALSE)","v":"ii. Grenzüberschreitendes Ablegen"},"Öl (Heizöl, Gasöl für Heizzwecke, Diesel, Benzin, Petroleum, Flüssiggas)",{"$f":"IFERROR(GETPIVOTDATA(\"Energie\",EM_Daten_u_Uebersicht!$W$5,\"Ziel-Subsektor\",C85,\"Energieträger\",E85),\"\")","v":""},{"$f":"IFERROR(GETPIVOTDATA(\"Summe von Energieeinsatz [MWh]\",II_Pivot!$G$3,\"ID\",C85,\"EM_Energieträger\",E85),\"\")","v":""},{"$f":"IFERROR(F85*VLOOKUP(E85,EM_Daten_u_Uebersicht!P:Q,2,FALSE),\"\")","v":""},{"$f":"IFERROR(GETPIVOTDATA(\"Summe von THG [t CO2eq]\",II_Pivot!$G$3,\"ID\",C85,\"EM_Energieträger\",E85),\"\")","v":""},"S1",null,null,null,null,null,null,null,null,null,null,null,null,null,null,null,"ii. Grenzüberschreitendes Ablegen","Kohle (Steinkohle, Braunkohle, Koks, Petrolkoks; Gichtgas, Kokereigas, Brenntorf)","","",null,"","",0]
[83,10,{"$f":"VLOOKUP(B86,'II. Transport'!C:E,3,FALSE)","v":"II.3.ii."},{"$f":"VLOOKUP(B86,'II. Transport'!C:G,5,FALSE)","v":"ii. Grenzüberschreitendes Ablegen"},"Erdgas",{"$f":"IFERROR(GETPIVOTDATA(\"Energie\",EM_Daten_u_Uebersicht!$W$5,\"Ziel-Subsektor\",C86,\"Energieträger\",E86),\"\")","v":""},{"$f":"IFERROR(GETPIVOTDATA(\"Summe von Energieeinsatz [MWh]\",II_Pivot!$G$3,\"ID\",C86,\"EM_Energieträger\",E86),\"\")","v":""},{"$f":"IFERROR(F86*VLOOKUP(E86,EM_Daten_u_Uebersicht!P:Q,2,FALSE),\"\")","v":""},{"$f":"IFERROR(GETPIVOTDATA(\"Summe von THG [t CO2eq]\",II_Pivot!$G$3,\"ID\",C86,\"EM_Energieträger\",E86),\"\")","v":""},"S1",null,null,null,null,null,null,null,null,null,null,null,null,null,null,null,"ii. Grenzüberschreitendes Ablegen","Öl (Heizöl, Gasöl für Heizzwecke, Diesel, Benzin, Petroleum, Flüssiggas)","","",null,"","",0]
[84,10,{"$f":"VLOOKUP(B87,'II. Transport'!C:E,3,FALSE)","v":"II.3.ii."},{"$f":"VLOOKUP(B87,'II. Transport'!C:G,5,FALSE)","v":"ii. Grenzüberschreitendes Ablegen"},"elektrische Energie",{"$f":"IFERROR(GETPIVOTDATA(\"Energie\",EM_Daten_u_Uebersicht!$W$5,\"Ziel-Subsektor\",C87,\"Energieträger\",E87),\"\")","v":""},{"$f":"IFERROR(GETPIVOTDATA(\"Summe von Energieeinsatz [MWh]\",II_Pivot!$G$3,\"ID\",C87,\"EM_Energieträger\",E87),\"\")","v":""},{"$f":"IFERROR(F87*VLOOKUP(E87,EM_Daten_u_Uebersicht!P:Q,2,FALSE),\"\")","v":""},{"$f":"IFERROR(GETPIVOTDATA(\"Summe von THG [t CO2eq]\",II_Pivot!$G$3,\"ID\",C87,\"EM_Energieträger\",E87),\"\")","v":""},"S2",{"$f":"I87/0.94-I87","v":{"$error":"#VALUE!"}},null,null,null,null,null,null,null,null,null,null,null,null,null,null,"ii. Grenzüberschreitendes Ablegen","Erdgas","","",null,"","",0]
[85,10,{"$f":"VLOOKUP(B88,'II. Transport'!C:E,3,FALSE)","v":"II.3.ii."},{"$f":"VLOOKUP(B88,'II. Transport'!C:G,5,FALSE)","v":"ii. Grenzüberschreitendes Ablegen"},"Fernwärme",{"$f":"IFERROR(GETPIVOTDATA(\"Energie\",EM_Daten_u_Uebersicht!$W$5,\"Ziel-Subsektor\",C88,\"Energieträger\",E88),\"\")","v":""},{"$f":"IFERROR(GETPIVOTDATA(\"Summe von Energieeinsatz [MWh]\",II_Pivot!$G$3,\"ID\",C88,\"EM_Energieträger\",E88),\"\")","v":""},{"$f":"IFERROR(F88*VLOOKUP(E88,EM_Daten_u_Uebersicht!P:Q,2,FALSE),\"\")","v":""},{"$f":"IFERROR(GETPIVOTDATA(\"Summe von THG [t CO2eq]\",II_Pivot!$G$3,\"ID\",C88,\"EM_Energieträger\",E88),\"\")","v":""},"S2",{"$f":"I88/0.86-I88","v":{"$error":"#VALUE!"}},null,null,null,null,null,null,null,null,null,null,null,null,null,null,"ii. Grenzüberschreitendes Ablegen","elektrische Energie","","",null,"","",""]
[86,10,{"$f":"VLOOKUP(B89,'II. Transport'!C:E,3,FALSE)","v":"II.3.ii."},{"$f":"VLOOKUP(B89,'II. Transport'!C:G,5,FALSE)","v":"ii. Grenzüberschreitendes Ablegen"},"Biogene Brenn- und Treibstoffe (Brennholz, biogene Brenn- und Treibstoffe)",{"$f":"IFERROR(GETPIVOTDATA(\"Energie\",EM_Daten_u_Uebersicht!$W$5,\"Ziel-Subsektor\",C89,\"Energieträger\",E89),\"\")","v":""},{"$f":"IFERROR(GETPIVOTDATA(\"Summe von Energieeinsatz [MWh]\",II_Pivot!$G$3,\"ID\",C89,\"EM_Energieträger\",E89),\"\")","v":""},{"$f":"IFERROR(F89*VLOOKUP(E89,EM_Daten_u_Uebersicht!P:Q,2,FALSE),\"\")","v":""},{"$f":"IFERROR(GETPIVOTDATA(\"Summe von THG [t CO2eq]\",II_Pivot!$G$3,\"ID\",C89,\"EM_Energieträger\",E89),\"\")","v":""},"S1",null,null,null,null,null,null,null,null,null,null,null,null,null,null,null,"ii. Grenzüberschreitendes Ablegen","Fernwärme","","",null,"","",""]
[87,10,{"$f":"VLOOKUP(B90,'II. Transport'!C:E,3,FALSE)","v":"II.3.ii."},{"$f":"VLOOKUP(B90,'II. Transport'!C:G,5,FALSE)","v":"ii. Grenzüberschreitendes Ablegen"},"Brennbare Abfälle",{"$f":"IFERROR(GETPIVOTDATA(\"Energie\",EM_Daten_u_Uebersicht!$W$5,\"Ziel-Subsektor\",C90,\"Energieträger\",E90),\"\")","v":""},{"$f":"IFERROR(GETPIVOTDATA(\"Summe von Energieeinsatz [MWh]\",II_Pivot!$G$3,\"ID\",C90,\"EM_Energieträger\",E90),\"\")","v":""},{"$f":"IFERROR(F90*VLOOKUP(E90,EM_Daten_u_Uebersicht!P:Q,2,FALSE),\"\")","v":""},{"$f":"IFERROR(GETPIVOTDATA(\"Summe von THG [t CO2eq]\",II_Pivot!$G$3,\"ID\",C90,\"EM_Energieträger\",E90),\"\")","v":""},"S1",null,null,null,null,null,null,null,null,null,null,null,null,null,null,null,"ii. Grenzüberschreitendes Ablegen","Biogene Brenn- und Treibstoffe (Brennholz, biogene Brenn- und Treibstoffe)","","",null,"","",0]
[88,10,{"$f":"VLOOKUP(B91,'II. Transport'!C:E,3,FALSE)","v":"II.3.ii."},{"$f":"VLOOKUP(B91,'II. Transport'!C:G,5,FALSE)","v":"ii. Grenzüberschreitendes Ablegen"},"Umgebungswärme",{"$f":"IFERROR(GETPIVOTDATA(\"Energie\",EM_Daten_u_Uebersicht!$W$5,\"Ziel-Subsektor\",C91,\"Energieträger\",E91),\"\")","v":""},{"$f":"IFERROR(GETPIVOTDATA(\"Summe von Energieeinsatz [MWh]\",II_Pivot!$G$3,\"ID\",C91,\"EM_Energieträger\",E91),\"\")","v":""},{"$f":"IFERROR(F91*VLOOKUP(E91,EM_Daten_u_Uebersicht!P:Q,2,FALSE),\"\")","v":""},{"$f":"IFERROR(GETPIVOTDATA(\"Summe von THG [t CO2eq]\",II_Pivot!$G$3,\"ID\",C91,\"EM_Energieträger\",E91),\"\")","v":""},"S1",null,null,null,null,null,null,null,null,null,null,null,null,null,null,null,"ii. Grenzüberschreitendes Ablegen","Brennbare Abfälle","","",null,"","",0]
[89,10,{"$f":"VLOOKUP(B92,'II. Transport'!C:E,3,FALSE)","v":"II.3.ii."},{"$f":"VLOOKUP(B92,'II. Transport'!C:G,5,FALSE)","v":"ii. Grenzüberschreitendes Ablegen"},"CO2-eq Direkteingabe",{"$f":"IFERROR(GETPIVOTDATA(\"Energie\",EM_Daten_u_Uebersicht!$W$5,\"Ziel-Subsektor\",C92,\"Energieträger\",E92),\"\")","v":""},{"$f":"IFERROR(GETPIVOTDATA(\"Summe von Energieeinsatz [MWh]\",II_Pivot!$G$3,\"ID\",C92,\"EM_Energieträger\",E92),\"\")","v":""},{"$f":"IFERROR(F92*VLOOKUP(E92,EM_Daten_u_Uebersicht!P:Q,2,FALSE),\"\")","v":""},{"$f":"IFERROR(GETPIVOTDATA(\"Summe von THG [t CO2eq]\",II_Pivot!$G$3,\"ID\",C92,\"EM_Energieträger\",E92),\"\")","v":""},"S1",null,null,null,null,null,null,null,null,null,null,null,null,null,null,null,"ii. Grenzüberschreitendes Ablegen","Umgebungswärme","","",null,"","",0]
[90,11,{"$f":"VLOOKUP(B93,'II. Transport'!C:E,3,FALSE)","v":"II.3.iii."},{"$f":"VLOOKUP(B93,'II. Transport'!C:G,5,FALSE)","v":"iii. andere"},"Kohle (Steinkohle, Braunkohle, Koks, Petrolkoks; Gichtgas, Kokereigas, Brenntorf)",{"$f":"IFERROR(GETPIVOTDATA(\"Energie\",EM_Daten_u_Uebersicht!$W$5,\"Ziel-Subsektor\",C93,\"Energieträger\",E93),\"\")","v":""},{"$f":"IFERROR(GETPIVOTDATA(\"Summe von Energieeinsatz [MWh]\",II_Pivot!$G$3,\"ID\",C93,\"EM_Energieträger\",E93),\"\")","v":""},{"$f":"IFERROR(F93*VLOOKUP(E93,EM_Daten_u_Uebersicht!P:Q,2,FALSE),\"\")","v":""},{"$f":"IFERROR(GETPIVOTDATA(\"Summe von THG [t CO2eq]\",II_Pivot!$G$3,\"ID\",C93,\"EM_Energieträger\",E93),\"\")","v":""},"S1",null,null,null,null,null,null,null,null,null,null,null,null,null,null,null,"ii. Grenzüberschreitendes Ablegen","CO2-eq Direkteingabe","","",null,"","",0]
[91,11,{"$f":"VLOOKUP(B94,'II. Transport'!C:E,3,FALSE)","v":"II.3.iii."},{"$f":"VLOOKUP(B94,'II. Transport'!C:G,5,FALSE)","v":"iii. andere"},"Öl (Heizöl, Gasöl für Heizzwecke, Diesel, Benzin, Petroleum, Flüssiggas)",{"$f":"IFERROR(GETPIVOTDATA(\"Energie\",EM_Daten_u_Uebersicht!$W$5,\"Ziel-Subsektor\",C94,\"Energieträger\",E94),\"\")","v":""},{"$f":"IFERROR(GETPIVOTDATA(\"Summe von Energieeinsatz [MWh]\",II_Pivot!$G$3,\"ID\",C94,\"EM_Energieträger\",E94),\"\")","v":""},{"$f":"IFERROR(F94*VLOOKUP(E94,EM_Daten_u_Uebersicht!P:Q,2,FALSE),\"\")","v":""},{"$f":"IFERROR(GETPIVOTDATA(\"Summe von THG [t CO2eq]\",II_Pivot!$G$3,\"ID\",C94,\"EM_Energieträger\",E94),\"\")","v":""},"S1",null,null,null,null,null,null,null,null,null,null,null,null,null,null,null,"iii. andere","Kohle (Steinkohle, Braunkohle, Koks, Petrolkoks; Gichtgas, Kokereigas, Brenntorf)","","",null,"","",0]
[92,11,{"$f":"VLOOKUP(B95,'II. Transport'!C:E,3,FALSE)","v":"II.3.iii."},{"$f":"VLOOKUP(B95,'II. Transport'!C:G,5,FALSE)","v":"iii. andere"},"Erdgas",{"$f":"IFERROR(GETPIVOTDATA(\"Energie\",EM_Daten_u_Uebersicht!$W$5,\"Ziel-Subsektor\",C95,\"Energieträger\",E95),\"\")","v":""},{"$f":"IFERROR(GETPIVOTDATA(\"Summe von Energieeinsatz [MWh]\",II_Pivot!$G$3,\"ID\",C95,\"EM_Energieträger\",E95),\"\")","v":""},{"$f":"IFERROR(F95*VLOOKUP(E95,EM_Daten_u_Uebersicht!P:Q,2,FALSE),\"\")","v":""},{"$f":"IFERROR(GETPIVOTDATA(\"Summe von THG [t CO2eq]\",II_Pivot!$G$3,\"ID\",C95,\"EM_Energieträger\",E95),\"\")","v":""},"S1",null,null,null,null,null,null,null,null,null,null,null,null,null,null,null,"iii. andere","Öl (Heizöl, Gasöl für Heizzwecke, Diesel, Benzin, Petroleum, Flüssiggas)","","",null,"","",0]
[93,11,{"$f":"VLOOKUP(B96,'II. Transport'!C:E,3,FALSE)","v":"II.3.iii."},{"$f":"VLOOKUP(B96,'II. Transport'!C:G,5,FALSE)","v":"iii. andere"},"elektrische Energie",{"$f":"IFERROR(GETPIVOTDATA(\"Energie\",EM_Daten_u_Uebersicht!$W$5,\"Ziel-Subsektor\",C96,\"Energieträger\",E96),\"\")","v":""},{"$f":"IFERROR(GETPIVOTDATA(\"Summe von Energieeinsatz [MWh]\",II_Pivot!$G$3,\"ID\",C96,\"EM_Energieträger\",E96),\"\")","v":""},{"$f":"IFERROR(F96*VLOOKUP(E96,EM_Daten_u_Uebersicht!P:Q,2,FALSE),\"\")","v":""},{"$f":"IFERROR(GETPIVOTDATA(\"Summe von THG [t CO2eq]\",II_Pivot!$G$3,\"ID\",C96,\"EM_Energieträger\",E96),\"\")","v":""},"S2",{"$f":"I96/0.94-I96","v":{"$error":"#VALUE!"}},null,null,null,null,null,null,null,null,null,null,null,null,null,null,"iii. andere","Erdgas","","",null,"","",0]
[94,11,{"$f":"VLOOKUP(B97,'II. Transport'!C:E,3,FALSE)","v":"II.3.iii."},{"$f":"VLOOKUP(B97,'II. Transport'!C:G,5,FALSE)","v":"iii. andere"},"Fernwärme",{"$f":"IFERROR(GETPIVOTDATA(\"Energie\",EM_Daten_u_Uebersicht!$W$5,\"Ziel-Subsektor\",C97,\"Energieträger\",E97),\"\")","v":""},{"$f":"IFERROR(GETPIVOTDATA(\"Summe von Energieeinsatz [MWh]\",II_Pivot!$G$3,\"ID\",C97,\"EM_Energieträger\",E97),\"\")","v":""},{"$f":"IFERROR(F97*VLOOKUP(E97,EM_Daten_u_Uebersicht!P:Q,2,FALSE),\"\")","v":""},{"$f":"IFERROR(GETPIVOTDATA(\"Summe von THG [t CO2eq]\",II_Pivot!$G$3,\"ID\",C97,\"EM_Energieträger\",E97),\"\")","v":""},"S2",{"$f":"I97/0.86-I97","v":{"$error":"#VALUE!"}},null,null,null,null,null,null,null,null,null,null,null,null,null,null,"iii. andere","elektrische Energie","","",null,"","",""]
[95,11,{"$f":"VLOOKUP(B98,'II. Transport'!C:E,3,FALSE)","v":"II.3.iii."},{"$f":"VLOOKUP(B98,'II. Transport'!C:G,5,FALSE)","v":"iii. andere"},"Biogene Brenn- und Treibstoffe (Brennholz, biogene Brenn- und Treibstoffe)",{"$f":"IFERROR(GETPIVOTDATA(\"Energie\",EM_Daten_u_Uebersicht!$W$5,\"Ziel-Subsektor\",C98,\"Energieträger\",E98),\"\")","v":""},{"$f":"IFERROR(GETPIVOTDATA(\"Summe von Energieeinsatz [MWh]\",II_Pivot!$G$3,\"ID\",C98,\"EM_Energieträger\",E98),\"\")","v":""},{"$f":"IFERROR(F98*VLOOKUP(E98,EM_Daten_u_Uebersicht!P:Q,2,FALSE),\"\")","v":""},{"$f":"IFERROR(GETPIVOTDATA(\"Summe von THG [t CO2eq]\",II_Pivot!$G$3,\"ID\",C98,\"EM_Energieträger\",E98),\"\")","v":""},"S1",null,null,null,null,null,null,null,null,null,null,null,null,null,null,null,"iii. andere","Fernwärme","","",null,"","",""]
[96,11,{"$f":"VLOOKUP(B99,'II. Transport'!C:E,3,FALSE)","v":"II.3.iii."},{"$f":"VLOOKUP(B99,'II. Transport'!C:G,5,FALSE)","v":"iii. andere"},"Brennbare Abfälle",{"$f":"IFERROR(GETPIVOTDATA(\"Energie\",EM_Daten_u_Uebersicht!$W$5,\"Ziel-Subsektor\",C99,\"Energieträger\",E99),\"\")","v":""},{"$f":"IFERROR(GETPIVOTDATA(\"Summe von Energieeinsatz [MWh]\",II_Pivot!$G$3,\"ID\",C99,\"EM_Energieträger\",E99),\"\")","v":""},{"$f":"IFERROR(F99*VLOOKUP(E99,EM_Daten_u_Uebersicht!P:Q,2,FALSE),\"\")","v":""},{"$f":"IFERROR(GETPIVOTDATA(\"Summe von THG [t CO2eq]\",II_Pivot!$G$3,\"ID\",C99,\"EM_Energieträger\",E99),\"\")","v":""},"S1",null,null,null,null,null,null,null,null,null,null,null,null,null,null,null,"iii. andere","Biogene Brenn- und Treibstoffe (Brennholz, biogene Brenn- und Treibstoffe)","","",null,"","",{"$f":"IFERROR(K98,\"\")","v":0}]
[97,11,{"$f":"VLOOKUP(B100,'II. Transport'!C:E,3,FALSE)","v":"II.3.iii."},{"$f":"VLOOKUP(B100,'II. Transport'!C:G,5,FALSE)","v":"iii. andere"},"Umgebungswärme",{"$f":"IFERROR(GETPIVOTDATA(\"Energie\",EM_Daten_u_Uebersicht!$W$5,\"Ziel-Subsektor\",C100,\"Energieträger\",E100),\"\")","v":""},{"$f":"IFERROR(GETPIVOTDATA(\"Summe von Energieeinsatz [MWh]\",II_Pivot!$G$3,\"ID\",C100,\"EM_Energieträger\",E100),\"\")","v":""},{"$f":"IFERROR(F100*VLOOKUP(E100,EM_Daten_u_Uebersicht!P:Q,2,FALSE),\"\")","v":""},{"$f":"IFERROR(GETPIVOTDATA(\"Summe von THG [t CO2eq]\",II_Pivot!$G$3,\"ID\",C100,\"EM_Energieträger\",E100),\"\")","v":""},"S1",null,null,null,null,null,null,null,null,null,null,null,null,null,null,null,"iii. andere","Brennbare Abfälle","","",null,{"$f":"IF(J99=\"S1\",I99,\"\")","v":""},{"$f":"IF(J99=\"S2\",I99,\"\")","v":""},0]
[98,11,{"$f":"VLOOKUP(B101,'II. Transport'!C:E,3,FALSE)","v":"II.3.iii."},{"$f":"VLOOKUP(B101,'II. Transport'!C:G,5,FALSE)","v":"iii. andere"},"CO2-eq Direkteingabe",{"$f":"IFERROR(GETPIVOTDATA(\"Energie\",EM_Daten_u_Uebersicht!$W$5,\"Ziel-Subsektor\",C101,\"Energieträger\",E101),\"\")","v":""},{"$f":"IFERROR(GETPIVOTDATA(\"Summe von Energieeinsatz [MWh]\",II_Pivot!$G$3,\"ID\",C101,\"EM_Energieträger\",E101),\"\")","v":""},{"$f":"IFERROR(F101*VLOOKUP(E101,EM_Daten_u_Uebersicht!P:Q,2,FALSE),\"\")","v":""},{"$f":"IFERROR(GETPIVOTDATA(\"Summe von THG [t CO2eq]\",II_Pivot!$G$3,\"ID\",C101,\"EM_Energieträger\",E101),\"\")","v":""},"S1",null,null,null,null,null,null,null,null,null,null,null,null,null,null,null,"iii. andere","Umgebungswärme","","",null,"","",0]
[99,12,{"$f":"VLOOKUP(B102,'II. Transport'!C:E,3,FALSE)","v":"II.4. ."},{"$f":"VLOOKUP(B102,'II. Transport'!C:G,5,FALSE)","v":"4. Flug"},"Kohle (Steinkohle, Braunkohle, Koks, Petrolkoks; Gichtgas, Kokereigas, Brenntorf)",{"$f":"IFERROR(GETPIVOTDATA(\"Energie\",EM_Daten_u_Uebersicht!$W$5,\"Ziel-Subsektor\",C102,\"Energieträger\",E102),\"\")","v":""},{"$f":"IFERROR(GETPIVOTDATA(\"Summe von Energieeinsatz [MWh]\",II_Pivot!$G$3,\"ID\",C102,\"EM_Energieträger\",E102),\"\")","v":""},{"$f":"IFERROR(F102*VLOOKUP(E102,EM_Daten_u_Uebersicht!P:Q,2,FALSE),\"\")","v":""},{"$f":"IFERROR(GETPIVOTDATA(\"Summe von THG [t CO2eq]\",II_Pivot!$G$3,\"ID\",C102,\"EM_Energieträger\",E102),\"\")","v":""},"S1",null,null,null,null,null,null,null,null,null,null,null,null,null,null,null,"iii. andere","CO2-eq Direkteingabe","","",null,"","",0]
[100,12,{"$f":"VLOOKUP(B103,'II. Transport'!C:E,3,FALSE)","v":"II.4. ."},{"$f":"VLOOKUP(B103,'II. Transport'!C:G,5,FALSE)","v":"4. Flug"},"Öl (Heizöl, Gasöl für Heizzwecke, Diesel, Benzin, Petroleum, Flüssiggas)",{"$f":"IFERROR(GETPIVOTDATA(\"Energie\",EM_Daten_u_Uebersicht!$W$5,\"Ziel-Subsektor\",C103,\"Energieträger\",E103),\"\")","v":""},{"$f":"IFERROR(GETPIVOTDATA(\"Summe von Energieeinsatz [MWh]\",II_Pivot!$G$3,\"ID\",C103,\"EM_Energieträger\",E103),\"\")","v":""},{"$f":"IFERROR(F103*VLOOKUP(E103,EM_Daten_u_Uebersicht!P:Q,2,FALSE),\"\")","v":""},{"$f":"IFERROR(GETPIVOTDATA(\"Summe von THG [t CO2eq]\",II_Pivot!$G$3,\"ID\",C103,\"EM_Energieträger\",E103),\"\")","v":""},"S1",null,null,null,null,null,null,null,null,null,null,null,null,null,null,null,"4. Flug","Kohle (Steinkohle, Braunkohle, Koks, Petrolkoks; Gichtgas, Kokereigas, Brenntorf)","","",null,"","",0]
[101,12,{"$f":"VLOOKUP(B104,'II. Transport'!C:E,3,FALSE)","v":"II.4. ."},{"$f":"VLOOKUP(B104,'II. Transport'!C:G,5,FALSE)","v":"4. Flug"},"Erdgas",{"$f":"IFERROR(GETPIVOTDATA(\"Energie\",EM_Daten_u_Uebersicht!$W$5,\"Ziel-Subsektor\",C104,\"Energieträger\",E104),\"\")","v":""},{"$f":"IFERROR(GETPIVOTDATA(\"Summe von Energieeinsatz [MWh]\",II_Pivot!$G$3,\"ID\",C104,\"EM_Energieträger\",E104),\"\")","v":""},{"$f":"IFERROR(F104*VLOOKUP(E104,EM_Daten_u_Uebersicht!P:Q,2,FALSE),\"\")","v":""},{"$f":"IFERROR(GETPIVOTDATA(\"Summe von THG [t CO2eq]\",II_Pivot!$G$3,\"ID\",C104,\"EM_Energieträger\",E104),\"\")","v":""},"S1",null,null,null,null,null,null,null,null,null,null,null,null,null,null,null,"4. Flug","Öl (Heizöl, Gasöl für Heizzwecke, Diesel, Benzin, Petroleum, Flüssiggas)","","",null,"","",0]
[102,12,{"$f":"VLOOKUP(B105,'II. Transport'!C:E,3,FALSE)","v":"II.4. ."},{"$f":"VLOOKUP(B105,'II. Transport'!C:G,5,FALSE)","v":"4. Flug"},"elektrische Energie",{"$f":"IFERROR(GETPIVOTDATA(\"Energie\",EM_Daten_u_Uebersicht!$W$5,\"Ziel-Subsektor\",C105,\"Energieträger\",E105),\"\")","v":""},{"$f":"IFERROR(GETPIVOTDATA(\"Summe von Energieeinsatz [MWh]\",II_Pivot!$G$3,\"ID\",C105,\"EM_Energieträger\",E105),\"\")","v":""},{"$f":"IFERROR(F105*VLOOKUP(E105,EM_Daten_u_Uebersicht!P:Q,2,FALSE),\"\")","v":""},{"$f":"IFERROR(GETPIVOTDATA(\"Summe von THG [t CO2eq]\",II_Pivot!$G$3,\"ID\",C105,\"EM_Energieträger\",E105),\"\")","v":""},"S2",{"$f":"I105/0.94-I105","v":{"$error":"#VALUE!"}},null,null,null,null,null,null,null,null,null,null,null,null,null,null,"4. Flug","Erdgas","","",null,"","",0]
[103,12,{"$f":"VLOOKUP(B106,'II. Transport'!C:E,3,FALSE)","v":"II.4. ."},{"$f":"VLOOKUP(B106,'II. Transport'!C:G,5,FALSE)","v":"4. Flug"},"Fernwärme",{"$f":"IFERROR(GETPIVOTDATA(\"Energie\",EM_Daten_u_Uebersicht!$W$5,\"Ziel-Subsektor\",C106,\"Energieträger\",E106),\"\")","v":""},{"$f":"IFERROR(GETPIVOTDATA(\"Summe von Energieeinsatz [MWh]\",II_Pivot!$G$3,\"ID\",C106,\"EM_Energieträger\",E106),\"\")","v":""},{"$f":"IFERROR(F106*VLOOKUP(E106,EM_Daten_u_Uebersicht!P:Q,2,FALSE),\"\")","v":""},{"$f":"IFERROR(GETPIVOTDATA(\"Summe von THG [t CO2eq]\",II_Pivot!$G$3,\"ID\",C106,\"EM_Energieträger\",E106),\"\")","v":""},"S2",{"$f":"I106/0.86-I106","v":{"$error":"#VALUE!"}},null,null,null,null,null,null,null,null,null,null,null,null,null,null,"4. Flug","elektrische Energie","","",null,"","",""]
[104,12,{"$f":"VLOOKUP(B107,'II. Transport'!C:E,3,FALSE)","v":"II.4. ."},{"$f":"VLOOKUP(B107,'II. Transport'!C:G,5,FALSE)","v":"4. Flug"},"Biogene Brenn- und Treibstoffe (Brennholz, biogene Brenn- und Treibstoffe)",{"$f":"IFERROR(GETPIVOTDATA(\"Energie\",EM_Daten_u_Uebersicht!$W$5,\"Ziel-Subsektor\",C107,\"Energieträger\",E107),\"\")","v":""},{"$f":"IFERROR(GETPIVOTDATA(\"Summe von Energieeinsatz [MWh]\",II_Pivot!$G$3,\"ID\",C107,\"EM_Energieträger\",E107),\"\")","v":""},{"$f":"IFERROR(F107*VLOOKUP(E107,EM_Daten_u_Uebersicht!P:Q,2,FALSE),\"\")","v":""},{"$f":"IFERROR(GETPIVOTDATA(\"Summe von THG [t CO2eq]\",II_Pivot!$G$3,\"ID\",C107,\"EM_Energieträger\",E107),\"\")","v":""},"S1",null,null,null,null,null,null,null,null,null,null,null,null,null,null,null,"4. Flug","Fernwärme","","",null,"","",""]
[105,12,{"$f":"VLOOKUP(B108,'II. Transport'!C:E,3,FALSE)","v":"II.4. ."},{"$f":"VLOOKUP(B108,'II. Transport'!C:G,5,FALSE)","v":"4. Flug"},"Brennbare Abfälle",{"$f":"IFERROR(GETPIVOTDATA(\"Energie\",EM_Daten_u_Uebersicht!$W$5,\"Ziel-Subsektor\",C108,\"Energieträger\",E108),\"\")","v":""},{"$f":"IFERROR(GETPIVOTDATA(\"Summe von Energieeinsatz [MWh]\",II_Pivot!$G$3,\"ID\",C108,\"EM_Energieträger\",E108),\"\")","v":""},{"$f":"IFERROR(F108*VLOOKUP(E108,EM_Daten_u_Uebersicht!P:Q,2,FALSE),\"\")","v":""},{"$f":"IFERROR(GETPIVOTDATA(\"Summe von THG [t CO2eq]\",II_Pivot!$G$3,\"ID\",C108,\"EM_Energieträger\",E108),\"\")","v":""},"S1",null,null,null,null,null,null,null,null,null,null,null,null,null,null,null,"4. Flug","Biogene Brenn- und Treibstoffe (Brennholz, biogene Brenn- und Treibstoffe)","","",null,"","",0]
[106,12,{"$f":"VLOOKUP(B109,'II. Transport'!C:E,3,FALSE)","v":"II.4. ."},{"$f":"VLOOKUP(B109,'II. Transport'!C:G,5,FALSE)","v":"4. Flug"},"Umgebungswärme",{"$f":"IFERROR(GETPIVOTDATA(\"Energie\",EM_Daten_u_Uebersicht!$W$5,\"Ziel-Subsektor\",C109,\"Energieträger\",E109),\"\")","v":""},{"$f":"IFERROR(GETPIVOTDATA(\"Summe von Energieeinsatz [MWh]\",II_Pivot!$G$3,\"ID\",C109,\"EM_Energieträger\",E109),\"\")","v":""},{"$f":"IFERROR(F109*VLOOKUP(E109,EM_Daten_u_Uebersicht!P:Q,2,FALSE),\"\")","v":""},{"$f":"IFERROR(GETPIVOTDATA(\"Summe von THG [t CO2eq]\",II_Pivot!$G$3,\"ID\",C109,\"EM_Energieträger\",E109),\"\")","v":""},"S1",null,null,null,null,null,null,null,null,null,null,null,null,null,null,null,"4. Flug","Brennbare Abfälle","","",null,"","",0]
[107,12,{"$f":"VLOOKUP(B110,'II. Transport'!C:E,3,FALSE)","v":"II.4. ."},{"$f":"VLOOKUP(B110,'II. Transport'!C:G,5,FALSE)","v":"4. Flug"},"CO2-eq Direkteingabe",{"$f":"IFERROR(GETPIVOTDATA(\"Energie\",EM_Daten_u_Uebersicht!$W$5,\"Ziel-Subsektor\",C110,\"Energieträger\",E110),\"\")","v":""},{"$f":"IFERROR(GETPIVOTDATA(\"Summe von Energieeinsatz [MWh]\",II_Pivot!$G$3,\"ID\",C110,\"EM_Energieträger\",E110),\"\")","v":""},{"$f":"IFERROR(F110*VLOOKUP(E110,EM_Daten_u_Uebersicht!P:Q,2,FALSE),\"\")","v":""},{"$f":"IFERROR(GETPIVOTDATA(\"Summe von THG [t CO2eq]\",II_Pivot!$G$3,\"ID\",C110,\"EM_Energieträger\",E110),\"\")","v":""},"S1",null,null,null,null,null,null,null,null,null,null,null,null,null,null,null,"4. Flug","Umgebungswärme","","",null,"","",0]
[108,13,{"$f":"VLOOKUP(B111,'II. Transport'!C:E,3,FALSE)","v":"II.4.i."},{"$f":"VLOOKUP(B111,'II. Transport'!C:G,5,FALSE)","v":"i. Flüge innerhalb der Stadtgrenze"},"Kohle (Steinkohle, Braunkohle, Koks, Petrolkoks; Gichtgas, Kokereigas, Brenntorf)",{"$f":"IFERROR(GETPIVOTDATA(\"Energie\",EM_Daten_u_Uebersicht!$W$5,\"Ziel-Subsektor\",C111,\"Energieträger\",E111),\"\")","v":""},{"$f":"IFERROR(GETPIVOTDATA(\"Summe von Energieeinsatz [MWh]\",II_Pivot!$G$3,\"ID\",C111,\"EM_Energieträger\",E111),\"\")","v":""},{"$f":"IFERROR(F111*VLOOKUP(E111,EM_Daten_u_Uebersicht!P:Q,2,FALSE),\"\")","v":""},{"$f":"IFERROR(GETPIVOTDATA(\"Summe von THG [t CO2eq]\",II_Pivot!$G$3,\"ID\",C111,\"EM_Energieträger\",E111),\"\")","v":""},"S1",null,null,null,null,null,null,null,null,null,null,null,null,null,null,null,"4. Flug","CO2-eq Direkteingabe","","",null,"","",0]
[109,13,{"$f":"VLOOKUP(B112,'II. Transport'!C:E,3,FALSE)","v":"II.4.i."},{"$f":"VLOOKUP(B112,'II. Transport'!C:G,5,FALSE)","v":"i. Flüge innerhalb der Stadtgrenze"},"Öl (Heizöl, Gasöl für Heizzwecke, Diesel, Benzin, Petroleum, Flüssiggas)",{"$f":"IFERROR(GETPIVOTDATA(\"Energie\",EM_Daten_u_Uebersicht!$W$5,\"Ziel-Subsektor\",C112,\"Energieträger\",E112),\"\")","v":""},{"$f":"IFERROR(GETPIVOTDATA(\"Summe von Energieeinsatz [MWh]\",II_Pivot!$G$3,\"ID\",C112,\"EM_Energieträger\",E112),\"\")","v":""},{"$f":"IFERROR(F112*VLOOKUP(E112,EM_Daten_u_Uebersicht!P:Q,2,FALSE),\"\")","v":""},{"$f":"IFERROR(GETPIVOTDATA(\"Summe von THG [t CO2eq]\",II_Pivot!$G$3,\"ID\",C112,\"EM_Energieträger\",E112),\"\")","v":""},"S1",null,null,null,null,null,null,null,null,null,null,null,null,null,null,null,"i. Flüge innerhalb der Stadtgrenze","Kohle (Steinkohle, Braunkohle, Koks, Petrolkoks; Gichtgas, Kokereigas, Brenntorf)","","",null,"","",0]
[110,13,{"$f":"VLOOKUP(B113,'II. Transport'!C:E,3,FALSE)","v":"II.4.i."},{"$f":"VLOOKUP(B113,'II. Transport'!C:G,5,FALSE)","v":"i. Flüge innerhalb der Stadtgrenze"},"Erdgas",{"$f":"IFERROR(GETPIVOTDATA(\"Energie\",EM_Daten_u_Uebersicht!$W$5,\"Ziel-Subsektor\",C113,\"Energieträger\",E113),\"\")","v":""},{"$f":"IFERROR(GETPIVOTDATA(\"Summe von Energieeinsatz [MWh]\",II_Pivot!$G$3,\"ID\",C113,\"EM_Energieträger\",E113),\"\")","v":""},{"$f":"IFERROR(F113*VLOOKUP(E113,EM_Daten_u_Uebersicht!P:Q,2,FALSE),\"\")","v":""},{"$f":"IFERROR(GETPIVOTDATA(\"Summe von THG [t CO2eq]\",II_Pivot!$G$3,\"ID\",C113,\"EM_Energieträger\",E113),\"\")","v":""},"S1",null,null,null,null,null,null,null,null,null,null,null,null,null,null,null,"i. Flüge innerhalb der Stadtgrenze","Öl (Heizöl, Gasöl für Heizzwecke, Diesel, Benzin, Petroleum, Flüssiggas)","","",null,"","",0]
[111,13,{"$f":"VLOOKUP(B114,'II. Transport'!C:E,3,FALSE)","v":"II.4.i."},{"$f":"VLOOKUP(B114,'II. Transport'!C:G,5,FALSE)","v":"i. Flüge innerhalb der Stadtgrenze"},"elektrische Energie",{"$f":"IFERROR(GETPIVOTDATA(\"Energie\",EM_Daten_u_Uebersicht!$W$5,\"Ziel-Subsektor\",C114,\"Energieträger\",E114),\"\")","v":""},{"$f":"IFERROR(GETPIVOTDATA(\"Summe von Energieeinsatz [MWh]\",II_Pivot!$G$3,\"ID\",C114,\"EM_Energieträger\",E114),\"\")","v":""},{"$f":"IFERROR(F114*VLOOKUP(E114,EM_Daten_u_Uebersicht!P:Q,2,FALSE),\"\")","v":""},{"$f":"IFERROR(GETPIVOTDATA(\"Summe von THG [t CO2eq]\",II_Pivot!$G$3,\"ID\",C114,\"EM_Energieträger\",E114),\"\")","v":""},"S2",{"$f":"I114/0.94-I114","v":{"$error":"#VALUE!"}},null,null,null,null,null,null,null,null,null,null,null,null,null,null,"i. Flüge innerhalb der Stadtgrenze","Erdgas","","",null,"","",0]
[112,13,{"$f":"VLOOKUP(B115,'II. Transport'!C:E,3,FALSE)","v":"II.4.i."},{"$f":"VLOOKUP(B115,'II. Transport'!C:G,5,FALSE)","v":"i. Flüge innerhalb der Stadtgrenze"},"Fernwärme",{"$f":"IFERROR(GETPIVOTDATA(\"Energie\",EM_Daten_u_Uebersicht!$W$5,\"Ziel-Subsektor\",C115,\"Energieträger\",E115),\"\")","v":""},{"$f":"IFERROR(GETPIVOTDATA(\"Summe von Energieeinsatz [MWh]\",II_Pivot!$G$3,\"ID\",C115,\"EM_Energieträger\",E115),\"\")","v":""},{"$f":"IFERROR(F115*VLOOKUP(E115,EM_Daten_u_Uebersicht!P:Q,2,FALSE),\"\")","v":""},{"$f":"IFERROR(GETPIVOTDATA(\"Summe von THG [t CO2eq]\",II_Pivot!$G$3,\"ID\",C115,\"EM_Energieträger\",E115),\"\")","v":""},"S2",{"$f":"I115/0.86-I115","v":{"$error":"#VALUE!"}},null,null,null,null,null,null,null,null,null,null,null,null,null,null,"i. Flüge innerhalb der Stadtgrenze","elektrische Energie","","",null,"","",""]
[113,13,{"$f":"VLOOKUP(B116,'II. Transport'!C:E,3,FALSE)","v":"II.4.i."},{"$f":"VLOOKUP(B116,'II. Transport'!C:G,5,FALSE)","v":"i. Flüge innerhalb der Stadtgrenze"},"Biogene Brenn- und Treibstoffe (Brennholz, biogene Brenn- und Treibstoffe)",{"$f":"IFERROR(GETPIVOTDATA(\"Energie\",EM_Daten_u_Uebersicht!$W$5,\"Ziel-Subsektor\",C116,\"Energieträger\",E116),\"\")","v":""},{"$f":"IFERROR(GETPIVOTDATA(\"Summe von Energieeinsatz [MWh]\",II_Pivot!$G$3,\"ID\",C116,\"EM_Energieträger\",E116),\"\")","v":""},{"$f":"IFERROR(F116*VLOOKUP(E116,EM_Daten_u_Uebersicht!P:Q,2,FALSE),\"\")","v":""},{"$f":"IFERROR(GETPIVOTDATA(\"Summe von THG [t CO2eq]\",II_Pivot!$G$3,\"ID\",C116,\"EM_Energieträger\",E116),\"\")","v":""},"S1",null,null,null,null,null,null,null,null,null,null,null,null,null,null,null,"i. Flüge innerhalb der Stadtgrenze","Fernwärme","","",null,"","",""]
[114,13,{"$f":"VLOOKUP(B117,'II. Transport'!C:E,3,FALSE)","v":"II.4.i."},{"$f":"VLOOKUP(B117,'II. Transport'!C:G,5,FALSE)","v":"i. Flüge innerhalb der Stadtgrenze"},"Brennbare Abfälle",{"$f":"IFERROR(GETPIVOTDATA(\"Energie\",EM_Daten_u_Uebersicht!$W$5,\"Ziel-Subsektor\",C117,\"Energieträger\",E117),\"\")","v":""},{"$f":"IFERROR(GETPIVOTDATA(\"Summe von Energieeinsatz [MWh]\",II_Pivot!$G$3,\"ID\",C117,\"EM_Energieträger\",E117),\"\")","v":""},{"$f":"IFERROR(F117*VLOOKUP(E117,EM_Daten_u_Uebersicht!P:Q,2,FALSE),\"\")","v":""},{"$f":"IFERROR(GETPIVOTDATA(\"Summe von THG [t CO2eq]\",II_Pivot!$G$3,\"ID\",C117,\"EM_Energieträger\",E117),\"\")","v":""},"S1",null,null,null,null,null,null,null,null,null,null,null,null,null,null,null,"i. Flüge innerhalb der Stadtgrenze","Biogene Brenn- und Treibstoffe (Brennholz, biogene Brenn- und Treibstoffe)","","",null,"","",0]
[115,13,{"$f":"VLOOKUP(B118,'II. Transport'!C:E,3,FALSE)","v":"II.4.i."},{"$f":"VLOOKUP(B118,'II. Transport'!C:G,5,FALSE)","v":"i. Flüge innerhalb der Stadtgrenze"},"Umgebungswärme",{"$f":"IFERROR(GETPIVOTDATA(\"Energie\",EM_Daten_u_Uebersicht!$W$5,\"Ziel-Subsektor\",C118,\"Energieträger\",E118),\"\")","v":""},{"$f":"IFERROR(GETPIVOTDATA(\"Summe von Energieeinsatz [MWh]\",II_Pivot!$G$3,\"ID\",C118,\"EM_Energieträger\",E118),\"\")","v":""},{"$f":"IFERROR(F118*VLOOKUP(E118,EM_Daten_u_Uebersicht!P:Q,2,FALSE),\"\")","v":""},{"$f":"IFERROR(GETPIVOTDATA(\"Summe von THG [t CO2eq]\",II_Pivot!$G$3,\"ID\",C118,\"EM_Energieträger\",E118),\"\")","v":""},"S1",null,null,null,null,null,null,null,null,null,null,null,null,null,null,null,"i. Flüge innerhalb der Stadtgrenze","Brennbare Abfälle","","",null,"","",0]
[116,13,{"$f":"VLOOKUP(B119,'II. Transport'!C:E,3,FALSE)","v":"II.4.i."},{"$f":"VLOOKUP(B119,'II. Transport'!C:G,5,FALSE)","v":"i. Flüge innerhalb der Stadtgrenze"},"CO2-eq Direkteingabe",{"$f":"IFERROR(GETPIVOTDATA(\"Energie\",EM_Daten_u_Uebersicht!$W$5,\"Ziel-Subsektor\",C119,\"Energieträger\",E119),\"\")","v":""},{"$f":"IFERROR(GETPIVOTDATA(\"Summe von Energieeinsatz [MWh]\",II_Pivot!$G$3,\"ID\",C119,\"EM_Energieträger\",E119),\"\")","v":""},{"$f":"IFERROR(F119*VLOOKUP(E119,EM_Daten_u_Uebersicht!P:Q,2,FALSE),\"\")","v":""},{"$f":"IFERROR(GETPIVOTDATA(\"Summe von THG [t CO2eq]\",II_Pivot!$G$3,\"ID\",C119,\"EM_Energieträger\",E119),\"\")","v":""},"S1",null,null,null,null,null,null,null,null,null,null,null,null,null,null,null,"i. Flüge innerhalb der Stadtgrenze","Umgebungswärme","","",null,"","",0]
[117,14,{"$f":"VLOOKUP(B120,'II. Transport'!C:E,3,FALSE)","v":"II.4.ii."},{"$f":"VLOOKUP(B120,'II. Transport'!C:G,5,FALSE)","v":"ii. Alle abgehenden Flüge"},"Kohle (Steinkohle, Braunkohle, Koks, Petrolkoks; Gichtgas, Kokereigas, Brenntorf)",{"$f":"IFERROR(GETPIVOTDATA(\"Energie\",EM_Daten_u_Uebersicht!$W$5,\"Ziel-Subsektor\",C120,\"Energieträger\",E120),\"\")","v":""},{"$f":"IFERROR(GETPIVOTDATA(\"Summe von Energieeinsatz [MWh]\",II_Pivot!$G$3,\"ID\",C120,\"EM_Energieträger\",E120),\"\")","v":""},{"$f":"IFERROR(F120*VLOOKUP(E120,EM_Daten_u_Uebersicht!P:Q,2,FALSE),\"\")","v":""},{"$f":"IFERROR(GETPIVOTDATA(\"Summe von THG [t CO2eq]\",II_Pivot!$G$3,\"ID\",C120,\"EM_Energieträger\",E120),\"\")","v":""},"S1",null,null,null,null,null,null,null,null,null,null,null,null,null,null,null,"i. Flüge innerhalb der Stadtgrenze","CO2-eq Direkteingabe","","",null,"","",0]
[118,14,{"$f":"VLOOKUP(B121,'II. Transport'!C:E,3,FALSE)","v":"II.4.ii."},{"$f":"VLOOKUP(B121,'II. Transport'!C:G,5,FALSE)","v":"ii. Alle abgehenden Flüge"},"Öl (Heizöl, Gasöl für Heizzwecke, Diesel, Benzin, Petroleum, Flüssiggas)",{"$f":"IFERROR(GETPIVOTDATA(\"Energie\",EM_Daten_u_Uebersicht!$W$5,\"Ziel-Subsektor\",C121,\"Energieträger\",E121),\"\")","v":""},{"$f":"IFERROR(GETPIVOTDATA(\"Summe von Energieeinsatz [MWh]\",II_Pivot!$G$3,\"ID\",C121,\"EM_Energieträger\",E121),\"\")","v":0},{"$f":"IFERROR(F121*VLOOKUP(E121,EM_Daten_u_Uebersicht!P:Q,2,FALSE),\"\")","v":""},{"$f":"IFERROR(GETPIVOTDATA(\"Summe von THG [t CO2eq]\",II_Pivot!$G$3,\"ID\",C121,\"EM_Energieträger\",E121),\"\")","v":0},"S1",null,null,null,null,null,null,null,null,null,null,null,null,null,null,null,"ii. Alle abgehenden Flüge","Kohle (Steinkohle, Braunkohle, Koks, Petrolkoks; Gichtgas, Kokereigas, Brenntorf)","","",null,"","",0]
[119,14,{"$f":"VLOOKUP(B122,'II. Transport'!C:E,3,FALSE)","v":"II.4.ii."},{"$f":"VLOOKUP(B122,'II. Transport'!C:G,5,FALSE)","v":"ii. Alle abgehenden Flüge"},"Erdgas",{"$f":"IFERROR(GETPIVOTDATA(\"Energie\",EM_Daten_u_Uebersicht!$W$5,\"Ziel-Subsektor\",C122,\"Energieträger\",E122),\"\")","v":""},{"$f":"IFERROR(GETPIVOTDATA(\"Summe von Energieeinsatz [MWh]\",II_Pivot!$G$3,\"ID\",C122,\"EM_Energieträger\",E122),\"\")","v":""},{"$f":"IFERROR(F122*VLOOKUP(E122,EM_Daten_u_Uebersicht!P:Q,2,FALSE),\"\")","v":""},{"$f":"IFERROR(GETPIVOTDATA(\"Summe von THG [t CO2eq]\",II_Pivot!$G$3,\"ID\",C122,\"EM_Energieträger\",E122),\"\")","v":""},"S1",null,null,null,null,null,null,null,null,null,null,null,null,null,null,null,"ii. Alle abgehenden Flüge","Öl (Heizöl, Gasöl für Heizzwecke, Diesel, Benzin, Petroleum, Flüssiggas)",0,0,null,0,"",0]
[120,14,{"$f":"VLOOKUP(B123,'II. Transport'!C:E,3,FALSE)","v":"II.4.ii."},{"$f":"VLOOKUP(B123,'II. Transport'!C:G,5,FALSE)","v":"ii. Alle abgehenden Flüge"},"elektrische Energie",{"$f":"IFERROR(GETPIVOTDATA(\"Energie\",EM_Daten_u_Uebersicht!$W$5,\"Ziel-Subsektor\",C123,\"Energieträger\",E123),\"\")","v":""},{"$f":"IFERROR(GETPIVOTDATA(\"Summe von Energieeinsatz [MWh]\",II_Pivot!$G$3,\"ID\",C123,\"EM_Energieträger\",E123),\"\")","v":""},{"$f":"IFERROR(F123*VLOOKUP(E123,EM_Daten_u_Uebersicht!P:Q,2,FALSE),\"\")","v":""},{"$f":"IFERROR(GETPIVOTDATA(\"Summe von THG [t CO2eq]\",II_Pivot!$G$3,\"ID\",C123,\"EM_Energieträger\",E123),\"\")","v":""},"S2",{"$f":"I123/0.94-I123","v":{"$error":"#VALUE!"}},null,null,null,null,null,null,null,null,null,null,null,null,null,null,"ii. Alle abgehenden Flüge","Erdgas","","",null,"","",0]
[121,14,{"$f":"VLOOKUP(B124,'II. Transport'!C:E,3,FALSE)","v":"II.4.ii."},{"$f":"VLOOKUP(B124,'II. Transport'!C:G,5,FALSE)","v":"ii. Alle abgehenden Flüge"},"Fernwärme",{"$f":"IFERROR(GETPIVOTDATA(\"Energie\",EM_Daten_u_Uebersicht!$W$5,\"Ziel-Subsektor\",C124,\"Energieträger\",E124),\"\")","v":""},{"$f":"IFERROR(GETPIVOTDATA(\"Summe von Energieeinsatz [MWh]\",II_Pivot!$G$3,\"ID\",C124,\"EM_Energieträger\",E124),\"\")","v":""},{"$f":"IFERROR(F124*VLOOKUP(E124,EM_Daten_u_Uebersicht!P:Q,2,FALSE),\"\")","v":""},{"$f":"IFERROR(GETPIVOTDATA(\"Summe von THG [t CO2eq]\",II_Pivot!$G$3,\"ID\",C124,\"EM_Energieträger\",E124),\"\")","v":""},"S2",{"$f":"I124/0.86-I124","v":{"$error":"#VALUE!"}},null,null,null,null,null,null,null,null,null,null,null,null,null,null,"ii. Alle abgehenden Flüge","elektrische Energie","","",null,"","",""]
[122,14,{"$f":"VLOOKUP(B125,'II. Transport'!C:E,3,FALSE)","v":"II.4.ii."},{"$f":"VLOOKUP(B125,'II. Transport'!C:G,5,FALSE)","v":"ii. Alle abgehenden Flüge"},"Biogene Brenn- und Treibstoffe (Brennholz, biogene Brenn- und Treibstoffe)",{"$f":"IFERROR(GETPIVOTDATA(\"Energie\",EM_Daten_u_Uebersicht!$W$5,\"Ziel-Subsektor\",C125,\"Energieträger\",E125),\"\")","v":""},{"$f":"IFERROR(GETPIVOTDATA(\"Summe von Energieeinsatz [MWh]\",II_Pivot!$G$3,\"ID\",C125,\"EM_Energieträger\",E125),\"\")","v":""},{"$f":"IFERROR(F125*VLOOKUP(E125,EM_Daten_u_Uebersicht!P:Q,2,FALSE),\"\")","v":""},{"$f":"IFERROR(GETPIVOTDATA(\"Summe von THG [t CO2eq]\",II_Pivot!$G$3,\"ID\",C125,\"EM_Energieträger\",E125),\"\")","v":""},"S1",null,null,null,null,null,null,null,null,null,null,null,null,null,null,null,"ii. Alle abgehenden Flüge","Fernwärme","","",null,"","",""]
[123,14,{"$f":"VLOOKUP(B126,'II. Transport'!C:E,3,FALSE)","v":"II.4.ii."},{"$f":"VLOOKUP(B126,'II. Transport'!C:G,5,FALSE)","v":"ii. Alle abgehenden Flüge"},"Brennbare Abfälle",{"$f":"IFERROR(GETPIVOTDATA(\"Energie\",EM_Daten_u_Uebersicht!$W$5,\"Ziel-Subsektor\",C126,\"Energieträger\",E126),\"\")","v":""},{"$f":"IFERROR(GETPIVOTDATA(\"Summe von Energieeinsatz [MWh]\",II_Pivot!$G$3,\"ID\",C126,\"EM_Energieträger\",E126),\"\")","v":""},{"$f":"IFERROR(F126*VLOOKUP(E126,EM_Daten_u_Uebersicht!P:Q,2,FALSE),\"\")","v":""},{"$f":"IFERROR(GETPIVOTDATA(\"Summe von THG [t CO2eq]\",II_Pivot!$G$3,\"ID\",C126,\"EM_Energieträger\",E126),\"\")","v":""},"S1",null,null,null,null,null,null,null,null,null,null,null,null,null,null,null,"ii. Alle abgehenden Flüge","Biogene Brenn- und Treibstoffe (Brennholz, biogene Brenn- und Treibstoffe)","","",null,"","",0]
[124,14,{"$f":"VLOOKUP(B127,'II. Transport'!C:E,3,FALSE)","v":"II.4.ii."},{"$f":"VLOOKUP(B127,'II. Transport'!C:G,5,FALSE)","v":"ii. Alle abgehenden Flüge"},"Umgebungswärme",{"$f":"IFERROR(GETPIVOTDATA(\"Energie\",EM_Daten_u_Uebersicht!$W$5,\"Ziel-Subsektor\",C127,\"Energieträger\",E127),\"\")","v":""},{"$f":"IFERROR(GETPIVOTDATA(\"Summe von Energieeinsatz [MWh]\",II_Pivot!$G$3,\"ID\",C127,\"EM_Energieträger\",E127),\"\")","v":""},{"$f":"IFERROR(F127*VLOOKUP(E127,EM_Daten_u_Uebersicht!P:Q,2,FALSE),\"\")","v":""},{"$f":"IFERROR(GETPIVOTDATA(\"Summe von THG [t CO2eq]\",II_Pivot!$G$3,\"ID\",C127,\"EM_Energieträger\",E127),\"\")","v":""},"S1",null,null,null,null,null,null,null,null,null,null,null,null,null,null,null,"ii. Alle abgehenden Flüge","Brennbare Abfälle","","",null,"","",0]
[125,14,{"$f":"VLOOKUP(B128,'II. Transport'!C:E,3,FALSE)","v":"II.4.ii."},{"$f":"VLOOKUP(B128,'II. Transport'!C:G,5,FALSE)","v":"ii. Alle abgehenden Flüge"},"CO2-eq Direkteingabe",{"$f":"IFERROR(GETPIVOTDATA(\"Energie\",EM_Daten_u_Uebersicht!$W$5,\"Ziel-Subsektor\",C128,\"Energieträger\",E128),\"\")","v":""},{"$f":"IFERROR(GETPIVOTDATA(\"Summe von Energieeinsatz [MWh]\",II_Pivot!$G$3,\"ID\",C128,\"EM_Energieträger\",E128),\"\")","v":""},{"$f":"IFERROR(F128*VLOOKUP(E128,EM_Daten_u_Uebersicht!P:Q,2,FALSE),\"\")","v":""},{"$f":"IFERROR(GETPIVOTDATA(\"Summe von THG [t CO2eq]\",II_Pivot!$G$3,\"ID\",C128,\"EM_Energieträger\",E128),\"\")","v":""},"S1",null,null,null,null,null,null,null,null,null,null,null,null,null,null,null,"ii. Alle abgehenden Flüge","Umgebungswärme","","",null,"","",0]
[126,15,{"$f":"VLOOKUP(B129,'II. Transport'!C:E,3,FALSE)","v":"II.4.iii."},{"$f":"VLOOKUP(B129,'II. Transport'!C:G,5,FALSE)","v":"iii. andere"},"Kohle (Steinkohle, Braunkohle, Koks, Petrolkoks; Gichtgas, Kokereigas, Brenntorf)",{"$f":"IFERROR(GETPIVOTDATA(\"Energie\",EM_Daten_u_Uebersicht!$W$5,\"Ziel-Subsektor\",C129,\"Energieträger\",E129),\"\")","v":""},{"$f":"IFERROR(GETPIVOTDATA(\"Summe von Energieeinsatz [MWh]\",II_Pivot!$G$3,\"ID\",C129,\"EM_Energieträger\",E129),\"\")","v":""},{"$f":"IFERROR(F129*VLOOKUP(E129,EM_Daten_u_Uebersicht!P:Q,2,FALSE),\"\")","v":""},{"$f":"IFERROR(GETPIVOTDATA(\"Summe von THG [t CO2eq]\",II_Pivot!$G$3,\"ID\",C129,\"EM_Energieträger\",E129),\"\")","v":""},"S1",null,null,null,null,null,null,null,null,null,null,null,null,null,null,null,"ii. Alle abgehenden Flüge","CO2-eq Direkteingabe","","",null,"","",0]
[127,15,{"$f":"VLOOKUP(B130,'II. Transport'!C:E,3,FALSE)","v":"II.4.iii."},{"$f":"VLOOKUP(B130,'II. Transport'!C:G,5,FALSE)","v":"iii. andere"},"Öl (Heizöl, Gasöl für Heizzwecke, Diesel, Benzin, Petroleum, Flüssiggas)",{"$f":"IFERROR(GETPIVOTDATA(\"Energie\",EM_Daten_u_Uebersicht!$W$5,\"Ziel-Subsektor\",C130,\"Energieträger\",E130),\"\")","v":""},{"$f":"IFERROR(GETPIVOTDATA(\"Summe von Energieeinsatz [MWh]\",II_Pivot!$G$3,\"ID\",C130,\"EM_Energieträger\",E130),\"\")","v":""},{"$f":"IFERROR(F130*VLOOKUP(E130,EM_Daten_u_Uebersicht!P:Q,2,FALSE),\"\")","v":""},{"$f":"IFERROR(GETPIVOTDATA(\"Summe von THG [t CO2eq]\",II_Pivot!$G$3,\"ID\",C130,\"EM_Energieträger\",E130),\"\")","v":""},"S1",null,null,null,null,null,null,null,null,null,null,null,null,null,null,null,"iii. andere","Kohle (Steinkohle, Braunkohle, Koks, Petrolkoks; Gichtgas, Kokereigas, Brenntorf)","","",null,"","",0]
[128,15,{"$f":"VLOOKUP(B131,'II. Transport'!C:E,3,FALSE)","v":"II.4.iii."},{"$f":"VLOOKUP(B131,'II. Transport'!C:G,5,FALSE)","v":"iii. andere"},"Erdgas",{"$f":"IFERROR(GETPIVOTDATA(\"Energie\",EM_Daten_u_Uebersicht!$W$5,\"Ziel-Subsektor\",C131,\"Energieträger\",E131),\"\")","v":""},{"$f":"IFERROR(GETPIVOTDATA(\"Summe von Energieeinsatz [MWh]\",II_Pivot!$G$3,\"ID\",C131,\"EM_Energieträger\",E131),\"\")","v":""},{"$f":"IFERROR(F131*VLOOKUP(E131,EM_Daten_u_Uebersicht!P:Q,2,FALSE),\"\")","v":""},{"$f":"IFERROR(GETPIVOTDATA(\"Summe von THG [t CO2eq]\",II_Pivot!$G$3,\"ID\",C131,\"EM_Energieträger\",E131),\"\")","v":""},"S1",null,null,null,null,null,null,null,null,null,null,null,null,null,null,null,"iii. andere","Öl (Heizöl, Gasöl für Heizzwecke, Diesel, Benzin, Petroleum, Flüssiggas)","","",null,"","",{"$f":"IFERROR(K130,\"\")","v":0}]
[129,{"$f":"ROUNDDOWN(A132/9,0)+1","v":15},{"$f":"VLOOKUP(B132,'II. Transport'!C:E,3,FALSE)","v":"II.4.iii."},{"$f":"VLOOKUP(B132,'II. Transport'!C:G,5,FALSE)","v":"iii. andere"},"elektrische Energie",{"$f":"IFERROR(GETPIVOTDATA(\"Energie\",EM_Daten_u_Uebersicht!$W$5,\"Ziel-Subsektor\",C132,\"Energieträger\",E132),\"\")","v":""},{"$f":"IFERROR(GETPIVOTDATA(\"Summe von Energieeinsatz [MWh]\",II_Pivot!$G$3,\"ID\",C132,\"EM_Energieträger\",E132),\"\")","v":""},{"$f":"IFERROR(F132*VLOOKUP(E132,EM_Daten_u_Uebersicht!P:Q,2,FALSE),\"\")","v":""},{"$f":"IFERROR(GETPIVOTDATA(\"Summe von THG [t CO2eq]\",II_Pivot!$G$3,\"ID\",C132,\"EM_Energieträger\",E132),\"\")","v":""},"S2",{"$f":"I132/0.94-I132","v":{"$error":"#VALUE!"}},null,null,null,null,null,null,null,null,null,null,null,null,null,null,{"$f":"IFERROR(D131,\"\")","v":"iii. andere"},{"$f":"IFERROR(E131,\"\")","v":"Erdgas"},{"$f":"IFERROR(G131,\"\")","v":""},{"$f":"IFERROR(I131,\"\")","v":""},null,{"$f":"IF(J131=\"S1\",I131,\"\")","v":""},{"$f":"IF(J131=\"S2\",I131,\"\")","v":""},0]
[130,15,{"$f":"VLOOKUP(B133,'II. Transport'!C:E,3,FALSE)","v":"II.4.iii."},{"$f":"VLOOKUP(B133,'II. Transport'!C:G,5,FALSE)","v":"iii. andere"},"Fernwärme",{"$f":"IFERROR(GETPIVOTDATA(\"Energie\",EM_Daten_u_Uebersicht!$W$5,\"Ziel-Subsektor\",C133,\"Energieträger\",E133),\"\")","v":""},{"$f":"IFERROR(GETPIVOTDATA(\"Summe von Energieeinsatz [MWh]\",II_Pivot!$G$3,\"ID\",C133,\"EM_Energieträger\",E133),\"\")","v":""},{"$f":"IFERROR(F133*VLOOKUP(E133,EM_Daten_u_Uebersicht!P:Q,2,FALSE),\"\")","v":""},{"$f":"IFERROR(GETPIVOTDATA(\"Summe von THG [t CO2eq]\",II_Pivot!$G$3,\"ID\",C133,\"EM_Energieträger\",E133),\"\")","v":""},"S2",{"$f":"I133/0.86-I133","v":{"$error":"#VALUE!"}},null,null,null,null,null,null,null,null,null,null,null,null,null,null,"iii. andere","elektrische Energie","","",null,"","",""]
[131,15,{"$f":"VLOOKUP(B134,'II. Transport'!C:E,3,FALSE)","v":"II.4.iii."},{"$f":"VLOOKUP(B134,'II. Transport'!C:G,5,FALSE)","v":"iii. andere"},"Biogene Brenn- und Treibstoffe (Brennholz, biogene Brenn- und Treibstoffe)",{"$f":"IFERROR(GETPIVOTDATA(\"Energie\",EM_Daten_u_Uebersicht!$W$5,\"Ziel-Subsektor\",C134,\"Energieträger\",E134),\"\")","v":""},{"$f":"IFERROR(GETPIVOTDATA(\"Summe von Energieeinsatz [MWh]\",II_Pivot!$G$3,\"ID\",C134,\"EM_Energieträger\",E134),\"\")","v":""},{"$f":"IFERROR(F134*VLOOKUP(E134,EM_Daten_u_Uebersicht!P:Q,2,FALSE),\"\")","v":""},{"$f":"IFERROR(GETPIVOTDATA(\"Summe von THG [t CO2eq]\",II_Pivot!$G$3,\"ID\",C134,\"EM_Energieträger\",E134),\"\")","v":""},"S1",null,null,null,null,null,null,null,null,null,null,null,null,null,null,null,"iii. andere","Fernwärme","","",null,"","",""]
[132,15,{"$f":"VLOOKUP(B135,'II. Transport'!C:E,3,FALSE)","v":"II.4.iii."},{"$f":"VLOOKUP(B135,'II. Transport'!C:G,5,FALSE)","v":"iii. andere"},"Brennbare Abfälle",{"$f":"IFERROR(GETPIVOTDATA(\"Energie\",EM_Daten_u_Uebersicht!$W$5,\"Ziel-Subsektor\",C135,\"Energieträger\",E135),\"\")","v":""},{"$f":"IFERROR(GETPIVOTDATA(\"Summe von Energieeinsatz [MWh]\",II_Pivot!$G$3,\"ID\",C135,\"EM_Energieträger\",E135),\"\")","v":""},{"$f":"IFERROR(F135*VLOOKUP(E135,EM_Daten_u_Uebersicht!P:Q,2,FALSE),\"\")","v":""},{"$f":"IFERROR(GETPIVOTDATA(\"Summe von THG [t CO2eq]\",II_Pivot!$G$3,\"ID\",C135,\"EM_Energieträger\",E135),\"\")","v":""},"S1",null,null,null,null,null,null,null,null,null,null,null,null,null,null,null,"iii. andere","Biogene Brenn- und Treibstoffe (Brennholz, biogene Brenn- und Treibstoffe)","","",null,"","",0]
[133,15,{"$f":"VLOOKUP(B136,'II. Transport'!C:E,3,FALSE)","v":"II.4.iii."},{"$f":"VLOOKUP(B136,'II. Transport'!C:G,5,FALSE)","v":"iii. andere"},"Umgebungswärme",{"$f":"IFERROR(GETPIVOTDATA(\"Energie\",EM_Daten_u_Uebersicht!$W$5,\"Ziel-Subsektor\",C136,\"Energieträger\",E136),\"\")","v":""},{"$f":"IFERROR(GETPIVOTDATA(\"Summe von Energieeinsatz [MWh]\",II_Pivot!$G$3,\"ID\",C136,\"EM_Energieträger\",E136),\"\")","v":""},{"$f":"IFERROR(F136*VLOOKUP(E136,EM_Daten_u_Uebersicht!P:Q,2,FALSE),\"\")","v":""},{"$f":"IFERROR(GETPIVOTDATA(\"Summe von THG [t CO2eq]\",II_Pivot!$G$3,\"ID\",C136,\"EM_Energieträger\",E136),\"\")","v":""},"S1",null,null,null,null,null,null,null,null,null,null,null,null,null,null,null,"iii. andere","Brennbare Abfälle","","",null,"","",0]
[134,15,{"$f":"VLOOKUP(B137,'II. Transport'!C:E,3,FALSE)","v":"II.4.iii."},{"$f":"VLOOKUP(B137,'II. Transport'!C:G,5,FALSE)","v":"iii. andere"},"CO2-eq Direkteingabe",{"$f":"IFERROR(GETPIVOTDATA(\"Energie\",EM_Daten_u_Uebersicht!$W$5,\"Ziel-Subsektor\",C137,\"Energieträger\",E137),\"\")","v":""},{"$f":"IFERROR(GETPIVOTDATA(\"Summe von Energieeinsatz [MWh]\",II_Pivot!$G$3,\"ID\",C137,\"EM_Energieträger\",E137),\"\")","v":""},{"$f":"IFERROR(F137*VLOOKUP(E137,EM_Daten_u_Uebersicht!P:Q,2,FALSE),\"\")","v":""},{"$f":"IFERROR(GETPIVOTDATA(\"Summe von THG [t CO2eq]\",II_Pivot!$G$3,\"ID\",C137,\"EM_Energieträger\",E137),\"\")","v":""},"S1",null,null,null,null,null,null,null,null,null,null,null,null,null,null,null,"iii. andere","Umgebungswärme","","",null,"","",0]
[135,16,{"$f":"VLOOKUP(B138,'II. Transport'!C:E,3,FALSE)","v":"II.5. ."},{"$f":"VLOOKUP(B138,'II. Transport'!C:G,5,FALSE)","v":"5. off-road Transport"},"Kohle (Steinkohle, Braunkohle, Koks, Petrolkoks; Gichtgas, Kokereigas, Brenntorf)",{"$f":"IFERROR(GETPIVOTDATA(\"Energie\",EM_Daten_u_Uebersicht!$W$5,\"Ziel-Subsektor\",C138,\"Energieträger\",E138),\"\")","v":""},{"$f":"IFERROR(GETPIVOTDATA(\"Summe von Energieeinsatz [MWh]\",II_Pivot!$G$3,\"ID\",C138,\"EM_Energieträger\",E138),\"\")","v":""},{"$f":"IFERROR(F138*VLOOKUP(E138,EM_Daten_u_Uebersicht!P:Q,2,FALSE),\"\")","v":""},{"$f":"IFERROR(GETPIVOTDATA(\"Summe von THG [t CO2eq]\",II_Pivot!$G$3,\"ID\",C138,\"EM_Energieträger\",E138),\"\")","v":""},"S1",null,null,null,null,null,null,null,null,null,null,null,null,null,null,null,"iii. andere","CO2-eq Direkteingabe","","",null,"","",0]
[136,16,{"$f":"VLOOKUP(B139,'II. Transport'!C:E,3,FALSE)","v":"II.5. ."},{"$f":"VLOOKUP(B139,'II. Transport'!C:G,5,FALSE)","v":"5. off-road Transport"},"Öl (Heizöl, Gasöl für Heizzwecke, Diesel, Benzin, Petroleum, Flüssiggas)",{"$f":"IFERROR(GETPIVOTDATA(\"Energie\",EM_Daten_u_Uebersicht!$W$5,\"Ziel-Subsektor\",C139,\"Energieträger\",E139),\"\")","v":""},{"$f":"IFERROR(GETPIVOTDATA(\"Summe von Energieeinsatz [MWh]\",II_Pivot!$G$3,\"ID\",C139,\"EM_Energieträger\",E139),\"\")","v":""},{"$f":"IFERROR(F139*VLOOKUP(E139,EM_Daten_u_Uebersicht!P:Q,2,FALSE),\"\")","v":""},{"$f":"IFERROR(GETPIVOTDATA(\"Summe von THG [t CO2eq]\",II_Pivot!$G$3,\"ID\",C139,\"EM_Energieträger\",E139),\"\")","v":""},"S1",null,null,null,null,null,null,null,null,null,null,null,null,null,null,null,"5. off-road Transport","Kohle (Steinkohle, Braunkohle, Koks, Petrolkoks; Gichtgas, Kokereigas, Brenntorf)","","",null,"","",0]
[137,16,{"$f":"VLOOKUP(B140,'II. Transport'!C:E,3,FALSE)","v":"II.5. ."},{"$f":"VLOOKUP(B140,'II. Transport'!C:G,5,FALSE)","v":"5. off-road Transport"},"Erdgas",{"$f":"IFERROR(GETPIVOTDATA(\"Energie\",EM_Daten_u_Uebersicht!$W$5,\"Ziel-Subsektor\",C140,\"Energieträger\",E140),\"\")","v":""},{"$f":"IFERROR(GETPIVOTDATA(\"Summe von Energieeinsatz [MWh]\",II_Pivot!$G$3,\"ID\",C140,\"EM_Energieträger\",E140),\"\")","v":""},{"$f":"IFERROR(F140*VLOOKUP(E140,EM_Daten_u_Uebersicht!P:Q,2,FALSE),\"\")","v":""},{"$f":"IFERROR(GETPIVOTDATA(\"Summe von THG [t CO2eq]\",II_Pivot!$G$3,\"ID\",C140,\"EM_Energieträger\",E140),\"\")","v":""},"S1",null,null,null,null,null,null,null,null,null,null,null,null,null,null,null,"5. off-road Transport","Öl (Heizöl, Gasöl für Heizzwecke, Diesel, Benzin, Petroleum, Flüssiggas)","","",null,"","",0]
[138,16,{"$f":"VLOOKUP(B141,'II. Transport'!C:E,3,FALSE)","v":"II.5. ."},{"$f":"VLOOKUP(B141,'II. Transport'!C:G,5,FALSE)","v":"5. off-road Transport"},{"$f":"E132","v":"elektrische Energie"},{"$f":"IFERROR(GETPIVOTDATA(\"Energie\",EM_Daten_u_Uebersicht!$W$5,\"Ziel-Subsektor\",C141,\"Energieträger\",E141),\"\")","v":""},{"$f":"IFERROR(GETPIVOTDATA(\"Summe von Energieeinsatz [MWh]\",II_Pivot!$G$3,\"ID\",C141,\"EM_Energieträger\",E141),\"\")","v":""},{"$f":"IFERROR(F141*VLOOKUP(E141,EM_Daten_u_Uebersicht!P:Q,2,FALSE),\"\")","v":""},{"$f":"IFERROR(GETPIVOTDATA(\"Summe von THG [t CO2eq]\",II_Pivot!$G$3,\"ID\",C141,\"EM_Energieträger\",E141),\"\")","v":""},"S2",{"$f":"I141/0.94-I141","v":{"$error":"#VALUE!"}},null,null,null,null,null,null,null,null,null,null,null,null,null,null,"5. off-road Transport","Erdgas","","",null,"","",0]
[139,16,{"$f":"VLOOKUP(B142,'II. Transport'!C:E,3,FALSE)","v":"II.5. ."},{"$f":"VLOOKUP(B142,'II. Transport'!C:G,5,FALSE)","v":"5. off-road Transport"},"Fernwärme",{"$f":"IFERROR(GETPIVOTDATA(\"Energie\",EM_Daten_u_Uebersicht!$W$5,\"Ziel-Subsektor\",C142,\"Energieträger\",E142),\"\")","v":""},{"$f":"IFERROR(GETPIVOTDATA(\"Summe von Energieeinsatz [MWh]\",II_Pivot!$G$3,\"ID\",C142,\"EM_Energieträger\",E142),\"\")","v":""},{"$f":"IFERROR(F142*VLOOKUP(E142,EM_Daten_u_Uebersicht!P:Q,2,FALSE),\"\")","v":""},{"$f":"IFERROR(GETPIVOTDATA(\"Summe von THG [t CO2eq]\",II_Pivot!$G$3,\"ID\",C142,\"EM_Energieträger\",E142),\"\")","v":""},"S2",{"$f":"I142/0.86-I142","v":{"$error":"#VALUE!"}},null,null,null,null,null,null,null,null,null,null,null,null,null,null,"5. off-road Transport","elektrische Energie","","",null,"","",""]
[140,16,{"$f":"VLOOKUP(B143,'II. Transport'!C:E,3,FALSE)","v":"II.5. ."},{"$f":"VLOOKUP(B143,'II. Transport'!C:G,5,FALSE)","v":"5. off-road Transport"},"Biogene Brenn- und Treibstoffe (Brennholz, biogene Brenn- und Treibstoffe)",{"$f":"IFERROR(GETPIVOTDATA(\"Energie\",EM_Daten_u_Uebersicht!$W$5,\"Ziel-Subsektor\",C143,\"Energieträger\",E143),\"\")","v":""},{"$f":"IFERROR(GETPIVOTDATA(\"Summe von Energieeinsatz [MWh]\",II_Pivot!$G$3,\"ID\",C143,\"EM_Energieträger\",E143),\"\")","v":""},{"$f":"IFERROR(F143*VLOOKUP(E143,EM_Daten_u_Uebersicht!P:Q,2,FALSE),\"\")","v":""},{"$f":"IFERROR(GETPIVOTDATA(\"Summe von THG [t CO2eq]\",II_Pivot!$G$3,\"ID\",C143,\"EM_Energieträger\",E143),\"\")","v":""},"S1",null,null,null,null,null,null,null,null,null,null,null,null,null,null,null,"5. off-road Transport","Fernwärme","","",null,"","",""]
[141,16,{"$f":"VLOOKUP(B144,'II. Transport'!C:E,3,FALSE)","v":"II.5. ."},{"$f":"VLOOKUP(B144,'II. Transport'!C:G,5,FALSE)","v":"5. off-road Transport"},"Brennbare Abfälle",{"$f":"IFERROR(GETPIVOTDATA(\"Energie\",EM_Daten_u_Uebersicht!$W$5,\"Ziel-Subsektor\",C144,\"Energieträger\",E144),\"\")","v":""},{"$f":"IFERROR(GETPIVOTDATA(\"Summe von Energieeinsatz [MWh]\",II_Pivot!$G$3,\"ID\",C144,\"EM_Energieträger\",E144),\"\")","v":""},{"$f":"IFERROR(F144*VLOOKUP(E144,EM_Daten_u_Uebersicht!P:Q,2,FALSE),\"\")","v":""},{"$f":"IFERROR(GETPIVOTDATA(\"Summe von THG [t CO2eq]\",II_Pivot!$G$3,\"ID\",C144,\"EM_Energieträger\",E144),\"\")","v":""},"S1",null,null,null,null,null,null,null,null,null,null,null,null,null,null,null,"5. off-road Transport","Biogene Brenn- und Treibstoffe (Brennholz, biogene Brenn- und Treibstoffe)","","",null,"","",0]
[142,16,{"$f":"VLOOKUP(B145,'II. Transport'!C:E,3,FALSE)","v":"II.5. ."},{"$f":"VLOOKUP(B145,'II. Transport'!C:G,5,FALSE)","v":"5. off-road Transport"},"Umgebungswärme",{"$f":"IFERROR(GETPIVOTDATA(\"Energie\",EM_Daten_u_Uebersicht!$W$5,\"Ziel-Subsektor\",C145,\"Energieträger\",E145),\"\")","v":""},{"$f":"IFERROR(GETPIVOTDATA(\"Summe von Energieeinsatz [MWh]\",II_Pivot!$G$3,\"ID\",C145,\"EM_Energieträger\",E145),\"\")","v":""},{"$f":"IFERROR(F145*VLOOKUP(E145,EM_Daten_u_Uebersicht!P:Q,2,FALSE),\"\")","v":""},{"$f":"IFERROR(GETPIVOTDATA(\"Summe von THG [t CO2eq]\",II_Pivot!$G$3,\"ID\",C145,\"EM_Energieträger\",E145),\"\")","v":""},"S1",null,null,null,null,null,null,null,null,null,null,null,null,null,null,null,"5. off-road Transport","Brennbare Abfälle","","",null,"","",0]
[143,16,{"$f":"VLOOKUP(B146,'II. Transport'!C:E,3,FALSE)","v":"II.5. ."},{"$f":"VLOOKUP(B146,'II. Transport'!C:G,5,FALSE)","v":"5. off-road Transport"},"CO2-eq Direkteingabe",{"$f":"IFERROR(GETPIVOTDATA(\"Energie\",EM_Daten_u_Uebersicht!$W$5,\"Ziel-Subsektor\",C146,\"Energieträger\",E146),\"\")","v":""},{"$f":"IFERROR(GETPIVOTDATA(\"Summe von Energieeinsatz [MWh]\",II_Pivot!$G$3,\"ID\",C146,\"EM_Energieträger\",E146),\"\")","v":""},{"$f":"IFERROR(F146*VLOOKUP(E146,EM_Daten_u_Uebersicht!P:Q,2,FALSE),\"\")","v":""},{"$f":"IFERROR(GETPIVOTDATA(\"Summe von THG [t CO2eq]\",II_Pivot!$G$3,\"ID\",C146,\"EM_Energieträger\",E146),\"\")","v":""},"S1",null,null,null,null,null,null,null,null,null,null,null,null,null,null,null,"5. off-road Transport","Umgebungswärme","","",null,"","",0]
[null,null,null,null,null,{"$f":"SUM(F3:F146)","v":0},{"$f":"SUM(G3:G146)","v":0},null,{"$f":"SUM(I3:I146)","v":0},null,{"$f":"_xlfn.AGGREGATE(9,6,K3:K146)","v":0},null,null,null,null,null,null,null,null,null,null,null,null,null,null,"5. off-road Transport","CO2-eq Direkteingabe","","",null,"","",0]
[null,null,null,null,null,null,{"$f":"G147-SUM(M3:M8)","v":0},null,{"$f":"I147-SUM(N3:N8)","v":0}]
[]
[]
[]
[]
[]
[]
[]
[]
[]
[]
[]
[]
[]
[]
[]
[]
[]
[]
[]
[]
[]
[]
[]
[]
[]
[]
[]
[]
[]
[]
[]
[]
[]
[]
[]
[]
[]
[]
[]
[]
[]
[]
[]
[]
[]
[]
[]
[]
[]
[]
[]
[]
[]
[]
[]
[]
[]
[]
[]
[]
[]
[]
[]
[]
[]
[]
[]
[]
[]
[null,null,null,null,null,null,{"$f":"IFERROR(GETPIVOTDATA(\"Summe von Energieeinsatz [MWh]\",II_Pivot!$G$3,\"ID\",C218,\"EM_Energieträger\",E218),\"\")","v":""}]
[null,null,null,null,null,null,{"$f":"IFERROR(GETPIVOTDATA(\"Summe von Energieeinsatz [MWh]\",II_Pivot!$G$3,\"ID\",C219,\"EM_Energieträger\",E219),\"\")","v":""}]
[null,null,null,null,null,null,{"$f":"IFERROR(GETPIVOTDATA(\"Summe von Energieeinsatz [MWh]\",II_Pivot!$G$3,\"ID\",C220,\"EM_Energieträger\",E220),\"\")","v":""}]
[null,null,null,null,null,null,{"$f":"IFERROR(GETPIVOTDATA(\"Summe von Energieeinsatz [MWh]\",II_Pivot!$G$3,\"ID\",C221,\"EM_Energieträger\",E221),\"\")","v":""}]
[null,null,null,null,null,null,{"$f":"IFERROR(GETPIVOTDATA(\"Summe von Energieeinsatz [MWh]\",II_Pivot!$G$3,\"ID\",C222,\"EM_Energieträger\",E222),\"\")","v":""}]
[null,null,null,null,null,null,{"$f":"IFERROR(GETPIVOTDATA(\"Summe von Energieeinsatz [MWh]\",II_Pivot!$G$3,\"ID\",C223,\"EM_Energieträger\",E223),\"\")","v":""}]
[null,null,null,null,null,null,{"$f":"IFERROR(GETPIVOTDATA(\"Summe von Energieeinsatz [MWh]\",II_Pivot!$G$3,\"ID\",C224,\"EM_Energieträger\",E224),\"\")","v":""}]
[null,null,null,null,null,null,{"$f":"IFERROR(GETPIVOTDATA(\"Summe von Energieeinsatz [MWh]\",II_Pivot!$G$3,\"ID\",C225,\"EM_Energieträger\",E225),\"\")","v":""}]
[null,null,null,null,null,null,{"$f":"IFERROR(GETPIVOTDATA(\"Summe von Energieeinsatz [MWh]\",II_Pivot!$G$3,\"ID\",C226,\"EM_Energieträger\",E226),\"\")","v":""}]
[null,null,null,null,null,null,{"$f":"IFERROR(GETPIVOTDATA(\"Summe von Energieeinsatz [MWh]\",II_Pivot!$G$3,\"ID\",C227,\"EM_Energieträger\",E227),\"\")","v":""}]
[null,null,null,null,null,null,{"$f":"IFERROR(GETPIVOTDATA(\"Summe von Energieeinsatz [MWh]\",II_Pivot!$G$3,\"ID\",C228,\"EM_Energieträger\",E228),\"\")","v":""}]
[null,null,null,null,null,null,{"$f":"IFERROR(GETPIVOTDATA(\"Summe von Energieeinsatz [MWh]\",II_Pivot!$G$3,\"ID\",C229,\"EM_Energieträger\",E229),\"\")","v":""}]

{"sheet":"III. Auswertung Abfall","index":9,"n_rows":15,"n_cols":3,"rows_kept":15,"cut":false,"hidden":true,"merged":[]}
["III. Abfall"]
[]
[null,{"$f":"'III. Abfall'!P3","v":"Scope 1 CO2-eq [t]"},{"$f":"'III. Abfall'!Q3","v":"Scope 3 CO2-eq [t]"}]
[{"$f":"'III. Abfall'!A5","v":"Abwasser"},{"$f":"'III. Abfall'!P5","v":0},{"$f":"'III. Abfall'!Q5","v":0}]
[{"$f":"'III. Abfall'!A6","v":"Restmüll"},{"$f":"'III. Abfall'!P6","v":0},{"$f":"'III. Abfall'!Q6","v":0}]
[{"$f":"'III. Abfall'!A7","v":"Sperrmüll"},{"$f":"'III. Abfall'!P7","v":0},{"$f":"'III. Abfall'!Q7","v":0}]
[{"$f":"'III. Abfall'!A8","v":"Leichtfraktion"},{"$f":"'III. Abfall'!P8","v":0},{"$f":"'III. Abfall'!Q8","v":0}]
[{"$f":"'III. Abfall'!A9","v":"Altmetall"},{"$f":"'III. Abfall'!P9","v":0},{"$f":"'III. Abfall'!Q9","v":0}]
[{"$f":"'III. Abfall'!A10","v":"Altglas"},{"$f":"'III. Abfall'!P10","v":0},{"$f":"'III. Abfall'!Q10","v":0}]
[{"$f":"'III. Abfall'!A11","v":"Altpapier"},{"$f":"'III. Abfall'!P11","v":0},{"$f":"'III. Abfall'!Q11","v":0}]
[{"$f":"'III. Abfall'!A12","v":"Bioabfall"},{"$f":"'III. Abfall'!P12","v":0},{"$f":"'III. Abfall'!Q12","v":0}]
[{"$f":"'III. Abfall'!A13","v":"Altholz"},{"$f":"'III. Abfall'!P13","v":0},{"$f":"'III. Abfall'!Q13","v":0}]
[{"$f":"'III. Abfall'!A14","v":"Alttextilien"},{"$f":"'III. Abfall'!P14","v":0},{"$f":"'III. Abfall'!Q14","v":0}]
[{"$f":"'III. Abfall'!A15","v":"EAG"},{"$f":"'III. Abfall'!P15","v":0},{"$f":"'III. Abfall'!Q15","v":0}]
[null,{"$f":"SUM(B4:B14)","v":0},{"$f":"SUM(C4:C14)","v":0}]

{"sheet":"V. Auswertung AFOLU","index":10,"n_rows":6,"n_cols":2,"rows_kept":6,"cut":false,"hidden":true,"merged":[]}
["V. AFOLU: Landnutzung, Landnutzungsänderung und Forstwirtschaft"]
[null,"Tonnen THG"]
["1. Nutztiere",{"$f":"'V. AFOLU'!D22","v":0}]
[{"$f":"\"2. \" & 'V. AFOLU'!A24","v":"2. Stickstoffausbringung / Düngermengeausbringung auf bewirtschaftete Böden"},{"$f":"'V. AFOLU'!D32","v":0}]
[{"$f":"\"3. \" &'V. AFOLU'!A34","v":"3. Angebaute Kulturen auf Acker- und Grünlandflächen"},{"$f":"'V. AFOLU'!D56","v":0}]
[{"$f":"\"4. \" &'V. AFOLU'!A58","v":"4. Bodenmanagement"},{"$f":"'V. AFOLU'!D60","v":0}]

{"sheet":"Gesamtauswertung","index":11,"n_rows":8,"n_cols":6,"rows_kept":8,"cut":false,"hidden":true,"merged":[]}
["Gesamtauswertung"]
[null,"Tonnen THG","davon","Scope 1","Scope 2","Scope 3"]
["I. Stationäre Energie",{"$f":"'I. Auswertung SE'!U3+'I. Auswertung SE'!U4+'I. Auswertung SE'!U5","v":0},null,{"$f":"'I. Auswertung SE'!U3","v":0},{"$f":"'I. Auswertung SE'!U4","v":0},{"$f":"'I. Auswertung SE'!U5","v":0}]
["II. Transport",{"$f":"'II. Auswertung T'!R3+'II. Auswertung T'!R4","v":0},null,{"$f":"'II. Auswertung T'!R3","v":0},{"$f":"'II. Auswertung T'!R4","v":0}]
["III. Abfall",{"$f":"'III. Auswertung Abfall'!B15+'III. Auswertung Abfall'!C15","v":0},null,{"$f":"'III. Auswertung Abfall'!B15","v":0},null,{"$f":"'III. Auswertung Abfall'!C15","v":0}]
["IV. IPPU",{"$f":"'IV. IPPU'!C22","v":0},null,{"$f":"B6","v":0}]
["V. AFOLU",{"$f":"'V. AFOLU'!D22+'V. AFOLU'!D32+'V. AFOLU'!D56+'V. AFOLU'!D60","v":0},null,{"$f":"B7","v":0}]
[null,{"$f":"SUM(B3:B7)","v":0},null,{"$f":"SUM(D3:D7)","v":0},{"$f":"SUM(E3:E7)","v":0},0]

{"sheet":"EM_Daten_u_Uebersicht","index":12,"n_rows":88,"n_cols":24,"rows_kept":88,"cut":false,"hidden":true,"merged":[[0,0,0,5],[0,8,0,10],[0,12,0,13],[0,18,0,19],[0,22,0,23]]}
["EM-Daten einschließlich zugeschlüsselter Ziel-Sektor/Subsektor",null,null,null,null,null,null,null,"Zuschlüsselung Ziel-Sektor/Subsektor",null,null,null,"Zuschlüsselung Energieträger",null,null,"EM Energieträger","CO2eq in t/MWh",null,"Summen nach Sektor",null,null,null,"Summen nach Subsektor und Energieträger"]
["GKZ","Sektor/Subsektor","Ziel-Subsektor","Ziel-Sektor","Energieträger","Energie",null,null,"Sektor/Subsektor","Ziel-Subsektor","Ziel-Sektor",null,"Dropdown-Möglichkeiten","EM-Energieträger",null,"Kohle (Steinkohle, Braunkohle, Koks, Petrolkoks; Gichtgas, Kokereigas, Brenntorf)",{"$f":"Emissionsfaktoren!G23","v":0.28299999999999997}]
[{"$f":"Deckblatt!$B$6","v":0},"Raumwärme Wohnen",{"$f":"VLOOKUP(B3,I:J,2,FALSE)","v":"I.1. ."},{"$f":"VLOOKUP(B3,I:K,3,FALSE)","v":"I.1."},"Fernwärme",{"$f":"VLOOKUP(A3,'EM-Daten'!A:K,5,FALSE)*(0.13+0.12)","v":{"$error":"#N/A"}},null,null,"Raumwärme Wohnen","I.1. .","I.1.",null,"Benzin (inkl. Beimengung)","Öl (Heizöl, Gasöl für Heizzwecke, Diesel, Benzin, Petroleum, Flüssiggas)",null,"Öl (Heizöl, Gasöl für Heizzwecke, Diesel, Benzin, Petroleum, Flüssiggas)",{"$f":"Emissionsfaktoren!G3","v":0.27087479999999997},null,"GKZ","(Alle)"]
[{"$f":"Deckblatt!$B$6","v":0},"Raumwärme Wohnen","I.1. .","I.1.","Öl (Heizöl, Gasöl für Heizzwecke, Diesel, Benzin, Petroleum, Flüssiggas)",{"$f":"VLOOKUP(A3,'EM-Daten'!A:K,5,FALSE)*0.16","v":{"$error":"#N/A"}},null,null,"Prozesswärme Wohnen","I.1. .","I.1.",null,"Benzin fossil","Öl (Heizöl, Gasöl für Heizzwecke, Diesel, Benzin, Petroleum, Flüssiggas)",null,"Erdgas",{"$f":"Emissionsfaktoren!G5","v":0.2007594}]
[{"$f":"Deckblatt!$B$6","v":0},"Raumwärme Wohnen","I.1. .","I.1.","Biogene Brenn- und Treibstoffe (Brennholz, biogene Brenn- und Treibstoffe)",{"$f":"VLOOKUP(A3,'EM-Daten'!A:K,5,FALSE)*0.34","v":{"$error":"#N/A"}},null,null,"Motoren Elektrogeräte Wohnen","I.1. .","I.1.",null,"Biobrennstoffe flüssig ","Biogene Brenn- und Treibstoffe (Brennholz, biogene Brenn- und Treibstoffe)",null,"elektrische Energie",{"$f":"Emissionsfaktoren!G21","v":0.1734},null,"Zeilenbeschriftungen","Summe von Energie",null,null,"Zeilenbeschriftungen","Summe von Energie"]
[{"$f":"Deckblatt!$B$6","v":0},"Raumwärme Wohnen","I.1. .","I.1.","Erdgas",{"$f":"VLOOKUP(A3,'EM-Daten'!A:K,5,FALSE)*0.25","v":{"$error":"#N/A"}},null,null,"CO2-eq Direkteingabe Wohnen","I.1. .","I.1.",null,"Biobrennstoffe gasförmig ","Biogene Brenn- und Treibstoffe (Brennholz, biogene Brenn- und Treibstoffe)",null,"Fernwärme",{"$f":"Emissionsfaktoren!G22","v":0.33514971084497724},null,"(Leer)",null,null,null,"I.1. .",{"$error":"#N/A"}]
[{"$f":"Deckblatt!$B$6","v":0},"Prozesswärme Wohnen","I.1. .","I.1.","Erdgas",0,null,null,"Raumwärme Dienstleistungen","I.2.i.","I.2.",null,"Biodiesel","Biogene Brenn- und Treibstoffe (Brennholz, biogene Brenn- und Treibstoffe)",null,"Biogene Brenn- und Treibstoffe (Brennholz, biogene Brenn- und Treibstoffe)",{"$f":"Emissionsfaktoren!G11","v":1.5610493594460506E-2},null,"I.2.",{"$error":"#N/A"},null,null,"Biogene Brenn- und Treibstoffe (Brennholz, biogene Brenn- und Treibstoffe)",{"$error":"#N/A"}]
[{"$f":"Deckblatt!$B$6","v":0},"Motoren Elektrogeräte Wohnen","I.1. .","I.1.","elektrische Energie",{"$f":"VLOOKUP(A3,'EM-Daten'!A:K,7,FALSE)","v":{"$error":"#N/A"}},null,null,"Prozesswärme Dienstleistungen","I.2.i.","I.2.",null,"Bioethanol","Biogene Brenn- und Treibstoffe (Brennholz, biogene Brenn- und Treibstoffe)",null,"Brennbare Abfälle",{"$f":"Emissionsfaktoren!G24","v":0.2589381214747315},null,"I.1.",{"$error":"#N/A"},null,null,"Öl (Heizöl, Gasöl für Heizzwecke, Diesel, Benzin, Petroleum, Flüssiggas)",{"$error":"#N/A"}]
[{"$f":"Deckblatt!$B$6","v":0},"Raumwärme Dienstleistungen","I.2.i.","I.2.","Fernwärme",{"$f":"VLOOKUP(A3,'EM-Daten'!I:P,5,FALSE)*(41%+12%+15%)","v":{"$error":"#N/A"}},null,null,"Motoren Elektrogeräte Dienstleistungen","I.2.i.","I.2.",null,"Biomasse (Biobrennstoffe fest): Gesamt","Biogene Brenn- und Treibstoffe (Brennholz, biogene Brenn- und Treibstoffe)",null,"Umgebungswärme",null,null,"I.3. ",null,null,null,"(Leer)"]
[{"$f":"Deckblatt!$B$6","v":0},"Raumwärme Dienstleistungen","I.2.i.","I.2.","Öl (Heizöl, Gasöl für Heizzwecke, Diesel, Benzin, Petroleum, Flüssiggas)",{"$f":"VLOOKUP(A3,'EM-Daten'!I:P,5,FALSE)*9%","v":{"$error":"#N/A"}},null,null,"Raumwärme Handel ","I.2.i.","I.2.",null,"Biomasse (Biobrennstoffe fest): Hackgut ","Biogene Brenn- und Treibstoffe (Brennholz, biogene Brenn- und Treibstoffe)",null,"CO2-eq Direkteingabe",null,null,"I.5.",{"$error":"#N/A"},null,null,"Fernwärme",{"$error":"#N/A"}]
[{"$f":"Deckblatt!$B$6","v":0},"Raumwärme Dienstleistungen","I.2.i.","I.2.","Biogene Brenn- und Treibstoffe (Brennholz, biogene Brenn- und Treibstoffe)",{"$f":"VLOOKUP(A3,'EM-Daten'!I:P,5,FALSE)*5%","v":{"$error":"#N/A"}},null,null,"Prozesswärme Handel ","I.2.i.","I.2.",null,"Biomasse (Biobrennstoffe fest): Pellets","Biogene Brenn- und Treibstoffe (Brennholz, biogene Brenn- und Treibstoffe)",null,null,null,null,"I.3.",{"$error":"#N/A"},null,null,"Erdgas",{"$error":"#N/A"}]
[{"$f":"Deckblatt!$B$6","v":0},"Raumwärme Dienstleistungen","I.2.i.","I.2.","Erdgas",{"$f":"VLOOKUP(A3,'EM-Daten'!I:P,5,FALSE)*18%","v":{"$error":"#N/A"}},null,null,"Motoren/Elektrogeräte Handel ","I.2.i.","I.2.",null,"Biomasse (Biobrennstoffe fest): Stückholz ","Biogene Brenn- und Treibstoffe (Brennholz, biogene Brenn- und Treibstoffe)",null,null,null,null,"Gesamtergebnis",{"$error":"#N/A"},null,null,"elektrische Energie",{"$error":"#N/A"}]
[{"$f":"Deckblatt!$B$6","v":0},"Prozesswärme Dienstleistungen","I.2.i.","I.2.","elektrische Energie",{"$f":"VLOOKUP(A3,'EM-Daten'!I:P,6,FALSE)*87%","v":{"$error":"#N/A"}},null,null,"Raumwärme Beherbergung und Gastronomie ","I.2.i.","I.2.",null,"Brennbare Abfälle","Brennbare Abfälle",null,null,null,null,null,null,null,null,"I.2.i.",{"$error":"#N/A"}]
[{"$f":"Deckblatt!$B$6","v":0},"Prozesswärme Dienstleistungen","I.2.i.","I.2.","Erdgas",{"$f":"VLOOKUP(A3,'EM-Daten'!I:P,6,FALSE)*13%","v":{"$error":"#N/A"}},null,null,"Prozesswärme Beherbergung und Gastronomie ","I.2.i.","I.2.",null,"Bus","Öl (Heizöl, Gasöl für Heizzwecke, Diesel, Benzin, Petroleum, Flüssiggas)",null,null,null,null,null,null,null,null,"Biogene Brenn- und Treibstoffe (Brennholz, biogene Brenn- und Treibstoffe)",{"$error":"#N/A"}]
[{"$f":"Deckblatt!$B$6","v":0},"Motoren Elektrogeräte Dienstleistungen","I.2.i.","I.2.","elektrische Energie",{"$f":"VLOOKUP(A3,'EM-Daten'!I:P,7,FALSE)","v":{"$error":"#N/A"}},null,null,"Motoren/Elektrogeräte Beherbergung und Gastronomie ","I.2.i.","I.2.",null,"CNG","Erdgas",null,null,null,null,null,null,null,null,"Öl (Heizöl, Gasöl für Heizzwecke, Diesel, Benzin, Petroleum, Flüssiggas)",{"$error":"#N/A"}]
[{"$f":"Deckblatt!$B$6","v":0},"Raumwärme Industrie und Gewerbe","I.3. .","I.3.","Fernwärme",{"$f":"VLOOKUP(A3,'EM-Daten'!Q:X,5,FALSE)*(7%+12%)","v":{"$error":"#N/A"}},null,null,"Raumwärme Erziehung und Unterricht ","I.2.i.","I.2.",null,"CO2-eq Direkteingabe","CO2-eq Direkteingabe",null,null,null,null,null,null,null,null,"(Leer)"]
[{"$f":"Deckblatt!$B$6","v":0},"Raumwärme Industrie und Gewerbe","I.3. .","I.3.","Öl (Heizöl, Gasöl für Heizzwecke, Diesel, Benzin, Petroleum, Flüssiggas)",{"$f":"VLOOKUP(A3,'EM-Daten'!Q:X,5,FALSE)*3%","v":{"$error":"#N/A"}},null,null,"Prozesswärme Erziehung und Unterricht ","I.2.i.","I.2.",null,"Diesel (inkl. Beimengung)","Öl (Heizöl, Gasöl für Heizzwecke, Diesel, Benzin, Petroleum, Flüssiggas)",null,null,null,null,null,null,null,null,"Fernwärme",{"$error":"#N/A"}]
[{"$f":"Deckblatt!$B$6","v":0},"Raumwärme Industrie und Gewerbe","I.3. .","I.3.","Biogene Brenn- und Treibstoffe (Brennholz, biogene Brenn- und Treibstoffe)",{"$f":"VLOOKUP(A3,'EM-Daten'!Q:X,5,FALSE)*42%","v":{"$error":"#N/A"}},null,null,"Motoren/Elektrogeräte Erziehung und Unterricht ","I.2.i.","I.2.",null,"Diesel fossil","Öl (Heizöl, Gasöl für Heizzwecke, Diesel, Benzin, Petroleum, Flüssiggas)",null,null,null,null,null,null,null,null,"Erdgas",{"$error":"#N/A"}]
[{"$f":"Deckblatt!$B$6","v":0},"Raumwärme Industrie und Gewerbe","I.3. .","I.3.","Erdgas",{"$f":"VLOOKUP(A3,'EM-Daten'!Q:X,5,FALSE)*36%","v":{"$error":"#N/A"}},null,null,"Raumwärme Gesundheits- und Sozialwesen ","I.2.i.","I.2.",null,"Erdgas (fossil) (Brennwert)","Erdgas",null,null,null,null,null,null,null,null,"elektrische Energie",{"$error":"#N/A"}]
[{"$f":"Deckblatt!$B$6","v":0},"Prozesswärme Industrie und Gewerbe","I.3. .","I.3.","Erdgas",{"$f":"VLOOKUP(A3,'EM-Daten'!Q:X,6,FALSE)*55%","v":{"$error":"#N/A"}},null,null,"Prozesswärme Gesundheits- und Sozialwesen ","I.2.i.","I.2.",null,"Erdgas (fossil) (Heizwert)","Erdgas",null,null,null,null,null,null,null,null,"(Leer)"]
[{"$f":"Deckblatt!$B$6","v":0},"Prozesswärme Industrie und Gewerbe","I.3. .","I.3.","Öl (Heizöl, Gasöl für Heizzwecke, Diesel, Benzin, Petroleum, Flüssiggas)",{"$f":"VLOOKUP(A3,'EM-Daten'!Q:X,6,FALSE)*2%","v":{"$error":"#N/A"}},null,null,"Motoren/Elektrogeräte Gesundheits- und Sozialwesen ","I.2.i.","I.2.",null,"Fernwärme Stadt","Fernwärme",null,null,null,null,null,null,null,null,"(Leer)"]
[{"$f":"Deckblatt!$B$6","v":0},"Prozesswärme Industrie und Gewerbe","I.3. .","I.3.","Kohle (Steinkohle, Braunkohle, Koks, Petrolkoks; Gichtgas, Kokereigas, Brenntorf)",{"$f":"VLOOKUP(A3,'EM-Daten'!Q:X,6,FALSE)*10%","v":{"$error":"#N/A"}},null,null,"Raumwärme Freizeitinfrastruktur  ","I.2.i.","I.2.",null,"Kohle","Kohle (Steinkohle, Braunkohle, Koks, Petrolkoks; Gichtgas, Kokereigas, Brenntorf)",null,null,null,null,null,null,null,null,"I.5. .",{"$error":"#N/A"}]
[{"$f":"Deckblatt!$B$6","v":0},"Prozesswärme Industrie und Gewerbe","I.3. .","I.3.","elektrische Energie",{"$f":"VLOOKUP(A3,'EM-Daten'!Q:X,6,FALSE)*12%","v":{"$error":"#N/A"}},null,null,"Prozesswärme Freizeitinfrastruktur  ","I.2.i.","I.2.",null,"Strom","elektrische Energie",null,null,null,null,null,null,null,null,"Biogene Brenn- und Treibstoffe (Brennholz, biogene Brenn- und Treibstoffe)",{"$error":"#N/A"}]
[{"$f":"Deckblatt!$B$6","v":0},"Prozesswärme Industrie und Gewerbe","I.3. .","I.3.","Biogene Brenn- und Treibstoffe (Brennholz, biogene Brenn- und Treibstoffe)",{"$f":"VLOOKUP(A3,'EM-Daten'!Q:X,6,FALSE)*16%","v":{"$error":"#N/A"}},null,null,"Motoren/Elektrogeräte Freizeitinfrastruktur  ","I.2.i.","I.2.",null,"Brennbare Abfälle","Brennbare Abfälle",null,null,null,null,null,null,null,null,"Öl (Heizöl, Gasöl für Heizzwecke, Diesel, Benzin, Petroleum, Flüssiggas)",{"$error":"#N/A"}]
[{"$f":"Deckblatt!$B$6","v":0},"Prozesswärme Industrie und Gewerbe","I.3. .","I.3.","Brennbare Abfälle",{"$f":"VLOOKUP(A3,'EM-Daten'!Q:X,6,FALSE)*5%","v":{"$error":"#N/A"}},null,null,"Raumwärme Übrige Dienstleistungen ","I.2.i.","I.2.",null,"Umgebungswärme","Umgebungswärme",null,null,null,null,null,null,null,null,"(Leer)"]
[{"$f":"Deckblatt!$B$6","v":0},"Motoren/Elektrogeräte Industrie und Gewerbe","I.3. .","I.3.","elektrische Energie",{"$f":"VLOOKUP(A3,'EM-Daten'!Q:X,7,FALSE)","v":{"$error":"#N/A"}},null,null,"Prozesswärme Übrige Dienstleistungen ","I.2.i.","I.2.",null,"ETS","CO2-eq Direkteingabe",null,null,null,null,null,null,null,null,"Fernwärme",{"$error":"#N/A"}]
[{"$f":"Deckblatt!$B$6","v":0},"Raumwärme Land- und Forstwirtschaft","I.5. .","I.5.","Fernwärme",{"$f":"VLOOKUP(A3,'EM-Daten'!Y:AF,5,FALSE)*(6%+17%+2%)","v":{"$error":"#N/A"}},null,null,"Motoren/Elektrogeräte Übrige Dienstleistungen ","I.2.i.","I.2.",null,"Flüssiggas LPG","Öl (Heizöl, Gasöl für Heizzwecke, Diesel, Benzin, Petroleum, Flüssiggas)",null,null,null,null,null,null,null,null,"Erdgas",{"$error":"#N/A"}]
[{"$f":"Deckblatt!$B$6","v":0},"Raumwärme Land- und Forstwirtschaft","I.5. .","I.5.","Öl (Heizöl, Gasöl für Heizzwecke, Diesel, Benzin, Petroleum, Flüssiggas)",{"$f":"VLOOKUP(A3,'EM-Daten'!Y:AF,5,FALSE)*2%","v":{"$error":"#N/A"}},null,null,"CO2-eq Direkteingabe Dienstleistungen","I.2.i.","I.2.",null,"FW Bregenz","Fernwärme",null,null,null,null,null,null,null,null,"elektrische Energie",{"$error":"#N/A"}]
[{"$f":"Deckblatt!$B$6","v":0},"Raumwärme Land- und Forstwirtschaft","I.5. .","I.5.","Biogene Brenn- und Treibstoffe (Brennholz, biogene Brenn- und Treibstoffe)",{"$f":"VLOOKUP(A3,'EM-Daten'!Y:AF,5,FALSE)*62%","v":{"$error":"#N/A"}},null,null,"Raumwärme Technische Infrastruktur ","I.2.iv.","I.2.",null,"FW Dornbirn","Fernwärme",null,null,null,null,null,null,null,null,"I.3. .",{"$error":"#N/A"}]
[{"$f":"Deckblatt!$B$6","v":0},"Raumwärme Land- und Forstwirtschaft","I.5. .","I.5.","Erdgas",{"$f":"VLOOKUP(A3,'EM-Daten'!Y:AF,5,FALSE)*11%","v":{"$error":"#N/A"}},null,null,"Prozesswärme Technische Infrastruktur ","I.2.iv.","I.2.",null,"FW Durchschnitt AT","Fernwärme",null,null,null,null,null,null,null,null,"Biogene Brenn- und Treibstoffe (Brennholz, biogene Brenn- und Treibstoffe)",{"$error":"#N/A"}]
[{"$f":"Deckblatt!$B$6","v":0},"Prozesswärme Land- und Forstwirtschaft","I.5. .","I.5.","Erdgas",{"$f":"VLOOKUP(A3,'EM-Daten'!Y:AF,6,FALSE)*14%","v":{"$error":"#N/A"}},null,null,"Motoren/Elektrogeräte Technische Infrastruktur ","I.2.iv.","I.2.",null,"FW Graz","Fernwärme",null,null,null,null,null,null,null,null,"Öl (Heizöl, Gasöl für Heizzwecke, Diesel, Benzin, Petroleum, Flüssiggas)",{"$error":"#N/A"}]
[{"$f":"Deckblatt!$B$6","v":0},"Prozesswärme Land- und Forstwirtschaft","I.5. .","I.5.","Biogene Brenn- und Treibstoffe (Brennholz, biogene Brenn- und Treibstoffe)",{"$f":"VLOOKUP(A3,'EM-Daten'!Y:AF,6,FALSE)*83%","v":{"$error":"#N/A"}},null,null,"CO2-eq Direkteingabe Infrastruktur","I.2.iv.","I.2.",null,"FW Innsbruck","Fernwärme",null,null,null,null,null,null,null,null,"(Leer)"]
[{"$f":"Deckblatt!$B$6","v":0},"Prozesswärme Land- und Forstwirtschaft","I.5. .","I.5.","elektrische Energie",{"$f":"VLOOKUP(A3,'EM-Daten'!Y:AF,6,FALSE)*3%","v":{"$error":"#N/A"}},null,null,"Raumwärme Land- und Forstwirtschaft","I.5. .","I.5.",null,"FW Klagefurt","Fernwärme",null,null,null,null,null,null,null,null,"Fernwärme",{"$error":"#N/A"}]
[{"$f":"Deckblatt!$B$6","v":0},"Motoren/Elektrogeräte Land- und Forstwirtschaft","I.5. .","I.5.","elektrische Energie",{"$f":"VLOOKUP(A3,'EM-Daten'!Y:AF,7,FALSE)","v":{"$error":"#N/A"}},null,null,"Prozesswärme Land- und Forstwirtschaft","I.5. .","I.5.",null,"FW Linz","Fernwärme",null,null,null,null,null,null,null,null,"Erdgas",{"$error":"#N/A"}]
[{"$f":"Deckblatt!$B$6","v":0},"CO2-eq Direkteingabe Wohnen",{"$f":"VLOOKUP(B35,I:J,2,FALSE)","v":"I.1. ."},"I.1.",null,null,null,null,"Motoren/Elektrogeräte Land- und Forstwirtschaft","I.5. .","I.5.",null,"FW Salzburg","Fernwärme",null,null,null,null,null,null,null,null,"elektrische Energie",{"$error":"#N/A"}]
[{"$f":"Deckblatt!$B$6","v":0},"CO2-eq Direkteingabe Dienstleistungen","I.2.i.",{"$f":"VLOOKUP(B36,I:K,3,FALSE)","v":"I.2."},null,null,null,null,"CO2-eq Direkteingabe Land- und Forstwirtschaft","I.5. .","I.5.",null,"FW St. Pölten","Fernwärme",null,null,null,null,null,null,null,null,"Kohle (Steinkohle, Braunkohle, Koks, Petrolkoks; Gichtgas, Kokereigas, Brenntorf)",{"$error":"#N/A"}]
[{"$f":"Deckblatt!$B$6","v":0},"CO2-eq Direkteingabe Infrastruktur","I.2.iv.","I.2.",null,null,null,null,"Raumwärme Industrie und Gewerbe","I.3. .","I.3.",null,"FW St. Veit/Glan","Fernwärme",null,null,null,null,null,null,null,null,"Brennbare Abfälle",{"$error":"#N/A"}]
[{"$f":"Deckblatt!$B$6","v":0},"CO2-eq Direkteingabe Land- und Forstwirtschaft","I.5. .","I.5.",null,null,null,null,"Prozesswärme Industrie und Gewerbe","I.3. .","I.3.",null,"FW Steyr","Fernwärme",null,null,null,null,null,null,null,null,"I.2.iv."]
[{"$f":"Deckblatt!$B$6","v":0},"CO2-eq Direkteingabe Industrie und Gewerbe","I.3. .","I.3.",null,null,null,null,"Motoren/Elektrogeräte Industrie und Gewerbe","I.3. .","I.3.",null,"FW Tulln","Fernwärme",null,null,null,null,null,null,null,null,"(Leer)"]
[{"$f":"Deckblatt!$B$6","v":0},"CO2-eq Direkteingabe Metallerzeugung und ‑bearbeitung ","I.3.i. ","I.3. ",null,null,null,null,"CO2-eq Direkteingabe Industrie und Gewerbe","I.3. .","I.3.",null,"FW Villach","Fernwärme",null,null,null,null,null,null,null,null,"I.3.i. "]
[{"$f":"Deckblatt!$B$6","v":0},"CO2-eq Direkteingabe Chemische, pharmazeutische Erzeugung ","I.3.Ii. ","I.3. ",null,null,null,null,"Raumwärme Metallerzeugung und ‑bearbeitung ","I.3.i. ","I.3. ",null,"FW Wien","Fernwärme",null,null,null,null,null,null,null,null,"(Leer)"]
[{"$f":"Deckblatt!$B$6","v":0},"CO2-eq Direkteingabe Papier und Druck ","I.3.iv. ","I.3. ",null,null,null,null,"Prozesswärme Metallerzeugung und ‑bearbeitung ","I.3.i. ","I.3. ",null,"FW Wiener Neustadt","Fernwärme",null,null,null,null,null,null,null,null,"I.3.Ii. "]
[{"$f":"Deckblatt!$B$6","v":0},"CO2-eq Direkteingabe Nahrungs- und Genußmittel, Tabak ","I.3.v. ","I.3. ",null,null,null,null,"Motoren/Elektrogeräte Metallerzeugung und ‑bearbeitung ","I.3.i. ","I.3. ",null,"Heizöl extra leicht (fossil) ","Öl (Heizöl, Gasöl für Heizzwecke, Diesel, Benzin, Petroleum, Flüssiggas)",null,null,null,null,null,null,null,null,"(Leer)"]
[{"$f":"Deckblatt!$B$6","v":0},"CO2-eq Direkteingabe Verarbeitung mineralischer Rohstoffe ","I.3.vi. ","I.3. ",null,null,null,null,"CO2-eq Direkteingabe Metallerzeugung und ‑bearbeitung ",{"$f":"J43","v":"I.3.i. "},{"$f":"K43","v":"I.3. "},null,"Heizöl leicht (fossil) ","Öl (Heizöl, Gasöl für Heizzwecke, Diesel, Benzin, Petroleum, Flüssiggas)",null,null,null,null,null,null,null,null,"I.3.iv. "]
[{"$f":"Deckblatt!$B$6","v":0},"CO2-eq Direkteingabe Fahrzeugbau ","I.3.vI. ","I.3. ",null,null,null,null,"Raumwärme Chemische, pharmazeutische Erzeugung ","I.3.Ii. ","I.3. ",null,"Industrielle Abwärme","Umgebungswärme",null,null,null,null,null,null,null,null,"(Leer)"]
[{"$f":"Deckblatt!$B$6","v":0},"CO2-eq Direkteingabe Maschinenbau ","I.3.vIi. ","I.3. ",null,null,null,null,"Prozesswärme Chemische, pharmazeutische Erzeugung ","I.3.Ii. ","I.3. ",null,"Kerosin","Öl (Heizöl, Gasöl für Heizzwecke, Diesel, Benzin, Petroleum, Flüssiggas)",null,null,null,null,null,null,null,null,"I.3.v. "]
[{"$f":"Deckblatt!$B$6","v":0},"CO2-eq Direkteingabe Bergbau ","I.3.ix. ","I.3. ",null,null,null,null,"Motoren/Elektrogeräte Chemische, pharmazeutische Erzeugung ","I.3.Ii. ","I.3. ",null,"Kohle / Koks","Kohle (Steinkohle, Braunkohle, Koks, Petrolkoks; Gichtgas, Kokereigas, Brenntorf)",null,null,null,null,null,null,null,null,"(Leer)"]
[{"$f":"Deckblatt!$B$6","v":0},"CO2-eq Direkteingabe Holzverarbeitung ","I.3.x. ","I.3. ",null,null,null,null,"CO2-eq Direkteingabe Chemische, pharmazeutische Erzeugung ",{"$f":"J47","v":"I.3.Ii. "},{"$f":"K47","v":"I.3. "},null,"Leichtes Nutzfahrzeug","Öl (Heizöl, Gasöl für Heizzwecke, Diesel, Benzin, Petroleum, Flüssiggas)",null,null,null,null,null,null,null,null,"I.3.vi. "]
[{"$f":"Deckblatt!$B$6","v":0},"CO2-eq Direkteingabe Bau","I.3.xi. ","I.3. ",null,null,null,null,"Raumwärme Papier und Druck ","I.3.iv. ","I.3. ",null,"LKW Durchschnitt","Öl (Heizöl, Gasöl für Heizzwecke, Diesel, Benzin, Petroleum, Flüssiggas)",null,null,null,null,null,null,null,null,"(Leer)"]
[{"$f":"Deckblatt!$B$6","v":0},"CO2-eq Direkteingabe Textil und Leder ","I.3.xI. ","I.3. ",null,null,null,null,"Prozesswärme Papier und Druck ","I.3.iv. ","I.3. ",null,"Motorrad / Mopeds","Öl (Heizöl, Gasöl für Heizzwecke, Diesel, Benzin, Petroleum, Flüssiggas)",null,null,null,null,null,null,null,null,"I.3.vIi. "]
[{"$f":"Deckblatt!$B$6","v":0},"CO2-eq Direkteingabe Sonstiger produzierender Bereich ","I.3.xIi. ","I.3. ",null,null,null,null,"Motoren/Elektrogeräte Papier und Druck ","I.3.iv. ","I.3. ",null,"Photovoltaik","elektrische Energie",null,null,null,null,null,null,null,null,"(Leer)"]
[null,null,null,null,null,null,null,null,"CO2-eq Direkteingabe Papier und Druck ",{"$f":"J51","v":"I.3.iv. "},{"$f":"K51","v":"I.3. "},null,"Pkw","Öl (Heizöl, Gasöl für Heizzwecke, Diesel, Benzin, Petroleum, Flüssiggas)",null,null,null,null,null,null,null,null,"I.3.ix. "]
[null,null,null,null,null,null,null,null,"Raumwärme Nahrungs- und Genußmittel, Tabak ","I.3.v. ","I.3. ",null,"Schienenverkehr Diesel","Öl (Heizöl, Gasöl für Heizzwecke, Diesel, Benzin, Petroleum, Flüssiggas)",null,null,null,null,null,null,null,null,"(Leer)"]
[null,null,null,null,null,null,null,null,"Prozesswärme Nahrungs- und Genußmittel, Tabak ","I.3.v. ","I.3. ",null,"Schienenverkehr Elektrisch","elektrische Energie",null,null,null,null,null,null,null,null,"I.3.x. "]
[null,null,null,null,null,null,null,null,"Motoren/Elektrogeräte Nahrungs- und Genußmittel, Tabak ","I.3.v. ","I.3. ",null,"Schweres Nutzfahrzeug","Öl (Heizöl, Gasöl für Heizzwecke, Diesel, Benzin, Petroleum, Flüssiggas)",null,null,null,null,null,null,null,null,"(Leer)"]
[null,null,null,null,null,null,null,null,"CO2-eq Direkteingabe Nahrungs- und Genußmittel, Tabak ",{"$f":"J55","v":"I.3.v. "},{"$f":"K55","v":"I.3. "},null,"Solarthermie","Umgebungswärme",null,null,null,null,null,null,null,null,"I.3.xi. "]
[null,null,null,null,null,null,null,null,"Raumwärme Verarbeitung mineralischer Rohstoffe ","I.3.vi. ","I.3. ",null,"Strom aus Wasserkraft","elektrische Energie",null,null,null,null,null,null,null,null,"(Leer)"]
[null,null,null,null,null,null,null,null,"Prozesswärme Verarbeitung mineralischer Rohstoffe ","I.3.vi. ","I.3. ",null,"Strom aus Windkraft","elektrische Energie",null,null,null,null,null,null,null,null,"I.3.xIi. "]
[null,null,null,null,null,null,null,null,"Motoren/Elektrogeräte Verarbeitung mineralischer Rohstoffe ","I.3.vi. ","I.3. ",null,"Strom Durchschnitt AT","elektrische Energie",null,null,null,null,null,null,null,null,"(Leer)"]
[null,null,null,null,null,null,null,null,"CO2-eq Direkteingabe Verarbeitung mineralischer Rohstoffe ",{"$f":"J59","v":"I.3.vi. "},{"$f":"K59","v":"I.3. "},null,"UZ46 Strommix","elektrische Energie",null,null,null,null,null,null,null,null,"Gesamtergebnis",{"$error":"#N/A"}]
[null,null,null,null,null,null,null,null,"Raumwärme Fahrzeugbau ","I.3.vI. ","I.3. ",null,"Wärmepumpe (Strom Durchschnitt AT)","elektrische Energie"]
[null,null,null,null,null,null,null,null,"Prozesswärme Fahrzeugbau ","I.3.vI. ","I.3. ",null,"Wasserstoff","Erdgas"]
[null,null,null,null,null,null,null,null,"Motoren/Elektrogeräte Fahrzeugbau ","I.3.vI. ","I.3. "]
[null,null,null,null,null,null,null,null,"CO2-eq Direkteingabe Fahrzeugbau ",{"$f":"J63","v":"I.3.vI. "},{"$f":"K63","v":"I.3. "}]
[null,null,null,null,null,null,null,null,"Raumwärme Maschinenbau ","I.3.vIi. ","I.3. "]
[null,null,null,null,null,null,null,null,"Prozesswärme Maschinenbau ","I.3.vIi. ","I.3. "]
[null,null,null,null,null,null,null,null,"Motoren/Elektrogeräte Maschinenbau ","I.3.vIi. ","I.3. "]
[null,null,null,null,null,null,null,null,"CO2-eq Direkteingabe Maschinenbau ",{"$f":"J67","v":"I.3.vIi. "},{"$f":"K67","v":"I.3. "}]
[null,null,null,null,null,null,null,null,"Raumwärme Bergbau ","I.3.ix. ","I.3. "]
[null,null,null,null,null,null,null,null,"Prozesswärme Bergbau ","I.3.ix. ","I.3. "]
[null,null,null,null,null,null,null,null,"Motoren/Elektrogeräte Bergbau ","I.3.ix. ","I.3. "]
[null,null,null,null,null,null,null,null,"CO2-eq Direkteingabe Bergbau ",{"$f":"J71","v":"I.3.ix. "},{"$f":"K71","v":"I.3. "}]
[null,null,null,null,null,null,null,null,"Raumwärme Holzverarbeitung ","I.3.x. ","I.3. "]
[null,null,null,null,null,null,null,null,"Prozesswärme Holzverarbeitung ","I.3.x. ","I.3. "]
[null,null,null,null,null,null,null,null,"Motoren/Elektrogeräte Holzverarbeitung ","I.3.x. ","I.3. "]
[null,null,null,null,null,null,null,null,"CO2-eq Direkteingabe Holzverarbeitung ",{"$f":"J75","v":"I.3.x. "},{"$f":"K75","v":"I.3. "}]
[null,null,null,null,null,null,null,null,"Raumwärme Bau ","I.3.xi. ","I.3. "]
[null,null,null,null,null,null,null,null,"Prozesswärme Bau ","I.3.xi. ","I.3. "]
[null,null,null,null,null,null,null,null,"Motoren/Elektrogeräte Bau ","I.3.xi. ","I.3. "]
[null,null,null,null,null,null,null,null,"CO2-eq Direkteingabe Bau",{"$f":"J79","v":"I.3.xi. "},{"$f":"K79","v":"I.3. "}]
[null,null,null,null,null,null,null,null,"Raumwärme Textil und Leder ","I.3.xI. ","I.3. "]
[null,null,null,null,null,null,null,null,"Prozesswärme Textil und Leder ","I.3.xI. ","I.3. "]
[null,null,null,null,null,null,null,null,"Motoren/Elektrogeräte Textil und Leder ","I.3.xI. ","I.3. "]
[null,null,null,null,null,null,null,null,"CO2-eq Direkteingabe Textil und Leder ",{"$f":"J83","v":"I.3.xI. "},{"$f":"K83","v":"I.3. "}]
[null,null,null,null,null,null,null,null,"Raumwärme Sonstiger produzierender Bereich ","I.3.xIi. ","I.3. "]
[null,null,null,null,null,null,null,null,"Prozesswärme Sonstiger produzierender Bereich ","I.3.xIi. ","I.3. "]
[null,null,null,null,null,null,null,null,"Motoren/Elektrogeräte Sonstiger produzierender Bereich ","I.3.xIi. ","I.3. "]
[null,null,null,null,null,null,null,null,"CO2-eq Direkteingabe Sonstiger produzierender Bereich ",{"$f":"J87","v":"I.3.xIi. "},{"$f":"K87","v":"I.3. "}]

{"sheet":"EM-Daten","index":13,"n_rows":2141,"n_cols":32,"rows_kept":2141,"cut":false,"hidden":true,"merged":[]}
["## Dieser Datensatz wurde heruntergeladen von: www.energiemosaik.at",null,null,null,null,null,null,null,"## Dieser Datensatz wurde heruntergeladen von: www.energiemosaik.at",null,null,null,null,null,null,null,"## Dieser Datensatz wurde heruntergeladen von: www.energiemosaik.at",null,null,null,null,null,null,null,"## Dieser Datensatz wurde heruntergeladen von: www.energiemosaik.at"]
["## Stand: März 2022. Datengrundlagen für Heute: 2019. Zeithorizont für Morgen: 2050",null,null,null,null,null,null,null,"## Stand: März 2022. Datengrundlagen für Heute: 2019. Zeithorizont für Morgen: 2050",null,null,null,null,null,null,null,"## Stand: März 2022. Datengrundlagen für Heute: 2019. Zeithorizont für Morgen: 2050",null,null,null,null,null,null,null,"## Stand: März 2022. Datengrundlagen für Heute: 2019. Zeithorizont für Morgen: 2050"]
["##",null,null,null,null,null,null,null,"##",null,null,null,null,null,null,null,"##",null,null,null,null,null,null,null,"##"]
["## Die Vergleichbarkeit mit den Datensätzen aus der Vorversion (Stand: Oktober 2019) ist nur eingeschränkt gegeben.",null,null,null,null,null,null,null,"## Die Vergleichbarkeit mit den Datensätzen aus der Vorversion (Stand: Oktober 2019) ist nur eingeschränkt gegeben.",null,null,null,null,null,null,null,"## Die Vergleichbarkeit mit den Datensätzen aus der Vorversion (Stand: Oktober 2019) ist nur eingeschränkt gegeben.",null,null,null,null,null,null,null,"## Die Vergleichbarkeit mit den Datensätzen aus der Vorversion (Stand: Oktober 2019) ist nur eingeschränkt gegeben."]
["## Die Gründe dafür sind die Integration zusätzlicher, mittlerweile verfügbarer Datengrundlagen",null,null,null,null,null,null,null,"## Die Gründe dafür sind die Integration zusätzlicher, mittlerweile verfügbarer Datengrundlagen",null,null,null,null,null,null,null,"## Die Gründe dafür sind die Integration zusätzlicher, mittlerweile verfügbarer Datengrundlagen",null,null,null,null,null,null,null,"## Die Gründe dafür sind die Integration zusätzlicher, mittlerweile verfügbarer Datengrundlagen"]
["## und die Weiterentwicklung der Modellierung, die dem Energiemosaik Austria zugrunde liegt.",null,null,null,null,null,null,null,"## und die Weiterentwicklung der Modellierung, die dem Energiemosaik Austria zugrunde liegt.",null,null,null,null,null,null,null,"## und die Weiterentwicklung der Modellierung, die dem Energiemosaik Austria zugrunde liegt.",null,null,null,null,null,null,null,"## und die Weiterentwicklung der Modellierung, die dem Energiemosaik Austria zugrunde liegt."]
["##",null,null,null,null,null,null,null,"##",null,null,null,null,null,null,null,"##",null,null,null,null,null,null,null,"##"]
["## Nutzungsbedingungen / Lizenz",null,null,null,null,null,null,null,"## Nutzungsbedingungen / Lizenz",null,null,null,null,null,null,null,"## Nutzungsbedingungen / Lizenz",null,null,null,null,null,null,null,"## Nutzungsbedingungen / Lizenz"]
["## Die Inhalte der Webseite „Energiemosaik Austria“ dürfen vervielfältigt, weiterverbreitet, verändert und als Grundlage für",null,null,null,null,null,null,null,"## Die Inhalte der Webseite „Energiemosaik Austria“ dürfen vervielfältigt, weiterverbreitet, verändert und als Grundlage für",null,null,null,null,null,null,null,"## Die Inhalte der Webseite „Energiemosaik Austria“ dürfen vervielfältigt, weiterverbreitet, verändert und als Grundlage für",null,null,null,null,null,null,null,"## Die Inhalte der Webseite „Energiemosaik Austria“ dürfen vervielfältigt, weiterverbreitet, verändert und als Grundlage für"]
["## weiterführende Analysen verwendet werden. Sowohl bei analoger als auch bei digitaler Weiterverwendung der Daten,",null,null,null,null,null,null,null,"## weiterführende Analysen verwendet werden. Sowohl bei analoger als auch bei digitaler Weiterverwendung der Daten,",null,null,null,null,null,null,null,"## weiterführende Analysen verwendet werden. Sowohl bei analoger als auch bei digitaler Weiterverwendung der Daten,",null,null,null,null,null,null,null,"## weiterführende Analysen verwendet werden. Sowohl bei analoger als auch bei digitaler Weiterverwendung der Daten,"]
["## Darstellungen und Texte dieser Webseite ist folgender Quellvermerk in gut lesbarer Form an geeigneter Stelle anzubringen:",null,null,null,null,null,null,null,"## Darstellungen und Texte dieser Webseite ist folgender Quellvermerk in gut lesbarer Form an geeigneter Stelle anzubringen:",null,null,null,null,null,null,null,"## Darstellungen und Texte dieser Webseite ist folgender Quellvermerk in gut lesbarer Form an geeigneter Stelle anzubringen:",null,null,null,null,null,null,null,"## Darstellungen und Texte dieser Webseite ist folgender Quellvermerk in gut lesbarer Form an geeigneter Stelle anzubringen:"]
["## ",null,null,null,null,null,null,null,"## ",null,null,null,null,null,null,null,"## ",null,null,null,null,null,null,null,"## "]
["## Kurzzitat: Abart-Heriszt 2022, Energiemosaik Austria",null,null,null,null,null,null,null,"## Kurzzitat: Abart-Heriszt 2022, Energiemosaik Austria",null,null,null,null,null,null,null,"## Kurzzitat: Abart-Heriszt 2022, Energiemosaik Austria",null,null,null,null,null,null,null,"## Kurzzitat: Abart-Heriszt 2022, Energiemosaik Austria"]
["## Langzitat: Abart-Heriszt, L. und Reichel, S (2022): Energiemosaik Austria.",null,null,null,null,null,null,null,"## Langzitat: Abart-Heriszt, L. und Reichel, S (2022): Energiemosaik Austria.",null,null,null,null,null,null,null,"## Langzitat: Abart-Heriszt, L. und Reichel, S (2022): Energiemosaik Austria.",null,null,null,null,null,null,null,"## Langzitat: Abart-Heriszt, L. und Reichel, S (2022): Energiemosaik Austria."]
["##            Österreichweite Visualisierung von Energieverbrauch und Treibhausgasemissionen auf Gemeindeebene.",null,null,null,null,null,null,null,"##            Österreichweite Visualisierung von Energieverbrauch und Treibhausgasemissionen auf Gemeindeebene.",null,null,null,null,null,null,null,"##            Österreichweite Visualisierung von Energieverbrauch und Treibhausgasemissionen auf Gemeindeebene.",null,null,null,null,null,null,null,"##            Österreichweite Visualisierung von Energieverbrauch und Treibhausgasemissionen auf Gemeindeebene."]
["##            Wien, Salzburg. Lizenz: CC BY-NC-SA 3.0 AT. www.energiemosaik.at (aufgerufen am tt.mm.jjjj)",null,null,null,null,null,null,null,"##            Wien, Salzburg. Lizenz: CC BY-NC-SA 3.0 AT. www.energiemosaik.at (aufgerufen am tt.mm.jjjj)",null,null,null,null,null,null,null,"##            Wien, Salzburg. Lizenz: CC BY-NC-SA 3.0 AT. www.energiemosaik.at (aufgerufen am tt.mm.jjjj)",null,null,null,null,null,null,null,"##            Wien, Salzburg. Lizenz: CC BY-NC-SA 3.0 AT. www.energiemosaik.at (aufgerufen am tt.mm.jjjj)"]
["##",null,null,null,null,null,null,null,"##",null,null,null,null,null,null,null,"##",null,null,null,null,null,null,null,"##"]
["## Lizenz: Creative Commons - Namensnennung - Nicht-kommerziell - Weitergabe unter gleichen Bedingungen 3.0 Österreich",null,null,null,null,null,null,null,"## Lizenz: Creative Commons - Namensnennung - Nicht-kommerziell - Weitergabe unter gleichen Bedingungen 3.0 Österreich",null,null,null,null,null,null,null,"## Lizenz: Creative Commons - Namensnennung - Nicht-kommerziell - Weitergabe unter gleichen Bedingungen 3.0 Österreich",null,null,null,null,null,null,null,"## Lizenz: Creative Commons - Namensnennung - Nicht-kommerziell - Weitergabe unter gleichen Bedingungen 3.0 Österreich"]
["##         CC BY-NC-SA 3.0 AT (https://creativecommons.org/licenses/by-nc-sa/3.0/at/)",null,null,null,null,null,null,null,"##         CC BY-NC-SA 3.0 AT (https://creativecommons.org/licenses/by-nc-sa/3.0/at/)",null,null,null,null,null,null,null,"##         CC BY-NC-SA 3.0 AT (https://creativecommons.org/licenses/by-nc-sa/3.0/at/)",null,null,null,null,null,null,null,"##         CC BY-NC-SA 3.0 AT (https://creativecommons.org/licenses/by-nc-sa/3.0/at/)"]
["## ",null,null,null,null,null,null,null,"## ",null,null,null,null,null,null,null,"## ",null,null,null,null,null,null,null,"## "]
["## Bei Darstellungen im Internet ist der Quellvermerk mit einem Link auf www.energiemosaik.at zu hinterlegen.",null,null,null,null,null,null,null,"## Bei Darstellungen im Internet ist der Quellvermerk mit einem Link auf www.energiemosaik.at zu hinterlegen.",null,null,null,null,null,null,null,"## Bei Darstellungen im Internet ist der Quellvermerk mit einem Link auf www.energiemosaik.at zu hinterlegen.",null,null,null,null,null,null,null,"## Bei Darstellungen im Internet ist der Quellvermerk mit einem Link auf www.energiemosaik.at zu hinterlegen."]
["## Mehr Informationen finden Sie in unseren Nutzungsbedingungen in der Fußzeile der Webseite.",null,null,null,null,null,null,null,"## Mehr Informationen finden Sie in unseren Nutzungsbedingungen in der Fußzeile der Webseite.",null,null,null,null,null,null,null,"## Mehr Informationen finden Sie in unseren Nutzungsbedingungen in der Fußzeile der Webseite.",null,null,null,null,null,null,null,"## Mehr Informationen finden Sie in unseren Nutzungsbedingungen in der Fußzeile der Webseite."]
["##",null,null,null,null,null,null,null,"##",null,null,null,null,null,null,null,"##",null,null,null,null,null,null,null,"##"]
["## Datensatz: Energieverbrauch Nutzungen",null,null,null,null,null,null,null,"## Datensatz: Energieverbrauch Nutzungen",null,null,null,null,null,null,null,"## Datensatz: Energieverbrauch Nutzungen",null,null,null,null,null,null,null,"## Datensatz: Energieverbrauch Nutzungen"]
[]
["Gemeindecode","Gemeindename","Energieverbrauch insgesamt (MWh / a)","Energieverbrauch Wohnen (MWh / a)","Energieverbrauch Raumwärme Wohnen (MWh / a)","Energieverbrauch Prozesswärme Wohnen (MWh / a)","Energieverbrauch Motoren / Elektrogeräte Wohnen (MWh / a)","Energieverbrauch Transport Wohnen (MWh / a)","Gemeindecode","Gemeindename","Energieverbrauch insgesamt (MWh / a)","Energieverbrauch Dienstleistungen (MWh / a)","Energieverbrauch Raumwärme Dienstleistungen (MWh / a)","Energieverbrauch Prozesswärme Dienstleistungen (MWh / a)","Energieverbrauch Motoren / Elektrogeräte Dienstleistungen (MWh / a)","Energieverbrauch Transport Dienstleistungen (MWh / a)","Gemeindecode","Gemeindename","Energieverbrauch insgesamt (MWh / a)","Energieverbrauch Industrie und Gewerbe (MWh / a)","Energieverbrauch Raumwärme Industrie und Gewerbe (MWh / a)","Energieverbrauch Prozesswärme Industrie und Gewerbe (MWh / a)","Energieverbrauch Motoren / Elektrogelegeräte Industrie und Gewerbe (MWh / a)","Energieverbrauch Transport Industrie und Gewerbe (MWh / a)","Gemeindecode","Gemeindename","Energieverbrauch insgesamt (MWh / a)","Energieverbrauch Land- und Forstwirtschaft (MWh / a)","Energieverbrauch Raumwärme Land- und Forstwirtschaft (MWh / a)","Energieverbrauch Prozesswärme Land- und Forstwirtschaft (MWh / a)","Energieverbrauch Motoren / Elektrogeräte Land- und Forstwirtschaft (MWh / a)","Energieverbrauch Transport Land- und Forstwirtschaft (MWh / a)"]
[10101,"Eisenstadt",541800,124500,104400,0,20100,0,10101,"Eisenstadt",541800,181600,104900,2100,50800,23700,10101,"Eisenstadt",541800,21700,3100,5100,11200,2400,10101,"Eisenstadt",541800,3400,800,300,400,1900]
[10201,"Rust",46800,24100,20800,0,3300,0,10201,"Rust",46800,5300,3100,100,1500,700,10201,"Rust",46800,600,100,200,200,100,10201,"Rust",46800,1600,400,200,200,900]
[10301,"Breitenbrunn am Neusiedler See",55100,23100,19700,0,3400,0,10301,"Breitenbrunn am Neusiedler See",55100,2400,1400,0,700,300,10301,"Breitenbrunn am Neusiedler See",55100,14900,1000,8300,5100,500,10301,"Breitenbrunn am Neusiedler See",55100,1200,300,100,200,700]
[10302,"Donnerskirchen",37800,20600,17700,0,3000,0,10302,"Donnerskirchen",37800,2300,1300,0,600,300,10302,"Donnerskirchen",37800,1800,200,600,800,200,10302,"Donnerskirchen",37800,1900,500,200,200,1000]
[10303,"Großhöflein",46500,21100,17800,0,3300,0,10303,"Großhöflein",46500,4600,2700,100,1300,600,10303,"Großhöflein",46500,6700,500,2900,3000,300,10303,"Großhöflein",46500,1300,300,100,200,700]
[10304,"Hornstein",85000,37900,32700,0,5200,0,10304,"Hornstein",85000,4400,2500,100,1200,600,10304,"Hornstein",85000,18100,2600,8200,6500,900,10304,"Hornstein",85000,2000,500,200,300,1100]
[10305,"Klingenbach",23500,12900,11100,0,1800,0,10305,"Klingenbach",23500,1300,800,0,400,200,10305,"Klingenbach",23500,1400,200,400,700,100,10305,"Klingenbach",23500,300,100,0,0,200]
[10306,"Leithaprodersdorf",25900,12000,10100,0,1800,0,10306,"Leithaprodersdorf",25900,1600,900,0,400,200,10306,"Leithaprodersdorf",25900,1800,100,900,600,100,10306,"Leithaprodersdorf",25900,2500,600,200,300,1400]
[10307,"Mörbisch am See",42700,24200,20800,0,3500,0,10307,"Mörbisch am See",42700,2600,1500,0,700,300,10307,"Mörbisch am See",42700,900,100,100,500,200,10307,"Mörbisch am See",42700,1000,200,100,100,500]
[10308,"Müllendorf",67400,14000,12000,0,2000,0,10308,"Müllendorf",67400,6900,4000,100,1900,900,10308,"Müllendorf",67400,29200,1100,14100,10900,3100,10308,"Müllendorf",67400,1200,300,100,200,700]
[10309,"Neufeld an der Leitha",98200,33900,28800,0,5100,0,10309,"Neufeld an der Leitha",98200,4600,2700,100,1300,600,10309,"Neufeld an der Leitha",98200,37100,4400,29000,3500,200,10309,"Neufeld an der Leitha",98200,300,100,0,0,100]
[10310,"Oggau am Neusiedler See",34100,18700,16100,0,2700,0,10310,"Oggau am Neusiedler See",34100,1700,1000,0,500,200,10310,"Oggau am Neusiedler See",34100,300,0,100,100,0,10310,"Oggau am Neusiedler See",34100,1900,500,200,300,1000]
[10311,"Oslip",29100,14200,12200,0,2000,0,10311,"Oslip",29100,1100,700,0,300,100,10311,"Oslip",29100,3500,200,1700,1100,500,10311,"Oslip",29100,1800,400,200,200,1000]
[10312,"Purbach am Neusiedler See",70600,31600,26900,0,4700,0,10312,"Purbach am Neusiedler See",70600,4100,2400,0,1100,500,10312,"Purbach am Neusiedler See",70600,13900,2300,3400,7600,600,10312,"Purbach am Neusiedler See",70600,1800,400,200,200,1000]
[10313,"Sankt Margarethen im Burgenland",63700,30200,26000,0,4200,0,10313,"Sankt Margarethen im Burgenland",63700,6100,3500,100,1700,800,10313,"Sankt Margarethen im Burgenland",63700,3000,300,1100,1300,300,10313,"Sankt Margarethen im Burgenland",63700,2900,700,300,400,1600]
[10314,"Schützen am Gebirge",27000,15000,12900,0,2100,0,10314,"Schützen am Gebirge",27000,1300,800,0,400,200,10314,"Schützen am Gebirge",27000,1000,100,200,500,200,10314,"Schützen am Gebirge",27000,1600,400,100,200,900]
[10315,"Siegendorf",77900,31200,26600,0,4600,0,10315,"Siegendorf",77900,3700,2100,0,1000,500,10315,"Siegendorf",77900,18500,3700,5100,8200,1600,10315,"Siegendorf",77900,2500,600,200,300,1300]
[10316,"Steinbrunn",53100,28000,23900,0,4100,0,10316,"Steinbrunn",53100,2200,1300,0,600,300,10316,"Steinbrunn",53100,4200,400,1700,1800,300,10316,"Steinbrunn",53100,1800,400,200,200,1000]
[10317,"Trausdorf an der Wulka",41000,23700,20200,0,3500,0,10317,"Trausdorf an der Wulka",41000,2300,1300,0,600,300,10317,"Trausdorf an der Wulka",41000,1000,100,300,400,100,10317,"Trausdorf an der Wulka",41000,1800,400,200,200,1000]
[10318,"Wimpassing an der Leitha",72400,15100,12700,0,2500,0,10318,"Wimpassing an der Leitha",72400,2200,1300,0,600,300,10318,"Wimpassing an der Leitha",72400,38100,900,18900,12900,5300,10318,"Wimpassing an der Leitha",72400,800,200,100,100,400]
[10319,"Wulkaprodersdorf",44600,20900,17900,0,3000,0,10319,"Wulkaprodersdorf",44600,5300,3100,100,1500,700,10319,"Wulkaprodersdorf",44600,3800,400,1800,1400,200,10319,"Wulkaprodersdorf",44600,1500,400,100,200,800]
[10320,"Loretto",10500,5700,4900,0,800,0,10320,"Loretto",10500,400,200,0,100,100,10320,"Loretto",10500,800,100,400,300,100,10320,"Loretto",10500,200,0,0,0,100]
[10321,"Stotzing",13800,8200,7000,0,1200,0,10321,"Stotzing",13800,300,200,0,100,0,10321,"Stotzing",13800,200,0,100,100,0,10321,"Stotzing",13800,600,100,100,100,300]
[10322,"Zillingtal",20000,10600,9100,0,1500,0,10322,"Zillingtal",20000,700,400,0,200,100,10322,"Zillingtal",20000,400,0,100,200,100,10322,"Zillingtal",20000,1900,400,200,200,1000]
[10323,"Zagersdorf",19200,9900,8400,0,1500,0,10323,"Zagersdorf",19200,1500,800,0,400,200,10323,"Zagersdorf",19200,400,100,100,200,100,10323,"Zagersdorf",19200,800,200,100,100,400]
[10401,"Bocksdorf",16900,8900,7600,0,1200,0,10401,"Bocksdorf",16900,1300,800,0,400,200,10401,"Bocksdorf",16900,1000,100,400,400,100,10401,"Bocksdorf",16900,900,200,100,100,500]
[10402,"Burgauberg-Neudauberg",35400,15500,13300,0,2100,0,10402,"Burgauberg-Neudauberg",35400,1200,700,0,300,200,10402,"Burgauberg-Neudauberg",35400,8600,1000,4100,3100,500,10402,"Burgauberg-Neudauberg",35400,800,200,100,100,400]
[10403,"Eberau",23700,12100,10600,0,1500,0,10403,"Eberau",23700,800,500,0,200,100,10403,"Eberau",23700,2000,300,700,900,100,10403,"Eberau",23700,2700,700,300,400,1500]
[10404,"Gerersdorf-Sulz",24700,12400,10700,0,1600,0,10404,"Gerersdorf-Sulz",24700,800,500,0,200,100,10404,"Gerersdorf-Sulz",24700,3600,200,2100,1200,100,10404,"Gerersdorf-Sulz",24700,1500,400,100,200,800]
[10405,"Güssing",190700,38200,32900,0,5300,0,10405,"Güssing",190700,32900,19000,400,9200,4300,10405,"Güssing",190700,66200,7900,28900,26300,3000,10405,"Güssing",190700,3500,800,300,500,1900]
[10406,"Güttenbach",18800,9200,8100,0,1100,0,10406,"Güttenbach",18800,600,300,0,200,100,10406,"Güttenbach",18800,1300,100,100,700,300,10406,"Güttenbach",18800,1300,300,100,200,700]
[10407,"Heiligenbrunn",18200,10200,8900,0,1200,0,10407,"Heiligenbrunn",18200,500,300,0,100,100,10407,"Heiligenbrunn",18200,100,0,0,0,0,10407,"Heiligenbrunn",18200,2700,600,200,300,1500]
[10408,"Kukmirn",40600,22100,19000,0,3000,0,10408,"Kukmirn",40600,1900,1100,0,500,200,10408,"Kukmirn",40600,1200,100,600,500,100,10408,"Kukmirn",40600,3000,700,300,400,1600]
[10409,"Neuberg im Burgenland",18000,11200,9800,0,1400,0,10409,"Neuberg im Burgenland",18000,400,200,0,100,100,10409,"Neuberg im Burgenland",18000,0,0,0,0,0,10409,"Neuberg im Burgenland",18000,700,200,100,100,400]
[10410,"Neustift bei Güssing",9400,5500,4900,0,700,0,10410,"Neustift bei Güssing",9400,400,200,0,100,0,10410,"Neustift bei Güssing",9400,0,0,0,0,0,10410,"Neustift bei Güssing",9400,600,100,100,100,300]
[10411,"Olbendorf",29300,15900,13800,0,2100,0,10411,"Olbendorf",29300,1400,800,0,400,200,10411,"Olbendorf",29300,2000,200,800,800,200,10411,"Olbendorf",29300,900,200,100,100,500]
[10412,"Ollersdorf im Burgenland",20900,10900,9400,0,1500,0,10412,"Ollersdorf im Burgenland",20900,1100,600,0,300,100,10412,"Ollersdorf im Burgenland",20900,2400,200,1100,900,100,10412,"Ollersdorf im Burgenland",20900,400,100,0,100,200]
[10413,"Sankt Michael im Burgenland",25500,12600,11000,0,1600,0,10413,"Sankt Michael im Burgenland",25500,2400,1400,0,700,300,10413,"Sankt Michael im Burgenland",25500,1600,200,500,700,100,10413,"Sankt Michael im Burgenland",25500,1600,400,100,200,800]
[10414,"Stegersbach",71400,29000,25000,0,3900,0,10414,"Stegersbach",71400,10700,6200,100,3000,1400,10414,"Stegersbach",71400,7100,700,3100,2900,400,10414,"Stegersbach",71400,900,200,100,100,500]
[10415,"Stinatz",22400,13000,11300,0,1800,0,10415,"Stinatz",22400,700,400,0,200,100,10415,"Stinatz",22400,600,100,300,200,0,10415,"Stinatz",22400,400,100,0,100,200]
[10416,"Strem",25700,16600,14400,0,2200,0,10416,"Strem",25700,1400,800,0,400,200,10416,"Strem",25700,100,0,0,100,0,10416,"Strem",25700,1700,400,200,200,900]
[10417,"Tobaj",30900,16300,14100,0,2300,0,10417,"Tobaj",30900,1300,700,0,400,200,10417,"Tobaj",30900,800,100,100,400,200,10417,"Tobaj",30900,3300,800,300,400,1800]
[10418,"Hackerberg",7400,4000,3400,0,600,0,10418,"Hackerberg",7400,400,200,0,100,0,10418,"Hackerberg",7400,300,0,0,200,100,10418,"Hackerberg",7400,300,100,0,0,200]
[10419,"Wörterberg",9700,5500,4700,0,800,0,10419,"Wörterberg",9700,300,200,0,100,0,10419,"Wörterberg",9700,400,0,200,100,0,10419,"Wörterberg",9700,300,100,0,0,200]
[10420,"Großmürbisch",5400,3300,2900,0,400,0,10420,"Großmürbisch",5400,200,100,0,0,0,10420,"Großmürbisch",5400,0,0,0,0,0,10420,"Großmürbisch",5400,400,100,0,100,200]
[10421,"Inzenhof",6800,4000,3500,0,500,0,10421,"Inzenhof",6800,400,200,0,100,100,10421,"Inzenhof",6800,0,0,0,0,0,10421,"Inzenhof",6800,300,100,0,0,200]
[10422,"Kleinmürbisch",4600,2800,2400,0,400,0,10422,"Kleinmürbisch",4600,100,100,0,0,0,10422,"Kleinmürbisch",4600,0,0,0,0,0,10422,"Kleinmürbisch",4600,300,100,0,0,100]
[10423,"Tschanigraben",1400,1000,800,0,100,0,10423,"Tschanigraben",1400,0,0,0,0,0,10423,"Tschanigraben",1400,0,0,0,0,0,10423,"Tschanigraben",1400,100,0,0,0,100]
[10424,"Heugraben",4500,2600,2300,0,400,0,10424,"Heugraben",4500,100,0,0,0,0,10424,"Heugraben",4500,0,0,0,0,0,10424,"Heugraben",4500,400,100,0,100,200]
[10425,"Rohr im Burgenland",7600,4500,3900,0,600,0,10425,"Rohr im Burgenland",7600,200,100,0,100,0,10425,"Rohr im Burgenland",7600,100,0,0,100,0,10425,"Rohr im Burgenland",7600,600,100,100,100,300]
[10426,"Bildein",8500,4200,3700,0,500,0,10426,"Bildein",8500,300,200,0,100,0,10426,"Bildein",8500,100,0,100,0,0,10426,"Bildein",8500,1700,400,200,200,900]
[10427,"Rauchwart",10100,5700,4900,0,800,0,10427,"Rauchwart",10100,400,200,0,100,100,10427,"Rauchwart",10100,100,0,100,0,0,10427,"Rauchwart",10100,1300,300,100,200,700]
[10428,"Moschendorf",10200,5200,4500,0,600,0,10428,"Moschendorf",10200,300,200,0,100,0,10428,"Moschendorf",10200,600,0,300,200,0,10428,"Moschendorf",10200,1300,300,100,200,700]
[10501,"Deutsch Kaltenbrunn",35600,19400,16700,0,2700,0,10501,"Deutsch Kaltenbrunn",35600,1200,700,0,300,200,10501,"Deutsch Kaltenbrunn",35600,2200,400,400,1100,300,10501,"Deutsch Kaltenbrunn",35600,1900,500,200,200,1000]
[10502,"Eltendorf",27500,9100,7900,0,1200,0,10502,"Eltendorf",27500,1000,600,0,300,100,10502,"Eltendorf",27500,8200,200,4000,2900,1200,10502,"Eltendorf",27500,1800,400,200,200,1000]
[10503,"Heiligenkreuz im Lafnitztal",393600,14200,12400,0,1800,0,10503,"Heiligenkreuz im Lafnitztal",393600,6600,3800,100,1900,900,10503,"Heiligenkreuz im Lafnitztal",393600,360000,43500,276800,38600,1100,10503,"Heiligenkreuz im Lafnitztal",393600,1800,400,200,200,1000]
[10504,"Jennersdorf",111400,44800,38700,0,6100,0,10504,"Jennersdorf",111400,12500,7200,100,3500,1600,10504,"Jennersdorf",111400,17100,1400,8600,5900,1200,10504,"Jennersdorf",111400,2700,600,200,300,1500]
[10505,"Minihof-Liebau",23400,11600,10100,0,1500,0,10505,"Minihof-Liebau",23400,1800,1000,0,500,200,10505,"Minihof-Liebau",23400,1900,200,700,800,200,10505,"Minihof-Liebau",23400,600,200,100,100,300]
[10506,"Mogersdorf",24900,13300,11600,0,1700,0,10506,"Mogersdorf",24900,1200,700,0,300,200,10506,"Mogersdorf",24900,1900,200,1000,700,100,10506,"Mogersdorf",24900,900,200,100,100,500]
[10507,"Neuhaus am Klausenbach",20000,10500,9100,0,1400,0,10507,"Neuhaus am Klausenbach",20000,1000,600,0,300,100,10507,"Neuhaus am Klausenbach",20000,1200,100,600,500,0,10507,"Neuhaus am Klausenbach",20000,1200,300,100,200,600]
[10508,"Rudersdorf",75000,22500,19300,0,3200,0,10508,"Rudersdorf",75000,3200,1800,0,900,400,10508,"Rudersdorf",75000,31400,3600,14400,12200,1100,10508,"Rudersdorf",75000,1500,400,100,200,800]
[10509,"Sankt Martin an der Raab",41800,23500,20400,0,3100,0,10509,"Sankt Martin an der Raab",41800,1800,1000,0,500,200,10509,"Sankt Martin an der Raab",41800,1300,200,300,600,100,10509,"Sankt Martin an der Raab",41800,2100,500,200,300,1100]
[10510,"Weichselbaum",17300,8600,7500,0,1100,0,10510,"Weichselbaum",17300,600,400,0,200,100,10510,"Weichselbaum",17300,2600,200,1400,900,100,10510,"Weichselbaum",17300,800,200,100,100,400]
[10511,"Königsdorf",15400,8100,7000,0,1100,0,10511,"Königsdorf",15400,1100,600,0,300,100,10511,"Königsdorf",15400,300,0,100,100,0,10511,"Königsdorf",15400,1300,300,100,200,700]
[10512,"Mühlgraben",7400,4400,3800,0,600,0,10512,"Mühlgraben",7400,300,200,0,100,0,10512,"Mühlgraben",7400,100,0,0,0,0,10512,"Mühlgraben",7400,300,100,0,0,100]
[10601,"Draßburg",22800,13000,11200,0,1800,0,10601,"Draßburg",22800,1100,600,0,300,100,10601,"Draßburg",22800,400,0,200,200,0,10601,"Draßburg",22800,800,200,100,100,500]
[10602,"Forchtenstein",59300,32300,28200,0,4200,0,10602,"Forchtenstein",59300,2800,1600,0,800,400,10602,"Forchtenstein",59300,3800,400,1700,1400,400,10602,"Forchtenstein",59300,500,100,0,100,200]
[10603,"Hirm",54200,9400,8100,0,1300,0,10603,"Hirm",54200,500,300,0,100,100,10603,"Hirm",54200,36000,3600,13700,17900,900,10603,"Hirm",54200,400,100,0,0,200]
[10604,"Loipersbach im Burgenland",26500,12900,11100,0,1800,0,10604,"Loipersbach im Burgenland",26500,900,500,0,300,100,10604,"Loipersbach im Burgenland",26500,4000,300,2000,1200,400,10604,"Loipersbach im Burgenland",26500,800,200,100,100,400]
[10605,"Marz",43700,21600,18500,0,3100,0,10605,"Marz",43700,3400,2000,0,900,400,10605,"Marz",43700,4600,800,1100,2300,300,10605,"Marz",43700,900,200,100,100,500]
[10606,"Mattersburg",188100,68300,57600,0,10600,0,10606,"Mattersburg",188100,22900,13200,300,6400,3000,10606,"Mattersburg",188100,31000,2200,15900,10900,2000,10606,"Mattersburg",188100,1900,400,200,200,1000]
[10607,"Neudörfl",166400,40100,34100,0,6000,0,10607,"Neudörfl",166400,7900,4600,100,2200,1000,10607,"Neudörfl",166400,80600,10500,30700,36700,2800,10607,"Neudörfl",166400,500,100,0,100,200]
[10608,"Pöttelsdorf",43300,7800,6600,0,1200,0,10608,"Pöttelsdorf",43300,2100,1200,0,600,300,10608,"Pöttelsdorf",43300,24300,3100,9000,11300,800,10608,"Pöttelsdorf",43300,900,200,100,100,500]
[10609,"Pöttsching",59700,31100,26700,0,4400,0,10609,"Pöttsching",59700,5000,2900,100,1400,700,10609,"Pöttsching",59700,1700,200,400,800,300,10609,"Pöttsching",59700,2100,500,200,300,1200]
[10610,"Rohrbach bei Mattersburg",48200,26500,22600,0,3900,0,10610,"Rohrbach bei Mattersburg",48200,1700,1000,0,500,200,10610,"Rohrbach bei Mattersburg",48200,3500,500,700,1800,600,10610,"Rohrbach bei Mattersburg",48200,700,200,100,100,400]
[10611,"Bad Sauerbrunn",46900,24100,20800,0,3400,0,10611,"Bad Sauerbrunn",46900,5100,2900,100,1400,700,10611,"Bad Sauerbrunn",46900,2900,200,800,1300,600,10611,"Bad Sauerbrunn",46900,0,0,0,0,0]
[10612,"Schattendorf",45800,25400,21800,0,3600,0,10612,"Schattendorf",45800,2000,1200,0,600,300,10612,"Schattendorf",45800,2100,200,700,900,300,10612,"Schattendorf",45800,1300,300,100,200,700]
[10613,"Sieggraben",25900,14800,12900,0,1900,0,10613,"Sieggraben",25900,900,500,0,200,100,10613,"Sieggraben",25900,1900,100,900,600,300,10613,"Sieggraben",25900,500,100,0,100,300]
[10614,"Sigleß",22200,12200,10500,0,1700,0,10614,"Sigleß",22200,1200,700,0,300,200,10614,"Sigleß",22200,800,100,100,400,200,10614,"Sigleß",22200,1100,300,100,100,600]
[10615,"Wiesen",50500,29000,25000,0,4000,0,10615,"Wiesen",50500,1900,1100,0,500,200,10615,"Wiesen",50500,2700,300,700,1300,400,10615,"Wiesen",50500,400,100,0,0,200]
[10616,"Antau",17400,8500,7200,0,1200,0,10616,"Antau",17400,900,500,0,200,100,10616,"Antau",17400,2100,200,900,600,300,10616,"Antau",17400,1200,300,100,200,700]
[10617,"Baumgarten",19400,10100,8700,0,1400,0,10617,"Baumgarten",19400,800,500,0,200,100,10617,"Baumgarten",19400,2000,300,600,900,200,10617,"Baumgarten",19400,700,200,100,100,400]
[10618,"Zemendorf-Stöttera",31600,13700,11700,0,2000,0,10618,"Zemendorf-Stöttera",31600,1600,900,0,400,200,10618,"Zemendorf-Stöttera",31600,6400,700,2900,2500,300,10618,"Zemendorf-Stöttera",31600,1500,300,100,200,800]
[10619,"Krensdorf",12100,6500,5600,0,900,0,10619,"Krensdorf",12100,400,200,0,100,100,10619,"Krensdorf",12100,500,100,200,200,0,10619,"Krensdorf",12100,1100,300,100,100,600]
[10701,"Andau",53800,27200,23300,0,3800,0,10701,"Andau",53800,2900,1700,0,800,400,10701,"Andau",53800,700,100,300,300,0,10701,"Andau",53800,8000,1900,700,1000,4300]
[10702,"Apetlon",48100,23600,20300,0,3300,0,10702,"Apetlon",48100,2100,1200,0,600,300,10702,"Apetlon",48100,1200,100,500,500,100,10702,"Apetlon",48100,8500,2000,800,1100,4600]
[10703,"Bruckneudorf",79800,25500,21500,0,4000,0,10703,"Bruckneudorf",79800,22700,13100,300,6300,3000,10703,"Bruckneudorf",79800,300,0,100,100,0,10703,"Bruckneudorf",79800,2100,500,200,300,1200]
[10704,"Deutsch Jahrndorf",18400,9500,8200,0,1300,0,10704,"Deutsch Jahrndorf",18400,600,300,0,200,100,10704,"Deutsch Jahrndorf",18400,300,0,200,100,0,10704,"Deutsch Jahrndorf",18400,4200,1000,400,500,2200]
[10705,"Frauenkirchen",73700,32400,27800,0,4600,0,10705,"Frauenkirchen",73700,8900,5100,100,2500,1200,10705,"Frauenkirchen",73700,3900,500,1000,1800,700,10705,"Frauenkirchen",73700,4700,1100,400,600,2500]
[10706,"Gattendorf",28800,14300,12200,0,2100,0,10706,"Gattendorf",28800,1300,800,0,400,200,10706,"Gattendorf",28800,1500,200,500,700,100,10706,"Gattendorf",28800,3700,900,300,500,2000]
[10707,"Gols",96300,40500,34400,0,6100,0,10707,"Gols",96300,8300,4800,100,2300,1100,10707,"Gols",96300,11700,900,5700,4400,700,10707,"Gols",96300,7900,1900,700,1000,4300]
[10708,"Halbturn",45300,21600,18400,0,3100,0,10708,"Halbturn",45300,2000,1200,0,600,300,10708,"Halbturn",45300,1400,200,300,700,300,10708,"Halbturn",45300,8800,2100,800,1100,4800]
[10709,"Illmitz",55100,27900,23900,0,4000,0,10709,"Illmitz",55100,3900,2300,0,1100,500,10709,"Illmitz",55100,400,0,100,200,100,10709,"Illmitz",55100,6300,1500,600,800,3400]
[10710,"Jois",34500,17200,14700,0,2600,0,10710,"Jois",34500,2300,1300,0,600,300,10710,"Jois",34500,1900,400,500,800,200,10710,"Jois",34500,2400,600,200,300,1300]
[10711,"Kittsee",69600,29000,24400,0,4500,0,10711,"Kittsee",69600,7800,4500,100,2200,1000,10711,"Kittsee",69600,7800,700,3500,3100,400,10711,"Kittsee",69600,2600,600,200,300,1400]
[10712,"Mönchhof",52600,23900,20400,0,3500,0,10712,"Mönchhof",52600,4700,2700,100,1300,600,10712,"Mönchhof",52600,2000,300,600,1000,200,10712,"Mönchhof",52600,5500,1300,500,700,3000]
[10713,"Neusiedl am See",204100,78600,65500,0,13100,0,10713,"Neusiedl am See",204100,38700,22300,400,10800,5100,10713,"Neusiedl am See",204100,5200,600,1600,2300,600,10713,"Neusiedl am See",204100,4000,1000,400,500,2200]
[10714,"Nickelsdorf",47900,21200,18300,0,2900,0,10714,"Nickelsdorf",47900,5200,3000,100,1400,700,10714,"Nickelsdorf",47900,600,100,200,300,100,10714,"Nickelsdorf",47900,8000,1900,700,1000,4300]
[10715,"Pama",31400,12600,10700,0,1900,0,10715,"Pama",31400,700,400,0,200,100,10715,"Pama",31400,7100,800,5200,800,100,10715,"Pama",31400,3900,900,400,500,2100]
[10716,"Pamhagen",41400,18700,16100,0,2700,0,10716,"Pamhagen",41400,3800,2200,0,1100,500,10716,"Pamhagen",41400,1700,100,800,600,100,10716,"Pamhagen",41400,5900,1400,500,800,3200]
[10717,"Parndorf",196500,41000,34600,0,6400,0,10717,"Parndorf",196500,21500,12400,200,6000,2800,10717,"Parndorf",196500,69500,10800,19700,36100,2800,10717,"Parndorf",196500,7400,1800,700,1000,4000]
[10718,"Podersdorf am See",49200,25200,21300,0,3800,0,10718,"Podersdorf am See",49200,4500,2600,100,1300,600,10718,"Podersdorf am See",49200,900,100,300,400,100,10718,"Podersdorf am See",49200,3400,800,300,400,1800]
[10719,"Sankt Andrä am Zicksee",32000,16600,14200,0,2400,0,10719,"Sankt Andrä am Zicksee",32000,2000,1100,0,600,300,10719,"Sankt Andrä am Zicksee",32000,600,100,200,300,100,10719,"Sankt Andrä am Zicksee",32000,4300,1000,400,600,2300]
[10720,"Tadten",30200,15000,12900,0,2100,0,10720,"Tadten",30200,1100,600,0,300,100,10720,"Tadten",30200,900,100,500,300,100,10720,"Tadten",30200,5600,1300,500,700,3000]
[10721,"Wallern im Burgenland",39000,20900,18000,0,3000,0,10721,"Wallern im Burgenland",39000,1700,1000,0,500,200,10721,"Wallern im Burgenland",39000,900,100,100,500,200,10721,"Wallern im Burgenland",39000,4900,1200,500,600,2700]
[10722,"Weiden am See",55700,30300,25700,0,4600,0,10722,"Weiden am See",55700,3700,2100,0,1000,500,10722,"Weiden am See",55700,1700,200,300,900,200,10722,"Weiden am See",55700,3100,700,300,400,1700]
[10723,"Winden am See",24700,14500,12400,0,2100,0,10723,"Winden am See",24700,1000,600,0,300,100,10723,"Winden am See",24700,100,0,0,100,0,10723,"Winden am See",24700,1200,300,100,200,700]
[10724,"Zurndorf",51400,24400,20900,0,3500,0,10724,"Zurndorf",51400,4900,2800,100,1400,600,10724,"Zurndorf",51400,600,100,100,300,100,10724,"Zurndorf",51400,7500,1800,700,1000,4000]
[10725,"Neudorf",26800,8800,7600,0,1200,0,10725,"Neudorf",26800,300,200,0,100,0,10725,"Neudorf",26800,9200,200,4700,3100,1300,10725,"Neudorf",26800,3000,700,300,400,1600]
[10726,"Potzneusiedl",16100,6600,5700,0,1000,0,10726,"Potzneusiedl",16100,1300,800,0,400,200,10726,"Potzneusiedl",16100,2200,300,1000,900,100,10726,"Potzneusiedl",16100,1400,300,100,200,800]
[10727,"Edelstal",62600,9000,7700,0,1400,0,10727,"Edelstal",62600,500,300,0,100,100,10727,"Edelstal",62600,45000,2800,25700,15200,1300,10727,"Edelstal",62600,700,200,100,100,400]
[10801,"Deutschkreutz",77800,36800,31600,0,5200,0,10801,"Deutschkreutz",77800,3700,2200,0,1000,500,10801,"Deutschkreutz",77800,11600,1200,5100,4600,700,10801,"Deutschkreutz",77800,4800,1100,400,600,2600]
[10802,"Draßmarkt",30700,15800,13600,0,2100,0,10802,"Draßmarkt",30700,1300,800,0,400,200,10802,"Draßmarkt",30700,2100,200,700,900,300,10802,"Draßmarkt",30700,2500,600,200,300,1300]
[10803,"Frankenau-Unterpullendorf",26400,15500,13400,0,2000,0,10803,"Frankenau-Unterpullendorf",26400,800,500,0,200,100,10803,"Frankenau-Unterpullendorf",26400,300,0,100,200,0,10803,"Frankenau-Unterpullendorf",26400,3100,700,300,400,1700]
[10804,"Großwarasdorf",35400,19800,17400,0,2500,0,10804,"Großwarasdorf",35400,1200,700,0,300,200,10804,"Großwarasdorf",35400,1100,100,400,400,100,10804,"Großwarasdorf",35400,5000,1200,500,600,2700]
[10805,"Horitschon",50000,19100,16300,0,2700,0,10805,"Horitschon",50000,3700,2200,0,1000,500,10805,"Horitschon",50000,10400,800,5600,2700,1400,10805,"Horitschon",50000,2800,700,300,400,1500]
[10806,"Kaisersdorf",13600,8300,7200,0,1100,0,10806,"Kaisersdorf",13600,300,200,0,100,0,10806,"Kaisersdorf",13600,400,0,200,200,0,10806,"Kaisersdorf",13600,800,200,100,100,400]
[10807,"Kobersdorf",62400,21800,18900,0,2900,0,10807,"Kobersdorf",62400,1700,1000,0,500,200,10807,"Kobersdorf",62400,23900,1400,12600,9000,800,10807,"Kobersdorf",62400,1500,400,100,200,800]
[10808,"Lackenbach",31800,12100,10500,0,1600,0,10808,"Lackenbach",31800,900,500,0,200,100,10808,"Lackenbach",31800,9500,200,4700,3300,1300,10808,"Lackenbach",31800,800,200,100,100,400]
[10809,"Lockenhaus",59200,25400,22000,0,3300,0,10809,"Lockenhaus",59200,3300,1900,0,900,400,10809,"Lockenhaus",59200,13300,2700,3500,5900,1300,10809,"Lockenhaus",59200,1400,300,100,200,700]
[10810,"Lutzmannsburg",23800,12000,10400,0,1600,0,10810,"Lutzmannsburg",23800,2400,1400,0,700,300,10810,"Lutzmannsburg",23800,100,0,0,0,0,10810,"Lutzmannsburg",23800,2800,700,300,400,1500]
[10811,"Mannersdorf an der Rabnitz",44300,20800,18000,0,2800,0,10811,"Mannersdorf an der Rabnitz",44300,9000,5200,100,2500,1200,10811,"Mannersdorf an der Rabnitz",44300,500,100,100,300,0,10811,"Mannersdorf an der Rabnitz",44300,3300,800,300,400,1800]
[10812,"Markt Sankt Martin",60200,14800,12900,0,1900,0,10812,"Markt Sankt Martin",60200,1800,1000,0,500,200,10812,"Markt Sankt Martin",60200,30000,1500,13500,11100,4000,10812,"Markt Sankt Martin",60200,1600,400,100,200,800]
[10813,"Neckenmarkt",35300,18300,15600,0,2600,0,10813,"Neckenmarkt",35300,1300,800,0,400,200,10813,"Neckenmarkt",35300,2400,300,700,1100,400,10813,"Neckenmarkt",35300,2900,700,300,400,1600]
[10814,"Neutal",40400,11800,10200,0,1600,0,10814,"Neutal",40400,3500,2000,0,1000,500,10814,"Neutal",40400,12900,2400,2600,6000,1900,10814,"Neutal",40400,800,200,100,100,400]
[10815,"Nikitsch",36500,20900,18300,0,2600,0,10815,"Nikitsch",36500,900,500,0,200,100,10815,"Nikitsch",36500,600,100,200,300,100,10815,"Nikitsch",36500,6000,1400,600,800,3300]
[10816,"Oberpullendorf",111900,31000,26400,0,4700,0,10816,"Oberpullendorf",111900,24100,13900,300,6700,3100,10816,"Oberpullendorf",111900,17900,3300,1700,10500,2500,10816,"Oberpullendorf",111900,1000,200,100,100,500]
[10817,"Pilgersdorf",35100,19100,16600,0,2500,0,10817,"Pilgersdorf",35100,1000,600,0,300,100,10817,"Pilgersdorf",35100,2400,100,1100,800,300,10817,"Pilgersdorf",35100,2300,500,200,300,1200]
[10818,"Piringsdorf",16300,8900,7600,0,1300,0,10818,"Piringsdorf",16300,600,400,0,200,100,10818,"Piringsdorf",16300,900,100,300,400,100,10818,"Piringsdorf",16300,700,200,100,100,400]
[10819,"Raiding",16600,8900,7700,0,1300,0,10819,"Raiding",16600,600,300,0,200,100,10819,"Raiding",16600,500,100,0,300,100,10819,"Raiding",16600,1400,300,100,200,800]
[10820,"Ritzing",20400,11600,10100,0,1500,0,10820,"Ritzing",20400,1000,600,0,300,100,10820,"Ritzing",20400,600,100,0,300,100,10820,"Ritzing",20400,1100,300,100,100,600]
[10821,"Steinberg-Dörfl",31200,15300,13200,0,2100,0,10821,"Steinberg-Dörfl",31200,1400,800,0,400,200,10821,"Steinberg-Dörfl",31200,3300,300,1300,1400,300,10821,"Steinberg-Dörfl",31200,1800,400,200,200,1000]
[10822,"Stoob",38700,14600,12500,0,2000,0,10822,"Stoob",38700,4100,2400,0,1200,500,10822,"Stoob",38700,6100,1100,2100,2300,600,10822,"Stoob",38700,900,200,100,100,500]
[10823,"Weppersdorf",65300,20500,17700,0,2800,0,10823,"Weppersdorf",65300,7100,4100,100,2000,900,10823,"Weppersdorf",65300,20500,1000,11500,5600,2400,10823,"Weppersdorf",65300,1700,400,200,200,900]
[10824,"Lackendorf",18500,6300,5400,0,900,0,10824,"Lackendorf",18500,7600,4400,100,2100,1000,10824,"Lackendorf",18500,200,0,0,100,0,10824,"Lackendorf",18500,800,200,100,100,400]
[10825,"Unterfrauenhaid",14600,6500,5600,0,1000,0,10825,"Unterfrauenhaid",14600,2000,1200,0,600,300,10825,"Unterfrauenhaid",14600,1200,0,600,400,200,10825,"Unterfrauenhaid",14600,700,200,100,100,400]
[10826,"Unterrabnitz-Schwendgraben",14200,7000,6000,0,1000,0,10826,"Unterrabnitz-Schwendgraben",14200,500,300,0,100,100,10826,"Unterrabnitz-Schwendgraben",14200,1900,200,400,900,300,10826,"Unterrabnitz-Schwendgraben",14200,600,100,100,100,300]
[10827,"Weingraben",7600,4500,3900,0,600,0,10827,"Weingraben",7600,300,200,0,100,0,10827,"Weingraben",7600,200,0,0,100,0,10827,"Weingraben",7600,500,100,0,100,300]
[10828,"Oberloisdorf",16500,8600,7400,0,1200,0,10828,"Oberloisdorf",16500,400,300,0,100,100,10828,"Oberloisdorf",16500,2100,300,700,1000,200,10828,"Oberloisdorf",16500,700,200,100,100,400]
[10901,"Bad Tatzmannsdorf",69400,17700,15300,0,2400,0,10901,"Bad Tatzmannsdorf",69400,20100,11600,200,5600,2600,10901,"Bad Tatzmannsdorf",69400,1300,0,600,500,200,10901,"Bad Tatzmannsdorf",69400,700,200,100,100,400]
[10902,"Bernstein",48800,27800,24400,0,3400,0,10902,"Bernstein",48800,2400,1400,0,700,300,10902,"Bernstein",48800,3400,300,1200,1500,400,10902,"Bernstein",48800,1500,400,100,200,800]
[10903,"Deutsch Schützen-Eisenberg",25200,14200,12400,0,1700,0,10903,"Deutsch Schützen-Eisenberg",25200,900,500,0,300,100,10903,"Deutsch Schützen-Eisenberg",25200,400,100,100,200,0,10903,"Deutsch Schützen-Eisenberg",25200,2700,600,200,300,1400]
[10904,"Grafenschachen",30600,13300,11500,0,1800,0,10904,"Grafenschachen",30600,2400,1400,0,700,300,10904,"Grafenschachen",30600,4700,700,1600,2100,400,10904,"Grafenschachen",30600,600,100,100,100,300]
[10905,"Großpetersdorf",106000,40900,35600,0,5300,0,10905,"Großpetersdorf",106000,5600,3200,100,1600,700,10905,"Großpetersdorf",106000,28900,6200,5400,14700,2600,10905,"Großpetersdorf",106000,3100,700,300,400,1700]
[10906,"Hannersdorf",30000,10100,8900,0,1300,0,10906,"Hannersdorf",30000,800,500,0,200,100,10906,"Hannersdorf",30000,11200,300,5600,3800,1600,10906,"Hannersdorf",30000,1500,400,100,200,800]
[10907,"Kemeten",32400,17000,14700,0,2300,0,10907,"Kemeten",32400,1800,1000,0,500,200,10907,"Kemeten",32400,3200,300,1300,1300,300,10907,"Kemeten",32400,800,200,100,100,400]
[10908,"Kohfidisch",31400,16900,14800,0,2200,0,10908,"Kohfidisch",31400,1300,800,0,400,200,10908,"Kohfidisch",31400,2100,300,800,900,100,10908,"Kohfidisch",31400,1500,400,100,200,800]
[10909,"Litzelsdorf",24700,12400,10700,0,1700,0,10909,"Litzelsdorf",24700,1700,1000,0,500,200,10909,"Litzelsdorf",24700,2100,300,700,900,200,10909,"Litzelsdorf",24700,700,200,100,100,400]
[10910,"Loipersdorf-Kitzladen",33200,13700,11800,0,1800,0,10910,"Loipersdorf-Kitzladen",33200,1900,1100,0,500,200,10910,"Loipersdorf-Kitzladen",33200,7000,500,3700,2100,700,10910,"Loipersdorf-Kitzladen",33200,1100,300,100,100,600]
[10911,"Mariasdorf",24000,14200,12500,0,1700,0,10911,"Mariasdorf",24000,1500,800,0,400,200,10911,"Mariasdorf",24000,200,0,0,100,0,10911,"Mariasdorf",24000,1200,300,100,200,700]
[10912,"Markt Allhau",49800,21700,18800,0,2900,0,10912,"Markt Allhau",49800,5700,3300,100,1600,800,10912,"Markt Allhau",49800,5500,600,1600,2400,900,10912,"Markt Allhau",49800,2300,500,200,300,1200]
[10913,"Markt Neuhodis",14600,8400,7300,0,1100,0,10913,"Markt Neuhodis",14600,400,300,0,100,100,10913,"Markt Neuhodis",14600,300,0,100,200,0,10913,"Markt Neuhodis",14600,1500,400,100,200,800]
[10914,"Mischendorf",31400,18700,16400,0,2300,0,10914,"Mischendorf",31400,900,500,0,200,100,10914,"Mischendorf",31400,400,0,0,200,100,10914,"Mischendorf",31400,2000,500,200,300,1100]
[10915,"Oberdorf im Burgenland",22300,12400,10900,0,1600,0,10915,"Oberdorf im Burgenland",22300,700,400,0,200,100,10915,"Oberdorf im Burgenland",22300,2600,300,1100,1100,100,10915,"Oberdorf im Burgenland",22300,400,100,0,100,200]
[10916,"Oberschützen",61000,27000,23600,0,3400,0,10916,"Oberschützen",61000,4000,2300,0,1100,500,10916,"Oberschützen",61000,7000,600,3800,2000,600,10916,"Oberschützen",61000,3400,800,300,400,1900]
[10917,"Oberwart",267400,75400,64600,0,10800,0,10917,"Oberwart",267400,57200,33000,700,16000,7500,10917,"Oberwart",267400,36900,3100,15700,14900,3200,10917,"Oberwart",267400,1900,500,200,200,1000]
[10918,"Pinkafeld",173200,56200,48900,0,7300,0,10918,"Pinkafeld",173200,12900,7500,100,3600,1700,10918,"Pinkafeld",173200,49000,6700,15500,24300,2400,10918,"Pinkafeld",173200,1100,300,100,100,600]
[10919,"Rechnitz",83200,33300,29000,0,4200,0,10919,"Rechnitz",83200,6100,3600,100,1700,800,10919,"Rechnitz",83200,18600,600,9000,6600,2500,10919,"Rechnitz",83200,3100,700,300,400,1700]
[10920,"Riedlingsdorf",125900,18400,16000,0,2300,0,10920,"Riedlingsdorf",125900,1400,800,0,400,200,10920,"Riedlingsdorf",125900,94000,7600,66100,13900,6400,10920,"Riedlingsdorf",125900,800,200,100,100,400]
[10921,"Rotenturm an der Pinka",42100,16400,14200,0,2200,0,10921,"Rotenturm an der Pinka",42100,2300,1300,0,600,300,10921,"Rotenturm an der Pinka",42100,11300,1200,5700,3700,700,10921,"Rotenturm an der Pinka",42100,1400,300,100,200,700]
[10922,"Schachendorf",19400,10200,9000,0,1300,0,10922,"Schachendorf",19400,1400,800,0,400,200,10922,"Schachendorf",19400,100,0,0,100,0,10922,"Schachendorf",19400,2800,700,300,400,1500]
[10923,"Stadtschlaining",42700,24700,21700,0,3000,0,10923,"Stadtschlaining",42700,1700,1000,0,500,200,10923,"Stadtschlaining",42700,1300,200,400,600,100,10923,"Stadtschlaining",42700,3000,700,300,400,1600]
[10924,"Unterkohlstätten",21200,12000,10500,0,1500,0,10924,"Unterkohlstätten",21200,900,500,0,300,100,10924,"Unterkohlstätten",21200,700,100,100,400,100,10924,"Unterkohlstätten",21200,1100,300,100,100,600]
[10925,"Unterwart",26000,11100,9700,0,1400,0,10925,"Unterwart",26000,3700,2100,0,1000,500,10925,"Unterwart",26000,0,0,0,0,0,10925,"Unterwart",26000,1500,400,100,200,800]
[10926,"Weiden bei Rechnitz",20200,11500,10100,0,1400,0,10926,"Weiden bei Rechnitz",20200,500,300,0,200,100,10926,"Weiden bei Rechnitz",20200,700,0,300,200,0,10926,"Weiden bei Rechnitz",20200,2700,600,200,300,1400]
[10927,"Wiesfleck",24000,12600,10900,0,1600,0,10927,"Wiesfleck",24000,900,500,0,200,100,10927,"Wiesfleck",24000,2200,200,800,1000,300,10927,"Wiesfleck",24000,1200,300,100,200,600]
[10928,"Wolfau",28400,14700,12600,0,2100,0,10928,"Wolfau",28400,1500,900,0,400,200,10928,"Wolfau",28400,1500,200,500,700,200,10928,"Wolfau",28400,1000,200,100,100,500]
[10929,"Neustift an der Lafnitz",13700,7500,6500,0,1100,0,10929,"Neustift an der Lafnitz",13700,800,500,0,200,100,10929,"Neustift an der Lafnitz",13700,400,100,100,200,100,10929,"Neustift an der Lafnitz",13700,200,100,0,0,100]
[10930,"Jabing",13600,8100,7000,0,1000,0,10930,"Jabing",13600,400,200,0,100,100,10930,"Jabing",13600,300,0,100,100,0,10930,"Jabing",13600,500,100,100,100,300]
[10931,"Badersdorf",15500,3700,3200,0,500,0,10931,"Badersdorf",15500,200,100,0,100,0,10931,"Badersdorf",15500,7900,200,4000,2600,1100,10931,"Badersdorf",15500,700,200,100,100,400]
[10932,"Schandorf",6600,3800,3300,0,500,0,10932,"Schandorf",6600,100,100,0,0,0,10932,"Schandorf",6600,0,0,0,0,0,10932,"Schandorf",6600,1100,300,100,100,600]
[20101,"Klagenfurt am Wörthersee",2979900,857500,710200,0,147300,0,20101,"Klagenfurt am Wörthersee",2979900,743600,475100,7500,198600,62300,20101,"Klagenfurt am Wörthersee",2979900,417300,51700,173200,158600,33800,20101,"Klagenfurt am Wörthersee",2979900,8500,3100,600,1300,3400]
[20201,"Villach",1902600,526400,438000,0,88400,0,20201,"Villach",1902600,372400,238000,3800,99500,31200,20201,"Villach",1902600,456000,74700,182100,174200,25000,20201,"Villach",1902600,5100,1900,400,800,2000]
[20302,"Dellach",29200,14300,12400,0,1800,0,20302,"Dellach",29200,3200,2000,0,900,300,20302,"Dellach",29200,2000,300,800,700,200,20302,"Dellach",29200,1700,600,100,300,700]
[20305,"Hermagor-Pressegger See",277800,83200,71700,0,11400,0,20305,"Hermagor-Pressegger See",277800,38000,24300,400,10100,3200,20305,"Hermagor-Pressegger See",277800,88200,14700,49600,18400,5500,20305,"Hermagor-Pressegger See",277800,8600,3200,600,1400,3400]
[20306,"Kirchbach",64600,28300,24600,0,3700,0,20306,"Kirchbach",64600,2900,1900,0,800,200,20306,"Kirchbach",64600,11600,1900,6000,2800,1000,20306,"Kirchbach",64600,4700,1700,300,800,1900]
[20307,"Kötschach-Mauthen",118200,40000,34800,0,5200,0,20307,"Kötschach-Mauthen",118200,11000,7100,100,2900,900,20307,"Kötschach-Mauthen",118200,35900,5600,16700,9800,3700,20307,"Kötschach-Mauthen",118200,4500,1700,300,700,1800]
[20316,"St. Stefan im Gailtal",36200,21600,19000,0,2600,0,20316,"St. Stefan im Gailtal",36200,1700,1100,0,400,100,20316,"St. Stefan im Gailtal",36200,200,0,0,100,0,20316,"St. Stefan im Gailtal",36200,3100,1100,200,500,1200]
[20320,"Gitschtal",37700,16400,14400,0,2000,0,20320,"Gitschtal",37700,2700,1700,0,700,200,20320,"Gitschtal",37700,7900,1200,4200,1800,600,20320,"Gitschtal",37700,2000,700,100,300,800]
[20321,"Lesachtal",37900,17300,15400,0,1900,0,20321,"Lesachtal",37900,4100,2600,0,1100,300,20321,"Lesachtal",37900,1200,100,200,600,300,20321,"Lesachtal",37900,4200,1500,300,700,1700]
[20402,"Ebenthal in Kärnten",146400,72900,61200,0,11700,0,20402,"Ebenthal in Kärnten",146400,11200,7200,100,3000,900,20402,"Ebenthal in Kärnten",146400,12800,1700,2700,6200,2200,20402,"Ebenthal in Kärnten",146400,4200,1500,300,700,1700]
[20403,"Feistritz im Rosental",64200,26000,22000,0,3900,0,20403,"Feistritz im Rosental",64200,5500,3500,100,1500,500,20403,"Feistritz im Rosental",64200,12400,2900,2400,6300,800,20403,"Feistritz im Rosental",64200,2800,1000,200,400,1100]
[20405,"Ferlach",196700,75400,64400,0,11000,0,20405,"Ferlach",196700,14600,9400,100,3900,1200,20405,"Ferlach",196700,52000,12900,11300,25400,2400,20405,"Ferlach",196700,3900,1400,300,600,1600]
[20409,"Grafenstein",88500,29200,24600,0,4500,0,20409,"Grafenstein",88500,5700,3600,100,1500,500,20409,"Grafenstein",88500,24900,1600,10000,11100,2200,20409,"Grafenstein",88500,6200,2300,400,1000,2500]
[20412,"Keutschach am See",51200,25000,21300,0,3700,0,20412,"Keutschach am See",51200,4500,2900,0,1200,400,20412,"Keutschach am See",51200,2900,300,500,1600,500,20412,"Keutschach am See",51200,1100,400,100,200,500]
[20414,"Köttmannsdorf",58700,32400,27400,0,5000,0,20414,"Köttmannsdorf",58700,3200,2100,0,900,300,20414,"Köttmannsdorf",58700,3100,400,600,1600,600,20414,"Köttmannsdorf",58700,2300,800,200,400,900]
[20415,"Krumpendorf am Wörthersee",80500,38400,32300,0,6100,0,20415,"Krumpendorf am Wörthersee",80500,14800,9400,100,3900,1200,20415,"Krumpendorf am Wörthersee",80500,1200,200,500,400,200,20415,"Krumpendorf am Wörthersee",80500,300,100,0,100,100]
[20416,"Ludmannsdorf",34800,18500,15700,0,2800,0,20416,"Ludmannsdorf",34800,1500,900,0,400,100,20416,"Ludmannsdorf",34800,1200,100,100,700,300,20416,"Ludmannsdorf",34800,1600,600,100,300,600]
[20417,"Maria Rain",50800,26400,22100,0,4300,0,20417,"Maria Rain",50800,3100,2000,0,800,300,20417,"Maria Rain",50800,4800,500,2100,1700,600,20417,"Maria Rain",50800,1600,600,100,300,600]
[20418,"Maria Saal",91600,42100,35600,0,6500,0,20418,"Maria Saal",91600,15100,9700,200,4000,1300,20418,"Maria Saal",91600,4000,800,1200,1700,300,20418,"Maria Saal",91600,5100,1900,400,800,2000]
[20419,"Maria Wörth",46600,23700,19800,0,4000,0,20419,"Maria Wörth",46600,6900,4400,100,1800,600,20419,"Maria Wörth",46600,2600,200,200,1600,600,20419,"Maria Wörth",46600,200,100,0,0,100]
[20421,"Moosburg",89500,42000,35600,0,6500,0,20421,"Moosburg",89500,9300,5900,100,2500,800,20421,"Moosburg",89500,4000,800,1000,1800,400,20421,"Moosburg",89500,3900,1400,300,600,1600]
[20424,"Pörtschach am Wörther See",73500,34900,29300,0,5600,0,20424,"Pörtschach am Wörther See",73500,12700,8100,100,3400,1100,20424,"Pörtschach am Wörther See",73500,3900,600,1900,1100,400,20424,"Pörtschach am Wörther See",73500,300,100,0,0,100]
[20425,"Poggersdorf",72500,30800,25900,0,4900,0,20425,"Poggersdorf",72500,6300,4000,100,1700,500,20425,"Poggersdorf",72500,9400,1000,2200,4500,1800,20425,"Poggersdorf",72500,4200,1500,300,700,1700]
[20428,"St. Margareten im Rosental",25000,12700,10900,0,1800,0,20428,"St. Margareten im Rosental",25000,900,600,0,200,100,20428,"St. Margareten im Rosental",25000,2700,500,1300,700,100,20428,"St. Margareten im Rosental",25000,1700,600,100,300,700]
[20432,"Schiefling am Wörthersee",53700,28800,24200,0,4600,0,20432,"Schiefling am Wörthersee",53700,3500,2200,0,900,300,20432,"Schiefling am Wörthersee",53700,1800,200,700,700,200,20432,"Schiefling am Wörthersee",53700,1300,500,100,200,500]
[20435,"Techelsberg am Wörther See",48000,25500,21800,0,3700,0,20435,"Techelsberg am Wörther See",48000,4200,2700,0,1100,400,20435,"Techelsberg am Wörther See",48000,3100,500,1500,800,300,20435,"Techelsberg am Wörther See",48000,1100,400,100,200,400]
[20441,"Zell",13900,7900,6900,0,900,0,20441,"Zell",13900,500,300,0,100,0,20441,"Zell",13900,0,0,0,0,0,20441,"Zell",13900,1900,700,100,300,800]
[20442,"Magdalensberg",75700,33500,28200,0,5300,0,20442,"Magdalensberg",75700,5200,3300,100,1400,400,20442,"Magdalensberg",75700,6800,800,1400,3300,1300,20442,"Magdalensberg",75700,5300,1900,400,800,2100]
[20501,"Althofen",415200,43800,36700,0,7000,0,20501,"Althofen",415200,19900,12700,200,5300,1700,20501,"Althofen",415200,299300,31400,178200,80800,8800,20501,"Althofen",415200,1100,400,100,200,400]
[20502,"Brückl",187800,26200,22200,0,4000,0,20502,"Brückl",187800,4600,2900,0,1200,400,20502,"Brückl",187800,134000,8300,44500,80500,700,20502,"Brückl",187800,3800,1400,300,600,1500]
[20503,"Deutsch-Griffen",20400,10600,9400,0,1200,0,20503,"Deutsch-Griffen",20400,800,500,0,200,100,20503,"Deutsch-Griffen",20400,300,100,0,200,100,20503,"Deutsch-Griffen",20400,3100,1100,200,500,1200]
[20504,"Eberstein",49600,15000,13000,0,2000,0,20504,"Eberstein",49600,1700,1100,0,500,100,20504,"Eberstein",49600,17000,1000,6200,8200,1600,20504,"Eberstein",49600,3700,1400,300,600,1500]
[20505,"Friesach",122900,51600,44400,0,7200,0,20505,"Friesach",122900,14200,9100,100,3800,1200,20505,"Friesach",122900,13100,2700,3300,6100,1100,20505,"Friesach",122900,8500,3100,600,1400,3400]
[20506,"Glödnitz",22600,12700,11200,0,1500,0,20506,"Glödnitz",22600,1300,800,0,300,100,20506,"Glödnitz",22600,300,100,0,100,0,20506,"Glödnitz",22600,3300,1200,200,500,1300]
[20508,"Gurk",27200,12800,10900,0,1900,0,20508,"Gurk",27200,2500,1600,0,700,200,20508,"Gurk",27200,200,0,0,100,0,20508,"Gurk",27200,2700,1000,200,400,1100]
[20509,"Guttaring",37300,16300,13900,0,2400,0,20509,"Guttaring",37300,2500,1600,0,700,200,20509,"Guttaring",37300,5000,500,1200,2300,1000,20509,"Guttaring",37300,3800,1400,300,600,1500]
[20511,"Hüttenberg",39900,21800,19400,0,2400,0,20511,"Hüttenberg",39900,1800,1100,0,500,100,20511,"Hüttenberg",39900,2100,300,900,700,200,20511,"Hüttenberg",39900,5000,1900,400,800,2000]
[20512,"Kappel am Krappfeld",51700,20300,17200,0,3000,0,20512,"Kappel am Krappfeld",51700,1900,1200,0,500,200,20512,"Kappel am Krappfeld",51700,10800,1900,6000,2300,700,20512,"Kappel am Krappfeld",51700,6900,2500,500,1100,2700]
[20513,"Klein St. Paul",895600,19500,16900,0,2700,0,20513,"Klein St. Paul",895600,2000,1200,0,500,200,20513,"Klein St. Paul",895600,854700,29100,645500,151300,28900,20513,"Klein St. Paul",895600,4000,1500,300,600,1600]
[20515,"Liebenfels",80000,33200,28300,0,5000,0,20515,"Liebenfels",80000,4600,3000,0,1200,400,20515,"Liebenfels",80000,13100,1100,5600,4700,1700,20515,"Liebenfels",80000,6600,2400,500,1100,2700]
[20518,"Metnitz",54100,26700,23600,0,3100,0,20518,"Metnitz",54100,1700,1100,0,400,100,20518,"Metnitz",54100,4000,700,2100,900,300,20518,"Metnitz",54100,8800,3200,600,1400,3500]
[20519,"Micheldorf",33000,10800,9400,0,1400,0,20519,"Micheldorf",33000,4000,2600,0,1100,300,20519,"Micheldorf",33000,10400,1700,5900,2100,700,20519,"Micheldorf",33000,1200,400,100,200,500]
[20520,"Mölbling",31900,14800,12600,0,2200,0,20520,"Mölbling",31900,1800,1100,0,500,200,20520,"Mölbling",31900,2400,400,900,900,300,20520,"Mölbling",31900,4600,1700,300,700,1800]
[20523,"St. Georgen am Längsee",127900,36000,30400,0,5600,0,20523,"St. Georgen am Längsee",127900,6600,4200,100,1800,600,20523,"St. Georgen am Längsee",127900,53400,8300,32900,9500,2600,20523,"St. Georgen am Längsee",127900,6300,2300,500,1000,2500]
[20527,"St. Veit an der Glan",937600,108100,91200,0,16900,0,20527,"St. Veit an der Glan",937600,67900,43400,700,18100,5700,20527,"St. Veit an der Glan",937600,640900,36000,490500,103200,11200,20527,"St. Veit an der Glan",937600,6300,2300,500,1000,2500]
[20530,"Straßburg",61000,20800,17900,0,3000,0,20530,"Straßburg",61000,3000,1900,0,800,300,20530,"Straßburg",61000,15200,2600,8000,3500,1100,20530,"Straßburg",61000,7300,2700,500,1200,2900]
[20531,"Weitensfeld im Gurktal",55700,26900,23700,0,3300,0,20531,"Weitensfeld im Gurktal",55700,4100,2600,0,1100,300,20531,"Weitensfeld im Gurktal",55700,4300,500,1200,2100,600,20531,"Weitensfeld im Gurktal",55700,5300,2000,400,800,2100]
[20534,"Frauenstein",75300,37500,31900,0,5600,0,20534,"Frauenstein",75300,4000,2600,0,1100,300,20534,"Frauenstein",75300,4700,600,1600,1800,700,20534,"Frauenstein",75300,6700,2500,500,1100,2700]
[20601,"Bad Kleinkirchheim",68900,28400,24500,0,3800,0,20601,"Bad Kleinkirchheim",68900,17300,11000,200,4600,1400,20601,"Bad Kleinkirchheim",68900,1800,200,700,600,300,20601,"Bad Kleinkirchheim",68900,2300,900,200,400,900]
[20602,"Baldramsdorf",34200,18600,15900,0,2700,0,20602,"Baldramsdorf",34200,1900,1200,0,500,200,20602,"Baldramsdorf",34200,1200,200,500,400,200,20602,"Baldramsdorf",34200,1900,700,100,300,700]
[20603,"Berg im Drautal",35300,13100,11300,0,1900,0,20603,"Berg im Drautal",35300,2000,1200,0,500,200,20603,"Berg im Drautal",35300,10100,1700,5900,1900,600,20603,"Berg im Drautal",35300,1800,700,100,300,700]
[20604,"Dellach im Drautal",72500,18300,15800,0,2500,0,20604,"Dellach im Drautal",72500,3200,2100,0,900,300,20604,"Dellach im Drautal",72500,36700,9100,20300,6400,900,20604,"Dellach im Drautal",72500,2300,800,200,400,900]
[20605,"Großkirchheim",39600,17900,15600,0,2200,0,20605,"Großkirchheim",39600,2200,1400,0,600,200,20605,"Großkirchheim",39600,6900,1200,3900,1400,400,20605,"Großkirchheim",39600,2800,1000,200,400,1100]
[20607,"Flattach",36500,14600,12600,0,2000,0,20607,"Flattach",36500,5700,3600,100,1500,500,20607,"Flattach",36500,3300,300,1300,1300,500,20607,"Flattach",36500,1700,600,100,300,700]
[20608,"Gmünd in Kärnten",91700,28700,24700,0,4000,0,20608,"Gmünd in Kärnten",91700,7200,4600,100,1900,600,20608,"Gmünd in Kärnten",91700,28100,1400,9000,14400,3300,20608,"Gmünd in Kärnten",91700,1600,600,100,300,700]
[20609,"Greifenburg",69500,17500,14900,0,2600,0,20609,"Greifenburg",69500,5700,3600,100,1500,500,20609,"Greifenburg",69500,29600,4900,15900,6600,2100,20609,"Greifenburg",69500,2900,1100,200,500,1100]
[20610,"Heiligenblut am Großglockner",33400,14100,12500,0,1600,0,20610,"Heiligenblut am Großglockner",33400,5900,3700,100,1600,500,20610,"Heiligenblut am Großglockner",33400,1500,200,800,400,100,20610,"Heiligenblut am Großglockner",33400,3200,1200,200,500,1300]
[20611,"Irschen",39300,21200,18300,0,3000,0,20611,"Irschen",39300,1600,1000,0,400,100,20611,"Irschen",39300,2900,400,900,1200,500,20611,"Irschen",39300,1700,600,100,300,700]
[20613,"Kleblach-Lind",24200,11200,9600,0,1600,0,20613,"Kleblach-Lind",24200,900,600,0,200,100,20613,"Kleblach-Lind",24200,2000,200,700,800,300,20613,"Kleblach-Lind",24200,2900,1100,200,500,1200]
[20616,"Lendorf",37600,17000,14500,0,2400,0,20616,"Lendorf",37600,5100,3200,100,1400,400,20616,"Lendorf",37600,1500,200,200,800,300,20616,"Lendorf",37600,2100,800,100,300,800]
[20618,"Mallnitz",23700,12700,11300,0,1400,0,20618,"Mallnitz",23700,3600,2300,0,1000,300,20618,"Mallnitz",23700,100,0,0,100,0,20618,"Mallnitz",23700,1300,500,100,200,500]
[20619,"Malta",44800,21200,18200,0,3000,0,20619,"Malta",44800,2600,1700,0,700,200,20619,"Malta",44800,2200,100,700,1200,300,20619,"Malta",44800,4700,1700,300,700,1900]
[20620,"Millstatt am See",82400,42500,36400,0,6100,0,20620,"Millstatt am See",82400,9000,5800,100,2400,800,20620,"Millstatt am See",82400,4000,400,1600,1400,600,20620,"Millstatt am See",82400,2200,800,200,400,900]
[20622,"Mörtschach",22100,9800,8600,0,1200,0,20622,"Mörtschach",22100,700,500,0,200,100,20622,"Mörtschach",22100,3200,400,1400,1100,300,20622,"Mörtschach",22100,2400,900,200,400,1000]
[20624,"Mühldorf (K)",35200,9800,8400,0,1400,0,20624,"Mühldorf (K)",35200,2700,1800,0,700,200,20624,"Mühldorf (K)",35200,13700,2000,7500,3400,900,20624,"Mühldorf (K)",35200,700,200,0,100,300]
[20625,"Oberdrauburg",26600,13100,11300,0,1800,0,20625,"Oberdrauburg",26600,2300,1500,0,600,200,20625,"Oberdrauburg",26600,1100,200,500,400,100,20625,"Oberdrauburg",26600,2400,900,200,400,1000]
[20627,"Obervellach",57800,25600,22000,0,3500,0,20627,"Obervellach",57800,7700,4900,100,2100,600,20627,"Obervellach",57800,3600,400,300,2100,800,20627,"Obervellach",57800,3000,1100,200,500,1200]
[20630,"Radenthein",393300,67700,58700,0,9100,0,20630,"Radenthein",393300,13100,8400,100,3500,1100,20630,"Radenthein",393300,216000,5200,77600,113000,20300,20630,"Radenthein",393300,3200,1200,200,500,1300]
[20631,"Rangersdorf",79000,17700,15300,0,2400,0,20631,"Rangersdorf",79000,2000,1300,0,500,200,20631,"Rangersdorf",79000,41700,6800,23000,9700,2200,20631,"Rangersdorf",79000,2700,1000,200,400,1100]
[20632,"Rennweg am Katschberg",55800,26400,23500,0,2900,0,20632,"Rennweg am Katschberg",55800,6000,3900,100,1600,500,20632,"Rennweg am Katschberg",55800,5100,900,2900,1100,300,20632,"Rennweg am Katschberg",55800,3700,1400,300,600,1500]
[20633,"Sachsenburg",232600,12700,10800,0,1900,0,20633,"Sachsenburg",232600,3700,2300,0,1000,300,20633,"Sachsenburg",232600,200900,36000,122100,33200,9600,20633,"Sachsenburg",232600,1100,400,100,200,500]
[20634,"Seeboden am Millstätter See",147500,71200,60700,0,10500,0,20634,"Seeboden am Millstätter See",147500,15100,9600,200,4000,1300,20634,"Seeboden am Millstätter See",147500,13700,2400,3900,6000,1500,20634,"Seeboden am Millstätter See",147500,2200,800,200,300,900]
[20635,"Spittal an der Drau",537100,136100,114300,0,21800,0,20635,"Spittal an der Drau",537100,100200,64000,1000,26700,8400,20635,"Spittal an der Drau",537100,145200,11200,48600,68900,16600,20635,"Spittal an der Drau",537100,3600,1300,300,600,1500]
[20636,"Stall",55600,16700,14600,0,2100,0,20636,"Stall",55600,1300,800,0,300,100,20636,"Stall",55600,23800,4300,14000,4300,1200,20636,"Stall",55600,2800,1000,200,400,1100]
[20637,"Steinfeld",44600,20800,17900,0,2900,0,20637,"Steinfeld",44600,2800,1800,0,800,200,20637,"Steinfeld",44600,5100,800,2300,1500,500,20637,"Steinfeld",44600,3000,1100,200,500,1200]
[20638,"Trebesing",25700,13500,11700,0,1800,0,20638,"Trebesing",25700,1000,600,0,300,100,20638,"Trebesing",25700,1400,200,600,400,100,20638,"Trebesing",25700,2600,900,200,400,1000]
[20639,"Weißensee",22700,10400,9000,0,1400,0,20639,"Weißensee",22700,4400,2800,0,1200,400,20639,"Weißensee",22700,400,0,0,200,100,20639,"Weißensee",22700,1600,600,100,300,700]
[20640,"Winklern",34000,12400,10700,0,1700,0,20640,"Winklern",34000,4800,3100,0,1300,400,20640,"Winklern",34000,5100,700,1800,1900,700,20640,"Winklern",34000,1300,500,100,200,500]
[20642,"Krems in Kärnten",49400,25800,22900,0,2800,0,20642,"Krems in Kärnten",49400,3400,2200,0,900,300,20642,"Krems in Kärnten",49400,900,100,200,400,100,20642,"Krems in Kärnten",49400,6900,2500,500,1100,2800]
[20643,"Lurnfeld",62200,27800,23600,0,4200,0,20643,"Lurnfeld",62200,6200,3900,100,1600,500,20643,"Lurnfeld",62200,7800,800,2300,3300,1400,20643,"Lurnfeld",62200,2200,800,200,400,900]
[20644,"Reißeck",54500,26400,22800,0,3600,0,20644,"Reißeck",54500,3000,1900,0,800,200,20644,"Reißeck",54500,6400,700,1600,2800,1200,20644,"Reißeck",54500,3100,1100,200,500,1300]
[20701,"Afritz am See",31200,15300,13200,0,2100,0,20701,"Afritz am See",31200,2200,1400,0,600,200,20701,"Afritz am See",31200,2300,400,1300,500,200,20701,"Afritz am See",31200,1200,400,100,200,500]
[20702,"Arnoldstein",171500,66500,56500,0,10000,0,20702,"Arnoldstein",171500,23000,14700,200,6200,1900,20702,"Arnoldstein",171500,29700,4200,12600,12000,900,20702,"Arnoldstein",171500,2400,900,200,400,1000]
[20703,"Arriach",37600,19500,17000,0,2500,0,20703,"Arriach",37600,4700,3000,0,1300,400,20703,"Arriach",37600,1400,100,400,900,100,20703,"Arriach",37600,3700,1300,300,600,1500]
[20705,"Bad Bleiberg",84300,30500,26900,0,3600,0,20705,"Bad Bleiberg",84300,5400,3500,100,1400,500,20705,"Bad Bleiberg",84300,25700,600,12500,10600,1900,20705,"Bad Bleiberg",84300,1100,400,100,200,400]
[20707,"Feistritz an der Gail",17700,7800,6700,0,1100,0,20707,"Feistritz an der Gail",17700,900,500,0,200,100,20707,"Feistritz an der Gail",17700,2200,500,500,1100,100,20707,"Feistritz an der Gail",17700,1500,500,100,200,600]
[20708,"Feld am See",26400,14400,12500,0,1900,0,20708,"Feld am See",26400,1900,1200,0,500,200,20708,"Feld am See",26400,900,100,0,600,300,20708,"Feld am See",26400,1200,400,100,200,500]
[20710,"Ferndorf",70100,21200,18100,0,3100,0,20710,"Ferndorf",70100,2000,1300,0,500,200,20710,"Ferndorf",70100,29900,1000,22100,5600,1200,20710,"Ferndorf",70100,1900,700,100,300,700]
[20711,"Finkenstein am Faaker See",272400,89200,75200,0,14000,0,20711,"Finkenstein am Faaker See",272400,26600,17000,300,7100,2200,20711,"Finkenstein am Faaker See",272400,88900,11500,52300,20400,4600,20711,"Finkenstein am Faaker See",272400,4100,1500,300,600,1600]
[20712,"Fresach",29600,14300,12400,0,1900,0,20712,"Fresach",29600,1400,900,0,400,100,20712,"Fresach",29600,4600,700,2500,1100,300,20712,"Fresach",29600,2000,800,100,300,800]
[20713,"Hohenthurn",20400,9400,8100,0,1300,0,20713,"Hohenthurn",20400,2000,1300,0,500,200,20713,"Hohenthurn",20400,500,100,100,200,0,20713,"Hohenthurn",20400,1500,500,100,200,600]
[20719,"Nötsch im Gailtal",56600,26000,22500,0,3600,0,20719,"Nötsch im Gailtal",56600,3100,2000,0,800,300,20719,"Nötsch im Gailtal",56600,9800,1700,5500,2000,700,20719,"Nötsch im Gailtal",56600,2300,800,200,400,900]
[20720,"Paternion",150500,54300,46200,0,8200,0,20720,"Paternion",150500,20400,13100,200,5500,1700,20720,"Paternion",150500,27700,2700,8100,13900,3000,20720,"Paternion",150500,4300,1600,300,700,1700]
[20721,"Rosegg",38500,19600,16600,0,3000,0,20721,"Rosegg",38500,2700,1700,0,700,200,20721,"Rosegg",38500,2600,100,700,1400,300,20721,"Rosegg",38500,1100,400,100,200,500]
[20722,"St. Jakob im Rosental",87500,43200,36700,0,6500,0,20722,"St. Jakob im Rosental",87500,10300,6600,100,2700,900,20722,"St. Jakob im Rosental",87500,2500,200,900,1100,300,20722,"St. Jakob im Rosental",87500,3300,1200,200,500,1300]
[20723,"Stockenboi",53200,17700,15200,0,2500,0,20723,"Stockenboi",53200,2300,1400,0,600,200,20723,"Stockenboi",53200,17100,700,12500,3300,700,20723,"Stockenboi",53200,3400,1200,200,500,1400]
[20724,"Treffen am Ossiacher See",129000,48600,41300,0,7300,0,20724,"Treffen am Ossiacher See",129000,14000,8900,100,3700,1200,20724,"Treffen am Ossiacher See",129000,25000,2400,6500,13100,3000,20724,"Treffen am Ossiacher See",129000,2400,900,200,400,900]
[20725,"Velden am Wörther See",214400,102600,87100,0,15500,0,20725,"Velden am Wörther See",214400,33800,21600,300,9000,2800,20725,"Velden am Wörther See",214400,5900,700,700,3200,1200,20725,"Velden am Wörther See",214400,3200,1200,200,500,1300]
[20726,"Weißenstein",337500,30000,25600,0,4400,0,20726,"Weißenstein",337500,6900,4400,100,1800,600,20726,"Weißenstein",337500,240900,7900,82800,137300,13000,20726,"Weißenstein",337500,2300,900,200,400,900]
[20727,"Wernberg",136500,50800,42700,0,8100,0,20727,"Wernberg",136500,13600,8700,100,3600,1100,20727,"Wernberg",136500,30800,2900,10700,12300,4900,20727,"Wernberg",136500,1500,600,100,200,600]
[20801,"Bleiburg",112300,40500,34600,0,5900,0,20801,"Bleiburg",112300,12700,8100,100,3400,1100,20801,"Bleiburg",112300,20900,1600,7600,9500,2200,20801,"Bleiburg",112300,6000,2200,400,1000,2400]
[20802,"Diex",22500,10500,9300,0,1200,0,20802,"Diex",22500,1000,600,0,300,100,20802,"Diex",22500,300,0,100,100,0,20802,"Diex",22500,4800,1800,300,800,1900]
[20803,"Eberndorf",140800,63700,54500,0,9200,0,20803,"Eberndorf",140800,20200,12900,200,5400,1700,20803,"Eberndorf",140800,9700,1000,3000,4600,1200,20803,"Eberndorf",140800,6100,2200,400,1000,2400]
[20804,"Eisenkappel-Vellach",52900,27000,23600,0,3500,0,20804,"Eisenkappel-Vellach",52900,4000,2500,0,1100,300,20804,"Eisenkappel-Vellach",52900,1800,100,100,1100,500,20804,"Eisenkappel-Vellach",52900,4500,1700,300,700,1800]
[20805,"Feistritz ob Bleiburg",103200,23000,19600,0,3400,0,20805,"Feistritz ob Bleiburg",103200,4800,3100,0,1300,400,20805,"Feistritz ob Bleiburg",103200,49800,13000,9700,25200,1900,20805,"Feistritz ob Bleiburg",103200,3700,1400,300,600,1500]
[20806,"Gallizien",37100,18400,15800,0,2700,0,20806,"Gallizien",37100,1400,900,0,400,100,20806,"Gallizien",37100,2700,400,1100,900,300,20806,"Gallizien",37100,2400,900,200,400,1000]
[20807,"Globasnitz",33300,16500,14100,0,2400,0,20807,"Globasnitz",33300,2400,1600,0,700,200,20807,"Globasnitz",33300,1700,200,700,600,200,20807,"Globasnitz",33300,3000,1100,200,500,1200]
[20808,"Griffen",141100,35600,30400,0,5200,0,20808,"Griffen",141100,7000,4500,100,1900,600,20808,"Griffen",141100,62900,8200,37300,14200,3100,20808,"Griffen",141100,7200,2600,500,1100,2900]
[20810,"Neuhaus",20900,10000,8500,0,1400,0,20810,"Neuhaus",20900,900,600,0,200,100,20810,"Neuhaus",20900,1200,200,600,300,100,20810,"Neuhaus",20900,2600,1000,200,400,1100]
[20812,"Ruden",35400,15300,13100,0,2200,0,20812,"Ruden",35400,3600,2300,0,1000,300,20812,"Ruden",35400,3000,600,1200,1000,200,20812,"Ruden",35400,3000,1100,200,500,1200]
[20813,"St. Kanzian am Klopeiner See",94700,48600,41400,0,7200,0,20813,"St. Kanzian am Klopeiner See",94700,10600,6800,100,2800,900,20813,"St. Kanzian am Klopeiner See",94700,1700,200,500,800,300,20813,"St. Kanzian am Klopeiner See",94700,3500,1300,200,600,1400]
[20815,"Sittersdorf",46500,22600,19400,0,3200,0,20815,"Sittersdorf",46500,1700,1100,0,400,100,20815,"Sittersdorf",46500,5600,1000,3000,1300,300,20815,"Sittersdorf",46500,3200,1200,200,500,1300]
[20817,"Völkermarkt",390200,112800,96100,0,16800,0,20817,"Völkermarkt",390200,43300,27700,400,11600,3600,20817,"Völkermarkt",390200,118300,13600,56200,40600,7900,20817,"Völkermarkt",390200,14500,5300,1000,2300,5800]
[20901,"Bad St. Leonhard im Lavanttal",362900,47500,41100,0,6400,0,20901,"Bad St. Leonhard im Lavanttal",362900,8200,5300,100,2200,700,20901,"Bad St. Leonhard im Lavanttal",362900,258300,39400,156000,50900,12000,20901,"Bad St. Leonhard im Lavanttal",362900,7900,2900,600,1300,3200]
[20905,"Frantschach-St. Gertraud",2035700,25900,22300,0,3600,0,20905,"Frantschach-St. Gertraud",2035700,5800,3700,100,1600,500,20905,"Frantschach-St. Gertraud",2035700,1975300,20600,1692700,260200,1800,20905,"Frantschach-St. Gertraud",2035700,4800,1800,300,800,1900]
[20909,"Lavamünd",71700,30200,25700,0,4500,0,20909,"Lavamünd",71700,4400,2800,0,1200,400,20909,"Lavamünd",71700,12400,1700,6100,3500,1100,20909,"Lavamünd",71700,5300,1900,400,800,2100]
[20911,"Preitenegg",34500,12200,10700,0,1500,0,20911,"Preitenegg",34500,1800,1100,0,500,200,20911,"Preitenegg",34500,8600,1800,3900,2500,400,20911,"Preitenegg",34500,4100,1500,300,700,1700]
[20912,"Reichenfels",77100,20400,17800,0,2600,0,20912,"Reichenfels",77100,1900,1200,0,500,200,20912,"Reichenfels",77100,37200,5500,23500,6500,1700,20912,"Reichenfels",77100,5000,1800,400,800,2000]
[20913,"St. Andrä",348000,93500,79500,0,14000,0,20913,"St. Andrä",348000,20400,13000,200,5400,1700,20913,"St. Andrä",348000,146500,10200,82500,41700,12100,20913,"St. Andrä",348000,13300,4900,900,2100,5300]
[20914,"St. Georgen im Lavanttal",40500,18900,16100,0,2800,0,20914,"St. Georgen im Lavanttal",40500,1900,1200,0,500,200,20914,"St. Georgen im Lavanttal",40500,3000,300,1000,1200,500,20914,"St. Georgen im Lavanttal",40500,4100,1500,300,700,1700]
[20918,"St. Paul im Lavanttal",121400,31400,26800,0,4700,0,20918,"St. Paul im Lavanttal",121400,8200,5300,100,2200,700,20918,"St. Paul im Lavanttal",121400,48100,4600,13600,21600,8300,20918,"St. Paul im Lavanttal",121400,5400,2000,400,900,2200]
[20923,"Wolfsberg",820800,240800,203600,0,37200,0,20923,"Wolfsberg",820800,98200,62700,1000,26200,8200,20923,"Wolfsberg",820800,261500,35200,111000,100400,15000,20923,"Wolfsberg",820800,20300,7500,1500,3200,8100]
[21001,"Albeck",43000,16700,14700,0,2000,0,21001,"Albeck",43000,1700,1100,0,500,100,21001,"Albeck",43000,13700,2400,8100,2500,700,21001,"Albeck",43000,3600,1300,300,600,1400]
[21002,"Feldkirchen in Kärnten",401400,135700,115300,0,20400,0,21002,"Feldkirchen in Kärnten",401400,63800,40700,600,17000,5300,21002,"Feldkirchen in Kärnten",401400,84600,8300,35300,33100,7900,21002,"Feldkirchen in Kärnten",401400,7600,2800,500,1200,3000]
[21003,"Glanegg",69500,18200,15600,0,2600,0,21003,"Glanegg",69500,1900,1200,0,500,200,21003,"Glanegg",69500,31600,4000,15600,9500,2500,21003,"Glanegg",69500,2900,1100,200,500,1200]
[21004,"Gnesau",106400,14400,12700,0,1700,0,21004,"Gnesau",106400,1100,700,0,300,100,21004,"Gnesau",106400,77500,14000,46300,13500,3800,21004,"Gnesau",106400,3500,1300,200,600,1400]
[21005,"Himmelberg",50500,26500,22900,0,3600,0,21005,"Himmelberg",50500,2300,1500,0,600,200,21005,"Himmelberg",50500,3700,500,900,1700,600,21005,"Himmelberg",50500,3400,1200,200,500,1400]
[21006,"Ossiach",22100,10100,8600,0,1600,0,21006,"Ossiach",22100,3300,2100,0,900,300,21006,"Ossiach",22100,100,0,0,100,0,21006,"Ossiach",22100,800,300,100,100,300]
[21007,"Reichenau",59100,33300,29500,0,3700,0,21007,"Reichenau",59100,5200,3300,100,1400,400,21007,"Reichenau",59100,2200,300,500,1200,200,21007,"Reichenau",59100,4000,1500,300,600,1600]
[21008,"St. Urban",46800,16300,14000,0,2400,0,21008,"St. Urban",46800,2700,1700,0,700,200,21008,"St. Urban",46800,12100,600,4300,6000,1200,21008,"St. Urban",46800,2700,1000,200,400,1100]
[21009,"Steindorf am Ossiacher See",87700,45600,38800,0,6800,0,21009,"Steindorf am Ossiacher See",87700,7500,4800,100,2000,600,21009,"Steindorf am Ossiacher See",87700,7900,1200,3400,2500,700,21009,"Steindorf am Ossiacher See",87700,1300,500,100,200,500]
[21010,"Steuerberg",38100,17100,14800,0,2300,0,21010,"Steuerberg",38100,2800,1800,0,700,200,21010,"Steuerberg",38100,4600,300,1600,2100,600,21010,"Steuerberg",38100,2200,800,200,300,900]
[30101,"Krems an der Donau",1130900,214800,180700,0,34000,0,30101,"Krems an der Donau",1130900,170000,103900,2100,49100,15000,30101,"Krems an der Donau",1130900,478900,41400,269500,158100,9800,30101,"Krems an der Donau",1130900,4600,1400,300,700,2300]
[30201,"St. Pölten",2388900,432200,364000,0,68300,0,30201,"St. Pölten",2388900,541800,331000,6600,156600,47700,30201,"St. Pölten",2388900,728900,79200,399200,224100,26300,30201,"St. Pölten",2388900,11200,3300,700,1600,5500]
[30301,"Waidhofen an der Ybbs",305900,117600,101900,0,15700,0,30301,"Waidhofen an der Ybbs",305900,36000,22000,400,10400,3200,30301,"Waidhofen an der Ybbs",305900,44600,9500,14100,16700,4400,30301,"Waidhofen an der Ybbs",305900,10800,3200,700,1600,5300]
[30401,"Wiener Neustadt",1289500,330600,274900,0,55700,0,30401,"Wiener Neustadt",1289500,338200,206600,4100,97700,29800,30401,"Wiener Neustadt",1289500,183600,21800,85700,61100,14900,30401,"Wiener Neustadt",1289500,3100,900,200,500,1600]
[30501,"Allhartsberg",93100,19600,16800,0,2800,0,30501,"Allhartsberg",93100,2800,1700,0,800,200,30501,"Allhartsberg",93100,51700,3800,33400,11900,2600,30501,"Allhartsberg",93100,2300,700,200,300,1100]
[30502,"Amstetten",1606500,214800,183900,0,30900,0,30502,"Amstetten",1606500,134000,81900,1600,38700,11800,30502,"Amstetten",1606500,1007800,55000,691600,238200,23000,30502,"Amstetten",1606500,4300,1300,300,600,2100]
[30503,"Ardagger",75600,34400,29200,0,5300,0,30503,"Ardagger",75600,6500,4000,100,1900,600,30503,"Ardagger",75600,4000,700,1800,1100,400,30503,"Ardagger",75600,5600,1700,400,800,2800]
[30504,"Aschbach-Markt",188300,37300,32300,0,5000,0,30504,"Aschbach-Markt",188300,5700,3500,100,1700,500,30504,"Aschbach-Markt",188300,108100,7400,68000,26300,6500,30504,"Aschbach-Markt",188300,5300,1600,300,800,2600]
[30506,"Behamberg",66300,33900,28800,0,5100,0,30506,"Behamberg",66300,3000,1800,0,900,300,30506,"Behamberg",66300,5900,1100,2100,2200,500,30506,"Behamberg",66300,2500,700,200,400,1200]
[30507,"Biberbach",49400,23000,19800,0,3200,0,30507,"Biberbach",49400,1500,900,0,400,100,30507,"Biberbach",49400,7100,700,4000,1900,400,30507,"Biberbach",49400,3800,1100,200,500,1900]
[30508,"Ennsdorf",76300,26500,22300,0,4200,0,30508,"Ennsdorf",76300,7500,4600,100,2200,700,30508,"Ennsdorf",76300,18000,3100,6500,6700,1800,30508,"Ennsdorf",76300,600,200,0,100,300]
[30509,"Ernsthofen",42900,22800,19500,0,3300,0,30509,"Ernsthofen",42900,3000,1800,0,900,300,30509,"Ernsthofen",42900,1500,300,600,500,100,30509,"Ernsthofen",42900,2300,700,100,300,1100]
[30510,"Ertl",25900,12900,11200,0,1700,0,30510,"Ertl",25900,1000,600,0,300,100,30510,"Ertl",25900,700,100,100,300,100,30510,"Ertl",25900,2400,700,200,400,1200]
[30511,"Euratsfeld",53400,25800,22100,0,3700,0,30511,"Euratsfeld",53400,2200,1400,0,600,200,30511,"Euratsfeld",53400,3200,700,1000,1200,300,30511,"Euratsfeld",53400,4100,1200,300,600,2000]
[30512,"Ferschnitz",37700,17700,15100,0,2600,0,30512,"Ferschnitz",37700,1800,1100,0,500,200,30512,"Ferschnitz",37700,3400,800,1200,1200,200,30512,"Ferschnitz",37700,1800,500,100,300,900]
[30514,"Haag",129200,54400,47000,0,7500,0,30514,"Haag",129200,12900,7900,200,3700,1100,30514,"Haag",129200,13300,2300,4800,5000,1300,30514,"Haag",129200,7300,2200,500,1100,3600]
[30515,"Haidershofen",87300,35700,30500,0,5200,0,30515,"Haidershofen",87300,3300,2000,0,900,300,30515,"Haidershofen",87300,18800,1100,11900,4300,1500,30515,"Haidershofen",87300,4100,1200,300,600,2100]
[30516,"Hollenstein an der Ybbs",48300,22400,19800,0,2700,0,30516,"Hollenstein an der Ybbs",48300,3000,1800,0,900,300,30516,"Hollenstein an der Ybbs",48300,6500,1000,2900,2200,500,30516,"Hollenstein an der Ybbs",48300,3000,900,200,400,1500]
[30517,"Kematen an der Ybbs",457100,24300,20900,0,3400,0,30517,"Kematen an der Ybbs",457100,12200,7500,100,3500,1100,30517,"Kematen an der Ybbs",457100,390400,26900,264100,92500,7000,30517,"Kematen an der Ybbs",457100,1000,300,100,200,500]
[30520,"Neuhofen an der Ybbs",62500,28400,24400,0,4000,0,30520,"Neuhofen an der Ybbs",62500,3900,2400,0,1100,300,30520,"Neuhofen an der Ybbs",62500,4600,800,1900,1400,500,30520,"Neuhofen an der Ybbs",62500,4700,1400,300,700,2300]
[30521,"Neustadtl an der Donau",42500,21400,18700,0,2800,0,30521,"Neustadtl an der Donau",42500,2000,1200,0,600,200,30521,"Neustadtl an der Donau",42500,1000,100,100,500,200,30521,"Neustadtl an der Donau",42500,4100,1200,300,600,2000]
[30522,"Oed-Oehling",43700,17700,15100,0,2600,0,30522,"Oed-Oehling",43700,3800,2300,0,1100,300,30522,"Oed-Oehling",43700,7600,1800,3400,2000,500,30522,"Oed-Oehling",43700,1400,400,100,200,700]
[30524,"Opponitz",18200,9200,8000,0,1100,0,30524,"Opponitz",18200,700,400,0,200,100,30524,"Opponitz",18200,500,100,200,200,100,30524,"Opponitz",18200,1700,500,100,200,800]
[30526,"St. Georgen am Reith",14200,5900,5200,0,700,0,30526,"St. Georgen am Reith",14200,500,300,0,200,0,30526,"St. Georgen am Reith",14200,1800,100,1000,500,300,30526,"St. Georgen am Reith",14200,1500,400,100,200,700]
[30527,"St. Georgen am Ybbsfelde",70900,26400,22500,0,3900,0,30527,"St. Georgen am Ybbsfelde",70900,6300,3800,100,1800,600,30527,"St. Georgen am Ybbsfelde",70900,14500,2100,7800,3700,900,30527,"St. Georgen am Ybbsfelde",70900,2900,900,200,400,1400]
[30529,"St. Pantaleon-Erla",147600,26100,22300,0,3700,0,30529,"St. Pantaleon-Erla",147600,1700,1000,0,500,200,30529,"St. Pantaleon-Erla",147600,93800,3900,68900,13500,7400,30529,"St. Pantaleon-Erla",147600,2800,800,200,400,1400]
[30530,"St. Peter in der Au",137800,48500,41700,0,6800,0,30530,"St. Peter in der Au",137800,7800,4800,100,2300,700,30530,"St. Peter in der Au",137800,37400,8200,14100,12100,3000,30530,"St. Peter in der Au",137800,7200,2100,500,1000,3600]
[30531,"St. Valentin",269000,88400,75700,0,12800,0,30531,"St. Valentin",269000,25600,15600,300,7400,2300,30531,"St. Valentin",269000,69200,16300,21900,25000,6000,30531,"St. Valentin",269000,5700,1700,400,800,2800]
[30532,"Seitenstetten",89700,31800,27200,0,4600,0,30532,"Seitenstetten",89700,6000,3700,100,1700,500,30532,"Seitenstetten",89700,22000,5500,7400,7800,1300,30532,"Seitenstetten",89700,3400,1000,200,500,1700]
[30533,"Sonntagberg",325700,38300,33300,0,5100,0,30533,"Sonntagberg",325700,4500,2700,100,1300,400,30533,"Sonntagberg",325700,247000,14000,164600,64100,4300,30533,"Sonntagberg",325700,1700,500,100,200,800]
[30534,"Strengberg",52900,23800,20500,0,3300,0,30534,"Strengberg",52900,2500,1500,0,700,200,30534,"Strengberg",52900,7500,2000,2800,2100,500,30534,"Strengberg",52900,4900,1400,300,700,2400]
[30536,"Viehdorf",25500,12000,10300,0,1700,0,30536,"Viehdorf",25500,1200,700,0,300,100,30536,"Viehdorf",25500,1000,100,100,500,300,30536,"Viehdorf",25500,2100,600,100,300,1000]
[30538,"Wallsee-Sindelburg",43000,21600,18500,0,3000,0,30538,"Wallsee-Sindelburg",43000,2900,1800,0,800,300,30538,"Wallsee-Sindelburg",43000,500,100,100,200,100,30538,"Wallsee-Sindelburg",43000,2900,900,200,400,1400]
[30539,"Weistrach",67900,23200,20000,0,3200,0,30539,"Weistrach",67900,2400,1500,0,700,200,30539,"Weistrach",67900,22600,4500,10500,6000,1600,30539,"Weistrach",67900,4800,1400,300,700,2400]
[30541,"Winklarn",44700,15800,13400,0,2400,0,30541,"Winklarn",44700,1500,900,0,400,100,30541,"Winklarn",44700,11500,400,5900,3300,1900,30541,"Winklarn",44700,1600,500,100,200,800]
[30542,"Wolfsbach",44000,21200,18300,0,2900,0,30542,"Wolfsbach",44000,2200,1300,0,600,200,30542,"Wolfsbach",44000,2100,500,600,800,200,30542,"Wolfsbach",44000,4800,1400,300,700,2400]
[30543,"Ybbsitz",117500,37100,32300,0,4900,0,30543,"Ybbsitz",117500,4200,2600,100,1200,400,30543,"Ybbsitz",117500,41800,6900,17800,14500,2600,30543,"Ybbsitz",117500,6800,2000,400,1000,3300]
[30544,"Zeillern",37500,19600,17000,0,2700,0,30544,"Zeillern",37500,2500,1500,0,700,200,30544,"Zeillern",37500,900,100,400,300,100,30544,"Zeillern",37500,2900,900,200,400,1500]
[30601,"Alland",64200,28200,24400,0,3900,0,30601,"Alland",64200,6300,3800,100,1800,600,30601,"Alland",64200,6100,600,2200,2200,1100,30601,"Alland",64200,2400,700,200,400,1200]
[30602,"Altenmarkt an der Triesting",46400,23300,20300,0,3000,0,30602,"Altenmarkt an der Triesting",46400,2500,1500,0,700,200,30602,"Altenmarkt an der Triesting",46400,2200,300,500,1000,300,30602,"Altenmarkt an der Triesting",46400,3500,1000,200,500,1800]
[30603,"Bad Vöslau",338800,102800,86700,0,16100,0,30603,"Bad Vöslau",338800,79100,48300,1000,22900,7000,30603,"Bad Vöslau",338800,61400,4400,38300,15400,3300,30603,"Bad Vöslau",338800,2200,600,100,300,1100]
[30604,"Baden",723000,239000,201300,0,37600,0,30604,"Baden",723000,123600,75500,1500,35700,10900,30604,"Baden",723000,107700,7400,67900,26200,6100,30604,"Baden",723000,2100,600,100,300,1100]
[30605,"Berndorf",200200,79400,68400,0,11000,0,30605,"Berndorf",200200,18100,11000,200,5200,1600,30605,"Berndorf",200200,34500,6600,12200,13200,2500,30605,"Berndorf",200200,900,300,100,100,500]
[30607,"Ebreichsdorf",234100,90400,74900,0,15500,0,30607,"Ebreichsdorf",234100,23900,14600,300,6900,2100,30607,"Ebreichsdorf",234100,33200,6600,11500,12000,3000,30607,"Ebreichsdorf",234100,5200,1600,300,800,2600]
[30608,"Enzesfeld-Lindabrunn",108100,40300,34400,0,5800,0,30608,"Enzesfeld-Lindabrunn",108100,8300,5100,100,2400,700,30608,"Enzesfeld-Lindabrunn",108100,26700,3000,11500,11200,1000,30608,"Enzesfeld-Lindabrunn",108100,600,200,0,100,300]
[30609,"Furth an der Triesting",23000,8400,7300,0,1100,0,30609,"Furth an der Triesting",23000,800,500,0,200,100,30609,"Furth an der Triesting",23000,6300,1300,3000,1600,400,30609,"Furth an der Triesting",23000,1800,500,100,300,900]
[30612,"Günselsdorf",44600,13900,11600,0,2300,0,30612,"Günselsdorf",44600,2600,1600,0,800,200,30612,"Günselsdorf",44600,14600,3500,4300,6000,900,30612,"Günselsdorf",44600,1100,300,100,200,500]
[30613,"Heiligenkreuz",33900,17100,14600,0,2500,0,30613,"Heiligenkreuz",33900,3400,2100,0,1000,300,30613,"Heiligenkreuz",33900,600,100,0,300,200,30613,"Heiligenkreuz",33900,1100,300,100,200,500]
[30614,"Hernstein",39100,17700,15200,0,2500,0,30614,"Hernstein",39100,1700,1000,0,500,200,30614,"Hernstein",39100,5600,200,3000,1600,900,30614,"Hernstein",39100,1500,400,100,200,700]
[30615,"Hirtenberg",49300,17000,14400,0,2600,0,30615,"Hirtenberg",49300,4100,2500,100,1200,400,30615,"Hirtenberg",49300,8700,2700,1800,3300,900,30615,"Hirtenberg",49300,0,0,0,0,0]
[30616,"Klausen-Leopoldsdorf",35700,19100,16500,0,2700,0,30616,"Klausen-Leopoldsdorf",35700,2100,1300,0,600,200,30616,"Klausen-Leopoldsdorf",35700,600,100,200,200,100,30616,"Klausen-Leopoldsdorf",35700,1400,400,100,200,700]
[30618,"Kottingbrunn",158200,61300,51400,0,9900,0,30618,"Kottingbrunn",158200,14000,8600,200,4100,1200,30618,"Kottingbrunn",158200,27800,6800,8600,10900,1600,30618,"Kottingbrunn",158200,1000,300,100,100,500]
[30620,"Leobersdorf",139800,37700,31600,0,6200,0,30620,"Leobersdorf",139800,23700,14500,300,6800,2100,30620,"Leobersdorf",139800,28100,3200,16300,6900,1700,30620,"Leobersdorf",139800,1300,400,100,200,600]
[30621,"Mitterndorf an der Fischa",42300,19900,16200,0,3700,0,30621,"Mitterndorf an der Fischa",42300,3200,2000,0,900,300,30621,"Mitterndorf an der Fischa",42300,400,100,100,200,100,30621,"Mitterndorf an der Fischa",42300,1700,500,100,200,800]
[30623,"Oberwaltersdorf",119200,41700,33800,0,7900,0,30623,"Oberwaltersdorf",119200,9400,5700,100,2700,800,30623,"Oberwaltersdorf",119200,28800,1700,19300,5700,2100,30623,"Oberwaltersdorf",119200,1700,500,100,200,800]
[30625,"Pfaffstätten",59300,29200,24200,0,5000,0,30625,"Pfaffstätten",59300,5700,3500,100,1600,500,30625,"Pfaffstätten",59300,1200,300,300,500,100,30625,"Pfaffstätten",59300,900,300,100,100,400]
[30626,"Pottendorf",130400,60800,50400,0,10300,0,30626,"Pottendorf",130400,11400,6900,100,3300,1000,30626,"Pottendorf",130400,3900,500,1600,1500,300,30626,"Pottendorf",130400,4600,1400,300,700,2300]
[30627,"Pottenstein",58000,27500,23700,0,3800,0,30627,"Pottenstein",58000,3700,2300,0,1100,300,30627,"Pottenstein",58000,6800,1400,1800,2700,900,30627,"Pottenstein",58000,800,200,100,100,400]
[30629,"Reisenberg",49900,16100,13500,0,2600,0,30629,"Reisenberg",49900,16000,9800,200,4600,1400,30629,"Reisenberg",49900,3100,500,1400,1000,100,30629,"Reisenberg",49900,3100,900,200,400,1500]
[30631,"Schönau an der Triesting",67200,16400,13700,0,2700,0,30631,"Schönau an der Triesting",67200,2100,1300,0,600,200,30631,"Schönau an der Triesting",67200,30000,1200,21700,6900,200,30631,"Schönau an der Triesting",67200,1000,300,100,100,500]
[30633,"Seibersdorf",39600,15300,12700,0,2600,0,30633,"Seibersdorf",39600,4900,3000,100,1400,400,30633,"Seibersdorf",39600,2900,200,1800,600,300,30633,"Seibersdorf",39600,2900,900,200,400,1500]
[30635,"Sooß",22200,10700,9100,0,1600,0,30635,"Sooß",22200,2600,1600,0,700,200,30635,"Sooß",22200,600,100,100,200,100,30635,"Sooß",22200,600,200,0,100,300]
[30636,"Tattendorf",35900,13900,11700,0,2200,0,30636,"Tattendorf",35900,2700,1700,0,800,200,30636,"Tattendorf",35900,5100,600,2200,1900,400,30636,"Tattendorf",35900,2800,800,200,400,1400]
[30637,"Teesdorf",34600,14200,11900,0,2300,0,30637,"Teesdorf",34600,4900,3000,100,1400,400,30637,"Teesdorf",34600,1000,200,200,500,200,30637,"Teesdorf",34600,1100,300,100,200,500]
[30639,"Traiskirchen",438300,137000,113700,0,23200,0,30639,"Traiskirchen",438300,53000,32400,600,15300,4700,30639,"Traiskirchen",438300,104800,10400,53200,34700,6400,30639,"Traiskirchen",438300,3300,1000,200,500,1600]
[30641,"Trumau",78500,26400,21700,0,4700,0,30641,"Trumau",78500,10200,6200,100,2900,900,30641,"Trumau",78500,7000,1100,1200,3400,1300,30641,"Trumau",78500,2900,800,200,400,1400]
[30645,"Weissenbach an der Triesting",50600,18600,16200,0,2400,0,30645,"Weissenbach an der Triesting",50600,2200,1400,0,600,200,30645,"Weissenbach an der Triesting",50600,15400,3900,4900,5700,900,30645,"Weissenbach an der Triesting",50600,700,200,0,100,400]
[30646,"Blumau-Neurißhof",32300,16000,13500,0,2600,0,30646,"Blumau-Neurißhof",32300,2300,1400,0,700,200,30646,"Blumau-Neurißhof",32300,1000,100,400,400,100,30646,"Blumau-Neurißhof",32300,200,100,0,0,100]
[30701,"Au am Leithaberge",23600,9900,8300,0,1600,0,30701,"Au am Leithaberge",23600,800,500,0,200,100,30701,"Au am Leithaberge",23600,4600,900,1300,2100,300,30701,"Au am Leithaberge",23600,1900,600,100,300,900]
[30702,"Bad Deutsch-Altenburg",46700,15000,12400,0,2500,0,30702,"Bad Deutsch-Altenburg",46700,4600,2800,100,1300,400,30702,"Bad Deutsch-Altenburg",46700,9300,300,4900,2500,1600,30702,"Bad Deutsch-Altenburg",46700,1900,600,100,300,900]
[30703,"Berg",16700,9100,7600,0,1500,0,30703,"Berg",16700,800,500,0,200,100,30703,"Berg",16700,100,0,0,0,0,30703,"Berg",16700,1300,400,100,200,600]
[30704,"Bruck an der Leitha",237100,73400,61900,0,11500,0,30704,"Bruck an der Leitha",237100,31600,19300,400,9100,2800,30704,"Bruck an der Leitha",237100,58700,4400,35500,14600,4200,30704,"Bruck an der Leitha",237100,3100,900,200,500,1600]
[30706,"Enzersdorf an der Fischa",89900,29700,24900,0,4800,0,30706,"Enzersdorf an der Fischa",89900,9300,5700,100,2700,800,30706,"Enzersdorf an der Fischa",89900,22100,1400,14300,5700,600,30706,"Enzersdorf an der Fischa",89900,4300,1300,300,600,2100]
[30708,"Göttlesbrunn-Arbesthal",35500,14900,12500,0,2400,0,30708,"Göttlesbrunn-Arbesthal",35500,3900,2400,0,1100,300,30708,"Göttlesbrunn-Arbesthal",35500,2000,200,1200,500,100,30708,"Göttlesbrunn-Arbesthal",35500,4200,1200,300,600,2100]
[30709,"Götzendorf an der Leitha",42200,18800,15700,0,3100,0,30709,"Götzendorf an der Leitha",42200,2900,1800,0,900,300,30709,"Götzendorf an der Leitha",42200,2000,200,1000,600,200,30709,"Götzendorf an der Leitha",42200,3900,1200,300,600,2000]
[30710,"Hainburg a.d. Donau",119500,56900,47500,0,9400,0,30710,"Hainburg a.d. Donau",119500,14300,8800,200,4100,1300,30710,"Hainburg a.d. Donau",119500,3000,300,1100,1300,300,30710,"Hainburg a.d. Donau",119500,1200,400,100,200,600]
[30711,"Haslau-Maria Ellend",40600,16500,13700,0,2800,0,30711,"Haslau-Maria Ellend",40600,1600,1000,0,500,100,30711,"Haslau-Maria Ellend",40600,6100,200,3800,1300,700,30711,"Haslau-Maria Ellend",40600,2000,600,100,300,1000]
[30712,"Höflein",26900,13200,11000,0,2200,0,30712,"Höflein",26900,1400,800,0,400,100,30712,"Höflein",26900,200,0,0,100,0,30712,"Höflein",26900,3900,1200,300,600,1900]
[30713,"Hof am Leithaberge",36000,15100,12700,0,2400,0,30713,"Hof am Leithaberge",36000,2400,1400,0,700,200,30713,"Hof am Leithaberge",36000,5100,1200,1700,1700,500,30713,"Hof am Leithaberge",36000,2300,700,200,300,1100]
[30715,"Hundsheim",12500,6400,5500,0,1000,0,30715,"Hundsheim",12500,600,400,0,200,100,30715,"Hundsheim",12500,0,0,0,0,0,30715,"Hundsheim",12500,1500,400,100,200,700]
[30716,"Mannersdorf am Leithagebirge",807700,35000,29400,0,5600,0,30716,"Mannersdorf am Leithagebirge",807700,6400,3900,100,1900,600,30716,"Mannersdorf am Leithagebirge",807700,733000,25000,551400,98800,57700,30716,"Mannersdorf am Leithagebirge",807700,2500,700,200,400,1200]
[30718,"Petronell-Carnuntum",28300,13100,11100,0,2000,0,30718,"Petronell-Carnuntum",28300,2400,1400,0,700,200,30718,"Petronell-Carnuntum",28300,300,0,0,100,100,30718,"Petronell-Carnuntum",28300,2500,700,200,400,1200]
[30719,"Prellenkirchen",36400,16900,14300,0,2600,0,30719,"Prellenkirchen",36400,1800,1100,0,500,200,30719,"Prellenkirchen",36400,700,100,300,200,100,30719,"Prellenkirchen",36400,6900,2000,400,1000,3400]
[30721,"Rohrau",32600,15500,13100,0,2400,0,30721,"Rohrau",32600,2100,1300,0,600,200,30721,"Rohrau",32600,500,100,100,200,100,30721,"Rohrau",32600,3000,900,200,400,1500]
[30722,"Scharndorf",28700,13500,11500,0,2100,0,30722,"Scharndorf",28700,1200,700,0,300,100,30722,"Scharndorf",28700,3200,300,1900,800,200,30722,"Scharndorf",28700,3500,1000,200,500,1700]
[30724,"Sommerein",48800,18100,15000,0,3100,0,30724,"Sommerein",48800,10100,6100,100,2900,900,30724,"Sommerein",48800,300,0,0,200,100,30724,"Sommerein",48800,4200,1200,300,600,2100]
[30726,"Trautmannsdorf an der Leitha",59700,29900,25100,0,4700,0,30726,"Trautmannsdorf an der Leitha",59700,3700,2300,0,1100,300,30726,"Trautmannsdorf an der Leitha",59700,1400,200,500,500,200,30726,"Trautmannsdorf an der Leitha",59700,5500,1600,400,800,2700]
[30728,"Wolfsthal",20800,9900,8200,0,1700,0,30728,"Wolfsthal",20800,1000,600,0,300,100,30728,"Wolfsthal",20800,1300,300,400,500,100,30728,"Wolfsthal",20800,1800,500,100,300,900]
[30729,"Ebergassing",80400,29400,24300,0,5100,0,30729,"Ebergassing",80400,5300,3200,100,1500,500,30729,"Ebergassing",80400,15500,4200,4100,5100,2000,30729,"Ebergassing",80400,2200,700,100,300,1100]
[30730,"Fischamend",197500,42400,35100,0,7300,0,30730,"Fischamend",197500,24500,15000,300,7100,2200,30730,"Fischamend",197500,85700,7700,43500,31000,3500,30730,"Fischamend",197500,1800,500,100,300,900]
[30731,"Gramatneusiedl",57300,23800,19300,0,4400,0,30731,"Gramatneusiedl",57300,4900,3000,100,1400,400,30731,"Gramatneusiedl",57300,6700,600,3700,2300,200,30731,"Gramatneusiedl",57300,900,300,100,100,400]
[30732,"Himberg",237900,62400,51800,0,10600,0,30732,"Himberg",237900,32400,19800,400,9400,2800,30732,"Himberg",237900,80800,7500,44100,27700,1600,30732,"Himberg",237900,7000,2100,500,1000,3500]
[30733,"Klein-Neusiedl",18000,8300,7000,0,1300,0,30733,"Klein-Neusiedl",18000,800,500,0,200,100,30733,"Klein-Neusiedl",18000,2200,300,200,1200,500,30733,"Klein-Neusiedl",18000,700,200,0,100,300]
[30734,"Lanzendorf",31700,14300,11700,0,2500,0,30734,"Lanzendorf",31700,3200,1900,0,900,300,30734,"Lanzendorf",31700,1500,200,200,800,300,30734,"Lanzendorf",31700,600,200,0,100,300]
[30735,"Leopoldsdorf",117500,42800,35000,0,7800,0,30735,"Leopoldsdorf",117500,23500,14400,300,6800,2100,30735,"Leopoldsdorf",117500,9000,900,4400,2900,900,30735,"Leopoldsdorf",117500,600,200,0,100,300]
[30736,"Maria-Lanzendorf",67500,17700,14800,0,3000,0,30736,"Maria-Lanzendorf",67500,26900,16500,300,7800,2400,30736,"Maria-Lanzendorf",67500,2500,300,200,1400,700,30736,"Maria-Lanzendorf",67500,100,0,0,0,100]
[30737,"Moosbrunn",35200,16700,13900,0,2900,0,30737,"Moosbrunn",35200,1300,800,0,400,100,30737,"Moosbrunn",35200,2800,600,900,1100,200,30737,"Moosbrunn",35200,2700,800,200,400,1400]
[30738,"Rauchenwarth",20200,7500,6300,0,1300,0,30738,"Rauchenwarth",20200,900,500,0,300,100,30738,"Rauchenwarth",20200,3600,200,1700,1100,600,30738,"Rauchenwarth",20200,2300,700,100,300,1100]
[30739,"Schwadorf",41600,16500,13800,0,2800,0,30739,"Schwadorf",41600,7200,4400,100,2100,600,30739,"Schwadorf",41600,1300,200,400,500,200,30739,"Schwadorf",41600,1400,400,100,200,700]
[30740,"Schwechat",1876100,126700,103900,0,22800,0,30740,"Schwechat",1876100,277200,169300,3400,80100,24400,30740,"Schwechat",1876100,1202900,98100,695000,398700,11000,30740,"Schwechat",1876100,4100,1200,300,600,2000]
[30741,"Zwölfaxing",58700,13700,11400,0,2300,0,30741,"Zwölfaxing",58700,22900,14000,300,6600,2000,30741,"Zwölfaxing",58700,3400,300,800,1500,600,30741,"Zwölfaxing",58700,900,300,100,100,400]
[30801,"Aderklaa",7000,1900,1600,0,300,0,30801,"Aderklaa",7000,1200,700,0,300,100,30801,"Aderklaa",7000,300,0,0,100,100,30801,"Aderklaa",7000,1500,400,100,200,700]
[30802,"Andlersdorf",3600,1600,1400,0,200,0,30802,"Andlersdorf",3600,100,100,0,0,0,30802,"Andlersdorf",3600,0,0,0,0,0,30802,"Andlersdorf",3600,1000,300,100,200,500]
[30803,"Angern an der March",69100,36000,30900,0,5100,0,30803,"Angern an der March",69100,4400,2700,100,1300,400,30803,"Angern an der March",69100,800,100,300,300,200,30803,"Angern an der March",69100,5700,1700,400,800,2800]
[30804,"Auersthal",49900,21400,18200,0,3200,0,30804,"Auersthal",49900,2600,1600,0,700,200,30804,"Auersthal",49900,9100,1600,4000,2600,900,30804,"Auersthal",49900,2500,700,200,400,1200]
[30805,"Bad Pirawarth",68900,18000,15400,0,2600,0,30805,"Bad Pirawarth",68900,13200,8100,200,3800,1200,30805,"Bad Pirawarth",68900,1400,100,300,600,300,30805,"Bad Pirawarth",68900,3800,1100,200,500,1900]
[30808,"Deutsch-Wagram",183000,78500,66000,0,12500,0,30808,"Deutsch-Wagram",183000,15600,9600,200,4500,1400,30808,"Deutsch-Wagram",183000,24200,4600,9700,8500,1400,30808,"Deutsch-Wagram",183000,4600,1400,300,700,2300]
[30810,"Drösing",25500,13700,11900,0,1800,0,30810,"Drösing",25500,700,400,0,200,100,30810,"Drösing",25500,800,100,100,400,200,30810,"Drösing",25500,3600,1100,200,500,1800]
[30811,"Dürnkrut",59800,24500,21100,0,3400,0,30811,"Dürnkrut",59800,2600,1600,0,800,200,30811,"Dürnkrut",59800,11100,700,7100,2700,600,30811,"Dürnkrut",59800,5000,1500,300,700,2500]
[30812,"Ebenthal",19100,10900,9200,0,1700,0,30812,"Ebenthal",19100,500,300,0,100,0,30812,"Ebenthal",19100,200,0,0,100,0,30812,"Ebenthal",19100,2000,600,100,300,1000]
[30813,"Eckartsau",30100,14400,12300,0,2100,0,30813,"Eckartsau",30100,900,500,0,300,100,30813,"Eckartsau",30100,700,200,200,300,100,30813,"Eckartsau",30100,6000,1800,400,900,3000]
[30814,"Engelhartstetten",55900,21200,17900,0,3300,0,30814,"Engelhartstetten",55900,3600,2200,0,1000,300,30814,"Engelhartstetten",55900,1700,200,400,800,400,30814,"Engelhartstetten",55900,9400,2800,600,1400,4700]
[30817,"Gänserndorf",238400,86300,70700,0,15700,0,30817,"Gänserndorf",238400,37900,23200,500,11000,3300,30817,"Gänserndorf",238400,16400,2800,6000,6000,1700,30817,"Gänserndorf",238400,3900,1100,300,600,1900]
[30819,"Glinzendorf",9000,3400,2800,0,500,0,30819,"Glinzendorf",9000,1100,600,0,300,100,30819,"Glinzendorf",9000,0,0,0,0,0,30819,"Glinzendorf",9000,1900,600,100,300,900]
[30821,"Groß-Enzersdorf",261600,99200,81800,0,17400,0,30821,"Groß-Enzersdorf",261600,24700,15100,300,7200,2200,30821,"Groß-Enzersdorf",261600,45300,4200,24300,13000,3900,30821,"Groß-Enzersdorf",261600,13000,3800,800,1900,6400]
[30822,"Großhofen",3200,1000,900,0,100,0,30822,"Großhofen",3200,200,100,0,100,0,30822,"Großhofen",3200,100,0,0,100,0,30822,"Großhofen",3200,1100,300,100,200,600]
[30824,"Groß-Schweinbarth",27100,13300,11300,0,2000,0,30824,"Groß-Schweinbarth",27100,1400,900,0,400,100,30824,"Groß-Schweinbarth",27100,1000,200,200,500,200,30824,"Groß-Schweinbarth",27100,2700,800,200,400,1300]
[30825,"Haringsee",26400,12600,10700,0,1900,0,30825,"Haringsee",26400,900,600,0,300,100,30825,"Haringsee",26400,500,100,200,200,100,30825,"Haringsee",26400,4700,1400,300,700,2300]
[30826,"Hauskirchen",28700,16100,13900,0,2200,0,30826,"Hauskirchen",28700,600,300,0,200,0,30826,"Hauskirchen",28700,1000,100,600,300,100,30826,"Hauskirchen",28700,3700,1100,200,500,1800]
[30827,"Hohenau an der March",69500,30900,26900,0,4100,0,30827,"Hohenau an der March",69500,5200,3200,100,1500,500,30827,"Hohenau an der March",69500,11400,800,7300,2700,500,30827,"Hohenau an der March",69500,3400,1000,200,500,1700]
[30828,"Hohenruppersdorf",23700,10800,9300,0,1500,0,30828,"Hohenruppersdorf",23700,2800,1700,0,800,200,30828,"Hohenruppersdorf",23700,700,200,200,300,100,30828,"Hohenruppersdorf",23700,3200,1000,200,500,1600]
[30829,"Jedenspeigen",23900,12700,11000,0,1800,0,30829,"Jedenspeigen",23900,600,400,0,200,100,30829,"Jedenspeigen",23900,100,0,0,0,0,30829,"Jedenspeigen",23900,3800,1100,200,500,1900]
[30830,"Lassee",103900,28700,24200,0,4500,0,30830,"Lassee",103900,6400,3900,100,1800,600,30830,"Lassee",103900,29200,800,15900,7700,4900,30830,"Lassee",103900,8800,2600,600,1300,4300]
[30831,"Leopoldsdorf im Marchfeld",272200,26300,22100,0,4200,0,30831,"Leopoldsdorf im Marchfeld",272200,3900,2400,0,1100,300,30831,"Leopoldsdorf im Marchfeld",272200,214200,13500,142400,47800,10500,30831,"Leopoldsdorf im Marchfeld",272200,4600,1400,300,700,2300]
[30834,"Mannsdorf an der Donau",10400,4200,3600,0,600,0,30834,"Mannsdorf an der Donau",10400,900,600,0,300,100,30834,"Mannsdorf an der Donau",10400,400,0,0,200,100,30834,"Mannsdorf an der Donau",10400,1400,400,100,200,700]
[30835,"Marchegg",61400,31300,26800,0,4500,0,30835,"Marchegg",61400,3700,2200,0,1100,300,30835,"Marchegg",61400,1000,100,200,500,200,30835,"Marchegg",61400,6000,1800,400,900,3000]
[30836,"Markgrafneusiedl",32500,8100,6800,0,1300,0,30836,"Markgrafneusiedl",32500,2000,1200,0,600,200,30836,"Markgrafneusiedl",32500,9500,300,5500,2300,1300,30836,"Markgrafneusiedl",32500,2300,700,100,300,1100]
[30838,"Matzen-Raggendorf",54800,28800,24600,0,4100,0,30838,"Matzen-Raggendorf",54800,3200,2000,0,900,300,30838,"Matzen-Raggendorf",54800,400,100,100,200,100,30838,"Matzen-Raggendorf",54800,4400,1300,300,600,2200]
[30841,"Neusiedl an der Zaya",28200,15000,13000,0,2000,0,30841,"Neusiedl an der Zaya",28200,1300,800,0,400,100,30841,"Neusiedl an der Zaya",28200,1200,300,300,500,100,30841,"Neusiedl an der Zaya",28200,2400,700,200,400,1200]
[30842,"Obersiebenbrunn",34600,15400,13100,0,2300,0,30842,"Obersiebenbrunn",34600,3200,2000,0,900,300,30842,"Obersiebenbrunn",34600,600,100,0,300,200,30842,"Obersiebenbrunn",34600,3800,1100,200,500,1900]
[30844,"Orth an der Donau",116800,20300,17000,0,3300,0,30844,"Orth an der Donau",116800,4900,3000,100,1400,400,30844,"Orth an der Donau",116800,67600,5500,39200,22500,400,30844,"Orth an der Donau",116800,3400,1000,200,500,1700]
[30845,"Palterndorf-Dobermannsdorf",28400,14900,12900,0,2000,0,30845,"Palterndorf-Dobermannsdorf",28400,1300,800,0,400,100,30845,"Palterndorf-Dobermannsdorf",28400,500,100,100,200,100,30845,"Palterndorf-Dobermannsdorf",28400,3300,1000,200,500,1600]
[30846,"Parbasdorf",5200,1800,1500,0,300,0,30846,"Parbasdorf",5200,200,100,0,100,0,30846,"Parbasdorf",5200,0,0,0,0,0,30846,"Parbasdorf",5200,1800,500,100,300,900]
[30848,"Prottes",30900,14500,12200,0,2200,0,30848,"Prottes",30900,1500,900,0,400,100,30848,"Prottes",30900,3400,700,1300,1000,300,30848,"Prottes",30900,2100,600,100,300,1100]
[30849,"Raasdorf",18300,6800,5700,0,1100,0,30849,"Raasdorf",18300,2600,1600,0,800,200,30849,"Raasdorf",18300,1100,100,300,500,200,30849,"Raasdorf",18300,2400,700,200,300,1200]
[30850,"Ringelsdorf-Niederabsdorf",30100,15800,13700,0,2100,0,30850,"Ringelsdorf-Niederabsdorf",30100,900,500,0,200,100,30850,"Ringelsdorf-Niederabsdorf",30100,1000,100,500,300,100,30850,"Ringelsdorf-Niederabsdorf",30100,4400,1300,300,600,2200]
[30852,"Schönkirchen-Reyersdorf",46100,19400,16500,0,3000,0,30852,"Schönkirchen-Reyersdorf",46100,1300,800,0,400,100,30852,"Schönkirchen-Reyersdorf",46100,7800,300,4000,2200,1300,30852,"Schönkirchen-Reyersdorf",46100,2600,800,200,400,1300]
[30854,"Spannberg",22800,10200,8700,0,1500,0,30854,"Spannberg",22800,1200,700,0,300,100,30854,"Spannberg",22800,1500,300,500,600,100,30854,"Spannberg",22800,2800,800,200,400,1400]
[30856,"Strasshof an der Nordbahn",180000,92900,77100,0,15800,0,30856,"Strasshof an der Nordbahn",180000,12700,7800,200,3700,1100,30856,"Strasshof an der Nordbahn",180000,10900,1800,3600,4000,1400,30856,"Strasshof an der Nordbahn",180000,400,100,0,100,200]
[30857,"Sulz im Weinviertel",29500,14500,12500,0,2000,0,30857,"Sulz im Weinviertel",29500,1000,600,0,300,100,30857,"Sulz im Weinviertel",29500,400,100,100,200,100,30857,"Sulz im Weinviertel",29500,5300,1600,300,800,2600]
[30858,"Untersiebenbrunn",42100,16200,13500,0,2600,0,30858,"Untersiebenbrunn",42100,1800,1100,0,500,200,30858,"Untersiebenbrunn",42100,6600,300,3900,1600,900,30858,"Untersiebenbrunn",42100,4600,1400,300,700,2300]
[30859,"Velm-Götzendorf",17800,9200,7900,0,1300,0,30859,"Velm-Götzendorf",17800,700,400,0,200,100,30859,"Velm-Götzendorf",17800,100,0,0,100,0,30859,"Velm-Götzendorf",17800,3100,900,200,400,1500]
[30860,"Weikendorf",42600,20300,17300,0,2900,0,30860,"Weikendorf",42600,1600,1000,0,500,100,30860,"Weikendorf",42600,700,100,100,300,100,30860,"Weikendorf",42600,7200,2100,500,1000,3600]
[30863,"Zistersdorf",132300,57900,49800,0,8100,0,30863,"Zistersdorf",132300,13500,8300,200,3900,1200,30863,"Zistersdorf",132300,7800,800,2400,3200,1400,30863,"Zistersdorf",132300,14600,4300,900,2100,7200]
[30865,"Weiden an der March",27800,11400,9900,0,1600,0,30865,"Weiden an der March",27800,1600,1000,0,500,100,30865,"Weiden an der March",27800,200,0,0,100,0,30865,"Weiden an der March",27800,7600,2200,500,1100,3800]
[30902,"Amaliendorf-Aalfang",28500,16300,14500,0,1800,0,30902,"Amaliendorf-Aalfang",28500,1200,700,0,300,100,30902,"Amaliendorf-Aalfang",28500,2900,600,1100,1000,200,30902,"Amaliendorf-Aalfang",28500,500,100,0,100,200]
[30903,"Brand-Nagelberg",39900,23200,20600,0,2600,0,30903,"Brand-Nagelberg",39900,1500,900,0,400,100,30903,"Brand-Nagelberg",39900,3800,500,2200,900,300,30903,"Brand-Nagelberg",39900,1600,500,100,200,800]
[30904,"Eggern",20200,10300,9100,0,1200,0,30904,"Eggern",20200,700,400,0,200,100,30904,"Eggern",20200,2600,600,1200,700,200,30904,"Eggern",20200,2000,600,100,300,1000]
[30906,"Eisgarn",16900,9700,8600,0,1100,0,30906,"Eisgarn",16900,600,400,0,200,100,30906,"Eisgarn",16900,400,100,100,100,0,30906,"Eisgarn",16900,2100,600,100,300,1000]
[30908,"Gmünd",253300,67100,59200,0,7900,0,30908,"Gmünd",253300,35900,21900,400,10400,3200,30908,"Gmünd",253300,88400,7200,44900,27700,8500,30908,"Gmünd",253300,900,300,100,100,400]
[30909,"Großdietmanns",50400,27400,24100,0,3400,0,30909,"Großdietmanns",50400,5300,3200,100,1500,500,30909,"Großdietmanns",50400,200,0,0,100,100,30909,"Großdietmanns",50400,4600,1400,300,700,2300]
[30910,"Bad Großpertholz",38500,21200,19000,0,2200,0,30910,"Bad Großpertholz",38500,2200,1300,0,600,200,30910,"Bad Großpertholz",38500,2900,500,1400,800,200,30910,"Bad Großpertholz",38500,2800,800,200,400,1400]
[30912,"Großschönau",49200,13000,11400,0,1600,0,30912,"Großschönau",49200,1100,700,0,300,100,30912,"Großschönau",49200,21400,2800,13100,3900,1500,30912,"Großschönau",49200,4300,1300,300,600,2100]
[30913,"Moorbad Harbach",29600,9800,8800,0,1000,0,30913,"Moorbad Harbach",29600,6200,3800,100,1800,500,30913,"Moorbad Harbach",29600,3100,200,2100,600,200,30913,"Moorbad Harbach",29600,1600,500,100,200,800]
[30915,"Haugschlag",14800,8500,7600,0,900,0,30915,"Haugschlag",14800,1000,600,0,300,100,30915,"Haugschlag",14800,400,100,100,100,0,30915,"Haugschlag",14800,1000,300,100,100,500]
[30916,"Heidenreichstein",126100,56700,50400,0,6300,0,30916,"Heidenreichstein",126100,7000,4300,100,2000,600,30916,"Heidenreichstein",126100,26400,3400,11200,9300,2500,30916,"Heidenreichstein",126100,4600,1300,300,700,2300]
[30917,"Hirschbach",13300,7900,7000,0,900,0,30917,"Hirschbach",13300,200,100,0,0,0,30917,"Hirschbach",13300,800,100,400,200,0,30917,"Hirschbach",13300,900,300,100,100,400]
[30920,"Hoheneich",33800,21200,18700,0,2500,0,30920,"Hoheneich",33800,2200,1300,0,600,200,30920,"Hoheneich",33800,1400,200,700,400,100,30920,"Hoheneich",33800,700,200,0,100,400]
[30921,"Kirchberg am Walde",33400,18300,16300,0,2000,0,30921,"Kirchberg am Walde",33400,1400,900,0,400,100,30921,"Kirchberg am Walde",33400,800,100,300,300,100,30921,"Kirchberg am Walde",33400,4100,1200,300,600,2000]
[30925,"Litschau",67700,37500,33300,0,4200,0,30925,"Litschau",67700,3500,2200,0,1000,300,30925,"Litschau",67700,6600,1200,2500,2300,600,30925,"Litschau",67700,4200,1200,300,600,2100]
[30929,"Reingers",17300,9300,8300,0,1100,0,30929,"Reingers",17300,700,400,0,200,100,30929,"Reingers",17300,400,100,100,200,0,30929,"Reingers",17300,2200,700,100,300,1100]
[30932,"St. Martin",30900,11800,10400,0,1400,0,30932,"St. Martin",30900,700,400,0,200,100,30932,"St. Martin",30900,7900,1800,3600,2000,500,30932,"St. Martin",30900,3300,1000,200,500,1600]
[30935,"Schrems",325300,67500,59600,0,7900,0,30935,"Schrems",325300,10600,6500,100,3100,900,30935,"Schrems",325300,181400,41300,72500,54000,13500,30935,"Schrems",325300,4100,1200,300,600,2000]
[30939,"Unserfrau-Altweitra",38300,12100,10700,0,1500,0,30939,"Unserfrau-Altweitra",38300,500,300,0,100,0,30939,"Unserfrau-Altweitra",38300,15000,900,10700,2200,1200,30939,"Unserfrau-Altweitra",38300,3500,1000,200,500,1800]
[30940,"Waldenstein",25400,14700,12800,0,1800,0,30940,"Waldenstein",25400,500,300,0,200,0,30940,"Waldenstein",25400,100,0,0,100,0,30940,"Waldenstein",25400,2800,800,200,400,1400]
[30942,"Weitra",91000,35400,31300,0,4100,0,30942,"Weitra",91000,10000,6100,100,2900,900,30942,"Weitra",91000,17000,2300,7300,5900,1400,30942,"Weitra",91000,4600,1400,300,700,2300]
[31001,"Alberndorf im Pulkautal",15400,8200,6900,0,1200,0,31001,"Alberndorf im Pulkautal",15400,500,300,0,100,0,31001,"Alberndorf im Pulkautal",15400,200,0,100,100,0,31001,"Alberndorf im Pulkautal",15400,2100,600,100,300,1000]
[31008,"Göllersdorf",143300,32400,27600,0,4700,0,31008,"Göllersdorf",143300,4400,2700,100,1300,400,31008,"Göllersdorf",143300,75700,2900,54800,11600,6400,31008,"Göllersdorf",143300,6700,2000,400,1000,3300]
[31009,"Grabern",35000,17000,14400,0,2500,0,31009,"Grabern",35000,1300,800,0,400,100,31009,"Grabern",35000,1300,100,700,400,100,31009,"Grabern",35000,5100,1500,300,700,2500]
[31014,"Guntersdorf",30200,14000,11900,0,2100,0,31014,"Guntersdorf",30200,1600,1000,0,500,100,31014,"Guntersdorf",30200,1300,200,700,400,100,31014,"Guntersdorf",30200,5300,1600,300,800,2600]
[31015,"Hadres",43800,22600,19600,0,3000,0,31015,"Hadres",43800,2300,1400,0,700,200,31015,"Hadres",43800,800,100,500,200,100,31015,"Hadres",43800,7200,2100,500,1000,3600]
[31016,"Hardegg",43900,22200,19600,0,2500,0,31016,"Hardegg",43900,1300,800,0,400,100,31016,"Hardegg",43900,3400,900,1300,1000,200,31016,"Hardegg",43900,7100,2100,500,1000,3500]
[31018,"Haugsdorf",43900,20100,17400,0,2700,0,31018,"Haugsdorf",43900,6200,3800,100,1800,500,31018,"Haugsdorf",43900,2800,100,1900,500,300,31018,"Haugsdorf",43900,4200,1200,300,600,2100]
[31019,"Heldenberg",30300,15100,12900,0,2200,0,31019,"Heldenberg",30300,1500,900,0,400,100,31019,"Heldenberg",30300,300,100,100,100,0,31019,"Heldenberg",30300,3700,1100,200,500,1900]
[31021,"Hohenwarth-Mühlbach a.M.",33900,17000,14700,0,2300,0,31021,"Hohenwarth-Mühlbach a.M.",33900,1400,900,0,400,100,31021,"Hohenwarth-Mühlbach a.M.",33900,500,0,200,200,100,31021,"Hohenwarth-Mühlbach a.M.",33900,5900,1700,400,800,2900]
[31022,"Hollabrunn",351000,122600,104800,0,17900,0,31022,"Hollabrunn",351000,63700,38900,800,18400,5600,31022,"Hollabrunn",351000,36900,3100,20700,10200,2800,31022,"Hollabrunn",351000,17400,5200,1100,2500,8600]
[31025,"Mailberg",15700,8600,7500,0,1100,0,31025,"Mailberg",15700,900,500,0,300,100,31025,"Mailberg",15700,0,0,0,0,0,31025,"Mailberg",15700,2600,800,200,400,1300]
[31026,"Maissau",71000,25100,21800,0,3300,0,31026,"Maissau",71000,2200,1400,0,600,200,31026,"Maissau",71000,18100,600,9200,5200,3100,31026,"Maissau",71000,5400,1600,400,800,2700]
[31028,"Nappersdorf-Kammersdorf",32300,16200,14000,0,2200,0,31028,"Nappersdorf-Kammersdorf",32300,900,500,0,300,100,31028,"Nappersdorf-Kammersdorf",32300,600,100,0,300,200,31028,"Nappersdorf-Kammersdorf",32300,6700,2000,400,1000,3300]
[31033,"Pernersdorf",26600,14300,12500,0,1800,0,31033,"Pernersdorf",26600,600,400,0,200,100,31033,"Pernersdorf",26600,300,0,200,100,0,31033,"Pernersdorf",26600,5200,1500,300,800,2600]
[31035,"Pulkau",40200,21100,18400,0,2700,0,31035,"Pulkau",40200,1900,1200,0,500,200,31035,"Pulkau",40200,1300,200,400,500,200,31035,"Pulkau",40200,5500,1600,400,800,2700]
[31036,"Ravelsbach",39800,21100,18300,0,2800,0,31036,"Ravelsbach",39800,1800,1100,0,500,200,31036,"Ravelsbach",39800,1600,200,100,900,400,31036,"Ravelsbach",39800,4300,1300,300,600,2100]
[31037,"Retz",148700,45400,39000,0,6400,0,31037,"Retz",148700,14400,8800,200,4200,1300,31037,"Retz",148700,45000,11400,18800,12000,2900,31037,"Retz",148700,8300,2400,500,1200,4100]
[31038,"Retzbach",27600,15400,13400,0,2100,0,31038,"Retzbach",27600,900,600,0,300,100,31038,"Retzbach",27600,600,100,200,200,0,31038,"Retzbach",27600,3900,1200,300,600,1900]
[31041,"Schrattenthal",21700,11800,10300,0,1500,0,31041,"Schrattenthal",21700,700,400,0,200,100,31041,"Schrattenthal",21700,200,0,0,100,0,31041,"Schrattenthal",21700,3500,1000,200,500,1700]
[31042,"Seefeld-Kadolz",22800,12600,10900,0,1700,0,31042,"Seefeld-Kadolz",22800,900,600,0,300,100,31042,"Seefeld-Kadolz",22800,100,0,0,0,0,31042,"Seefeld-Kadolz",22800,3600,1100,200,500,1800]
[31043,"Sitzendorf an der Schmida",57200,27200,23500,0,3700,0,31043,"Sitzendorf an der Schmida",57200,2400,1500,0,700,200,31043,"Sitzendorf an der Schmida",57200,2800,300,1600,800,200,31043,"Sitzendorf an der Schmida",57200,10500,3100,700,1500,5200]
[31051,"Wullersdorf",66100,30400,26400,0,4100,0,31051,"Wullersdorf",66100,2800,1700,0,800,200,31051,"Wullersdorf",66100,6200,1200,2300,2000,700,31051,"Wullersdorf",66100,11100,3300,700,1600,5500]
[31052,"Zellerndorf",57700,30500,26500,0,4000,0,31052,"Zellerndorf",57700,2200,1300,0,600,200,31052,"Zellerndorf",57700,1100,100,400,400,100,31052,"Zellerndorf",57700,8800,2600,600,1300,4400]
[31053,"Ziersdorf",78500,37100,32100,0,5000,0,31053,"Ziersdorf",78500,5400,3300,100,1500,500,31053,"Ziersdorf",78500,6500,1000,2500,2400,600,31053,"Ziersdorf",78500,7100,2100,500,1000,3500]
[31101,"Altenburg",20800,9600,8500,0,1200,0,31101,"Altenburg",20800,1000,600,0,300,100,31101,"Altenburg",20800,1700,100,800,500,300,31101,"Altenburg",20800,2500,700,200,400,1300]
[31102,"Brunn an der Wild",27400,11400,10000,0,1400,0,31102,"Brunn an der Wild",27400,1200,700,0,300,100,31102,"Brunn an der Wild",27400,3800,400,1800,1100,500,31102,"Brunn an der Wild",27400,3900,1200,300,600,1900]
[31103,"Burgschleinitz-Kühnring",49400,18000,15700,0,2300,0,31103,"Burgschleinitz-Kühnring",49400,1200,700,0,300,100,31103,"Burgschleinitz-Kühnring",49400,11200,500,5900,3100,1700,31103,"Burgschleinitz-Kühnring",49400,5900,1700,400,800,2900]
[31104,"Drosendorf-Zissersdorf",38300,20000,17800,0,2200,0,31104,"Drosendorf-Zissersdorf",38300,1700,1100,0,500,200,31104,"Drosendorf-Zissersdorf",38300,1600,200,600,600,200,31104,"Drosendorf-Zissersdorf",38300,6300,1900,400,900,3100]
[31105,"Eggenburg",98700,38300,33100,0,5100,0,31105,"Eggenburg",98700,12700,7800,200,3700,1100,31105,"Eggenburg",98700,14500,1900,7000,4500,1000,31105,"Eggenburg",98700,3400,1000,200,500,1700]
[31106,"Gars am Kamp",135200,46200,40300,0,5900,0,31106,"Gars am Kamp",135200,9300,5700,100,2700,800,31106,"Gars am Kamp",135200,45100,4700,27700,9300,3400,31106,"Gars am Kamp",135200,5500,1600,400,800,2700]
[31107,"Geras",45300,19900,17600,0,2300,0,31107,"Geras",45300,3500,2200,0,1000,300,31107,"Geras",45300,4500,1000,1500,1500,500,31107,"Geras",45300,7800,2300,500,1100,3900]
[31109,"Horn",220400,67100,57800,0,9300,0,31109,"Horn",220400,43900,26800,500,12700,3900,31109,"Horn",220400,32600,3800,9500,13800,5400,31109,"Horn",220400,3800,1100,200,600,1900]
[31110,"Irnfritz-Messern",38000,17100,15100,0,2000,0,31110,"Irnfritz-Messern",38000,2500,1500,0,700,200,31110,"Irnfritz-Messern",38000,3600,300,2100,900,200,31110,"Irnfritz-Messern",38000,5300,1600,300,800,2600]
[31111,"Japons",20800,10400,9100,0,1200,0,31111,"Japons",20800,900,600,0,300,100,31111,"Japons",20800,400,100,100,100,0,31111,"Japons",20800,4400,1300,300,600,2200]
[31113,"Langau",22600,12000,10600,0,1300,0,31113,"Langau",22600,600,400,0,200,100,31113,"Langau",22600,2100,500,900,600,100,31113,"Langau",22600,3400,1000,200,500,1700]
[31114,"Meiseldorf",22900,11500,10100,0,1400,0,31114,"Meiseldorf",22900,900,500,0,300,100,31114,"Meiseldorf",22900,200,100,100,100,0,31114,"Meiseldorf",22900,4600,1400,300,700,2300]
[31117,"Pernegg",19400,9100,8100,0,1000,0,31117,"Pernegg",19400,1200,700,0,400,100,31117,"Pernegg",19400,600,100,200,200,100,31117,"Pernegg",19400,3600,1100,200,500,1800]
[31119,"Röhrenbach",15900,7900,6900,0,1000,0,31119,"Röhrenbach",15900,500,300,0,100,0,31119,"Röhrenbach",15900,400,100,100,100,0,31119,"Röhrenbach",15900,3600,1100,200,500,1800]
[31120,"Röschitz",26800,13500,11800,0,1800,0,31120,"Röschitz",26800,1000,600,0,300,100,31120,"Röschitz",26800,1400,100,800,400,100,31120,"Röschitz",26800,4200,1200,300,600,2100]
[31121,"Rosenburg-Mold",29800,11300,9900,0,1400,0,31121,"Rosenburg-Mold",29800,2800,1700,0,800,200,31121,"Rosenburg-Mold",29800,5400,300,3600,1200,300,31121,"Rosenburg-Mold",29800,3300,1000,200,500,1600]
[31123,"St. Bernhard-Frauenhofen",35200,15100,13000,0,2000,0,31123,"St. Bernhard-Frauenhofen",35200,3900,2400,0,1100,300,31123,"St. Bernhard-Frauenhofen",35200,1100,100,600,300,100,31123,"St. Bernhard-Frauenhofen",35200,3900,1200,300,600,1900]
[31124,"Sigmundsherberg",43700,21900,19200,0,2700,0,31124,"Sigmundsherberg",43700,4100,2500,0,1200,400,31124,"Sigmundsherberg",43700,900,100,500,300,100,31124,"Sigmundsherberg",43700,6100,1800,400,900,3000]
[31129,"Weitersfeld",48500,23000,20200,0,2800,0,31129,"Weitersfeld",48500,2000,1200,0,600,200,31129,"Weitersfeld",48500,1100,100,600,300,100,31129,"Weitersfeld",48500,11900,3500,800,1700,5900]
[31130,"Straning-Grafenberg",20600,10400,9200,0,1200,0,31130,"Straning-Grafenberg",20600,400,200,0,100,0,31130,"Straning-Grafenberg",20600,500,100,200,100,0,31130,"Straning-Grafenberg",20600,4600,1400,300,700,2300]
[31201,"Bisamberg",102100,46100,38400,0,7700,0,31201,"Bisamberg",102100,15500,9500,200,4500,1400,31201,"Bisamberg",102100,5800,800,1100,2900,1000,31201,"Bisamberg",102100,1000,300,100,100,500]
[31202,"Enzersfeld im Weinviertel",37300,19100,16000,0,3100,0,31202,"Enzersfeld im Weinviertel",37300,2400,1400,0,700,200,31202,"Enzersfeld im Weinviertel",37300,2500,200,1100,900,300,31202,"Enzersfeld im Weinviertel",37300,1500,400,100,200,700]
[31203,"Ernstbrunn",108900,39100,33800,0,5300,0,31203,"Ernstbrunn",108900,5700,3500,100,1700,500,31203,"Ernstbrunn",108900,29300,1200,21200,4600,2400,31203,"Ernstbrunn",108900,10000,3000,700,1400,5000]
[31204,"Großmugl",41700,20000,17200,0,2800,0,31204,"Großmugl",41700,1400,800,0,400,100,31204,"Großmugl",41700,800,100,400,300,100,31204,"Großmugl",41700,8100,2400,500,1200,4000]
[31205,"Großrußbach",49200,24300,20800,0,3500,0,31205,"Großrußbach",49200,2100,1300,0,600,200,31205,"Großrußbach",49200,1700,200,900,500,100,31205,"Großrußbach",49200,4800,1400,300,700,2400]
[31206,"Hagenbrunn",84100,22900,19100,0,3900,0,31206,"Hagenbrunn",84100,16500,10100,200,4800,1500,31206,"Hagenbrunn",84100,15400,1800,7600,4700,1300,31206,"Hagenbrunn",84100,1900,600,100,300,1000]
[31207,"Harmannsdorf",96200,43900,37200,0,6700,0,31207,"Harmannsdorf",96200,4800,3000,100,1400,400,31207,"Harmannsdorf",96200,12300,1200,6500,4200,400,31207,"Harmannsdorf",96200,6800,2000,400,1000,3400]
[31208,"Hausleiten",81100,38000,31900,0,6100,0,31208,"Hausleiten",81100,4100,2500,100,1200,400,31208,"Hausleiten",81100,3500,400,500,1800,800,31208,"Hausleiten",81100,8900,2600,600,1300,4400]
[31213,"Korneuburg",331600,103700,86000,0,17700,0,31213,"Korneuburg",331600,71400,43600,900,20600,6300,31213,"Korneuburg",331600,45000,8100,13900,19400,3700,31213,"Korneuburg",331600,200,100,0,0,100]
[31214,"Langenzersdorf",188100,78100,65500,0,12600,0,31214,"Langenzersdorf",188100,18700,11400,200,5400,1600,31214,"Langenzersdorf",188100,28400,1900,14400,8200,4000,31214,"Langenzersdorf",188100,500,200,0,100,300]
[31215,"Leitzersdorf",28000,13900,11700,0,2100,0,31215,"Leitzersdorf",28000,900,600,0,300,100,31215,"Leitzersdorf",28000,200,0,0,100,0,31215,"Leitzersdorf",28000,4500,1300,300,600,2200]
[31216,"Leobendorf",205400,47600,40100,0,7500,0,31216,"Leobendorf",205400,16100,9800,200,4600,1400,31216,"Leobendorf",205400,93300,9900,49800,32000,1600,31216,"Leobendorf",205400,3600,1100,200,500,1800]
[31224,"Rußbach",31500,15100,13000,0,2100,0,31224,"Rußbach",31500,1300,800,0,400,100,31224,"Rußbach",31500,400,0,200,100,0,31224,"Rußbach",31500,4500,1300,300,700,2300]
[31226,"Sierndorf",87200,40400,34300,0,6100,0,31226,"Sierndorf",87200,5100,3100,100,1500,400,31226,"Sierndorf",87200,6100,1000,2700,1900,400,31226,"Sierndorf",87200,9200,2700,600,1300,4600]
[31227,"Spillern",42300,19700,16300,0,3400,0,31227,"Spillern",42300,4100,2500,0,1200,400,31227,"Spillern",42300,2400,300,1200,700,200,31227,"Spillern",42300,700,200,0,100,400]
[31228,"Stetteldorf am Wagram",26200,12300,10500,0,1700,0,31228,"Stetteldorf am Wagram",26200,1000,600,0,300,100,31228,"Stetteldorf am Wagram",26200,1200,100,500,400,200,31228,"Stetteldorf am Wagram",26200,4500,1300,300,600,2200]
[31229,"Stetten",60100,13300,11100,0,2200,0,31229,"Stetten",60100,5000,3000,100,1400,400,31229,"Stetten",60100,27300,1300,19200,6500,300,31229,"Stetten",60100,1000,300,100,100,500]
[31230,"Stockerau",362600,138400,115600,0,22800,0,31230,"Stockerau",362600,62600,38300,800,18100,5500,31230,"Stockerau",362600,24900,4500,8700,9100,2600,31230,"Stockerau",362600,2700,800,200,400,1300]
[31234,"Niederhollabrunn",40100,18600,15800,0,2700,0,31234,"Niederhollabrunn",40100,2100,1300,0,600,200,31234,"Niederhollabrunn",40100,800,100,400,200,100,31234,"Niederhollabrunn",40100,7200,2100,500,1000,3600]
[31235,"Gerasdorf bei Wien",364000,100300,83200,0,17100,0,31235,"Gerasdorf bei Wien",364000,37800,23100,500,10900,3300,31235,"Gerasdorf bei Wien",364000,116000,5700,75800,23100,11400,31235,"Gerasdorf bei Wien",364000,4500,1300,300,700,2200]
[31301,"Aggsbach",13700,8600,7400,0,1200,0,31301,"Aggsbach",13700,500,300,0,100,0,31301,"Aggsbach",13700,300,100,100,100,0,31301,"Aggsbach",13700,300,100,0,0,100]
[31302,"Albrechtsberg an der Großen Krems",29400,12800,11300,0,1500,0,31302,"Albrechtsberg an der Großen Krems",29400,800,500,0,200,100,31302,"Albrechtsberg an der Großen Krems",29400,4800,500,2400,1300,600,31302,"Albrechtsberg an der Großen Krems",29400,2500,800,200,400,1300]
[31303,"Bergern im Dunkelsteinerwald",27800,15300,13200,0,2100,0,31303,"Bergern im Dunkelsteinerwald",27800,900,600,0,300,100,31303,"Bergern im Dunkelsteinerwald",27800,1100,100,500,400,200,31303,"Bergern im Dunkelsteinerwald",27800,1700,500,100,300,900]
[31304,"Dürnstein",27200,11400,9800,0,1600,0,31304,"Dürnstein",27200,3000,1800,0,900,300,31304,"Dürnstein",27200,3300,200,2100,800,200,31304,"Dürnstein",27200,1000,300,100,100,500]
[31308,"Grafenegg",79100,33600,28600,0,5000,0,31308,"Grafenegg",79100,4500,2700,100,1300,400,31308,"Grafenegg",79100,12400,1100,7000,3500,800,31308,"Grafenegg",79100,5000,1500,300,700,2500]
[31309,"Furth bei Göttweig",66200,30600,26100,0,4500,0,31309,"Furth bei Göttweig",66200,5000,3000,100,1400,400,31309,"Furth bei Göttweig",66200,5900,500,3100,1700,500,31309,"Furth bei Göttweig",66200,1700,500,100,200,800]
[31310,"Gedersdorf",47200,20800,17700,0,3200,0,31310,"Gedersdorf",47200,3600,2200,0,1000,300,31310,"Gedersdorf",47200,5300,900,1900,2000,500,31310,"Gedersdorf",47200,3100,900,200,500,1500]
[31311,"Gföhl",94500,43300,37900,0,5500,0,31311,"Gföhl",94500,6100,3700,100,1800,500,31311,"Gföhl",94500,10600,1800,3900,3500,1400,31311,"Gföhl",94500,6700,2000,400,1000,3300]
[31315,"Hadersdorf-Kammern",42300,20700,17700,0,3100,0,31315,"Hadersdorf-Kammern",42300,4400,2700,100,1300,400,31315,"Hadersdorf-Kammern",42300,2500,300,1100,700,300,31315,"Hadersdorf-Kammern",42300,800,200,100,100,400]
[31319,"Jaidhof",28500,13500,11800,0,1800,0,31319,"Jaidhof",28500,700,400,0,200,100,31319,"Jaidhof",28500,1500,200,200,800,400,31319,"Jaidhof",28500,4100,1200,300,600,2000]
[31321,"Krumau am Kamp",21000,11700,10400,0,1400,0,31321,"Krumau am Kamp",21000,600,400,0,200,100,31321,"Krumau am Kamp",21000,1400,400,500,400,100,31321,"Krumau am Kamp",21000,2100,600,100,300,1100]
[31322,"Langenlois",196000,77500,66300,0,11200,0,31322,"Langenlois",196000,21200,12900,300,6100,1900,31322,"Langenlois",196000,22400,2200,12000,6600,1700,31322,"Langenlois",196000,10800,3200,700,1600,5400]
[31323,"Lengenfeld",32500,14600,12500,0,2000,0,31323,"Lengenfeld",32500,2000,1200,0,600,200,31323,"Lengenfeld",32500,2800,500,1200,800,200,31323,"Lengenfeld",32500,1800,500,100,300,900]
[31324,"Lichtenau im Waldviertel",55700,25000,21900,0,3100,0,31324,"Lichtenau im Waldviertel",55700,2500,1600,0,700,200,31324,"Lichtenau im Waldviertel",55700,6700,700,2900,2000,1000,31324,"Lichtenau im Waldviertel",55700,6300,1900,400,900,3100]
[31326,"Maria Laach am Jauerling",21200,10400,9000,0,1300,0,31326,"Maria Laach am Jauerling",21200,1100,600,0,300,100,31326,"Maria Laach am Jauerling",21200,900,200,400,300,100,31326,"Maria Laach am Jauerling",21200,1900,600,100,300,900]
[31327,"Mautern an der Donau",96900,32200,27100,0,5100,0,31327,"Mautern an der Donau",96900,27100,16500,300,7800,2400,31327,"Mautern an der Donau",96900,5800,900,2700,1800,400,31327,"Mautern an der Donau",96900,1100,300,100,200,600]
[31330,"Mühldorf (NÖ)",29700,17000,14800,0,2200,0,31330,"Mühldorf (NÖ)",29700,1200,800,0,400,100,31330,"Mühldorf (NÖ)",29700,800,100,200,400,100,31330,"Mühldorf (NÖ)",29700,1200,400,100,200,600]
[31333,"Paudorf",64800,25600,21700,0,3900,0,31333,"Paudorf",64800,3000,1800,0,900,300,31333,"Paudorf",64800,17200,2300,10200,3600,1200,31333,"Paudorf",64800,2300,700,200,300,1200]
[31336,"Rastenfeld",74500,20000,17500,0,2500,0,31336,"Rastenfeld",74500,3700,2300,0,1100,300,31336,"Rastenfeld",74500,32200,7100,10100,11000,4000,31336,"Rastenfeld",74500,3200,1000,200,500,1600]
[31337,"Rohrendorf bei Krems",40600,19500,16400,0,3100,0,31337,"Rohrendorf bei Krems",40600,3700,2300,0,1100,300,31337,"Rohrendorf bei Krems",40600,1600,200,400,600,300,31337,"Rohrendorf bei Krems",40600,2200,600,100,300,1100]
[31338,"Rossatz-Arnsdorf",25900,14700,12800,0,1900,0,31338,"Rossatz-Arnsdorf",25900,1700,1100,0,500,200,31338,"Rossatz-Arnsdorf",25900,0,0,0,0,0,31338,"Rossatz-Arnsdorf",25900,1400,400,100,200,700]
[31340,"St. Leonhard am Hornerwald",32400,14900,13200,0,1700,0,31340,"St. Leonhard am Hornerwald",32400,1100,700,0,300,100,31340,"St. Leonhard am Hornerwald",32400,4200,1200,1600,1200,300,31340,"St. Leonhard am Hornerwald",32400,4200,1200,300,600,2100]
[31343,"Senftenberg",40600,22800,19600,0,3200,0,31343,"Senftenberg",40600,3900,2400,0,1100,300,31343,"Senftenberg",40600,700,100,200,300,100,31343,"Senftenberg",40600,1300,400,100,200,600]
[31344,"Spitz",40400,19900,17400,0,2500,0,31344,"Spitz",40400,4900,3000,100,1400,400,31344,"Spitz",40400,1600,200,200,800,400,31344,"Spitz",40400,1200,300,100,200,600]
[31346,"Straß im Straßertale",34800,17300,14700,0,2600,0,31346,"Straß im Straßertale",34800,1800,1100,0,500,200,31346,"Straß im Straßertale",34800,1400,100,800,300,100,31346,"Straß im Straßertale",34800,2600,800,200,400,1300]
[31347,"Stratzing",17100,9100,7700,0,1400,0,31347,"Stratzing",17100,700,400,0,200,100,31347,"Stratzing",17100,600,0,400,200,0,31347,"Stratzing",17100,1200,400,100,200,600]
[31350,"Weinzierl am Walde",33200,14200,12400,0,1800,0,31350,"Weinzierl am Walde",33200,1000,600,0,300,100,31350,"Weinzierl am Walde",33200,5100,1400,2100,1300,300,31350,"Weinzierl am Walde",33200,3800,1100,300,600,1900]
[31351,"Weißenkirchen in der Wachau",37700,17800,15500,0,2300,0,31351,"Weißenkirchen in der Wachau",37700,4200,2600,100,1200,400,31351,"Weißenkirchen in der Wachau",37700,2200,200,400,1000,500,31351,"Weißenkirchen in der Wachau",37700,1900,600,100,300,900]
[31355,"Schönberg am Kamp",45500,24700,21500,0,3200,0,31355,"Schönberg am Kamp",45500,1600,1000,0,500,100,31355,"Schönberg am Kamp",45500,2800,300,1000,1100,400,31355,"Schönberg am Kamp",45500,4500,1300,300,600,2200]
[31356,"Droß",18000,9800,8300,0,1500,0,31356,"Droß",18000,800,500,0,200,100,31356,"Droß",18000,100,0,0,0,0,31356,"Droß",18000,600,200,0,100,300]
[31401,"Annaberg",24700,12800,11700,0,1200,0,31401,"Annaberg",24700,2000,1200,0,600,200,31401,"Annaberg",24700,3800,1100,1400,1000,300,31401,"Annaberg",24700,1500,400,100,200,700]
[31402,"Eschenau",25200,11700,10000,0,1700,0,31402,"Eschenau",25200,1000,600,0,300,100,31402,"Eschenau",25200,2000,200,900,700,200,31402,"Eschenau",25200,1900,600,100,300,900]
[31403,"Hainfeld",130100,39200,34200,0,5000,0,31403,"Hainfeld",130100,22200,13600,300,6400,2000,31403,"Hainfeld",130100,18000,3100,5400,7400,2200,31403,"Hainfeld",130100,3600,1100,200,500,1800]
[31404,"Hohenberg",64700,18500,16200,0,2300,0,31404,"Hohenberg",64700,1500,900,0,400,100,31404,"Hohenberg",64700,30700,5200,14500,9100,1800,31404,"Hohenberg",64700,1100,300,100,200,600]
[31405,"Kaumberg",24100,12900,11200,0,1700,0,31405,"Kaumberg",24100,1400,900,0,400,100,31405,"Kaumberg",24100,200,0,100,100,0,31405,"Kaumberg",24100,2400,700,200,300,1200]
[31406,"Kleinzell",34000,10500,9200,0,1300,0,31406,"Kleinzell",34000,1500,900,0,400,100,31406,"Kleinzell",34000,10400,1000,5200,2800,1500,31406,"Kleinzell",34000,2500,700,200,400,1200]
[31407,"Lilienfeld",147900,28000,24000,0,4100,0,31407,"Lilienfeld",147900,12700,7800,200,3700,1100,31407,"Lilienfeld",147900,77400,7600,35200,33000,1500,31407,"Lilienfeld",147900,1500,400,100,200,700]
[31408,"Mitterbach am Erlaufsee",19000,9300,8400,0,1000,0,31408,"Mitterbach am Erlaufsee",19000,2700,1600,0,800,200,31408,"Mitterbach am Erlaufsee",19000,800,200,300,200,100,31408,"Mitterbach am Erlaufsee",19000,1100,300,100,200,500]
[31409,"Ramsau",29300,12100,10500,0,1600,0,31409,"Ramsau",29300,1400,800,0,400,100,31409,"Ramsau",29300,7300,2100,2800,2000,400,31409,"Ramsau",29300,1600,500,100,200,800]
[31410,"Rohrbach an der Gölsen",50900,15800,13700,0,2100,0,31410,"Rohrbach an der Gölsen",50900,5900,3600,100,1700,500,31410,"Rohrbach an der Gölsen",50900,11200,1400,4600,4700,500,31410,"Rohrbach an der Gölsen",50900,1300,400,100,200,600]
[31411,"St. Aegyd am Neuwalde",54800,26700,23600,0,3200,0,31411,"St. Aegyd am Neuwalde",54800,2300,1400,0,700,200,31411,"St. Aegyd am Neuwalde",54800,7700,2200,1900,2600,1000,31411,"St. Aegyd am Neuwalde",54800,3800,1100,200,500,1900]
[31412,"St. Veit an der Gölsen",74000,36500,31300,0,5200,0,31412,"St. Veit an der Gölsen",74000,5900,3600,100,1700,500,31412,"St. Veit an der Gölsen",74000,1200,100,600,400,100,31412,"St. Veit an der Gölsen",74000,5200,1500,300,800,2600]
[31413,"Traisen",113900,27500,23400,0,4100,0,31413,"Traisen",113900,5500,3400,100,1600,500,31413,"Traisen",113900,52300,4400,28400,16900,2600,31413,"Traisen",113900,400,100,0,100,200]
[31414,"Türnitz",53100,24000,21100,0,2900,0,31414,"Türnitz",53100,3200,1900,0,900,300,31414,"Türnitz",53100,8000,1800,3000,2500,900,31414,"Türnitz",53100,3200,1000,200,500,1600]
[31502,"Artstetten-Pöbring",23500,11500,9900,0,1600,0,31502,"Artstetten-Pöbring",23500,1100,700,0,300,100,31502,"Artstetten-Pöbring",23500,200,0,100,100,0,31502,"Artstetten-Pöbring",23500,2500,800,200,400,1300]
[31503,"Bergland",66000,21000,18100,0,2900,0,31503,"Bergland",66000,6800,4200,100,2000,600,31503,"Bergland",66000,17300,4100,7300,4700,1300,31503,"Bergland",66000,4500,1300,300,600,2200]
[31504,"Bischofstetten",24800,12400,10600,0,1700,0,31504,"Bischofstetten",24800,1000,600,0,300,100,31504,"Bischofstetten",24800,800,100,200,300,100,31504,"Bischofstetten",24800,2400,700,200,400,1200]
[31505,"Blindenmarkt",51700,23700,20300,0,3500,0,31505,"Blindenmarkt",51700,3800,2300,0,1100,300,31505,"Blindenmarkt",51700,5600,400,2800,1600,700,31505,"Blindenmarkt",51700,1200,400,100,200,600]
[31506,"Dorfstetten",14900,6600,5800,0,800,0,31506,"Dorfstetten",14900,700,400,0,200,100,31506,"Dorfstetten",14900,2700,800,1000,700,200,31506,"Dorfstetten",14900,900,300,100,100,500]
[31507,"Dunkelsteinerwald",48400,24400,21000,0,3400,0,31507,"Dunkelsteinerwald",48400,2100,1300,0,600,200,31507,"Dunkelsteinerwald",48400,1000,100,300,400,200,31507,"Dunkelsteinerwald",48400,4600,1400,300,700,2300]
[31508,"Erlauf",21500,11700,10100,0,1600,0,31508,"Erlauf",21500,1200,800,0,400,100,31508,"Erlauf",21500,500,100,100,200,100,31508,"Erlauf",21500,1100,300,100,200,500]
[31509,"Golling an der Erlauf",24900,12900,11000,0,1900,0,31509,"Golling an der Erlauf",24900,1100,700,0,300,100,31509,"Golling an der Erlauf",24900,1200,200,500,500,100,31509,"Golling an der Erlauf",24900,100,0,0,0,100]
[31511,"Hofamt Priel",32600,17100,14600,0,2500,0,31511,"Hofamt Priel",32600,2200,1400,0,600,200,31511,"Hofamt Priel",32600,600,100,200,200,100,31511,"Hofamt Priel",32600,1500,400,100,200,700]
[31513,"Hürm",69100,20500,17600,0,2900,0,31513,"Hürm",69100,3300,2000,0,1000,300,31513,"Hürm",69100,20200,1800,9500,5900,3000,31513,"Hürm",69100,5100,1500,300,700,2500]
[31514,"Kilb",63200,28100,24200,0,3900,0,31514,"Kilb",63200,5100,3100,100,1500,500,31514,"Kilb",63200,6400,1200,2300,2100,700,31514,"Kilb",63200,5200,1500,300,800,2600]
[31515,"Kirnberg an der Mank",23200,11600,10000,0,1600,0,31515,"Kirnberg an der Mank",23200,1100,700,0,300,100,31515,"Kirnberg an der Mank",23200,1100,200,300,400,100,31515,"Kirnberg an der Mank",23200,2400,700,200,300,1200]
[31516,"Klein-Pöchlarn",19900,10100,8500,0,1500,0,31516,"Klein-Pöchlarn",19900,1100,700,0,300,100,31516,"Klein-Pöchlarn",19900,1500,100,1000,300,100,31516,"Klein-Pöchlarn",19900,300,100,0,0,100]
[31517,"Krummnußbaum",167900,15200,13000,0,2200,0,31517,"Krummnußbaum",167900,2100,1300,0,600,200,31517,"Krummnußbaum",167900,137600,4800,102900,18900,11000,31517,"Krummnußbaum",167900,800,200,100,100,400]
[31519,"Leiben",86900,13900,11900,0,2000,0,31519,"Leiben",86900,1300,800,0,400,100,31519,"Leiben",86900,61900,5100,35900,20600,300,31519,"Leiben",86900,1100,300,100,200,500]
[31520,"Loosdorf",195500,33800,28500,0,5200,0,31520,"Loosdorf",195500,10600,6500,100,3100,900,31520,"Loosdorf",195500,112600,4800,78400,19000,10400,31520,"Loosdorf",195500,1100,300,100,200,500]
[31521,"Mank",80600,31000,26700,0,4300,0,31521,"Mank",80600,10600,6500,100,3100,900,31521,"Mank",80600,8800,1500,2200,3600,1500,31521,"Mank",80600,5000,1500,300,700,2500]
[31522,"Marbach an der Donau",66600,17400,14900,0,2500,0,31522,"Marbach an der Donau",66600,2300,1400,0,700,200,31522,"Marbach an der Donau",66600,25000,700,13600,6700,4000,31522,"Marbach an der Donau",66600,500,100,0,100,200]
[31523,"Maria Taferl",18700,9100,7800,0,1300,0,31523,"Maria Taferl",18700,2100,1300,0,600,200,31523,"Maria Taferl",18700,100,0,0,0,0,31523,"Maria Taferl",18700,800,200,100,100,400]
[31524,"Melk",230100,50000,42400,0,7600,0,31524,"Melk",230100,52000,31800,600,15000,4600,31524,"Melk",230100,53900,7000,22100,18500,6300,31524,"Melk",230100,2100,600,100,300,1100]
[31525,"Münichreith-Laimbach",43000,17700,15400,0,2300,0,31525,"Münichreith-Laimbach",43000,1200,800,0,400,100,31525,"Münichreith-Laimbach",43000,10400,2800,4200,2700,700,31525,"Münichreith-Laimbach",43000,2500,700,200,400,1200]
[31527,"Neumarkt an der Ybbs",61700,19400,16600,0,2800,0,31527,"Neumarkt an der Ybbs",61700,3300,2000,0,1000,300,31527,"Neumarkt an der Ybbs",61700,25400,2700,13900,8400,400,31527,"Neumarkt an der Ybbs",61700,800,300,100,100,400]
[31528,"Nöchling",23300,11100,9600,0,1500,0,31528,"Nöchling",23300,700,400,0,200,100,31528,"Nöchling",23300,1900,200,800,700,200,31528,"Nöchling",23300,1800,500,100,300,900]
[31530,"Persenbeug-Gottsdorf",70100,22100,18800,0,3300,0,31530,"Persenbeug-Gottsdorf",70100,3500,2100,0,1000,300,31530,"Persenbeug-Gottsdorf",70100,21500,1400,9400,6900,3800,31530,"Persenbeug-Gottsdorf",70100,600,200,0,100,300]
[31531,"Petzenkirchen",49100,13500,11500,0,2000,0,31531,"Petzenkirchen",49100,1900,1200,0,500,200,31531,"Petzenkirchen",49100,17500,1000,11800,3500,1100,31531,"Petzenkirchen",49100,200,100,0,0,100]
[31533,"Pöchlarn",275400,34500,29000,0,5400,0,31533,"Pöchlarn",275400,20400,12500,200,5900,1800,31533,"Pöchlarn",275400,171800,6600,125800,25800,13500,31533,"Pöchlarn",275400,1600,500,100,200,800]
[31534,"Pöggstall",70200,28500,25000,0,3600,0,31534,"Pöggstall",70200,5300,3200,100,1500,500,31534,"Pöggstall",70200,13300,1400,6500,4100,1300,31534,"Pöggstall",70200,4100,1200,300,600,2000]
[31535,"Raxendorf",23300,11700,10200,0,1500,0,31535,"Raxendorf",23300,900,600,0,300,100,31535,"Raxendorf",23300,1300,100,700,300,200,31535,"Raxendorf",23300,2200,700,100,300,1100]
[31537,"Ruprechtshofen",55500,23600,20300,0,3300,0,31537,"Ruprechtshofen",55500,4100,2500,0,1200,400,31537,"Ruprechtshofen",55500,6400,800,3200,1900,400,31537,"Ruprechtshofen",55500,4700,1400,300,700,2300]
[31539,"St. Leonhard am Forst",69500,33500,28900,0,4600,0,31539,"St. Leonhard am Forst",69500,4900,3000,100,1400,400,31539,"St. Leonhard am Forst",69500,4200,600,1700,1400,400,31539,"St. Leonhard am Forst",69500,5200,1500,300,700,2600]
[31540,"St. Martin-Karlsbach",35400,17000,14700,0,2300,0,31540,"St. Martin-Karlsbach",35400,5100,3100,100,1500,500,31540,"St. Martin-Karlsbach",35400,400,100,100,200,100,31540,"St. Martin-Karlsbach",35400,2400,700,200,300,1200]
[31541,"St. Oswald",23300,10700,9400,0,1300,0,31541,"St. Oswald",23300,900,500,0,200,100,31541,"St. Oswald",23300,1700,500,700,400,100,31541,"St. Oswald",23300,2600,800,200,400,1300]
[31542,"Schönbühel-Aggsbach",21200,11900,10300,0,1600,0,31542,"Schönbühel-Aggsbach",21200,1200,700,0,300,100,31542,"Schönbühel-Aggsbach",21200,100,0,0,100,0,31542,"Schönbühel-Aggsbach",21200,900,300,100,100,500]
[31543,"Schollach",24000,10600,9100,0,1600,0,31543,"Schollach",24000,2900,1800,0,800,300,31543,"Schollach",24000,900,100,300,300,100,31543,"Schollach",24000,2000,600,100,300,1000]
[31546,"Weiten",24600,12400,10800,0,1600,0,31546,"Weiten",24600,1500,900,0,400,100,31546,"Weiten",24600,1700,200,700,600,100,31546,"Weiten",24600,1700,500,100,200,900]
[31549,"Ybbs an der Donau",300100,53600,46100,0,7500,0,31549,"Ybbs an der Donau",300100,22900,14000,300,6600,2000,31549,"Ybbs an der Donau",300100,168500,47600,66400,43800,10700,31549,"Ybbs an der Donau",300100,1800,500,100,300,900]
[31550,"Zelking-Matzleinsdorf",24800,12800,10900,0,1900,0,31550,"Zelking-Matzleinsdorf",24800,1100,600,0,300,100,31550,"Zelking-Matzleinsdorf",24800,200,0,100,100,0,31550,"Zelking-Matzleinsdorf",24800,2000,600,100,300,1000]
[31551,"Texingtal",37800,16100,13800,0,2200,0,31551,"Texingtal",37800,3300,2000,0,1000,300,31551,"Texingtal",37800,1600,200,400,700,200,31551,"Texingtal",37800,2900,900,200,400,1400]
[31552,"Yspertal",45900,21500,18800,0,2700,0,31552,"Yspertal",45900,3900,2400,0,1100,300,31552,"Yspertal",45900,1400,200,500,600,200,31552,"Yspertal",45900,2300,700,100,300,1100]
[31553,"Emmersdorf an der Donau",46200,17100,14600,0,2500,0,31553,"Emmersdorf an der Donau",46200,2500,1500,0,700,200,31553,"Emmersdorf an der Donau",46200,12600,1000,7400,4100,100,31553,"Emmersdorf an der Donau",46200,1700,500,100,300,900]
[31601,"Altlichtenwarth",18700,9500,8300,0,1200,0,31601,"Altlichtenwarth",18700,500,300,0,100,0,31601,"Altlichtenwarth",18700,100,0,0,100,0,31601,"Altlichtenwarth",18700,3700,1100,200,500,1800]
[31603,"Asparn an der Zaya",44000,20600,17700,0,2900,0,31603,"Asparn an der Zaya",44000,1700,1000,0,500,100,31603,"Asparn an der Zaya",44000,3700,300,2100,1100,300,31603,"Asparn an der Zaya",44000,4900,1500,300,700,2400]
[31604,"Bernhardsthal",43100,22900,20000,0,2900,0,31604,"Bernhardsthal",43100,1600,1000,0,500,100,31604,"Bernhardsthal",43100,200,0,0,100,100,31604,"Bernhardsthal",43100,8500,2500,500,1200,4200]
[31605,"Bockfließ",29100,14900,12700,0,2200,0,31605,"Bockfließ",29100,1600,1000,0,500,100,31605,"Bockfließ",29100,800,100,200,400,100,31605,"Bockfließ",29100,3300,1000,200,500,1600]
[31606,"Drasenhofen",34800,16100,14200,0,1900,0,31606,"Drasenhofen",34800,1800,1100,0,500,200,31606,"Drasenhofen",34800,3100,700,1100,1100,200,31606,"Drasenhofen",34800,5600,1700,400,800,2800]
[31608,"Falkenstein",11900,6200,5400,0,800,0,31608,"Falkenstein",11900,600,400,0,200,100,31608,"Falkenstein",11900,300,0,200,100,0,31608,"Falkenstein",11900,1600,500,100,200,800]
[31609,"Fallbach",21100,10200,8800,0,1300,0,31609,"Fallbach",21100,800,500,0,200,100,31609,"Fallbach",21100,300,100,100,100,100,31609,"Fallbach",21100,4200,1300,300,600,2100]
[31611,"Gaubitsch",21000,10200,8600,0,1500,0,31611,"Gaubitsch",21000,600,300,0,200,0,31611,"Gaubitsch",21000,500,0,300,100,0,31611,"Gaubitsch",21000,3900,1100,300,600,1900]
[31612,"Gaweinstal",87400,41600,35400,0,6200,0,31612,"Gaweinstal",87400,4500,2800,100,1300,400,31612,"Gaweinstal",87400,6600,700,3000,2200,700,31612,"Gaweinstal",87400,8000,2400,500,1200,4000]
[31613,"Gnadendorf",32700,14900,12900,0,2100,0,31613,"Gnadendorf",32700,4600,2800,100,1300,400,31613,"Gnadendorf",32700,0,0,0,0,0,31613,"Gnadendorf",32700,5500,1600,400,800,2700]
[31614,"Großebersdorf",58400,24100,20500,0,3600,0,31614,"Großebersdorf",58400,8800,5400,100,2600,800,31614,"Großebersdorf",58400,3900,600,1400,1500,400,31614,"Großebersdorf",58400,2700,800,200,400,1300]
[31615,"Großengersdorf",30100,14700,12500,0,2300,0,31615,"Großengersdorf",30100,1200,700,0,300,100,31615,"Großengersdorf",30100,2600,300,300,1400,600,31615,"Großengersdorf",30100,2600,800,200,400,1300]
[31616,"Großharras",33000,15300,13300,0,2000,0,31616,"Großharras",33000,1200,700,0,300,100,31616,"Großharras",33000,1500,100,700,500,200,31616,"Großharras",33000,7600,2200,500,1100,3800]
[31617,"Großkrut",41900,20200,17400,0,2700,0,31617,"Großkrut",41900,2100,1300,0,600,200,31617,"Großkrut",41900,2100,300,300,1000,500,31617,"Großkrut",41900,7000,2100,500,1000,3500]
[31620,"Hausbrunn",20600,11300,9800,0,1500,0,31620,"Hausbrunn",20600,700,400,0,200,100,31620,"Hausbrunn",20600,800,100,500,200,0,31620,"Hausbrunn",20600,2500,700,200,400,1200]
[31621,"Herrnbaumgarten",22600,12200,10600,0,1600,0,31621,"Herrnbaumgarten",22600,900,500,0,300,100,31621,"Herrnbaumgarten",22600,100,0,0,0,0,31621,"Herrnbaumgarten",22600,3500,1000,200,500,1700]
[31622,"Hochleithen",25700,13000,11200,0,1800,0,31622,"Hochleithen",25700,900,600,0,300,100,31622,"Hochleithen",25700,400,100,100,200,0,31622,"Hochleithen",25700,3200,900,200,500,1600]
[31627,"Kreuttal",30300,16900,14500,0,2500,0,31627,"Kreuttal",30300,1300,800,0,400,100,31627,"Kreuttal",30300,300,0,200,100,0,31627,"Kreuttal",30300,2200,600,100,300,1100]
[31628,"Kreuzstetten",34300,19100,16500,0,2600,0,31628,"Kreuzstetten",34300,1200,700,0,300,100,31628,"Kreuzstetten",34300,600,100,300,200,100,31628,"Kreuzstetten",34300,3500,1000,200,500,1700]
[31629,"Laa an der Thaya",860100,67600,57800,0,9800,0,31629,"Laa an der Thaya",860100,21300,13000,300,6200,1900,31629,"Laa an der Thaya",860100,699800,56900,406400,232100,4300,31629,"Laa an der Thaya",860100,11800,3500,800,1700,5900]
[31630,"Ladendorf",51500,26400,22700,0,3800,0,31630,"Ladendorf",51500,2100,1300,0,600,200,31630,"Ladendorf",51500,1500,100,700,500,100,31630,"Ladendorf",51500,7100,2100,500,1000,3500]
[31633,"Mistelbach",325300,114400,97000,0,17400,0,31633,"Mistelbach",325300,73300,44800,900,21200,6500,31633,"Mistelbach",325300,6100,700,1300,2800,1200,31633,"Mistelbach",325300,16300,4800,1100,2300,8100]
[31634,"Neudorf im Weinviertel",33100,16100,13800,0,2300,0,31634,"Neudorf im Weinviertel",33100,1100,700,0,300,100,31634,"Neudorf im Weinviertel",33100,900,200,300,300,100,31634,"Neudorf im Weinviertel",33100,6100,1800,400,900,3000]
[31636,"Niederleis",20900,10700,9200,0,1500,0,31636,"Niederleis",20900,900,600,0,300,100,31636,"Niederleis",20900,600,100,200,200,100,31636,"Niederleis",20900,2900,900,200,400,1400]
[31642,"Pillichsdorf",22600,11700,9900,0,1800,0,31642,"Pillichsdorf",22600,900,600,0,300,100,31642,"Pillichsdorf",22600,800,100,300,300,100,31642,"Pillichsdorf",22600,2400,700,200,300,1200]
[31644,"Poysdorf",188800,62700,54000,0,8800,0,31644,"Poysdorf",188800,10900,6700,100,3200,1000,31644,"Poysdorf",188800,54800,13800,16800,21400,2800,31644,"Poysdorf",188800,17500,5200,1100,2500,8700]
[31645,"Rabensburg",24300,13500,11700,0,1700,0,31645,"Rabensburg",24300,800,500,0,200,100,31645,"Rabensburg",24300,0,0,0,0,0,31645,"Rabensburg",24300,3300,1000,200,500,1600]
[31646,"Schrattenberg",23000,12100,10500,0,1600,0,31646,"Schrattenberg",23000,700,400,0,200,100,31646,"Schrattenberg",23000,1100,100,500,300,100,31646,"Schrattenberg",23000,3900,1200,300,600,1900]
[31649,"Staatz",43800,22500,19400,0,3100,0,31649,"Staatz",43800,2600,1600,0,700,200,31649,"Staatz",43800,300,0,0,200,100,31649,"Staatz",43800,6400,1900,400,900,3200]
[31650,"Stronsdorf",44500,19900,17100,0,2800,0,31650,"Stronsdorf",44500,4200,2500,100,1200,400,31650,"Stronsdorf",44500,2300,300,400,1200,500,31650,"Stronsdorf",44500,7100,2100,500,1000,3500]
[31651,"Ulrichskirchen-Schleinbach",52000,29200,24900,0,4300,0,31651,"Ulrichskirchen-Schleinbach",52000,2400,1500,0,700,200,31651,"Ulrichskirchen-Schleinbach",52000,1200,100,500,400,200,31651,"Ulrichskirchen-Schleinbach",52000,3000,900,200,400,1500]
[31652,"Unterstinkenbrunn",12400,6200,5300,0,900,0,31652,"Unterstinkenbrunn",12400,600,400,0,200,100,31652,"Unterstinkenbrunn",12400,300,0,100,100,0,31652,"Unterstinkenbrunn",12400,1700,500,100,200,800]
[31653,"Wildendürnbach",40300,19900,17200,0,2700,0,31653,"Wildendürnbach",40300,1400,800,0,400,100,31653,"Wildendürnbach",40300,300,0,100,100,100,31653,"Wildendürnbach",40300,8500,2500,600,1200,4200]
[31654,"Wilfersdorf",50600,23000,19700,0,3300,0,31654,"Wilfersdorf",50600,3400,2100,0,1000,300,31654,"Wilfersdorf",50600,4200,300,2100,1300,600,31654,"Wilfersdorf",50600,5100,1500,300,700,2500]
[31655,"Wolkersdorf im Weinviertel",275300,66500,55600,0,10900,0,31655,"Wolkersdorf im Weinviertel",275300,27800,17000,300,8000,2400,31655,"Wolkersdorf im Weinviertel",275300,102500,9800,58000,28300,6500,31655,"Wolkersdorf im Weinviertel",275300,4000,1200,300,600,2000]
[31658,"Ottenthal",15200,7400,6500,0,900,0,31658,"Ottenthal",15200,500,300,0,100,0,31658,"Ottenthal",15200,1000,100,700,200,0,31658,"Ottenthal",15200,2600,800,200,400,1300]
[31701,"Achau",42700,11200,9300,0,2000,0,31701,"Achau",42700,8300,5000,100,2400,700,31701,"Achau",42700,9800,600,5500,2500,1300,31701,"Achau",42700,1800,500,100,300,900]
[31702,"Biedermannsdorf",154800,24700,20100,0,4600,0,31702,"Biedermannsdorf",154800,55000,33600,700,15900,4800,31702,"Biedermannsdorf",154800,32300,4400,14300,11300,2300,31702,"Biedermannsdorf",154800,1100,300,100,200,500]
[31703,"Breitenfurt bei Wien",118000,64600,55000,0,9600,0,31703,"Breitenfurt bei Wien",118000,11700,7200,100,3400,1000,31703,"Breitenfurt bei Wien",118000,1800,300,400,900,300,31703,"Breitenfurt bei Wien",118000,1100,300,100,200,600]
[31704,"Brunn am Gebirge",333000,106800,87900,0,18900,0,31704,"Brunn am Gebirge",333000,76800,46900,900,22200,6800,31704,"Brunn am Gebirge",333000,30800,4900,8200,13400,4300,31704,"Brunn am Gebirge",333000,200,100,0,0,100]
[31706,"Gaaden",45000,17200,14700,0,2600,0,31706,"Gaaden",45000,2600,1600,0,700,200,31706,"Gaaden",45000,9300,400,4800,2600,1500,31706,"Gaaden",45000,700,200,0,100,400]
[31707,"Gießhübl",44700,24100,20100,0,4000,0,31707,"Gießhübl",44700,3900,2400,0,1100,300,31707,"Gießhübl",44700,1300,300,300,600,200,31707,"Gießhübl",44700,100,0,0,0,0]
[31709,"Gumpoldskirchen",719700,35500,29500,0,6000,0,31709,"Gumpoldskirchen",719700,18000,11000,200,5200,1600,31709,"Gumpoldskirchen",719700,609800,50600,353600,200500,5100,31709,"Gumpoldskirchen",719700,1000,300,100,100,500]
[31710,"Guntramsdorf",256800,71100,58700,0,12400,0,31710,"Guntramsdorf",256800,54100,33000,700,15600,4800,31710,"Guntramsdorf",256800,39500,5500,17200,14100,2600,31710,"Guntramsdorf",256800,1800,500,100,300,900]
[31711,"Hennersdorf",311100,13800,11400,0,2400,0,31711,"Hennersdorf",311100,2000,1200,0,600,200,31711,"Hennersdorf",311100,282100,9800,212100,38100,22100,31711,"Hennersdorf",311100,700,200,0,100,400]
[31712,"Hinterbrühl",85900,46100,39200,0,6900,0,31712,"Hinterbrühl",85900,9000,5500,100,2600,800,31712,"Hinterbrühl",85900,1800,200,400,800,300,31712,"Hinterbrühl",85900,400,100,0,100,200]
[31713,"Kaltenleutgeben",56800,30600,25800,0,4800,0,31713,"Kaltenleutgeben",56800,3100,1900,0,900,300,31713,"Kaltenleutgeben",56800,1700,200,800,500,200,31713,"Kaltenleutgeben",56800,400,100,0,100,200]
[31714,"Laab im Walde",24200,12300,10500,0,1800,0,31714,"Laab im Walde",24200,3100,1900,0,900,300,31714,"Laab im Walde",24200,100,0,0,0,0,31714,"Laab im Walde",24200,400,100,0,100,200]
[31715,"Laxenburg",77100,21700,17800,0,3900,0,31715,"Laxenburg",77100,19900,12100,200,5700,1700,31715,"Laxenburg",77100,5900,700,3000,1700,400,31715,"Laxenburg",77100,1200,400,100,200,600]
[31716,"Maria Enzersdorf",187600,78200,65100,0,13100,0,31716,"Maria Enzersdorf",187600,27200,16600,300,7900,2400,31716,"Maria Enzersdorf",187600,8400,1800,2500,3400,700,31716,"Maria Enzersdorf",187600,200,0,0,0,100]
[31717,"Mödling",461600,168300,140300,0,28000,0,31717,"Mödling",461600,86400,52800,1100,25000,7600,31717,"Mödling",461600,31900,7200,9100,12700,2800,31717,"Mödling",461600,100,0,0,0,100]
[31718,"Münchendorf",68100,27400,22600,0,4800,0,31718,"Münchendorf",68100,6800,4200,100,2000,600,31718,"Münchendorf",68100,8100,600,4700,2400,500,31718,"Münchendorf",68100,3100,900,200,400,1500]
[31719,"Perchtoldsdorf",331300,149500,126000,0,23500,0,31719,"Perchtoldsdorf",331300,52100,31900,600,15100,4600,31719,"Perchtoldsdorf",331300,10900,2100,3100,4600,1200,31719,"Perchtoldsdorf",331300,700,200,0,100,400]
[31723,"Vösendorf",234900,51700,41900,0,9800,0,31723,"Vösendorf",234900,67700,41400,800,19600,6000,31723,"Vösendorf",234900,8500,900,3200,3200,1200,31723,"Vösendorf",234900,1100,300,100,200,500]
[31725,"Wiener Neudorf",514100,66800,54600,0,12200,0,31725,"Wiener Neudorf",514100,89300,54600,1100,25800,7900,31725,"Wiener Neudorf",514100,202900,38200,83700,68000,13000,31725,"Wiener Neudorf",514100,200,100,0,0,100]
[31726,"Wienerwald",56400,31200,26800,0,4400,0,31726,"Wienerwald",56400,3500,2100,0,1000,300,31726,"Wienerwald",56400,1200,200,300,600,200,31726,"Wienerwald",56400,1900,600,100,300,1000]
[31801,"Altendorf",7700,4300,3700,0,600,0,31801,"Altendorf",7700,300,200,0,100,0,31801,"Altendorf",7700,300,100,100,100,0,31801,"Altendorf",7700,400,100,0,100,200]
[31802,"Aspang-Markt",51800,22500,19600,0,2900,0,31802,"Aspang-Markt",51800,5900,3600,100,1700,500,31802,"Aspang-Markt",51800,7700,1700,3000,2300,700,31802,"Aspang-Markt",51800,100,0,0,0,100]
[31803,"Aspangberg-St. Peter",69200,22200,19400,0,2800,0,31803,"Aspangberg-St. Peter",69200,1800,1100,0,500,200,31803,"Aspangberg-St. Peter",69200,25300,4500,10600,7200,2900,31803,"Aspangberg-St. Peter",69200,3400,1000,200,500,1700]
[31804,"Breitenau",54000,14300,12000,0,2300,0,31804,"Breitenau",54000,2900,1800,0,800,300,31804,"Breitenau",54000,23600,2400,14500,4900,1800,31804,"Breitenau",54000,700,200,0,100,400]
[31805,"Breitenstein",16400,12300,11100,0,1200,0,31805,"Breitenstein",16400,1000,600,0,300,100,31805,"Breitenstein",16400,0,0,0,0,0,31805,"Breitenstein",16400,600,200,0,100,300]
[31806,"Buchbach",7100,4300,3700,0,600,0,31806,"Buchbach",7100,100,100,0,0,0,31806,"Buchbach",7100,200,0,100,100,0,31806,"Buchbach",7100,200,100,0,0,100]
[31807,"Edlitz",19400,10000,8700,0,1300,0,31807,"Edlitz",19400,1700,1000,0,500,100,31807,"Edlitz",19400,800,100,100,400,200,31807,"Edlitz",19400,1100,300,100,200,600]
[31808,"Enzenreith",39000,20900,17900,0,3000,0,31808,"Enzenreith",39000,2800,1700,0,800,200,31808,"Enzenreith",39000,2500,400,600,1100,400,31808,"Enzenreith",39000,500,200,0,100,300]
[31809,"Feistritz am Wechsel",21700,11800,10200,0,1500,0,31809,"Feistritz am Wechsel",21700,800,500,0,200,100,31809,"Feistritz am Wechsel",21700,900,200,300,300,100,31809,"Feistritz am Wechsel",21700,1500,400,100,200,700]
[31810,"Gloggnitz",186000,55900,47900,0,8000,0,31810,"Gloggnitz",186000,15300,9400,200,4400,1300,31810,"Gloggnitz",186000,64300,4700,34300,21000,4200,31810,"Gloggnitz",186000,800,300,100,100,400]
[31811,"Grafenbach-St. Valentin",41600,23300,20000,0,3300,0,31811,"Grafenbach-St. Valentin",41600,1600,1000,0,500,100,31811,"Grafenbach-St. Valentin",41600,2700,200,1500,700,300,31811,"Grafenbach-St. Valentin",41600,900,300,100,100,400]
[31812,"Grimmenstein",38500,15100,13000,0,2100,0,31812,"Grimmenstein",38500,7600,4600,100,2200,700,31812,"Grimmenstein",38500,3400,200,2200,700,300,31812,"Grimmenstein",38500,1000,300,100,100,500]
[31813,"Grünbach am Schneeberg",33400,20000,17600,0,2400,0,31813,"Grünbach am Schneeberg",33400,1600,1000,0,500,100,31813,"Grünbach am Schneeberg",33400,1000,300,300,300,100,31813,"Grünbach am Schneeberg",33400,300,100,0,0,200]
[31814,"Kirchberg am Wechsel",55200,26700,23100,0,3700,0,31814,"Kirchberg am Wechsel",55200,5100,3100,100,1500,500,31814,"Kirchberg am Wechsel",55200,1800,300,500,800,300,31814,"Kirchberg am Wechsel",55200,2300,700,200,300,1100]
[31815,"Mönichkirchen",18600,9600,8500,0,1100,0,31815,"Mönichkirchen",18600,2300,1400,0,700,200,31815,"Mönichkirchen",18600,400,0,200,100,0,31815,"Mönichkirchen",18600,700,200,0,100,300]
[31817,"Natschbach-Loipersbach",44300,15000,12700,0,2300,0,31817,"Natschbach-Loipersbach",44300,1000,600,0,300,100,31817,"Natschbach-Loipersbach",44300,15100,3100,5300,5600,1000,31817,"Natschbach-Loipersbach",44300,800,300,100,100,400]
[31818,"Neunkirchen",313600,104600,89200,0,15400,0,31818,"Neunkirchen",313600,65700,40200,800,19000,5800,31818,"Neunkirchen",313600,38500,3200,20600,10800,3900,31818,"Neunkirchen",313600,1400,400,100,200,700]
[31820,"Otterthal",12000,6400,5500,0,800,0,31820,"Otterthal",12000,300,200,0,100,0,31820,"Otterthal",12000,1200,100,200,600,300,31820,"Otterthal",12000,300,100,0,0,200]
[31821,"Payerbach",49600,29000,25400,0,3600,0,31821,"Payerbach",49600,5700,3500,100,1600,500,31821,"Payerbach",49600,1000,100,300,400,200,31821,"Payerbach",49600,900,300,100,100,400]
[31823,"Pitten",486200,26200,22600,0,3700,0,31823,"Pitten",486200,10600,6500,100,3100,900,31823,"Pitten",486200,427100,17100,310000,98100,1900,31823,"Pitten",486200,800,200,0,100,400]
[31825,"Prigglitz",22700,6300,5500,0,700,0,31825,"Prigglitz",22700,500,300,0,200,0,31825,"Prigglitz",22700,11800,3400,4700,3000,700,31825,"Prigglitz",22700,900,300,100,100,400]
[31826,"Puchberg am Schneeberg",89800,38000,33500,0,4600,0,31826,"Puchberg am Schneeberg",89800,4200,2600,100,1200,400,31826,"Puchberg am Schneeberg",89800,24000,1200,16300,4400,2100,31826,"Puchberg am Schneeberg",89800,3300,1000,200,500,1600]
[31827,"Raach am Hochgebirge",7800,4400,3900,0,500,0,31827,"Raach am Hochgebirge",7800,500,300,0,100,0,31827,"Raach am Hochgebirge",7800,0,0,0,0,0,31827,"Raach am Hochgebirge",7800,600,200,0,100,300]
[31829,"Reichenau an der Rax",335500,41800,36500,0,5300,0,31829,"Reichenau an der Rax",335500,23700,14500,300,6800,2100,31829,"Reichenau an der Rax",335500,243500,9700,176700,55900,1200,31829,"Reichenau an der Rax",335500,1900,600,100,300,1000]
[31830,"St. Corona am Wechsel",12000,4500,4000,0,500,0,31830,"St. Corona am Wechsel",12000,1900,1200,0,500,200,31830,"St. Corona am Wechsel",12000,0,0,0,0,0,31830,"St. Corona am Wechsel",12000,300,100,0,0,200]
[31831,"St. Egyden am Steinfeld",36500,19200,16300,0,2900,0,31831,"St. Egyden am Steinfeld",36500,2200,1400,0,600,200,31831,"St. Egyden am Steinfeld",36500,300,0,0,100,100,31831,"St. Egyden am Steinfeld",36500,2300,700,100,300,1100]
[31832,"Scheiblingkirchen-Thernberg",42000,19200,16500,0,2600,0,31832,"Scheiblingkirchen-Thernberg",42000,2900,1800,0,800,300,31832,"Scheiblingkirchen-Thernberg",42000,4000,500,1600,1400,500,31832,"Scheiblingkirchen-Thernberg",42000,2000,600,100,300,1000]
[31833,"Schottwien",17300,8800,7600,0,1100,0,31833,"Schottwien",17300,1400,900,0,400,100,31833,"Schottwien",17300,1500,400,500,400,100,31833,"Schottwien",17300,300,100,0,0,200]
[31834,"Schrattenbach",8100,4300,3700,0,600,0,31834,"Schrattenbach",8100,500,300,0,100,0,31834,"Schrattenbach",8100,200,0,0,100,100,31834,"Schrattenbach",8100,600,200,0,100,300]
[31835,"Schwarzau am Steinfeld",35200,16100,13600,0,2400,0,31835,"Schwarzau am Steinfeld",35200,1900,1100,0,500,200,31835,"Schwarzau am Steinfeld",35200,3400,200,2400,600,300,31835,"Schwarzau am Steinfeld",35200,900,300,100,100,500]
[31836,"Schwarzau im Gebirge",22600,11400,10200,0,1200,0,31836,"Schwarzau im Gebirge",22600,1200,800,0,400,100,31836,"Schwarzau im Gebirge",22600,2200,600,800,600,100,31836,"Schwarzau im Gebirge",22600,2700,800,200,400,1400]
[31837,"Seebenstein",28300,15000,12800,0,2200,0,31837,"Seebenstein",28300,3300,2000,0,1000,300,31837,"Seebenstein",28300,300,0,100,100,100,31837,"Seebenstein",28300,300,100,0,0,200]
[31838,"Semmering",28100,14000,12500,0,1400,0,31838,"Semmering",28100,5000,3000,100,1400,400,31838,"Semmering",28100,200,0,100,0,0,31838,"Semmering",28100,100,0,0,0,100]
[31839,"Ternitz",347400,139400,119200,0,20200,0,31839,"Ternitz",347400,32000,19500,400,9200,2800,31839,"Ternitz",347400,75300,10800,35000,25500,4100,31839,"Ternitz",347400,3300,1000,200,500,1600]
[31840,"Thomasberg",43300,12500,10900,0,1600,0,31840,"Thomasberg",43300,2800,1700,0,800,200,31840,"Thomasberg",43300,11900,1900,4500,4900,700,31840,"Thomasberg",43300,2300,700,100,300,1100]
[31841,"Trattenbach",12600,7100,6300,0,800,0,31841,"Trattenbach",12600,700,400,0,200,100,31841,"Trattenbach",12600,200,0,100,100,0,31841,"Trattenbach",12600,700,200,0,100,400]
[31842,"Bürg-Vöstenhof",4200,2200,2000,0,300,0,31842,"Bürg-Vöstenhof",4200,200,100,0,100,0,31842,"Bürg-Vöstenhof",4200,0,0,0,0,0,31842,"Bürg-Vöstenhof",4200,500,200,0,100,300]
[31843,"Warth (NÖ)",34200,15400,13200,0,2100,0,31843,"Warth (NÖ)",34200,4500,2800,100,1300,400,31843,"Warth (NÖ)",34200,1600,200,900,500,100,31843,"Warth (NÖ)",34200,1900,600,100,300,900]
[31844,"Wartmannstetten",32600,17600,15100,0,2500,0,31844,"Wartmannstetten",32600,1300,800,0,400,100,31844,"Wartmannstetten",32600,1100,100,400,400,100,31844,"Wartmannstetten",32600,1600,500,100,200,800]
[31845,"Willendorf",21100,10100,8700,0,1500,0,31845,"Willendorf",21100,1900,1200,0,600,200,31845,"Willendorf",21100,1700,100,900,500,100,31845,"Willendorf",21100,500,200,0,100,300]
[31846,"Wimpassing im Schwarzatale",88000,14300,12200,0,2100,0,31846,"Wimpassing im Schwarzatale",88000,2700,1700,0,800,200,31846,"Wimpassing im Schwarzatale",88000,53600,10300,15300,24300,3700,31846,"Wimpassing im Schwarzatale",88000,100,0,0,0,100]
[31847,"Würflach",36000,17400,14900,0,2500,0,31847,"Würflach",36000,5300,3200,100,1500,500,31847,"Würflach",36000,1800,200,900,500,200,31847,"Würflach",36000,700,200,0,100,400]
[31848,"Zöbern",34100,15200,13200,0,2000,0,31848,"Zöbern",34100,2200,1300,0,600,200,31848,"Zöbern",34100,2500,200,1400,700,200,31848,"Zöbern",34100,2700,800,200,400,1300]
[31849,"Höflein an der Hohen Wand",17900,9200,7900,0,1300,0,31849,"Höflein an der Hohen Wand",17900,1000,600,0,300,100,31849,"Höflein an der Hohen Wand",17900,1000,100,300,400,200,31849,"Höflein an der Hohen Wand",17900,400,100,0,100,200]
[31901,"Altlengbach",74500,33500,28700,0,4800,0,31901,"Altlengbach",74500,7100,4300,100,2000,600,31901,"Altlengbach",74500,9600,2100,3200,3700,700,31901,"Altlengbach",74500,2300,700,100,300,1100]
[31902,"Asperhofen",46400,22100,18600,0,3500,0,31902,"Asperhofen",46400,3000,1800,0,900,300,31902,"Asperhofen",46400,2100,300,400,1000,500,31902,"Asperhofen",46400,3700,1100,200,500,1800]
[31903,"Böheimkirchen",143900,48100,40900,0,7200,0,31903,"Böheimkirchen",143900,30000,18300,400,8700,2600,31903,"Böheimkirchen",143900,18200,2200,6400,7000,2500,31903,"Böheimkirchen",143900,5500,1600,400,800,2700]
[31904,"Brand-Laaben",27500,15300,13300,0,2000,0,31904,"Brand-Laaben",27500,1300,800,0,400,100,31904,"Brand-Laaben",27500,500,100,100,200,100,31904,"Brand-Laaben",27500,2200,700,100,300,1100]
[31905,"Eichgraben",89300,53000,45500,0,7500,0,31905,"Eichgraben",89300,4500,2800,100,1300,400,31905,"Eichgraben",89300,1600,300,500,700,200,31905,"Eichgraben",89300,200,100,0,0,100]
[31906,"Frankenfels",41500,19500,16900,0,2600,0,31906,"Frankenfels",41500,2600,1600,0,700,200,31906,"Frankenfels",41500,2300,400,1000,700,200,31906,"Frankenfels",41500,3700,1100,200,500,1800]
[31907,"Gerersdorf",23800,10100,8500,0,1600,0,31907,"Gerersdorf",23800,2200,1300,0,600,200,31907,"Gerersdorf",23800,1400,200,400,600,200,31907,"Gerersdorf",23800,2200,700,100,300,1100]
[31909,"Hofstetten-Grünau",49700,24000,20400,0,3600,0,31909,"Hofstetten-Grünau",49700,3800,2300,0,1100,300,31909,"Hofstetten-Grünau",49700,600,100,100,300,100,31909,"Hofstetten-Grünau",49700,3900,1200,300,600,1900]
[31910,"Hafnerbach",35900,16600,14100,0,2400,0,31910,"Hafnerbach",35900,1600,1000,0,500,100,31910,"Hafnerbach",35900,4300,700,2100,1300,300,31910,"Hafnerbach",35900,3200,900,200,500,1600]
[31911,"Haunoldstein",19900,10900,9100,0,1700,0,31911,"Haunoldstein",19900,700,400,0,200,100,31911,"Haunoldstein",19900,200,0,0,100,0,31911,"Haunoldstein",19900,1200,400,100,200,600]
[31912,"Herzogenburg",324800,71700,61300,0,10400,0,31912,"Herzogenburg",324800,18900,11500,200,5500,1700,31912,"Herzogenburg",324800,160900,12300,89900,53300,5300,31912,"Herzogenburg",324800,5000,1500,300,700,2500]
[31913,"Inzersdorf-Getzersdorf",49800,14500,12300,0,2200,0,31913,"Inzersdorf-Getzersdorf",49800,3100,1900,0,900,300,31913,"Inzersdorf-Getzersdorf",49800,16200,1900,7200,5800,1200,31913,"Inzersdorf-Getzersdorf",49800,2000,600,100,300,1000]
[31915,"Kapelln",29800,14200,12000,0,2300,0,31915,"Kapelln",29800,2400,1500,0,700,200,31915,"Kapelln",29800,500,100,100,200,100,31915,"Kapelln",29800,3000,900,200,400,1500]
[31916,"Karlstetten",47300,22400,19100,0,3300,0,31916,"Karlstetten",47300,2600,1600,0,700,200,31916,"Karlstetten",47300,3400,400,1200,1300,500,31916,"Karlstetten",47300,2600,800,200,400,1300]
[31917,"Kasten bei Böheimkirchen",33500,14100,12100,0,2100,0,31917,"Kasten bei Böheimkirchen",33500,1600,1000,0,500,100,31917,"Kasten bei Böheimkirchen",33500,5200,800,2300,1700,300,31917,"Kasten bei Böheimkirchen",33500,1800,500,100,300,900]
[31918,"Kirchberg an der Pielach",70700,31800,27300,0,4500,0,31918,"Kirchberg an der Pielach",70700,5400,3300,100,1600,500,31918,"Kirchberg an der Pielach",70700,5700,900,1600,2400,800,31918,"Kirchberg an der Pielach",70700,4400,1300,300,600,2200]
[31919,"Kirchstetten",42100,20400,17400,0,3100,0,31919,"Kirchstetten",42100,3800,2300,0,1100,300,31919,"Kirchstetten",42100,1900,500,600,600,200,31919,"Kirchstetten",42100,2100,600,100,300,1000]
[31920,"Loich",21900,6700,5900,0,800,0,31920,"Loich",21900,400,300,0,100,0,31920,"Loich",21900,8900,2500,3500,2300,600,31920,"Loich",21900,1300,400,100,200,700]
[31921,"Maria-Anzbach",60600,33700,28700,0,4900,0,31921,"Maria-Anzbach",60600,3800,2300,0,1100,300,31921,"Maria-Anzbach",60600,1400,200,200,700,300,31921,"Maria-Anzbach",60600,1400,400,100,200,700]
[31922,"Markersdorf-Haindorf",42600,19100,16100,0,2900,0,31922,"Markersdorf-Haindorf",42600,2900,1800,0,800,300,31922,"Markersdorf-Haindorf",42600,3600,300,1500,1200,500,31922,"Markersdorf-Haindorf",42600,2700,800,200,400,1300]
[31923,"Michelbach",18800,9900,8500,0,1400,0,31923,"Michelbach",18800,800,500,0,200,100,31923,"Michelbach",18800,300,100,100,100,0,31923,"Michelbach",18800,2000,600,100,300,1000]
[31925,"Neidling",36100,15800,13600,0,2300,0,31925,"Neidling",36100,1900,1100,0,500,200,31925,"Neidling",36100,4900,1700,800,1700,700,31925,"Neidling",36100,1900,600,100,300,1000]
[31926,"Neulengbach",190200,80600,68400,0,12200,0,31926,"Neulengbach",190200,21700,13300,300,6300,1900,31926,"Neulengbach",190200,17900,2700,5900,7400,1800,31926,"Neulengbach",190200,5800,1700,400,800,2900]
[31927,"Neustift-Innermanzing",34600,16900,14400,0,2600,0,31927,"Neustift-Innermanzing",34600,2900,1800,0,800,300,31927,"Neustift-Innermanzing",34600,1500,200,500,600,300,31927,"Neustift-Innermanzing",34600,1100,300,100,200,500]
[31928,"Nußdorf ob der Traisen",120300,17100,14400,0,2700,0,31928,"Nußdorf ob der Traisen",120300,3000,1900,0,900,300,31928,"Nußdorf ob der Traisen",120300,76800,3800,47500,21400,4100,31928,"Nußdorf ob der Traisen",120300,1900,600,100,300,900]
[31929,"Ober-Grafendorf",113700,41000,35000,0,6000,0,31929,"Ober-Grafendorf",113700,8700,5300,100,2500,800,31929,"Ober-Grafendorf",113700,28200,5200,8400,11400,3200,31929,"Ober-Grafendorf",113700,3200,900,200,500,1600]
[31930,"Obritzberg-Rust",54400,23700,20300,0,3400,0,31930,"Obritzberg-Rust",54400,3000,1800,0,900,300,31930,"Obritzberg-Rust",54400,4600,400,2500,1400,400,31930,"Obritzberg-Rust",54400,5800,1700,400,800,2900]
[31932,"Prinzersdorf",35600,14600,12300,0,2200,0,31932,"Prinzersdorf",35600,4100,2500,0,1200,400,31932,"Prinzersdorf",35600,4900,500,2500,1500,400,31932,"Prinzersdorf",35600,400,100,0,100,200]
[31934,"Pyhra",78500,37800,32400,0,5400,0,31934,"Pyhra",78500,5500,3400,100,1600,500,31934,"Pyhra",78500,5100,1400,1800,1500,400,31934,"Pyhra",78500,6600,2000,400,900,3300]
[31935,"Rabenstein an der Pielach",50100,24900,21400,0,3600,0,31935,"Rabenstein an der Pielach",50100,2700,1700,0,800,200,31935,"Rabenstein an der Pielach",50100,2800,400,1000,1000,300,31935,"Rabenstein an der Pielach",50100,2900,900,200,400,1400]
[31938,"St. Margarethen an der Sierning",21600,10900,9300,0,1600,0,31938,"St. Margarethen an der Sierning",21600,1500,900,0,400,100,31938,"St. Margarethen an der Sierning",21600,100,0,0,0,0,31938,"St. Margarethen an der Sierning",21600,2300,700,100,300,1100]
[31939,"Schwarzenbach an der Pielach",8500,4400,3900,0,500,0,31939,"Schwarzenbach an der Pielach",8500,300,200,0,100,0,31939,"Schwarzenbach an der Pielach",8500,100,0,0,100,0,31939,"Schwarzenbach an der Pielach",8500,1300,400,100,200,700]
[31940,"Statzendorf",36800,13600,11600,0,2000,0,31940,"Statzendorf",36800,2000,1200,0,600,200,31940,"Statzendorf",36800,10200,2700,3800,3000,600,31940,"Statzendorf",36800,1900,600,100,300,900]
[31941,"Stössing",19600,9000,7800,0,1200,0,31941,"Stössing",19600,1100,700,0,300,100,31941,"Stössing",19600,1000,100,300,400,200,31941,"Stössing",19600,2500,700,200,400,1200]
[31943,"Traismauer",130600,53600,45600,0,8000,0,31943,"Traismauer",130600,11800,7200,100,3400,1000,31943,"Traismauer",130600,16200,1700,8300,4900,1300,31943,"Traismauer",130600,4600,1400,300,700,2300]
[31945,"Weinburg",257600,11600,9800,0,1800,0,31945,"Weinburg",257600,1900,1200,0,600,200,31945,"Weinburg",257600,224300,12000,111500,98900,1900,31945,"Weinburg",257600,1000,300,100,100,500]
[31946,"Perschling",32000,14400,12200,0,2200,0,31946,"Perschling",32000,2400,1500,0,700,200,31946,"Perschling",32000,1600,400,500,600,200,31946,"Perschling",32000,3400,1000,200,500,1700]
[31947,"Wilhelmsburg",155300,57700,49400,0,8400,0,31947,"Wilhelmsburg",155300,14600,8900,200,4200,1300,31947,"Wilhelmsburg",155300,31700,2100,20800,6200,2600,31947,"Wilhelmsburg",155300,4100,1200,300,600,2000]
[31948,"Wölbling",71800,24800,21200,0,3600,0,31948,"Wölbling",71800,7200,4400,100,2100,600,31948,"Wölbling",71800,20400,800,15100,2900,1600,31948,"Wölbling",71800,2400,700,200,300,1200]
[31949,"Gablitz",95200,51900,44100,0,7800,0,31949,"Gablitz",95200,7000,4300,100,2000,600,31949,"Gablitz",95200,3900,600,900,1700,600,31949,"Gablitz",95200,400,100,0,100,200]
[31950,"Mauerbach",70900,39200,33300,0,6000,0,31950,"Mauerbach",70900,4900,3000,100,1400,400,31950,"Mauerbach",70900,2900,400,1200,1100,200,31950,"Mauerbach",70900,400,100,0,100,200]
[31951,"Pressbaum",178000,106600,90600,0,16000,0,31951,"Pressbaum",178000,13500,8200,200,3900,1200,31951,"Pressbaum",178000,4500,900,1500,1600,500,31951,"Pressbaum",178000,1100,300,100,200,600]
[31952,"Purkersdorf",176100,79700,66500,0,13200,0,31952,"Purkersdorf",176100,21300,13000,300,6100,1900,31952,"Purkersdorf",176100,6300,1000,2000,2500,700,31952,"Purkersdorf",176100,400,100,0,100,200]
[31953,"Tullnerbach",63100,30800,26200,0,4600,0,31953,"Tullnerbach",63100,7100,4300,100,2100,600,31953,"Tullnerbach",63100,3500,300,1900,1000,300,31953,"Tullnerbach",63100,600,200,0,100,300]
[31954,"Wolfsgraben",40200,24600,21000,0,3600,0,31954,"Wolfsgraben",40200,2400,1400,0,700,200,31954,"Wolfsgraben",40200,800,100,100,400,200,31954,"Wolfsgraben",40200,600,200,0,100,300]
[32001,"Gaming",94200,39900,35100,0,4800,0,32001,"Gaming",94200,5300,3300,100,1500,500,32001,"Gaming",94200,20300,4600,6800,7400,1400,32001,"Gaming",94200,4700,1400,300,700,2300]
[32002,"Göstling an der Ybbs",57200,25900,22700,0,3200,0,32002,"Göstling an der Ybbs",57200,6200,3800,100,1800,500,32002,"Göstling an der Ybbs",57200,3200,400,500,1600,700,32002,"Göstling an der Ybbs",57200,3400,1000,200,500,1700]
[32003,"Gresten",149400,21700,18800,0,2900,0,32003,"Gresten",149400,4400,2700,100,1300,400,32003,"Gresten",149400,95800,8800,51700,30400,5000,32003,"Gresten",149400,200,100,0,0,100]
[32004,"Gresten-Land",33800,15600,13500,0,2100,0,32004,"Gresten-Land",33800,500,300,0,100,0,32004,"Gresten-Land",33800,3100,200,1400,1000,600,32004,"Gresten-Land",33800,4400,1300,300,600,2200]
[32005,"Lunz am See",54200,26700,23700,0,3000,0,32005,"Lunz am See",54200,3600,2200,0,1000,300,32005,"Lunz am See",54200,7100,1800,2400,2200,600,32005,"Lunz am See",54200,2600,800,200,400,1300]
[32006,"Oberndorf an der Melk",62100,28400,24500,0,3900,0,32006,"Oberndorf an der Melk",62100,3500,2100,0,1000,300,32006,"Oberndorf an der Melk",62100,4700,1000,1900,1400,400,32006,"Oberndorf an der Melk",62100,5900,1700,400,800,2900]
[32007,"Puchenstuben",8600,4600,4200,0,500,0,32007,"Puchenstuben",8600,600,400,0,200,100,32007,"Puchenstuben",8600,100,0,0,0,0,32007,"Puchenstuben",8600,1100,300,100,200,500]
[32008,"Purgstall an der Erlauf",144800,55400,47700,0,7700,0,32008,"Purgstall an der Erlauf",144800,17500,10700,200,5100,1500,32008,"Purgstall an der Erlauf",144800,19700,3300,7500,6800,2100,32008,"Purgstall an der Erlauf",144800,6900,2000,400,1000,3400]
[32009,"Randegg",63700,19700,17100,0,2600,0,32009,"Randegg",63700,2700,1700,0,800,200,32009,"Randegg",63700,20600,5900,8200,5300,1300,32009,"Randegg",63700,4600,1400,300,700,2300]
[32010,"Reinsberg",21200,10200,8800,0,1400,0,32010,"Reinsberg",21200,800,500,0,200,100,32010,"Reinsberg",21200,1200,100,700,400,100,32010,"Reinsberg",21200,2500,700,200,400,1300]
[32011,"St. Anton an der Jeßnitz",24900,12600,11100,0,1600,0,32011,"St. Anton an der Jeßnitz",24900,700,400,0,200,100,32011,"St. Anton an der Jeßnitz",24900,300,100,100,100,0,32011,"St. Anton an der Jeßnitz",24900,3100,900,200,500,1500]
[32012,"St. Georgen an der Leys",24200,11000,9500,0,1500,0,32012,"St. Georgen an der Leys",24200,1100,700,0,300,100,32012,"St. Georgen an der Leys",24200,1100,200,200,500,200,32012,"St. Georgen an der Leys",24200,2500,700,200,400,1200]
[32013,"Scheibbs",132000,43500,37600,0,5900,0,32013,"Scheibbs",132000,18900,11500,200,5500,1700,32013,"Scheibbs",132000,24200,3900,7700,9600,2900,32013,"Scheibbs",132000,3400,1000,200,500,1700]
[32014,"Steinakirchen am Forst",55200,26400,23000,0,3500,0,32014,"Steinakirchen am Forst",55200,3900,2400,0,1100,300,32014,"Steinakirchen am Forst",55200,3900,600,1500,1300,400,32014,"Steinakirchen am Forst",55200,4200,1200,300,600,2100]
[32015,"Wang",25700,12500,10700,0,1800,0,32015,"Wang",25700,1100,700,0,300,100,32015,"Wang",25700,600,100,200,200,100,32015,"Wang",25700,2200,700,100,300,1100]
[32016,"Wieselburg",309200,39300,33100,0,6200,0,32016,"Wieselburg",309200,18600,11300,200,5400,1600,32016,"Wieselburg",309200,197300,43200,77200,67500,9400,32016,"Wieselburg",309200,400,100,0,100,200]
[32017,"Wieselburg-Land",100500,33200,28500,0,4700,0,32017,"Wieselburg-Land",100500,4600,2800,100,1300,400,32017,"Wieselburg-Land",100500,24200,2500,11200,7500,3100,32017,"Wieselburg-Land",100500,4200,1200,300,600,2100]
[32018,"Wolfpassing",56600,16600,14200,0,2500,0,32018,"Wolfpassing",56600,2300,1400,0,700,200,32018,"Wolfpassing",56600,22500,6000,9500,5700,1300,32018,"Wolfpassing",56600,2700,800,200,400,1300]
[32101,"Absdorf",43500,18900,15900,0,3000,0,32101,"Absdorf",43500,5900,3600,100,1700,500,32101,"Absdorf",43500,2200,200,700,900,400,32101,"Absdorf",43500,2300,700,100,300,1100]
[32104,"Atzenbrugg",69600,28200,23800,0,4400,0,32104,"Atzenbrugg",69600,5600,3400,100,1600,500,32104,"Atzenbrugg",69600,9800,1100,3700,3600,1400,32104,"Atzenbrugg",69600,3800,1100,200,500,1900]
[32106,"Fels am Wagram",57900,24300,20600,0,3700,0,32106,"Fels am Wagram",57900,4600,2800,100,1300,400,32106,"Fels am Wagram",57900,6600,400,3700,1700,900,32106,"Fels am Wagram",57900,6000,1800,400,900,3000]
[32107,"Grafenwörth",72600,30800,26100,0,4700,0,32107,"Grafenwörth",72600,7800,4700,100,2200,700,32107,"Grafenwörth",72600,5500,700,2200,1900,700,32107,"Grafenwörth",72600,5900,1800,400,900,2900]
[32109,"Großriedenthal",22900,11200,9700,0,1500,0,32109,"Großriedenthal",22900,900,500,0,300,100,32109,"Großriedenthal",22900,400,0,100,200,100,32109,"Großriedenthal",22900,3900,1200,300,600,1900]
[32110,"Großweikersdorf",77800,33800,28700,0,5100,0,32110,"Großweikersdorf",77800,10000,6100,100,2900,900,32110,"Großweikersdorf",77800,3900,300,2000,1200,500,32110,"Großweikersdorf",77800,7200,2100,500,1000,3500]
[32112,"Judenau-Baumgarten",44800,21500,18000,0,3500,0,32112,"Judenau-Baumgarten",44800,3500,2200,0,1000,300,32112,"Judenau-Baumgarten",44800,3200,700,900,1200,400,32112,"Judenau-Baumgarten",44800,1600,500,100,200,800]
[32114,"Kirchberg am Wagram",91800,37700,32100,0,5500,0,32114,"Kirchberg am Wagram",91800,7700,4700,100,2200,700,32114,"Kirchberg am Wagram",91800,11200,900,6600,2700,1000,32114,"Kirchberg am Wagram",91800,9300,2700,600,1300,4600]
[32115,"Königsbrunn am Wagram",35900,14800,12700,0,2100,0,32115,"Königsbrunn am Wagram",35900,2400,1400,0,700,200,32115,"Königsbrunn am Wagram",35900,3900,400,1900,1200,200,32115,"Königsbrunn am Wagram",35900,4000,1200,300,600,2000]
[32116,"Königstetten",47800,22200,18500,0,3700,0,32116,"Königstetten",47800,7000,4300,100,2000,600,32116,"Königstetten",47800,1600,200,200,800,400,32116,"Königstetten",47800,1000,300,100,100,500]
[32119,"Langenrohr",54100,20900,17500,0,3400,0,32119,"Langenrohr",54100,8900,5400,100,2600,800,32119,"Langenrohr",54100,900,100,300,300,100,32119,"Langenrohr",54100,2700,800,200,400,1300]
[32120,"Michelhausen",271000,30300,25400,0,4800,0,32120,"Michelhausen",271000,3900,2400,0,1100,300,32120,"Michelhausen",271000,155000,5100,82500,43200,24200,32120,"Michelhausen",271000,4500,1300,300,600,2200]
[32131,"Sieghartskirchen",175400,76600,64900,0,11600,0,32131,"Sieghartskirchen",175400,11800,7200,100,3400,1000,32131,"Sieghartskirchen",175400,24700,1800,14600,6500,1800,32131,"Sieghartskirchen",175400,5700,1700,400,800,2800]
[32132,"Sitzenberg-Reidling",53200,23100,19700,0,3500,0,32132,"Sitzenberg-Reidling",53200,4900,3000,100,1400,400,32132,"Sitzenberg-Reidling",53200,6600,1100,3200,1900,400,32132,"Sitzenberg-Reidling",53200,2500,700,200,400,1200]
[32134,"Tulbing",67400,33600,28600,0,5000,0,32134,"Tulbing",67400,3200,1900,0,900,300,32134,"Tulbing",67400,9600,900,5700,2500,600,32134,"Tulbing",67400,1500,400,100,200,700]
[32135,"Tulln an der Donau",675000,137200,114600,0,22700,0,32135,"Tulln an der Donau",675000,127600,77900,1600,36900,11200,32135,"Tulln an der Donau",675000,235100,16600,149400,56100,13000,32135,"Tulln an der Donau",675000,6000,1800,400,900,3000]
[32139,"Würmla",35800,14600,12300,0,2300,0,32139,"Würmla",35800,1200,700,0,400,100,32139,"Würmla",35800,6600,1200,2000,2900,500,32139,"Würmla",35800,2700,800,200,400,1300]
[32140,"Zeiselmauer-Wolfpassing",44300,23900,20300,0,3600,0,32140,"Zeiselmauer-Wolfpassing",44300,2600,1600,0,800,200,32140,"Zeiselmauer-Wolfpassing",44300,3000,700,900,1100,200,32140,"Zeiselmauer-Wolfpassing",44300,700,200,0,100,400]
[32141,"Zwentendorf an der Donau",987700,38100,32200,0,5900,0,32141,"Zwentendorf an der Donau",987700,11000,6700,100,3200,1000,32141,"Zwentendorf an der Donau",987700,902100,73000,525000,299600,4300,32141,"Zwentendorf an der Donau",987700,4100,1200,300,600,2000]
[32142,"St. Andrä-Wördern",158800,81100,68600,0,12500,0,32142,"St. Andrä-Wördern",158800,11000,6700,100,3200,1000,32142,"St. Andrä-Wördern",158800,13900,1600,7200,3900,1100,32142,"St. Andrä-Wördern",158800,1200,300,100,200,600]
[32143,"Muckendorf-Wipfing",26000,14700,12200,0,2500,0,32143,"Muckendorf-Wipfing",26000,1200,700,0,300,100,32143,"Muckendorf-Wipfing",26000,600,100,100,300,100,32143,"Muckendorf-Wipfing",26000,500,200,0,100,300]
[32144,"Klosterneuburg",608800,302100,254300,0,47900,0,32144,"Klosterneuburg",608800,73000,44600,900,21100,6400,32144,"Klosterneuburg",608800,30100,4200,12900,10300,2600,32144,"Klosterneuburg",608800,1900,600,100,300,1000]
[32202,"Dietmanns",23700,13500,12000,0,1600,0,32202,"Dietmanns",23700,800,500,0,200,100,32202,"Dietmanns",23700,2700,300,1300,1100,100,32202,"Dietmanns",23700,300,100,0,0,200]
[32203,"Dobersberg",53800,21600,19100,0,2500,0,32203,"Dobersberg",53800,2500,1500,0,700,200,32203,"Dobersberg",53800,11500,3000,4300,3400,900,32203,"Dobersberg",53800,6000,1800,400,900,2900]
[32206,"Gastern",52900,18000,16000,0,2000,0,32206,"Gastern",52900,900,600,0,300,100,32206,"Gastern",52900,21200,1500,13600,5000,1100,32206,"Gastern",52900,3200,1000,200,500,1600]
[32207,"Groß-Siegharts",97500,36700,32500,0,4200,0,32207,"Groß-Siegharts",97500,5000,3100,100,1500,400,32207,"Groß-Siegharts",97500,29600,7000,11200,9800,1600,32207,"Groß-Siegharts",97500,4500,1300,300,600,2200]
[32209,"Karlstein an der Thaya",55600,21000,18600,0,2400,0,32209,"Karlstein an der Thaya",55600,1800,1100,0,500,200,32209,"Karlstein an der Thaya",55600,13400,4600,2200,4900,1700,32209,"Karlstein an der Thaya",55600,5600,1600,400,800,2800]
[32210,"Kautzen",32700,17200,15300,0,1900,0,32210,"Kautzen",32700,900,500,0,200,100,32210,"Kautzen",32700,3100,200,1600,1100,200,32210,"Kautzen",32700,3900,1100,300,600,1900]
[32212,"Ludweis-Aigen",27200,13600,12100,0,1500,0,32212,"Ludweis-Aigen",27200,600,300,0,200,0,32212,"Ludweis-Aigen",27200,700,200,300,200,100,32212,"Ludweis-Aigen",27200,6300,1900,400,900,3100]
[32214,"Pfaffenschlag bei Waidhofen a.d.Thaya",24400,13000,11500,0,1500,0,32214,"Pfaffenschlag bei Waidhofen a.d.Thaya",24400,600,400,0,200,100,32214,"Pfaffenschlag bei Waidhofen a.d.Thaya",24400,1700,200,900,500,100,32214,"Pfaffenschlag bei Waidhofen a.d.Thaya",24400,3200,900,200,500,1600]
[32216,"Raabs an der Thaya",102000,42000,37300,0,4700,0,32216,"Raabs an der Thaya",102000,5900,3600,100,1700,500,32216,"Raabs an der Thaya",102000,13500,1500,6200,4000,1800,32216,"Raabs an der Thaya",102000,17000,5000,1100,2500,8400]
[32217,"Thaya",35700,19300,17000,0,2300,0,32217,"Thaya",35700,1000,600,0,300,100,32217,"Thaya",35700,1200,100,600,400,100,32217,"Thaya",35700,5400,1600,300,800,2700]
[32219,"Vitis",103000,34000,29800,0,4200,0,32219,"Vitis",103000,7200,4400,100,2100,600,32219,"Vitis",103000,32500,3600,19300,7700,1900,32219,"Vitis",103000,7000,2100,500,1000,3500]
[32220,"Waidhofen an der Thaya",210700,67800,59400,0,8400,0,32220,"Waidhofen an der Thaya",210700,33400,20400,400,9600,2900,32220,"Waidhofen an der Thaya",210700,47100,9700,14200,19500,3600,32220,"Waidhofen an der Thaya",210700,5200,1500,300,800,2600]
[32221,"Waidhofen an der Thaya-Land",26000,13800,12100,0,1700,0,32221,"Waidhofen an der Thaya-Land",26000,300,200,0,100,0,32221,"Waidhofen an der Thaya-Land",26000,300,100,100,100,0,32221,"Waidhofen an der Thaya-Land",26000,4100,1200,300,600,2000]
[32222,"Waldkirchen an der Thaya",18200,9200,8200,0,1000,0,32222,"Waldkirchen an der Thaya",18200,500,300,0,100,0,32222,"Waldkirchen an der Thaya",18200,0,0,0,0,0,32222,"Waldkirchen an der Thaya",18200,5200,1500,300,700,2600]
[32223,"Windigsteig",38600,13400,11900,0,1500,0,32223,"Windigsteig",38600,1000,600,0,300,100,32223,"Windigsteig",38600,14300,1100,7000,6100,200,32223,"Windigsteig",38600,3300,1000,200,500,1700]
[32301,"Bad Fischau-Brunn",93600,35000,29600,0,5400,0,32301,"Bad Fischau-Brunn",93600,8700,5300,100,2500,800,32301,"Bad Fischau-Brunn",93600,20000,800,12600,4200,2300,32301,"Bad Fischau-Brunn",93600,1300,400,100,200,700]
[32302,"Bad Schönau",37600,7100,6000,0,1000,0,32302,"Bad Schönau",37600,7700,4700,100,2200,700,32302,"Bad Schönau",37600,6900,900,700,3600,1800,32302,"Bad Schönau",37600,1300,400,100,200,600]
[32304,"Ebenfurth",99800,25700,21500,0,4200,0,32304,"Ebenfurth",99800,27400,16800,300,7900,2400,32304,"Ebenfurth",99800,8400,1100,3300,3400,600,32304,"Ebenfurth",99800,1600,500,100,200,800]
[32305,"Eggendorf",132400,45600,38400,0,7200,0,32305,"Eggendorf",132400,3800,2300,0,1100,300,32305,"Eggendorf",132400,51800,3700,31400,15300,1400,32305,"Eggendorf",132400,1700,500,100,300,900]
[32306,"Bad Erlach",95500,25500,21400,0,4100,0,32306,"Bad Erlach",95500,8200,5000,100,2400,700,32306,"Bad Erlach",95500,38500,1400,28700,5400,3000,32306,"Bad Erlach",95500,400,100,0,100,200]
[32307,"Felixdorf",75800,38500,32500,0,6000,0,32307,"Felixdorf",75800,7900,4800,100,2300,700,32307,"Felixdorf",75800,2400,400,600,1000,400,32307,"Felixdorf",75800,0,0,0,0,0]
[32308,"Gutenstein",42900,18000,15900,0,2100,0,32308,"Gutenstein",42900,1800,1100,0,500,200,32308,"Gutenstein",42900,12400,1800,6200,3500,1000,32308,"Gutenstein",42900,1500,500,100,200,800]
[32309,"Hochneukirchen-Gschaidt",33700,17900,15600,0,2300,0,32309,"Hochneukirchen-Gschaidt",33700,1300,800,0,400,100,32309,"Hochneukirchen-Gschaidt",33700,1000,100,500,300,100,32309,"Hochneukirchen-Gschaidt",33700,2800,800,200,400,1400]
[32310,"Hochwolkersdorf",21100,11700,10200,0,1500,0,32310,"Hochwolkersdorf",21100,900,500,0,300,100,32310,"Hochwolkersdorf",21100,200,0,0,100,0,32310,"Hochwolkersdorf",21100,1500,500,100,200,800]
[32311,"Hohe Wand",32200,16900,14600,0,2400,0,32311,"Hohe Wand",32200,1900,1200,0,600,200,32311,"Hohe Wand",32200,1000,100,100,500,200,32311,"Hohe Wand",32200,1500,400,100,200,700]
[32312,"Hollenthon",20700,10800,9300,0,1400,0,32312,"Hollenthon",20700,1100,600,0,300,100,32312,"Hollenthon",20700,0,0,0,0,0,32312,"Hollenthon",20700,2000,600,100,300,1000]
[32313,"Katzelsdorf",59200,30000,25100,0,4900,0,32313,"Katzelsdorf",59200,5300,3200,100,1500,500,32313,"Katzelsdorf",59200,1400,200,400,600,200,32313,"Katzelsdorf",59200,1000,300,100,200,500]
[32314,"Kirchschlag in der Buckligen Welt",68400,29600,25500,0,4100,0,32314,"Kirchschlag in der Buckligen Welt",68400,6000,3600,100,1700,500,32314,"Kirchschlag in der Buckligen Welt",68400,5600,600,2700,1800,500,32314,"Kirchschlag in der Buckligen Welt",68400,5500,1600,400,800,2700]
[32315,"Krumbach (NÖ)",69400,26200,22600,0,3600,0,32315,"Krumbach (NÖ)",69400,5900,3600,100,1700,500,32315,"Krumbach (NÖ)",69400,12200,1000,6400,3700,1200,32315,"Krumbach (NÖ)",69400,3600,1100,200,500,1800]
[32316,"Lanzenkirchen",79300,35500,30000,0,5500,0,32316,"Lanzenkirchen",79300,8000,4900,100,2300,700,32316,"Lanzenkirchen",79300,6800,1400,1700,2700,1100,32316,"Lanzenkirchen",79300,1800,500,100,300,900]
[32317,"Lichtenegg",26500,12100,10600,0,1500,0,32317,"Lichtenegg",26500,1400,900,0,400,100,32317,"Lichtenegg",26500,1800,400,800,500,100,32317,"Lichtenegg",26500,3100,900,200,400,1500]
[32318,"Lichtenwörth",62000,25900,22000,0,4000,0,32318,"Lichtenwörth",62000,4000,2400,0,1100,300,32318,"Lichtenwörth",62000,10200,1500,5000,3000,800,32318,"Lichtenwörth",62000,2600,800,200,400,1300]
[32319,"Markt Piesting",64600,30000,25700,0,4300,0,32319,"Markt Piesting",64600,4400,2700,100,1300,400,32319,"Markt Piesting",64600,7500,1400,1800,3300,1000,32319,"Markt Piesting",64600,800,300,100,100,400]
[32320,"Matzendorf-Hölles",36800,20000,16900,0,3100,0,32320,"Matzendorf-Hölles",36800,2000,1200,0,600,200,32320,"Matzendorf-Hölles",36800,1200,200,300,500,100,32320,"Matzendorf-Hölles",36800,1000,300,100,100,500]
[32321,"Miesenbach",20200,8600,7600,0,1000,0,32321,"Miesenbach",20200,800,500,0,200,100,32321,"Miesenbach",20200,4100,1200,1600,1100,300,32321,"Miesenbach",20200,1400,400,100,200,700]
[32322,"Muggendorf",13200,6800,5900,0,800,0,32322,"Muggendorf",13200,900,600,0,300,100,32322,"Muggendorf",13200,500,0,200,200,100,32322,"Muggendorf",13200,900,300,100,100,400]
[32323,"Pernitz",835700,28200,24600,0,3600,0,32323,"Pernitz",835700,5900,3600,100,1700,500,32323,"Pernitz",835700,777700,32300,563100,178700,3700,32323,"Pernitz",835700,300,100,0,0,200]
[32324,"Rohr im Gebirge",19800,7000,6200,0,800,0,32324,"Rohr im Gebirge",19800,800,500,0,200,100,32324,"Rohr im Gebirge",19800,7100,2000,2800,1800,400,32324,"Rohr im Gebirge",19800,1500,400,100,200,700]
[32325,"Bromberg",30900,12700,11000,0,1700,0,32325,"Bromberg",30900,900,500,0,300,100,32325,"Bromberg",30900,5500,1400,2100,1600,500,32325,"Bromberg",30900,2800,800,200,400,1400]
[32326,"Schwarzenbach",19400,9700,8400,0,1400,0,32326,"Schwarzenbach",19400,900,600,0,300,100,32326,"Schwarzenbach",19400,900,100,300,400,200,32326,"Schwarzenbach",19400,1500,500,100,200,800]
[32327,"Sollenau",188000,45400,38400,0,7000,0,32327,"Sollenau",188000,10200,6200,100,2900,900,32327,"Sollenau",188000,90400,6100,59400,19700,5200,32327,"Sollenau",188000,1100,300,100,200,500]
[32330,"Theresienfeld",65700,30700,25500,0,5200,0,32330,"Theresienfeld",65700,5400,3300,100,1600,500,32330,"Theresienfeld",65700,5700,1100,1500,2400,700,32330,"Theresienfeld",65700,1400,400,100,200,700]
[32331,"Waidmannsfeld",29700,18300,16000,0,2400,0,32331,"Waidmannsfeld",29700,1400,900,0,400,100,32331,"Waidmannsfeld",29700,500,100,100,200,100,32331,"Waidmannsfeld",29700,600,200,0,100,300]
[32332,"Waldegg",196500,22500,19600,0,2900,0,32332,"Waldegg",196500,4500,2800,100,1300,400,32332,"Waldegg",196500,143700,10000,97800,25300,10600,32332,"Waldegg",196500,700,200,0,100,300]
[32333,"Walpersbach",21400,12100,10300,0,1800,0,32333,"Walpersbach",21400,700,400,0,200,100,32333,"Walpersbach",21400,700,100,300,200,100,32333,"Walpersbach",21400,1000,300,100,100,500]
[32334,"Weikersdorf am Steinfelde",78100,9600,8100,0,1500,0,32334,"Weikersdorf am Steinfelde",78100,2600,1600,0,700,200,32334,"Weikersdorf am Steinfelde",78100,48900,7200,19700,20400,1600,32334,"Weikersdorf am Steinfelde",78100,1200,400,100,200,600]
[32335,"Wiesmath",33700,16600,14500,0,2100,0,32335,"Wiesmath",33700,2200,1300,0,600,200,32335,"Wiesmath",33700,700,100,100,300,100,32335,"Wiesmath",33700,3100,900,200,400,1500]
[32336,"Winzendorf-Muthmannsdorf",48400,20800,17900,0,3000,0,32336,"Winzendorf-Muthmannsdorf",48400,3800,2300,0,1100,300,32336,"Winzendorf-Muthmannsdorf",48400,9600,800,5400,3300,100,32336,"Winzendorf-Muthmannsdorf",48400,1000,300,100,100,500]
[32337,"Wöllersdorf-Steinabrückl",209000,41400,35200,0,6200,0,32337,"Wöllersdorf-Steinabrückl",209000,12400,7600,200,3600,1100,32337,"Wöllersdorf-Steinabrückl",209000,113900,6700,76900,21000,9200,32337,"Wöllersdorf-Steinabrückl",209000,600,200,0,100,300]
[32338,"Zillingdorf",39200,20400,17200,0,3200,0,32338,"Zillingdorf",39200,1600,1000,0,500,100,32338,"Zillingdorf",39200,800,200,300,300,100,32338,"Zillingdorf",39200,2500,700,200,400,1200]
[32501,"Allentsteig",76500,26200,23300,0,2900,0,32501,"Allentsteig",76500,21300,13000,300,6100,1900,32501,"Allentsteig",76500,4100,300,2000,1300,500,32501,"Allentsteig",76500,4800,1400,300,700,2400]
[32502,"Arbesbach",44100,20200,17900,0,2300,0,32502,"Arbesbach",44100,2200,1300,0,600,200,32502,"Arbesbach",44100,4600,1200,1900,1200,300,32502,"Arbesbach",44100,4800,1400,300,700,2400]
[32503,"Bärnkopf",9000,4700,4200,0,500,0,32503,"Bärnkopf",9000,400,200,0,100,0,32503,"Bärnkopf",9000,1000,300,400,300,100,32503,"Bärnkopf",9000,600,200,0,100,300]
[32504,"Echsenbach",77600,14800,13000,0,1800,0,32504,"Echsenbach",77600,900,600,0,300,100,32504,"Echsenbach",77600,46900,13600,18600,11900,2800,32504,"Echsenbach",77600,3100,900,200,400,1500]
[32505,"Göpfritz an der Wild",51200,22900,20200,0,2700,0,32505,"Göpfritz an der Wild",51200,2700,1700,0,800,200,32505,"Göpfritz an der Wild",51200,7000,1800,2700,2000,600,32505,"Göpfritz an der Wild",51200,6400,1900,400,900,3200]
[32506,"Grafenschlag",25400,11300,10000,0,1300,0,32506,"Grafenschlag",25400,1300,800,0,400,100,32506,"Grafenschlag",25400,3300,400,900,1400,600,32506,"Grafenschlag",25400,3100,900,200,500,1600]
[32508,"Groß Gerungs",137700,57300,50600,0,6800,0,32508,"Groß Gerungs",137700,8800,5400,100,2500,800,32508,"Groß Gerungs",137700,26200,7000,9700,7500,2100,32508,"Groß Gerungs",137700,10100,3000,700,1500,5000]
[32509,"Großgöttfritz",73900,15500,13500,0,1900,0,32509,"Großgöttfritz",73900,1100,700,0,300,100,32509,"Großgöttfritz",73900,39700,2600,25900,9200,2100,32509,"Großgöttfritz",73900,4000,1200,300,600,2000]
[32511,"Gutenbrunn",14100,7900,7000,0,900,0,32511,"Gutenbrunn",14100,500,300,0,200,0,32511,"Gutenbrunn",14100,1600,400,700,400,100,32511,"Gutenbrunn",14100,500,200,0,100,300]
[32514,"Kirchschlag",16700,8500,7500,0,1000,0,32514,"Kirchschlag",16700,800,500,0,200,100,32514,"Kirchschlag",16700,800,100,400,200,100,32514,"Kirchschlag",16700,2600,800,200,400,1300]
[32515,"Kottes-Purk",59700,20100,17700,0,2400,0,32515,"Kottes-Purk",59700,1600,1000,0,500,100,32515,"Kottes-Purk",59700,17000,1200,8300,4900,2700,32515,"Kottes-Purk",59700,5800,1700,400,800,2900]
[32516,"Langschlag",40300,21500,19000,0,2500,0,32516,"Langschlag",40300,2100,1300,0,600,200,32516,"Langschlag",40300,600,100,200,200,100,32516,"Langschlag",40300,4400,1300,300,600,2200]
[32517,"Martinsberg",36600,14700,13100,0,1600,0,32517,"Martinsberg",36600,1200,800,0,400,100,32517,"Martinsberg",36600,9200,1400,4700,2400,700,32517,"Martinsberg",36600,3300,1000,200,500,1600]
[32518,"Ottenschlag",35500,14900,13200,0,1700,0,32518,"Ottenschlag",35500,5900,3600,100,1700,500,32518,"Ottenschlag",35500,3200,600,700,1300,600,32518,"Ottenschlag",35500,1800,500,100,300,900]
[32519,"Altmelon",22100,11800,10400,0,1400,0,32519,"Altmelon",22100,600,300,0,200,0,32519,"Altmelon",22100,2000,300,1100,500,100,32519,"Altmelon",22100,2000,600,100,300,1000]
[32520,"Pölla",27300,13900,12400,0,1600,0,32520,"Pölla",27300,1000,600,0,300,100,32520,"Pölla",27300,100,0,0,0,0,32520,"Pölla",27300,6000,1800,400,900,3000]
[32521,"Rappottenstein",70000,23200,20500,0,2700,0,32521,"Rappottenstein",70000,1800,1100,0,500,200,32521,"Rappottenstein",70000,27400,4200,15800,5500,2000,32521,"Rappottenstein",70000,4200,1200,300,600,2100]
[32522,"Sallingberg",33100,17100,15100,0,1900,0,32522,"Sallingberg",33100,1400,800,0,400,100,32522,"Sallingberg",33100,1700,200,600,600,300,32522,"Sallingberg",33100,3900,1200,300,600,1900]
[32523,"Schönbach",36800,10800,9600,0,1200,0,32523,"Schönbach",36800,700,500,0,200,100,32523,"Schönbach",36800,16300,4400,5900,4700,1300,32523,"Schönbach",36800,2200,600,100,300,1100]
[32524,"Schwarzenau",38000,20300,18000,0,2400,0,32524,"Schwarzenau",38000,3300,2000,0,1000,300,32524,"Schwarzenau",38000,500,100,200,200,100,32524,"Schwarzenau",38000,3800,1100,200,500,1900]
[32525,"Schweiggers",50000,24600,21700,0,2900,0,32525,"Schweiggers",50000,2200,1300,0,600,200,32525,"Schweiggers",50000,2300,300,800,900,300,32525,"Schweiggers",50000,7600,2200,500,1100,3700]
[32528,"Bad Traunstein",27100,13900,12300,0,1600,0,32528,"Bad Traunstein",27100,2000,1200,0,600,200,32528,"Bad Traunstein",27100,800,200,300,200,0,32528,"Bad Traunstein",27100,3400,1000,200,500,1700]
[32529,"Waldhausen",127500,16500,14600,0,1900,0,32529,"Waldhausen",127500,1500,900,0,400,100,32529,"Waldhausen",127500,93800,27000,37300,23900,5700,32529,"Waldhausen",127500,3500,1000,200,500,1800]
[32530,"Zwettl-Niederösterreich",423100,135100,119000,0,16100,0,32530,"Zwettl-Niederösterreich",423100,79400,48500,1000,23000,7000,32530,"Zwettl-Niederösterreich",423100,72700,7000,43100,15800,6700,32530,"Zwettl-Niederösterreich",423100,23700,7000,1500,3400,11700]
[40101,"Linz",13222500,1506800,1253600,0,253200,0,40101,"Linz",13222500,1433400,802900,17700,457600,155300,40101,"Linz",13222500,8562500,478700,6380900,1592400,110500,40101,"Linz",13222500,4300,1700,200,700,1700]
[40201,"Steyr",1408400,326100,276500,0,49700,0,40201,"Steyr",1408400,144400,80900,1800,46100,15600,40201,"Steyr",1408400,645600,212800,183300,211400,38000,40201,"Steyr",1408400,2000,800,100,300,800]
[40301,"Wels",1699900,476600,402000,0,74600,0,40301,"Wels",1699900,370300,207400,4600,118200,40100,40301,"Wels",1699900,362300,49100,142300,135800,35200,40301,"Wels",1699900,4200,1700,200,600,1600]
[40401,"Altheim",143200,54600,47200,0,7400,0,40401,"Altheim",143200,7800,4400,100,2500,800,40401,"Altheim",143200,44600,5300,19700,14700,4900,40401,"Altheim",143200,4100,1600,200,600,1600]
[40402,"Aspach",72500,26800,23000,0,3800,0,40402,"Aspach",72500,5100,2800,100,1600,500,40402,"Aspach",72500,18100,1300,9800,5600,1300,40402,"Aspach",72500,5800,2300,300,900,2300]
[40403,"Auerbach",11800,6400,5500,0,1000,0,40403,"Auerbach",11800,500,300,0,200,100,40403,"Auerbach",11800,500,100,100,200,100,40403,"Auerbach",11800,1500,600,100,200,600]
[40404,"Braunau am Inn",1348800,149800,128100,0,21600,0,40404,"Braunau am Inn",1348800,71900,40300,900,23000,7800,40404,"Braunau am Inn",1348800,991100,98900,566200,302000,24100,40404,"Braunau am Inn",1348800,2400,1000,100,400,1000]
[40405,"Burgkirchen",59200,29900,25700,0,4200,0,40405,"Burgkirchen",59200,4300,2400,100,1400,500,40405,"Burgkirchen",59200,4300,600,1200,1800,600,40405,"Burgkirchen",59200,7300,2900,400,1100,2800]
[40406,"Eggelsberg",131700,25100,21500,0,3600,0,40406,"Eggelsberg",131700,4900,2700,100,1600,500,40406,"Eggelsberg",131700,76500,18800,19800,31800,6200,40406,"Eggelsberg",131700,3800,1500,200,600,1500]
[40407,"Feldkirchen bei Mattighofen",61400,23000,19700,0,3300,0,40407,"Feldkirchen bei Mattighofen",61400,1700,1000,0,600,200,40407,"Feldkirchen bei Mattighofen",61400,19300,1400,9700,6500,1700,40407,"Feldkirchen bei Mattighofen",61400,5900,2400,300,900,2300]
[40408,"Franking",24300,10800,9300,0,1500,0,40408,"Franking",24300,2200,1200,0,700,200,40408,"Franking",24300,3600,500,1300,1400,300,40408,"Franking",24300,1600,700,100,200,600]
[40409,"Geretsberg",43700,14300,12300,0,2000,0,40409,"Geretsberg",43700,1300,700,0,400,100,40409,"Geretsberg",43700,17100,3300,3400,9400,1100,40409,"Geretsberg",43700,2700,1100,200,400,1000]
[40410,"Gilgenberg am Weilhart",35000,14800,12600,0,2100,0,40410,"Gilgenberg am Weilhart",35000,900,500,0,300,100,40410,"Gilgenberg am Weilhart",35000,7200,1700,2000,2900,600,40410,"Gilgenberg am Weilhart",35000,4900,2000,300,800,1900]
[40411,"Haigermoos",12100,7400,6300,0,1100,0,40411,"Haigermoos",12100,500,300,0,100,0,40411,"Haigermoos",12100,100,0,0,100,0,40411,"Haigermoos",12100,1400,600,100,200,500]
[40412,"Handenberg",29900,15000,12800,0,2100,0,40412,"Handenberg",29900,1700,1000,0,500,200,40412,"Handenberg",29900,900,200,200,400,100,40412,"Handenberg",29900,5300,2100,300,800,2000]
[40413,"Helpfau-Uttendorf",110800,36700,31500,0,5200,0,40413,"Helpfau-Uttendorf",110800,3900,2200,0,1300,400,40413,"Helpfau-Uttendorf",110800,47300,3900,26600,12100,4700,40413,"Helpfau-Uttendorf",110800,3900,1600,200,600,1500]
[40414,"Hochburg-Ach",66600,38000,32700,0,5300,0,40414,"Hochburg-Ach",66600,3400,1900,0,1100,400,40414,"Hochburg-Ach",66600,3800,500,1000,1600,700,40414,"Hochburg-Ach",66600,5100,2000,300,800,2000]
[40415,"Höhnhart",40100,17000,14600,0,2400,0,40415,"Höhnhart",40100,1600,900,0,500,200,40415,"Höhnhart",40100,9500,1800,3400,3300,1000,40415,"Höhnhart",40100,3300,1300,200,500,1300]
[40416,"Jeging",14900,7300,6200,0,1100,0,40416,"Jeging",14900,1700,1000,0,600,200,40416,"Jeging",14900,900,200,300,300,100,40416,"Jeging",14900,1100,400,100,200,400]
[40417,"Kirchberg bei Mattighofen",26200,14400,12300,0,2100,0,40417,"Kirchberg bei Mattighofen",26200,1400,800,0,400,100,40417,"Kirchberg bei Mattighofen",26200,1600,200,500,700,300,40417,"Kirchberg bei Mattighofen",26200,2800,1100,200,400,1100]
[40418,"Lengau",151200,50400,43400,0,7000,0,40418,"Lengau",151200,6600,3700,100,2100,700,40418,"Lengau",151200,60400,15100,20100,20400,4900,40418,"Lengau",151200,4500,1800,300,700,1700]
[40419,"Lochen am See",80100,30300,25800,0,4400,0,40419,"Lochen am See",80100,3200,1800,0,1000,300,40419,"Lochen am See",80100,22400,1300,9700,9200,2100,40419,"Lochen am See",80100,5000,2000,300,800,1900]
[40420,"Maria Schmolln",32100,16000,13800,0,2200,0,40420,"Maria Schmolln",32100,1600,900,0,500,200,40420,"Maria Schmolln",32100,3400,400,800,1600,600,40420,"Maria Schmolln",32100,2900,1200,200,400,1100]
[40421,"Mattighofen",227400,59600,50700,0,8900,0,40421,"Mattighofen",227400,17100,9600,200,5500,1900,40421,"Mattighofen",227400,97700,33900,16800,40100,6900,40421,"Mattighofen",227400,300,100,0,0,100]
[40422,"Mauerkirchen",51900,23900,20600,0,3200,0,40422,"Mauerkirchen",51900,5200,2900,100,1700,600,40422,"Mauerkirchen",51900,9400,1400,4100,3300,600,40422,"Mauerkirchen",51900,400,200,0,100,100]
[40423,"Mining",30900,15300,13200,0,2100,0,40423,"Mining",30900,1000,600,0,300,100,40423,"Mining",30900,5700,200,2700,2400,400,40423,"Mining",30900,2600,1100,100,400,1000]
[40424,"Moosbach",21300,11000,9300,0,1700,0,40424,"Moosbach",21300,900,500,0,300,100,40424,"Moosbach",21300,1300,200,500,400,100,40424,"Moosbach",21300,2800,1100,200,400,1100]
[40425,"Moosdorf",43800,16800,14300,0,2600,0,40425,"Moosdorf",43800,3000,1700,0,1000,300,40425,"Moosdorf",43800,10900,1300,5100,3500,1000,40425,"Moosdorf",43800,2300,900,100,400,900]
[40426,"Munderfing",99100,30600,26200,0,4400,0,40426,"Munderfing",99100,7500,4200,100,2400,800,40426,"Munderfing",99100,36100,15400,3700,14200,2700,40426,"Munderfing",99100,2800,1100,200,400,1100]
[40427,"Neukirchen an der Enknach",81900,24400,20900,0,3500,0,40427,"Neukirchen an der Enknach",81900,2600,1500,0,800,300,40427,"Neukirchen an der Enknach",81900,35800,2500,22600,9700,1100,40427,"Neukirchen an der Enknach",81900,5400,2200,300,800,2100]
[40428,"Ostermiething",67100,34100,29000,0,5100,0,40428,"Ostermiething",67100,6700,3700,100,2100,700,40428,"Ostermiething",67100,6200,700,2300,2400,800,40428,"Ostermiething",67100,3000,1200,200,500,1200]
[40429,"Palting",23300,11900,10200,0,1700,0,40429,"Palting",23300,2000,1100,0,600,200,40429,"Palting",23300,2100,200,1000,700,200,40429,"Palting",23300,1900,800,100,300,700]
[40430,"Perwang am Grabensee",20700,10300,8700,0,1700,0,40430,"Perwang am Grabensee",20700,900,500,0,300,100,40430,"Perwang am Grabensee",20700,2900,400,800,1200,500,40430,"Perwang am Grabensee",20700,1000,400,100,200,400]
[40431,"Pfaffstätt",122900,12800,10800,0,2000,0,40431,"Pfaffstätt",122900,800,500,0,300,100,40431,"Pfaffstätt",122900,93000,5600,53200,28700,5500,40431,"Pfaffstätt",122900,1100,500,100,200,400]
[40432,"Pischelsdorf am Engelbach",36700,18800,16200,0,2600,0,40432,"Pischelsdorf am Engelbach",36700,1800,1000,0,600,200,40432,"Pischelsdorf am Engelbach",36700,2400,200,1100,800,300,40432,"Pischelsdorf am Engelbach",36700,5000,2000,300,800,2000]
[40433,"Polling im Innkreis",27200,13300,11500,0,1800,0,40433,"Polling im Innkreis",27200,1400,800,0,400,100,40433,"Polling im Innkreis",27200,4000,600,1600,1300,500,40433,"Polling im Innkreis",27200,3200,1300,200,500,1200]
[40434,"Roßbach",26100,10300,8900,0,1400,0,40434,"Roßbach",26100,1100,600,0,300,100,40434,"Roßbach",26100,7000,900,3600,1800,700,40434,"Roßbach",26100,2300,900,100,400,900]
[40435,"St. Georgen am Fillmannsbach",11200,4800,4200,0,600,0,40435,"St. Georgen am Fillmannsbach",11200,300,100,0,100,0,40435,"St. Georgen am Fillmannsbach",11200,2600,600,600,1100,300,40435,"St. Georgen am Fillmannsbach",11200,1200,500,100,200,500]
[40436,"St. Johann am Walde",47700,23800,20600,0,3200,0,40436,"St. Johann am Walde",47700,1500,800,0,500,200,40436,"St. Johann am Walde",47700,8100,1000,3200,2700,1200,40436,"St. Johann am Walde",47700,2800,1100,200,400,1100]
[40437,"St. Pantaleon",64600,32400,27700,0,4700,0,40437,"St. Pantaleon",64600,5400,3000,100,1700,600,40437,"St. Pantaleon",64600,8200,1400,2300,3500,1100,40437,"St. Pantaleon",64600,2700,1100,200,400,1000]
[40438,"St. Peter am Hart",50800,25000,21300,0,3600,0,40438,"St. Peter am Hart",50800,2900,1600,0,900,300,40438,"St. Peter am Hart",50800,6700,1600,1700,2800,500,40438,"St. Peter am Hart",50800,3500,1400,200,500,1300]
[40439,"St. Radegund",12300,7800,6700,0,1100,0,40439,"St. Radegund",12300,600,300,0,200,100,40439,"St. Radegund",12300,300,0,100,100,0,40439,"St. Radegund",12300,1000,400,100,200,400]
[40440,"St. Veit im Innkreis",8000,4700,4100,0,700,0,40440,"St. Veit im Innkreis",8000,200,100,0,100,0,40440,"St. Veit im Innkreis",8000,0,0,0,0,0,40440,"St. Veit im Innkreis",8000,1100,400,100,200,400]
[40441,"Schalchen",101300,40900,34900,0,6000,0,40441,"Schalchen",101300,5600,3100,100,1800,600,40441,"Schalchen",101300,29600,7500,7500,12200,2300,40441,"Schalchen",101300,3600,1400,200,500,1400]
[40442,"Schwand im Innkreis",38000,11100,9500,0,1600,0,40442,"Schwand im Innkreis",38000,900,500,0,300,100,40442,"Schwand im Innkreis",38000,14500,500,6900,6000,1100,40442,"Schwand im Innkreis",38000,3700,1500,200,600,1400]
[40443,"Tarsdorf",54600,22700,19400,0,3300,0,40443,"Tarsdorf",54600,2100,1200,0,700,200,40443,"Tarsdorf",54600,14300,3200,3800,6000,1400,40443,"Tarsdorf",54600,4400,1800,200,700,1700]
[40444,"Treubach",17900,7700,6600,0,1100,0,40444,"Treubach",17900,600,300,0,200,100,40444,"Treubach",17900,3200,200,1700,1000,200,40444,"Treubach",17900,2500,1000,100,400,1000]
[40445,"Überackern",12100,7600,6500,0,1100,0,40445,"Überackern",12100,300,200,0,100,0,40445,"Überackern",12100,0,0,0,0,0,40445,"Überackern",12100,1100,400,100,200,400]
[40446,"Weng im Innkreis",44400,16500,14200,0,2300,0,40446,"Weng im Innkreis",44400,1700,900,0,500,200,40446,"Weng im Innkreis",44400,12200,3100,3100,5100,900,40446,"Weng im Innkreis",44400,4600,1800,300,700,1800]
[40501,"Alkoven",121200,57900,49100,0,8800,0,40501,"Alkoven",121200,8800,4900,100,2800,1000,40501,"Alkoven",121200,15300,1400,5700,6800,1500,40501,"Alkoven",121200,7400,3000,400,1100,2900]
[40502,"Aschach an der Donau",97500,21600,18400,0,3200,0,40502,"Aschach an der Donau",97500,4900,2700,100,1600,500,40502,"Aschach an der Donau",97500,56500,2600,39900,9600,4500,40502,"Aschach an der Donau",97500,200,100,0,0,100]
[40503,"Eferding",118700,33600,28200,0,5400,0,40503,"Eferding",118700,24000,13400,300,7700,2600,40503,"Eferding",118700,27200,3800,8600,11800,3000,40503,"Eferding",118700,200,100,0,0,100]
[40504,"Fraham",63700,24300,20600,0,3700,0,40504,"Fraham",63700,7400,4200,100,2400,800,40504,"Fraham",63700,13800,1100,4500,6200,2000,40504,"Fraham",63700,3300,1300,200,500,1300]
[40505,"Haibach ob der Donau",26300,14000,12000,0,2000,0,40505,"Haibach ob der Donau",26300,2000,1100,0,700,200,40505,"Haibach ob der Donau",26300,700,100,400,200,100,40505,"Haibach ob der Donau",26300,2300,900,100,400,900]
[40506,"Hartkirchen",93300,40200,34200,0,6000,0,40506,"Hartkirchen",93300,5700,3200,100,1800,600,40506,"Hartkirchen",93300,18700,1300,10800,4700,2000,40506,"Hartkirchen",93300,5300,2100,300,800,2100]
[40507,"Hinzenbach",198800,21600,18500,0,3200,0,40507,"Hinzenbach",198800,2900,1600,0,900,300,40507,"Hinzenbach",198800,153900,6600,103300,32000,11900,40507,"Hinzenbach",198800,2500,1000,100,400,1000]
[40508,"Prambachkirchen",68300,31700,27200,0,4500,0,40508,"Prambachkirchen",68300,4100,2300,100,1300,400,40508,"Prambachkirchen",68300,10000,2100,2800,4200,900,40508,"Prambachkirchen",68300,5400,2200,300,800,2100]
[40509,"Pupping",59000,20000,17000,0,3000,0,40509,"Pupping",59000,4400,2500,100,1400,500,40509,"Pupping",59000,19400,1500,9000,6100,2700,40509,"Pupping",59000,1900,800,100,300,700]
[40510,"St. Marienkirchen an der Polsenz",47600,24700,21200,0,3500,0,40510,"St. Marienkirchen an der Polsenz",47600,2200,1200,0,700,200,40510,"St. Marienkirchen an der Polsenz",47600,4100,600,1400,1700,400,40510,"St. Marienkirchen an der Polsenz",47600,4400,1800,200,700,1700]
[40511,"Scharten",48500,24600,20900,0,3700,0,40511,"Scharten",48500,2100,1200,0,700,200,40511,"Scharten",48500,6900,500,3700,2200,500,40511,"Scharten",48500,3200,1300,200,500,1300]
[40512,"Stroheim",32800,16600,14200,0,2500,0,40512,"Stroheim",32800,1000,600,0,300,100,40512,"Stroheim",32800,2900,100,1100,1300,300,40512,"Stroheim",32800,4200,1700,200,600,1600]
[40601,"Freistadt",214500,80200,69300,0,11000,0,40601,"Freistadt",214500,49700,27800,600,15900,5400,40601,"Freistadt",214500,19900,1600,7200,9100,2100,40601,"Freistadt",214500,1300,500,100,200,500]
[40602,"Grünbach",39900,21900,19100,0,2800,0,40602,"Grünbach",39900,2100,1200,0,700,200,40602,"Grünbach",39900,1300,100,300,600,300,40602,"Grünbach",39900,4900,2000,300,700,1900]
[40603,"Gutau",55200,29300,25400,0,3900,0,40603,"Gutau",55200,2600,1500,0,800,300,40603,"Gutau",55200,3200,400,700,1600,600,40603,"Gutau",55200,5400,2200,300,800,2100]
[40604,"Hagenberg im Mühlkreis",58700,27500,23400,0,4100,0,40604,"Hagenberg im Mühlkreis",58700,7100,4000,100,2300,800,40604,"Hagenberg im Mühlkreis",58700,1900,400,500,800,200,40604,"Hagenberg im Mühlkreis",58700,1800,700,100,300,700]
[40605,"Hirschbach im Mühlkreis",27600,14200,12500,0,1800,0,40605,"Hirschbach im Mühlkreis",27600,1900,1000,0,600,200,40605,"Hirschbach im Mühlkreis",27600,1300,100,700,400,100,40605,"Hirschbach im Mühlkreis",27600,3400,1400,200,500,1300]
[40606,"Kaltenberg",12400,6200,5400,0,800,0,40606,"Kaltenberg",12400,500,300,0,100,0,40606,"Kaltenberg",12400,700,100,0,400,200,40606,"Kaltenberg",12400,2000,800,100,300,800]
[40607,"Kefermarkt",52900,22000,18900,0,3100,0,40607,"Kefermarkt",52900,3200,1800,0,1000,300,40607,"Kefermarkt",52900,10800,900,5500,3600,800,40607,"Kefermarkt",52900,4200,1700,200,600,1600]
[40608,"Königswiesen",67300,32300,28100,0,4200,0,40608,"Königswiesen",67300,5900,3300,100,1900,600,40608,"Königswiesen",67300,4800,500,1700,2000,500,40608,"Königswiesen",67300,6200,2500,300,900,2400]
[40609,"Lasberg",69400,30900,26700,0,4100,0,40609,"Lasberg",69400,3500,2000,0,1100,400,40609,"Lasberg",69400,13400,800,4200,6300,2000,40609,"Lasberg",69400,5600,2300,300,900,2200]
[40610,"Leopoldschlag",24000,12000,10500,0,1500,0,40610,"Leopoldschlag",24000,1700,1000,0,500,200,40610,"Leopoldschlag",24000,800,100,300,300,100,40610,"Leopoldschlag",24000,3900,1600,200,600,1500]
[40611,"Liebenau",40500,22100,19400,0,2700,0,40611,"Liebenau",40500,2900,1600,0,900,300,40611,"Liebenau",40500,700,100,100,300,100,40611,"Liebenau",40500,6300,2500,400,1000,2400]
[40612,"Neumarkt im Mühlkreis",71000,35600,31000,0,4700,0,40612,"Neumarkt im Mühlkreis",71000,4300,2400,100,1400,500,40612,"Neumarkt im Mühlkreis",71000,8200,1800,2400,3300,700,40612,"Neumarkt im Mühlkreis",71000,6400,2600,400,1000,2500]
[40613,"Pierbach",21100,11000,9500,0,1500,0,40613,"Pierbach",21100,2600,1400,0,800,300,40613,"Pierbach",21100,400,100,100,100,0,40613,"Pierbach",21100,2200,900,100,300,900]
[40614,"Pregarten",115600,49300,41800,0,7500,0,40614,"Pregarten",115600,12700,7100,200,4000,1400,40614,"Pregarten",115600,18400,1600,7100,7300,2400,40614,"Pregarten",115600,4100,1700,200,600,1600]
[40615,"Rainbach im Mühlkreis",72800,32000,27900,0,4100,0,40615,"Rainbach im Mühlkreis",72800,4500,2500,100,1400,500,40615,"Rainbach im Mühlkreis",72800,12500,2000,5300,4300,900,40615,"Rainbach im Mühlkreis",72800,7700,3100,400,1200,3000]
[40616,"Sandl",34200,18000,16000,0,2000,0,40616,"Sandl",34200,1900,1000,0,600,200,40616,"Sandl",34200,3000,100,1400,1200,200,40616,"Sandl",34200,3200,1300,200,500,1200]
[40617,"St. Leonhard bei Freistadt",29600,17000,14900,0,2000,0,40617,"St. Leonhard bei Freistadt",29600,1300,700,0,400,100,40617,"St. Leonhard bei Freistadt",29600,1500,100,700,500,100,40617,"St. Leonhard bei Freistadt",29600,2600,1000,100,400,1000]
[40618,"St. Oswald bei Freistadt",66500,31800,27600,0,4200,0,40618,"St. Oswald bei Freistadt",66500,5100,2900,100,1600,600,40618,"St. Oswald bei Freistadt",66500,9800,1100,2900,4000,1700,40618,"St. Oswald bei Freistadt",66500,4100,1700,200,600,1600]
[40619,"Schönau im Mühlkreis",41800,20500,17700,0,2800,0,40619,"Schönau im Mühlkreis",41800,2400,1300,0,800,300,40619,"Schönau im Mühlkreis",41800,4100,500,2100,1300,200,40619,"Schönau im Mühlkreis",41800,4200,1700,200,600,1600]
[40620,"Tragwein",85900,30600,26300,0,4300,0,40620,"Tragwein",85900,3800,2100,0,1200,400,40620,"Tragwein",85900,27500,3600,12400,8400,3000,40620,"Tragwein",85900,5400,2200,300,800,2100]
[40621,"Unterweißenbach",50700,20700,18000,0,2700,0,40621,"Unterweißenbach",50700,5300,3000,100,1700,600,40621,"Unterweißenbach",50700,6000,700,400,3300,1600,40621,"Unterweißenbach",50700,4700,1900,300,700,1800]
[40622,"Unterweitersdorf",51100,27600,23300,0,4300,0,40622,"Unterweitersdorf",51100,3500,2000,0,1100,400,40622,"Unterweitersdorf",51100,6000,1100,1500,2600,700,40622,"Unterweitersdorf",51100,1600,600,100,200,600]
[40623,"Waldburg",27900,15800,13800,0,2100,0,40623,"Waldburg",27900,1000,600,0,300,100,40623,"Waldburg",27900,400,0,0,200,100,40623,"Waldburg",27900,4200,1700,200,600,1600]
[40624,"Wartberg ob der Aist",80900,38800,32900,0,5900,0,40624,"Wartberg ob der Aist",80900,6300,3600,100,2000,700,40624,"Wartberg ob der Aist",80900,10500,2100,2400,4600,1300,40624,"Wartberg ob der Aist",80900,3000,1200,200,500,1200]
[40625,"Weitersfelden",26400,15400,13600,0,1800,0,40625,"Weitersfelden",26400,1200,700,0,400,100,40625,"Weitersfelden",26400,1100,100,400,400,100,40625,"Weitersfelden",26400,2900,1200,200,400,1100]
[40626,"Windhaag bei Freistadt",36500,19500,17200,0,2300,0,40626,"Windhaag bei Freistadt",36500,1300,700,0,400,100,40626,"Windhaag bei Freistadt",36500,1500,200,200,800,400,40626,"Windhaag bei Freistadt",36500,5300,2100,300,800,2100]
[40627,"Bad Zell",62500,28300,24500,0,3800,0,40627,"Bad Zell",62500,7100,4000,100,2300,800,40627,"Bad Zell",62500,3800,500,800,1800,700,40627,"Bad Zell",62500,6600,2600,400,1000,2600]
[40701,"Altmünster",814700,102100,87400,0,14700,0,40701,"Altmünster",814700,17700,9900,200,5700,1900,40701,"Altmünster",814700,633000,28000,469200,90900,44900,40701,"Altmünster",814700,4700,1900,300,700,1800]
[40702,"Bad Goisern am Hallstättersee",214800,83700,72600,0,11100,0,40702,"Bad Goisern am Hallstättersee",214800,17100,9600,200,5500,1900,40702,"Bad Goisern am Hallstättersee",214800,66800,10700,24100,25800,6200,40702,"Bad Goisern am Hallstättersee",214800,2900,1200,200,400,1100]
[40703,"Bad Ischl",370300,153800,132200,0,21600,0,40703,"Bad Ischl",370300,55300,31000,700,17600,6000,40703,"Bad Ischl",370300,60600,4700,28900,20400,6500,40703,"Bad Ischl",370300,3800,1500,200,600,1500]
[40704,"Ebensee am Traunsee",402100,74600,63500,0,11100,0,40704,"Ebensee am Traunsee",402100,14400,8100,200,4600,1600,40704,"Ebensee am Traunsee",402100,221600,5800,102700,96700,16500,40704,"Ebensee am Traunsee",402100,2900,1200,200,400,1100]
[40705,"Gmunden",440000,137200,117000,0,20100,0,40705,"Gmunden",440000,67000,37500,800,21400,7300,40705,"Gmunden",440000,124900,10000,64700,39700,10500,40705,"Gmunden",440000,1300,500,100,200,500]
[40706,"Gosau",47200,23200,20300,0,2800,0,40706,"Gosau",47200,7700,4300,100,2500,800,40706,"Gosau",47200,2400,200,1100,900,200,40706,"Gosau",47200,2400,1000,100,400,900]
[40707,"Grünau im Almtal",56200,25300,21800,0,3400,0,40707,"Grünau im Almtal",56200,4700,2600,100,1500,500,40707,"Grünau im Almtal",56200,9900,1000,4800,3200,1000,40707,"Grünau im Almtal",56200,3200,1300,200,500,1200]
[40708,"Gschwandt",65500,27700,23600,0,4100,0,40708,"Gschwandt",65500,5500,3100,100,1700,600,40708,"Gschwandt",65500,15500,2100,7500,4300,1600,40708,"Gschwandt",65500,2600,1100,100,400,1000]
[40709,"Hallstatt",56000,9900,8600,0,1200,0,40709,"Hallstatt",56000,4900,2800,100,1600,500,40709,"Hallstatt",56000,26600,500,12600,11500,2000,40709,"Hallstatt",56000,600,200,0,100,200]
[40710,"Kirchham",47400,22000,18900,0,3200,0,40710,"Kirchham",47400,4500,2500,100,1400,500,40710,"Kirchham",47400,6000,1300,1700,2500,500,40710,"Kirchham",47400,3300,1300,200,500,1300]
[40711,"Laakirchen",2961600,89200,76200,0,13000,0,40711,"Laakirchen",2961600,30900,17300,400,9900,3300,40711,"Laakirchen",2961600,2762700,81500,1994500,676800,9800,40711,"Laakirchen",2961600,5500,2200,300,800,2100]
[40712,"Obertraun",22000,9000,7800,0,1200,0,40712,"Obertraun",22000,5800,3300,100,1900,600,40712,"Obertraun",22000,200,0,0,100,0,40712,"Obertraun",22000,1000,400,100,100,400]
[40713,"Ohlsdorf",209200,54900,46800,0,8100,0,40713,"Ohlsdorf",209200,10300,5800,100,3300,1100,40713,"Ohlsdorf",209200,107800,5600,81700,15700,4800,40713,"Ohlsdorf",209200,4400,1800,200,700,1700]
[40714,"Pinsdorf",78100,37500,31900,0,5500,0,40714,"Pinsdorf",78100,6600,3700,100,2100,700,40714,"Pinsdorf",78100,13400,1700,1600,7000,3100,40714,"Pinsdorf",78100,800,300,0,100,300]
[40715,"Roitham am Traunfall",50000,21900,18900,0,3000,0,40715,"Roitham am Traunfall",50000,1500,900,0,500,200,40715,"Roitham am Traunfall",50000,11400,1700,4400,4300,1000,40715,"Roitham am Traunfall",50000,3700,1500,200,600,1400]
[40716,"St. Konrad",20100,10700,9100,0,1600,0,40716,"St. Konrad",20100,1300,700,0,400,100,40716,"St. Konrad",20100,700,100,300,200,100,40716,"St. Konrad",20100,1400,600,100,200,600]
[40717,"St. Wolfgang im Salzkammergut",77300,31700,27400,0,4300,0,40717,"St. Wolfgang im Salzkammergut",77300,9100,5100,100,2900,1000,40717,"St. Wolfgang im Salzkammergut",77300,14700,700,6400,6400,1300,40717,"St. Wolfgang im Salzkammergut",77300,2200,900,100,300,900]
[40718,"Traunkirchen",39500,22200,19100,0,3100,0,40718,"Traunkirchen",39500,3900,2200,0,1200,400,40718,"Traunkirchen",39500,3600,400,1300,1300,600,40718,"Traunkirchen",39500,600,200,0,100,200]
[40719,"Scharnstein",169200,49200,42100,0,7100,0,40719,"Scharnstein",169200,8600,4800,100,2700,900,40719,"Scharnstein",169200,71600,9400,36600,18900,6600,40719,"Scharnstein",169200,2800,1100,200,400,1100]
[40720,"Vorchdorf",215200,72300,61800,0,10500,0,40720,"Vorchdorf",215200,18100,10100,200,5800,2000,40720,"Vorchdorf",215200,66800,12500,19900,27800,6600,40720,"Vorchdorf",215200,7500,3000,400,1200,2900]
[40801,"Aistersheim",19100,10000,8600,0,1400,0,40801,"Aistersheim",19100,1400,800,0,400,100,40801,"Aistersheim",19100,1000,100,400,400,100,40801,"Aistersheim",19100,1800,700,100,300,700]
[40802,"Bad Schallerbach",83900,38500,32500,0,6000,0,40802,"Bad Schallerbach",83900,13900,7800,200,4400,1500,40802,"Bad Schallerbach",83900,4300,600,1200,2000,500,40802,"Bad Schallerbach",83900,1100,500,100,200,400]
[40804,"Eschenau im Hausruckkreis",20400,10200,8800,0,1400,0,40804,"Eschenau im Hausruckkreis",20400,1400,800,0,400,100,40804,"Eschenau im Hausruckkreis",20400,700,100,300,200,100,40804,"Eschenau im Hausruckkreis",20400,2600,1100,100,400,1000]
[40805,"Gallspach",48100,24300,20700,0,3600,0,40805,"Gallspach",48100,3900,2200,0,1200,400,40805,"Gallspach",48100,4600,700,1700,1600,500,40805,"Gallspach",48100,900,400,100,100,400]
[40806,"Gaspoltshofen",91900,36800,31800,0,5000,0,40806,"Gaspoltshofen",91900,9200,5100,100,2900,1000,40806,"Gaspoltshofen",91900,16800,2500,7100,5800,1500,40806,"Gaspoltshofen",91900,7100,2800,400,1100,2700]
[40807,"Geboltskirchen",39000,15600,13500,0,2100,0,40807,"Geboltskirchen",39000,1200,700,0,400,100,40807,"Geboltskirchen",39000,10300,400,4800,4400,800,40807,"Geboltskirchen",39000,2400,1000,100,400,900]
[40808,"Grieskirchen",177800,48300,41200,0,7100,0,40808,"Grieskirchen",177800,37100,20800,500,11800,4000,40808,"Grieskirchen",177800,44000,7900,12300,18700,5100,40808,"Grieskirchen",177800,1800,700,100,300,700]
[40809,"Haag am Hausruck",71000,24000,20700,0,3300,0,40809,"Haag am Hausruck",71000,8400,4700,100,2700,900,40809,"Haag am Hausruck",71000,18800,2500,4600,8400,3300,40809,"Haag am Hausruck",71000,2000,800,100,300,800]
[40810,"Heiligenberg",15000,7800,6700,0,1100,0,40810,"Heiligenberg",15000,300,200,0,100,0,40810,"Heiligenberg",15000,900,100,300,300,100,40810,"Heiligenberg",15000,2700,1100,200,400,1100]
[40811,"Hofkirchen an der Trattnach",44600,19300,16400,0,2800,0,40811,"Hofkirchen an der Trattnach",44600,3700,2100,0,1200,400,40811,"Hofkirchen an der Trattnach",44600,8300,2100,1900,3500,800,40811,"Hofkirchen an der Trattnach",44600,3500,1400,200,500,1400]
[40812,"Kallham",69600,26800,23100,0,3700,0,40812,"Kallham",69600,3200,1800,0,1000,300,40812,"Kallham",69600,19800,1300,13300,3600,1600,40812,"Kallham",69600,5300,2100,300,800,2000]
[40813,"Kematen am Innbach",26400,14300,12300,0,2100,0,40813,"Kematen am Innbach",26400,1500,900,0,500,200,40813,"Kematen am Innbach",26400,1300,100,500,600,100,40813,"Kematen am Innbach",26400,2200,900,100,300,800]
[40814,"Meggenhofen",31300,15200,12900,0,2300,0,40814,"Meggenhofen",31300,2000,1100,0,600,200,40814,"Meggenhofen",31300,3000,300,1000,1300,500,40814,"Meggenhofen",31300,3400,1400,200,500,1300]
[40815,"Michaelnbach",32700,12700,11000,0,1700,0,40815,"Michaelnbach",32700,800,500,0,300,100,40815,"Michaelnbach",32700,7400,600,4000,2400,500,40815,"Michaelnbach",32700,4900,2000,300,700,1900]
[40816,"Natternbach",57000,24300,20900,0,3400,0,40816,"Natternbach",57000,3500,2000,0,1100,400,40816,"Natternbach",57000,11600,1600,5100,3800,1100,40816,"Natternbach",57000,4000,1600,200,600,1600]
[40817,"Neukirchen am Walde",38400,18800,16300,0,2500,0,40817,"Neukirchen am Walde",38400,2900,1600,0,900,300,40817,"Neukirchen am Walde",38400,4800,500,1900,1800,600,40817,"Neukirchen am Walde",38400,2400,1000,100,400,900]
[40818,"Neumarkt im Hausruckkreis",45800,15000,13000,0,2000,0,40818,"Neumarkt im Hausruckkreis",45800,3900,2200,0,1200,400,40818,"Neumarkt im Hausruckkreis",45800,16500,3000,3700,8200,1600,40818,"Neumarkt im Hausruckkreis",45800,200,100,0,0,100]
[40820,"Pötting",12400,5600,4800,0,800,0,40820,"Pötting",12400,1600,900,0,500,200,40820,"Pötting",12400,900,200,200,400,100,40820,"Pötting",12400,1700,700,100,300,600]
[40821,"Pollham",18000,10100,8600,0,1500,0,40821,"Pollham",18000,600,300,0,200,100,40821,"Pollham",18000,600,100,200,200,0,40821,"Pollham",18000,2000,800,100,300,800]
[40822,"Pram",44000,17800,15400,0,2400,0,40822,"Pram",44000,1400,800,0,400,100,40822,"Pram",44000,10600,2300,3100,4400,700,40822,"Pram",44000,3700,1500,200,600,1400]
[40823,"Rottenbach",109800,12100,10400,0,1700,0,40823,"Rottenbach",109800,1300,800,0,400,100,40823,"Rottenbach",109800,86500,5500,57900,22300,800,40823,"Rottenbach",109800,2800,1100,200,400,1100]
[40824,"St. Agatha",43300,23400,20300,0,3200,0,40824,"St. Agatha",43300,2600,1500,0,800,300,40824,"St. Agatha",43300,1000,100,400,400,100,40824,"St. Agatha",43300,4700,1900,300,700,1800]
[40825,"St. Georgen bei Grieskirchen",35300,13200,11200,0,2100,0,40825,"St. Georgen bei Grieskirchen",35300,2300,1300,0,700,200,40825,"St. Georgen bei Grieskirchen",35300,9600,2400,2500,4000,700,40825,"St. Georgen bei Grieskirchen",35300,2000,800,100,300,800]
[40826,"St. Thomas",9900,5400,4600,0,800,0,40826,"St. Thomas",9900,500,300,0,200,100,40826,"St. Thomas",9900,100,0,0,0,0,40826,"St. Thomas",9900,1200,500,100,200,500]
[40827,"Schlüßlberg",67200,32500,27800,0,4700,0,40827,"Schlüßlberg",67200,7800,4400,100,2500,800,40827,"Schlüßlberg",67200,4600,400,2300,1400,500,40827,"Schlüßlberg",67200,3400,1300,200,500,1300]
[40828,"Steegen",49800,11200,9700,0,1600,0,40828,"Steegen",49800,1500,800,0,500,200,40828,"Steegen",49800,26600,11600,2000,10800,2200,40828,"Steegen",49800,2700,1100,100,400,1000]
[40829,"Taufkirchen an der Trattnach",56600,23100,20000,0,3100,0,40829,"Taufkirchen an der Trattnach",56600,2000,1100,0,600,200,40829,"Taufkirchen an der Trattnach",56600,16000,2400,6600,5700,1300,40829,"Taufkirchen an der Trattnach",56600,4600,1800,300,700,1800]
[40830,"Tollet",22800,10200,8700,0,1500,0,40830,"Tollet",22800,600,300,0,200,100,40830,"Tollet",22800,5300,700,2800,1300,500,40830,"Tollet",22800,1800,700,100,300,700]
[40831,"Waizenkirchen",89500,37300,32100,0,5200,0,40831,"Waizenkirchen",89500,6100,3400,100,1900,700,40831,"Waizenkirchen",89500,17000,2400,5000,8200,1400,40831,"Waizenkirchen",89500,6800,2700,400,1000,2600]
[40832,"Wallern an der Trattnach",83200,30500,25900,0,4600,0,40832,"Wallern an der Trattnach",83200,13200,7400,200,4200,1400,40832,"Wallern an der Trattnach",83200,17500,2300,4800,7600,2700,40832,"Wallern an der Trattnach",83200,2400,1000,100,400,900]
[40833,"Weibern",77200,18200,15700,0,2500,0,40833,"Weibern",77200,2000,1100,0,700,200,40833,"Weibern",77200,42600,4200,23700,11100,3600,40833,"Weibern",77200,3300,1300,200,500,1300]
[40834,"Wendling",17400,10100,8700,0,1400,0,40834,"Wendling",17400,600,300,0,200,100,40834,"Wendling",17400,300,0,200,100,0,40834,"Wendling",17400,2600,1000,100,400,1000]
[40835,"Peuerbach",242000,53100,45600,0,7500,0,40835,"Peuerbach",242000,10400,5800,100,3300,1100,40835,"Peuerbach",242000,139300,7000,95800,24400,12200,40835,"Peuerbach",242000,7100,2900,400,1100,2800]
[40901,"Edlbach",14200,7100,6100,0,1000,0,40901,"Edlbach",14200,1800,1000,0,600,200,40901,"Edlbach",14200,900,100,400,300,100,40901,"Edlbach",14200,1000,400,100,100,400]
[40902,"Grünburg",111200,36400,31100,0,5300,0,40902,"Grünburg",111200,5300,3000,100,1700,600,40902,"Grünburg",111200,42600,1500,29900,10700,600,40902,"Grünburg",111200,3800,1500,200,600,1500]
[40903,"Hinterstoder",33200,16300,14300,0,2000,0,40903,"Hinterstoder",33200,5500,3100,100,1700,600,40903,"Hinterstoder",33200,1300,100,100,700,400,40903,"Hinterstoder",33200,2600,1000,100,400,1000]
[40904,"Inzersdorf im Kremstal",36600,18600,15800,0,2700,0,40904,"Inzersdorf im Kremstal",36600,2900,1600,0,900,300,40904,"Inzersdorf im Kremstal",36600,2300,500,500,1000,200,40904,"Inzersdorf im Kremstal",36600,3000,1200,200,500,1200]
[40905,"Kirchdorf an der Krems",694000,35700,29600,0,6200,0,40905,"Kirchdorf an der Krems",694000,29400,16500,400,9400,3200,40905,"Kirchdorf an der Krems",694000,580900,28700,409100,101400,41700,40905,"Kirchdorf an der Krems",694000,200,100,0,0,100]
[40906,"Klaus an der Pyhrnbahn",92800,12400,10700,0,1700,0,40906,"Klaus an der Pyhrnbahn",92800,2300,1300,0,700,200,40906,"Klaus an der Pyhrnbahn",92800,69100,3000,50300,10000,5700,40906,"Klaus an der Pyhrnbahn",92800,2000,800,100,300,800]
[40907,"Kremsmünster",255100,62300,52700,0,9600,0,40907,"Kremsmünster",255100,14600,8200,200,4700,1600,40907,"Kremsmünster",255100,118500,12100,60900,37600,7900,40907,"Kremsmünster",255100,7600,3100,400,1200,3000]
[40908,"Micheldorf in Oberösterreich",172400,54000,45800,0,8300,0,40908,"Micheldorf in Oberösterreich",172400,11500,6500,100,3700,1200,40908,"Micheldorf in Oberösterreich",172400,67200,7200,37800,16700,5400,40908,"Micheldorf in Oberösterreich",172400,3200,1300,200,500,1200]
[40909,"Molln",103800,34200,29000,0,5100,0,40909,"Molln",103800,5500,3100,100,1800,600,40909,"Molln",103800,32500,4000,11500,12500,4400,40909,"Molln",103800,7100,2800,400,1100,2700]
[40910,"Nußbach",72200,22300,19000,0,3300,0,40910,"Nußbach",72200,4200,2300,100,1300,500,40910,"Nußbach",72200,25500,4300,11000,8500,1800,40910,"Nußbach",72200,5200,2100,300,800,2000]
[40911,"Oberschlierbach",9800,5600,4800,0,700,0,40911,"Oberschlierbach",9800,400,200,0,100,0,40911,"Oberschlierbach",9800,200,0,100,100,0,40911,"Oberschlierbach",9800,1400,600,100,200,500]
[40912,"Pettenbach",164800,63800,54700,0,9100,0,40912,"Pettenbach",164800,8100,4500,100,2600,900,40912,"Pettenbach",164800,50300,7000,16800,22000,4600,40912,"Pettenbach",164800,9600,3800,500,1500,3700]
[40913,"Ried im Traunkreis",89100,27300,23100,0,4200,0,40913,"Ried im Traunkreis",89100,5600,3100,100,1800,600,40913,"Ried im Traunkreis",89100,32400,3200,17700,8500,2900,40913,"Ried im Traunkreis",89100,6500,2600,400,1000,2500]
[40914,"Rosenau am Hengstpaß",28000,8200,7300,0,1000,0,40914,"Rosenau am Hengstpaß",28000,900,500,0,300,100,40914,"Rosenau am Hengstpaß",28000,11800,1500,6400,2800,1100,40914,"Rosenau am Hengstpaß",28000,2400,1000,100,400,900]
[40915,"Roßleithen",39400,20700,17800,0,2800,0,40915,"Roßleithen",39400,2900,1600,0,900,300,40915,"Roßleithen",39400,2300,500,600,1000,200,40915,"Roßleithen",39400,3300,1300,200,500,1300]
[40916,"St. Pankraz",8000,4000,3400,0,600,0,40916,"St. Pankraz",8000,700,400,0,200,100,40916,"St. Pankraz",8000,0,0,0,0,0,40916,"St. Pankraz",8000,1200,500,100,200,500]
[40917,"Schlierbach",80200,26200,22200,0,4000,0,40917,"Schlierbach",80200,5200,2900,100,1700,600,40917,"Schlierbach",80200,28000,2600,14500,8500,2400,40917,"Schlierbach",80200,3100,1200,200,500,1200]
[40918,"Spital am Pyhrn",105900,24900,21800,0,3200,0,40918,"Spital am Pyhrn",105900,5300,3000,100,1700,600,40918,"Spital am Pyhrn",105900,51800,7700,25800,13500,4700,40918,"Spital am Pyhrn",105900,4700,1900,300,700,1800]
[40919,"Steinbach am Ziehberg",18800,9000,7800,0,1200,0,40919,"Steinbach am Ziehberg",18800,500,300,0,200,100,40919,"Steinbach am Ziehberg",18800,2500,300,1300,700,200,40919,"Steinbach am Ziehberg",18800,2100,800,100,300,800]
[40920,"Steinbach an der Steyr",36200,19500,16700,0,2800,0,40920,"Steinbach an der Steyr",36200,1900,1100,0,600,200,40920,"Steinbach an der Steyr",36200,1600,200,800,500,100,40920,"Steinbach an der Steyr",36200,3600,1400,200,500,1400]
[40921,"Vorderstoder",20100,11500,10000,0,1400,0,40921,"Vorderstoder",20100,1300,700,0,400,100,40921,"Vorderstoder",20100,1200,100,400,500,200,40921,"Vorderstoder",20100,2100,800,100,300,800]
[40922,"Wartberg an der Krems",87500,29200,24900,0,4300,0,40922,"Wartberg an der Krems",87500,7900,4400,100,2500,900,40922,"Wartberg an der Krems",87500,24300,2700,10300,9200,2100,40922,"Wartberg an der Krems",87500,6600,2600,400,1000,2500]
[40923,"Windischgarsten",51000,24500,21100,0,3400,0,40923,"Windischgarsten",51000,7200,4000,100,2300,800,40923,"Windischgarsten",51000,3700,300,1200,1600,500,40923,"Windischgarsten",51000,300,100,0,0,100]
[41001,"Allhaming",59500,12400,10500,0,1900,0,41001,"Allhaming",59500,18100,10100,200,5800,2000,41001,"Allhaming",59500,13200,1200,6900,4100,900,41001,"Allhaming",59500,2600,1000,100,400,1000]
[41002,"Ansfelden",1735300,130700,109800,0,20800,0,41002,"Ansfelden",1735300,67300,37700,800,21500,7300,41002,"Ansfelden",1735300,1420500,40500,1022200,351400,6300,41002,"Ansfelden",1735300,4400,1800,200,700,1700]
[41003,"Asten",244600,49700,41100,0,8600,0,41003,"Asten",244600,82300,46100,1000,26300,8900,41003,"Asten",244600,65200,5000,31900,22200,6100,41003,"Asten",244600,800,300,0,100,300]
[41004,"Eggendorf im Traunkreis",17800,10100,8500,0,1600,0,41004,"Eggendorf im Traunkreis",17800,800,400,0,200,100,41004,"Eggendorf im Traunkreis",17800,300,100,100,100,0,41004,"Eggendorf im Traunkreis",17800,1600,600,100,200,600]
[41005,"Enns",507800,95200,80000,0,15200,0,41005,"Enns",507800,64100,35900,800,20500,6900,41005,"Enns",507800,246700,18700,152800,62700,12500,41005,"Enns",507800,5000,2000,300,800,1900]
[41006,"Hargelsberg",35700,15000,12600,0,2400,0,41006,"Hargelsberg",35700,1300,800,0,400,100,41006,"Hargelsberg",35700,8100,600,4200,2700,600,41006,"Hargelsberg",35700,3800,1500,200,600,1500]
[41007,"Hörsching",330400,52800,44400,0,8400,0,41007,"Hörsching",330400,118900,66600,1500,38000,12900,41007,"Hörsching",330400,85700,8800,36300,33900,6700,41007,"Hörsching",330400,2400,1000,100,400,900]
[41008,"Hofkirchen im Traunkreis",34700,17600,14800,0,2800,0,41008,"Hofkirchen im Traunkreis",34700,1700,1000,0,600,200,41008,"Hofkirchen im Traunkreis",34700,3300,200,1700,1100,200,41008,"Hofkirchen im Traunkreis",34700,2800,1100,200,400,1100]
[41009,"Kematen an der Krems",65500,26400,22200,0,4300,0,41009,"Kematen an der Krems",65500,5400,3000,100,1700,600,41009,"Kematen an der Krems",65500,13800,1800,7300,3400,1300,41009,"Kematen an der Krems",65500,3900,1600,200,600,1500]
[41010,"Kirchberg-Thening",52300,28500,24000,0,4500,0,41010,"Kirchberg-Thening",52300,3400,1900,0,1100,400,41010,"Kirchberg-Thening",52300,6000,1100,2100,2300,500,41010,"Kirchberg-Thening",52300,3300,1300,200,500,1300]
[41011,"Kronstorf",63700,33000,27800,0,5200,0,41011,"Kronstorf",63700,4200,2400,100,1300,500,41011,"Kronstorf",63700,4800,1000,1100,2200,500,41011,"Kronstorf",63700,3600,1400,200,600,1400]
[41012,"Leonding",649000,220500,182300,0,38200,0,41012,"Leonding",649000,76500,42800,900,24400,8300,41012,"Leonding",649000,184000,56800,37000,75300,15000,41012,"Leonding",649000,2900,1100,200,400,1100]
[41013,"St. Florian",232200,60100,50300,0,9800,0,41013,"St. Florian",232200,60400,33800,700,19300,6500,41013,"St. Florian",232200,20800,2600,8400,6900,2800,41013,"St. Florian",232200,8200,3300,500,1300,3200]
[41014,"Neuhofen an der Krems",136900,59100,49800,0,9400,0,41014,"Neuhofen an der Krems",136900,12900,7200,200,4100,1400,41014,"Neuhofen an der Krems",136900,27600,3200,10600,9600,4300,41014,"Neuhofen an der Krems",136900,3100,1300,200,500,1200]
[41015,"Niederneukirchen",40900,21200,17900,0,3300,0,41015,"Niederneukirchen",40900,2800,1600,0,900,300,41015,"Niederneukirchen",40900,1700,400,400,800,200,41015,"Niederneukirchen",40900,4500,1800,300,700,1700]
[41016,"Oftering",76100,22400,19000,0,3400,0,41016,"Oftering",76100,2600,1400,0,800,300,41016,"Oftering",76100,35000,2800,18800,11200,2100,41016,"Oftering",76100,2900,1200,200,400,1100]
[41017,"Pasching",251900,65900,55800,0,10100,0,41017,"Pasching",251900,51800,29000,600,16500,5600,41017,"Pasching",251900,50200,7200,20300,19300,3400,41017,"Pasching",251900,2100,900,100,300,800]
[41018,"Piberbach",31500,17800,15100,0,2800,0,41018,"Piberbach",31500,1200,700,0,400,100,41018,"Piberbach",31500,500,100,100,200,100,41018,"Piberbach",31500,3600,1400,200,500,1400]
[41019,"Pucking",76800,37700,31700,0,6000,0,41019,"Pucking",76800,7800,4400,100,2500,800,41019,"Pucking",76800,6700,800,2200,2700,1000,41019,"Pucking",76800,2800,1100,200,400,1100]
[41020,"St. Marien",120700,47500,40100,0,7500,0,41020,"St. Marien",120700,8000,4500,100,2500,900,41020,"St. Marien",120700,31800,2500,18000,9900,1400,41020,"St. Marien",120700,7800,3100,400,1200,3000]
[41021,"Traun",1648500,191000,162100,0,28900,0,41021,"Traun",1648500,82100,46000,1000,26200,8900,41021,"Traun",1648500,1224000,41800,856700,313100,12500,41021,"Traun",1648500,1000,400,100,100,400]
[41022,"Wilhering",101200,57900,48900,0,9000,0,41022,"Wilhering",101200,8300,4600,100,2600,900,41022,"Wilhering",101200,2700,500,700,1200,300,41022,"Wilhering",101200,3300,1300,200,500,1300]
[41101,"Allerheiligen im Mühlkreis",23300,12200,10500,0,1700,0,41101,"Allerheiligen im Mühlkreis",23300,1200,700,0,400,100,41101,"Allerheiligen im Mühlkreis",23300,1500,100,600,600,200,41101,"Allerheiligen im Mühlkreis",23300,2200,900,100,300,900]
[41102,"Arbing",49900,14000,11700,0,2300,0,41102,"Arbing",49900,2800,1600,0,900,300,41102,"Arbing",49900,19900,800,8600,8700,1800,41102,"Arbing",49900,2000,800,100,300,800]
[41103,"Baumgartenberg",53500,15600,13100,0,2500,0,41103,"Baumgartenberg",53500,3200,1800,0,1000,300,41103,"Baumgartenberg",53500,19500,3700,3800,10400,1500,41103,"Baumgartenberg",53500,2400,1000,100,400,900]
[41104,"Dimbach",23900,11000,9600,0,1400,0,41104,"Dimbach",23900,800,400,0,300,100,41104,"Dimbach",23900,3200,500,1000,1400,300,41104,"Dimbach",23900,3500,1400,200,500,1400]
[41105,"Grein",64200,27300,23500,0,3800,0,41105,"Grein",64200,8700,4900,100,2800,900,41105,"Grein",64200,8500,900,2800,3400,1300,41105,"Grein",64200,1700,700,100,300,700]
[41106,"Katsdorf",53800,29500,24700,0,4800,0,41106,"Katsdorf",53800,4900,2700,100,1600,500,41106,"Katsdorf",53800,1900,300,700,700,200,41106,"Katsdorf",53800,2700,1100,200,400,1000]
[41107,"Klam",16300,8800,7500,0,1300,0,41107,"Klam",16300,800,400,0,200,100,41107,"Klam",16300,600,100,200,200,100,41107,"Klam",16300,1200,500,100,200,500]
[41108,"Bad Kreuzen",49800,20300,17600,0,2700,0,41108,"Bad Kreuzen",49800,5100,2800,100,1600,500,41108,"Bad Kreuzen",49800,4300,600,2100,1200,400,41108,"Bad Kreuzen",49800,5300,2100,300,800,2100]
[41109,"Langenstein",45200,22800,19300,0,3500,0,41109,"Langenstein",45200,2800,1600,0,900,300,41109,"Langenstein",45200,4700,500,800,2300,1000,41109,"Langenstein",45200,1500,600,100,200,600]
[41110,"Luftenberg an der Donau",68000,37900,31900,0,6000,0,41110,"Luftenberg an der Donau",68000,6200,3500,100,2000,700,41110,"Luftenberg an der Donau",68000,2100,300,500,1000,400,41110,"Luftenberg an der Donau",68000,1800,700,100,300,700]
[41111,"Mauthausen",124000,48100,40800,0,7300,0,41111,"Mauthausen",124000,16400,9200,200,5200,1800,41111,"Mauthausen",124000,20700,2000,9900,6200,2600,41111,"Mauthausen",124000,2200,900,100,300,900]
[41112,"Mitterkirchen im Machland",31500,17100,14400,0,2700,0,41112,"Mitterkirchen im Machland",31500,1400,800,0,400,100,41112,"Mitterkirchen im Machland",31500,500,100,100,300,100,41112,"Mitterkirchen im Machland",31500,4400,1800,200,700,1700]
[41113,"Münzbach",84900,19000,16300,0,2700,0,41113,"Münzbach",84900,2200,1200,0,700,200,41113,"Münzbach",84900,46000,2800,26000,14400,2800,41113,"Münzbach",84900,3500,1400,200,500,1400]
[41114,"Naarn im Machlande",111600,36000,30600,0,5400,0,41114,"Naarn im Machlande",111600,5500,3100,100,1800,600,41114,"Naarn im Machlande",111600,41300,3600,22500,13100,2100,41114,"Naarn im Machlande",111600,6600,2600,400,1000,2600]
[41115,"Pabneukirchen",48400,17800,15400,0,2400,0,41115,"Pabneukirchen",48400,2800,1600,0,900,300,41115,"Pabneukirchen",48400,11200,1200,5100,4100,900,41115,"Pabneukirchen",48400,5000,2000,300,800,1900]
[41116,"Perg",315900,78600,65500,0,13100,0,41116,"Perg",315900,33800,18900,400,10800,3700,41116,"Perg",315900,125600,12100,27900,61400,24100,41116,"Perg",315900,4100,1600,200,600,1600]
[41117,"Rechberg",18600,9900,8500,0,1400,0,41117,"Rechberg",18600,1200,700,0,400,100,41117,"Rechberg",18600,600,0,300,200,0,41117,"Rechberg",18600,1600,600,100,200,600]
[41118,"Ried in der Riedmark",75300,40300,34200,0,6100,0,41118,"Ried in der Riedmark",75300,4000,2200,0,1300,400,41118,"Ried in der Riedmark",75300,4000,400,2100,1200,400,41118,"Ried in der Riedmark",75300,5900,2400,300,900,2300]
[41119,"St. Georgen am Walde",42000,22900,20100,0,2800,0,41119,"St. Georgen am Walde",42000,1800,1000,0,600,200,41119,"St. Georgen am Walde",42000,2100,200,300,1100,500,41119,"St. Georgen am Walde",42000,4500,1800,300,700,1700]
[41120,"St. Georgen an der Gusen",92800,35400,29600,0,5700,0,41120,"St. Georgen an der Gusen",92800,6700,3800,100,2200,700,41120,"St. Georgen an der Gusen",92800,25100,700,11600,10700,2000,41120,"St. Georgen an der Gusen",92800,1000,400,100,100,400]
[41121,"St. Nikola an der Donau",14100,8300,7200,0,1100,0,41121,"St. Nikola an der Donau",14100,800,500,0,300,100,41121,"St. Nikola an der Donau",14100,200,0,0,100,0,41121,"St. Nikola an der Donau",14100,900,400,0,100,300]
[41122,"St. Thomas am Blasenstein",18900,9100,7900,0,1200,0,41122,"St. Thomas am Blasenstein",18900,1200,700,0,400,100,41122,"St. Thomas am Blasenstein",18900,1000,100,500,300,100,41122,"St. Thomas am Blasenstein",18900,3000,1200,200,500,1200]
[41123,"Saxen",33700,17400,14700,0,2700,0,41123,"Saxen",33700,1900,1100,0,600,200,41123,"Saxen",33700,3000,500,1300,1000,300,41123,"Saxen",33700,2800,1100,200,400,1100]
[41124,"Schwertberg",395000,49300,42100,0,7200,0,41124,"Schwertberg",395000,11000,6200,100,3500,1200,41124,"Schwertberg",395000,295300,17300,193100,80800,4100,41124,"Schwertberg",395000,2200,900,100,300,800]
[41125,"Waldhausen im Strudengau",54100,27000,23200,0,3800,0,41125,"Waldhausen im Strudengau",54100,2800,1600,0,900,300,41125,"Waldhausen im Strudengau",54100,5100,600,1600,2100,800,41125,"Waldhausen im Strudengau",54100,3800,1500,200,600,1500]
[41126,"Windhaag bei Perg",29700,14600,12400,0,2200,0,41126,"Windhaag bei Perg",29700,1700,900,0,500,200,41126,"Windhaag bei Perg",29700,3800,400,1800,1100,500,41126,"Windhaag bei Perg",29700,2300,900,100,300,900]
[41201,"Andrichsfurt",17700,8600,7400,0,1200,0,41201,"Andrichsfurt",17700,800,400,0,300,100,41201,"Andrichsfurt",17700,1700,200,400,800,400,41201,"Andrichsfurt",17700,2600,1000,100,400,1000]
[41202,"Antiesenhofen",25200,11000,9500,0,1600,0,41202,"Antiesenhofen",25200,1100,600,0,300,100,41202,"Antiesenhofen",25200,6000,700,400,3300,1600,41202,"Antiesenhofen",25200,1400,600,100,200,600]
[41203,"Aurolzmünster",81300,30500,26100,0,4500,0,41203,"Aurolzmünster",81300,8200,4600,100,2600,900,41203,"Aurolzmünster",81300,21300,3600,9000,7300,1500,41203,"Aurolzmünster",81300,2600,1100,100,400,1000]
[41204,"Eberschwang",95000,37000,31800,0,5200,0,41204,"Eberschwang",95000,5400,3000,100,1700,600,41204,"Eberschwang",95000,26000,2600,13400,7900,2100,41204,"Eberschwang",95000,6000,2400,300,900,2300]
[41205,"Eitzing",15400,9200,7800,0,1400,0,41205,"Eitzing",15400,600,300,0,200,100,41205,"Eitzing",15400,600,100,200,300,100,41205,"Eitzing",15400,1700,700,100,300,600]
[41206,"Geiersberg",19700,5200,4500,0,700,0,41206,"Geiersberg",19700,500,300,0,200,100,41206,"Geiersberg",19700,8400,200,3900,3700,600,41206,"Geiersberg",19700,1000,400,100,200,400]
[41207,"Geinberg",88700,15000,12800,0,2200,0,41207,"Geinberg",88700,16400,9200,200,5200,1800,41207,"Geinberg",88700,35000,2300,19900,10900,2000,41207,"Geinberg",88700,2400,1000,100,400,900]
[41208,"Gurten",62500,15300,13300,0,2100,0,41208,"Gurten",62500,1400,800,0,400,100,41208,"Gurten",62500,32800,5600,15100,9500,2600,41208,"Gurten",62500,2900,1200,200,400,1100]
[41209,"Hohenzell",58000,25300,21500,0,3800,0,41209,"Hohenzell",58000,5200,2900,100,1700,600,41209,"Hohenzell",58000,9600,1400,2700,4200,1300,41209,"Hohenzell",58000,4300,1700,200,700,1700]
[41210,"Kirchdorf am Inn",15600,8200,7100,0,1100,0,41210,"Kirchdorf am Inn",15600,800,400,0,200,100,41210,"Kirchdorf am Inn",15600,700,100,300,300,100,41210,"Kirchdorf am Inn",15600,2300,900,100,300,900]
[41211,"Kirchheim im Innkreis",17200,9000,7700,0,1300,0,41211,"Kirchheim im Innkreis",17200,1500,800,0,500,200,41211,"Kirchheim im Innkreis",17200,600,100,200,200,100,41211,"Kirchheim im Innkreis",17200,1800,700,100,300,700]
[41212,"Lambrechten",35900,15200,13100,0,2100,0,41212,"Lambrechten",35900,900,500,0,300,100,41212,"Lambrechten",35900,7200,1000,3000,2500,700,41212,"Lambrechten",35900,4700,1900,300,700,1800]
[41213,"Lohnsburg am Kobernaußerwald",76500,26800,23200,0,3600,0,41213,"Lohnsburg am Kobernaußerwald",76500,2000,1100,0,600,200,41213,"Lohnsburg am Kobernaußerwald",76500,27600,3100,14300,7500,2700,41213,"Lohnsburg am Kobernaußerwald",76500,4400,1800,200,700,1700]
[41214,"Mehrnbach",53600,24200,20800,0,3400,0,41214,"Mehrnbach",53600,4700,2700,100,1500,500,41214,"Mehrnbach",53600,6700,1200,1300,3100,1100,41214,"Mehrnbach",53600,4000,1600,200,600,1600]
[41215,"Mettmach",52200,26200,22600,0,3600,0,41215,"Mettmach",52200,2200,1200,0,700,200,41215,"Mettmach",52200,5900,700,2600,2000,700,41215,"Mettmach",52200,4800,1900,300,700,1900]
[41216,"Mörschwang",10300,3500,3000,0,500,0,41216,"Mörschwang",10300,300,200,0,100,0,41216,"Mörschwang",10300,2500,200,1300,800,200,41216,"Mörschwang",10300,2100,800,100,300,800]
[41217,"Mühlheim am Inn",19600,8100,7000,0,1100,0,41217,"Mühlheim am Inn",19600,700,400,0,200,100,41217,"Mühlheim am Inn",19600,5100,200,2600,2000,400,41217,"Mühlheim am Inn",19600,1700,700,100,300,700]
[41218,"Neuhofen im Innkreis",45200,26200,22200,0,4000,0,41218,"Neuhofen im Innkreis",45200,2000,1100,0,600,200,41218,"Neuhofen im Innkreis",45200,3700,300,1300,1400,600,41218,"Neuhofen im Innkreis",45200,3100,1200,200,500,1200]
[41219,"Obernberg am Inn",31300,16900,14600,0,2300,0,41219,"Obernberg am Inn",31300,2600,1500,0,800,300,41219,"Obernberg am Inn",31300,1900,200,200,1000,500,41219,"Obernberg am Inn",31300,200,100,0,0,100]
[41220,"Ort im Innkreis",35300,13500,11600,0,1900,0,41220,"Ort im Innkreis",35300,2900,1600,0,900,300,41220,"Ort im Innkreis",35300,7800,3200,900,3100,600,41220,"Ort im Innkreis",35300,1900,800,100,300,700]
[41221,"Pattigham",19800,10400,8800,0,1600,0,41221,"Pattigham",19800,900,500,0,300,100,41221,"Pattigham",19800,2000,200,1000,700,200,41221,"Pattigham",19800,2100,900,100,300,800]
[41222,"Peterskirchen",13800,8200,7000,0,1200,0,41222,"Peterskirchen",13800,400,200,0,100,0,41222,"Peterskirchen",13800,300,100,100,200,0,41222,"Peterskirchen",13800,1900,800,100,300,800]
[41223,"Pramet",27500,12100,10400,0,1700,0,41223,"Pramet",27500,1400,800,0,400,100,41223,"Pramet",27500,5500,600,1500,3000,400,41223,"Pramet",27500,2100,800,100,300,800]
[41224,"Reichersberg",131800,21400,18400,0,3000,0,41224,"Reichersberg",131800,4500,2500,100,1400,500,41224,"Reichersberg",131800,80500,14800,17800,42800,5100,41224,"Reichersberg",131800,3800,1500,200,600,1500]
[41225,"Ried im Innkreis",422100,108300,91800,0,16500,0,41225,"Ried im Innkreis",422100,97100,54400,1200,31000,10500,41225,"Ried im Innkreis",422100,93400,18300,24800,43600,6700,41225,"Ried im Innkreis",422100,400,100,0,100,100]
[41226,"St. Georgen bei Obernberg am Inn",15600,7100,6100,0,1000,0,41226,"St. Georgen bei Obernberg am Inn",15600,800,500,0,300,100,41226,"St. Georgen bei Obernberg am Inn",15600,500,100,100,200,100,41226,"St. Georgen bei Obernberg am Inn",15600,4300,1700,200,700,1700]
[41227,"St. Marienkirchen am Hausruck",17600,8900,7600,0,1300,0,41227,"St. Marienkirchen am Hausruck",17600,1100,600,0,300,100,41227,"St. Marienkirchen am Hausruck",17600,900,100,200,400,200,41227,"St. Marienkirchen am Hausruck",17600,2000,800,100,300,800]
[41228,"St. Martin im Innkreis",104800,19300,16500,0,2900,0,41228,"St. Martin im Innkreis",104800,7200,4000,100,2300,800,41228,"St. Martin im Innkreis",104800,58700,10000,17600,26500,4500,41228,"St. Martin im Innkreis",104800,1400,600,100,200,600]
[41229,"Schildorn",31800,12800,10900,0,1900,0,41229,"Schildorn",31800,900,500,0,300,100,41229,"Schildorn",31800,8000,200,3700,3400,600,41229,"Schildorn",31800,2400,1000,100,400,900]
[41230,"Senftenbach",68700,8800,7500,0,1300,0,41230,"Senftenbach",68700,1200,700,0,400,100,41230,"Senftenbach",68700,52600,2300,38200,7700,4400,41230,"Senftenbach",68700,1700,700,100,300,700]
[41231,"Taiskirchen im Innkreis",52400,26100,22400,0,3700,0,41231,"Taiskirchen im Innkreis",52400,2800,1600,0,900,300,41231,"Taiskirchen im Innkreis",52400,4700,400,2700,1200,400,41231,"Taiskirchen im Innkreis",52400,6600,2700,400,1000,2600]
[41232,"Tumeltsham",89500,17500,14800,0,2700,0,41232,"Tumeltsham",89500,15400,8600,200,4900,1700,41232,"Tumeltsham",89500,41300,2600,25400,8900,4400,41232,"Tumeltsham",89500,1600,600,100,200,600]
[41233,"Utzenaich",40900,17100,14700,0,2400,0,41233,"Utzenaich",40900,1800,1000,0,600,200,41233,"Utzenaich",40900,9000,900,4400,3000,800,41233,"Utzenaich",40900,4200,1700,200,600,1600]
[41234,"Waldzell",68200,24000,20600,0,3400,0,41234,"Waldzell",68200,3400,1900,0,1100,400,41234,"Waldzell",68200,21000,1000,8300,9300,2400,41234,"Waldzell",68200,4400,1800,200,700,1700]
[41235,"Weilbach",15000,7500,6500,0,1000,0,41235,"Weilbach",15000,800,500,0,300,100,41235,"Weilbach",15000,600,100,300,200,100,41235,"Weilbach",15000,2700,1100,200,400,1100]
[41236,"Wippenham",12800,6800,5800,0,1000,0,41236,"Wippenham",12800,900,500,0,300,100,41236,"Wippenham",12800,800,100,400,200,100,41236,"Wippenham",12800,1400,600,100,200,600]
[41304,"Altenfelden",53400,23600,20300,0,3300,0,41304,"Altenfelden",53400,5800,3200,100,1800,600,41304,"Altenfelden",53400,7000,600,3600,2300,500,41304,"Altenfelden",53400,3700,1500,200,600,1500]
[41305,"Arnreit",25500,12000,10200,0,1800,0,41305,"Arnreit",25500,900,500,0,300,100,41305,"Arnreit",25500,3100,500,800,1300,500,41305,"Arnreit",25500,3500,1400,200,500,1300]
[41306,"Atzesberg",10000,5500,4900,0,600,0,41306,"Atzesberg",10000,100,0,0,0,0,41306,"Atzesberg",10000,700,0,500,100,0,41306,"Atzesberg",10000,1700,700,100,300,700]
[41307,"Auberg",12600,6600,5700,0,1000,0,41307,"Auberg",12600,600,300,0,200,100,41307,"Auberg",12600,600,100,200,200,100,41307,"Auberg",12600,2000,800,100,300,800]
[41309,"Haslach an der Mühl",53100,28700,24800,0,3900,0,41309,"Haslach an der Mühl",53100,4700,2700,100,1500,500,41309,"Haslach an der Mühl",53100,3300,400,800,1700,500,41309,"Haslach an der Mühl",53100,1400,600,100,200,600]
[41311,"Hörbich",8100,4000,3400,0,500,0,41311,"Hörbich",8100,100,100,0,0,0,41311,"Hörbich",8100,300,100,100,100,0,41311,"Hörbich",8100,1700,700,100,300,700]
[41312,"Hofkirchen im Mühlkreis",38200,16000,13700,0,2300,0,41312,"Hofkirchen im Mühlkreis",38200,4300,2400,100,1400,500,41312,"Hofkirchen im Mühlkreis",38200,5600,1100,1900,2200,400,41312,"Hofkirchen im Mühlkreis",38200,2600,1100,100,400,1000]
[41313,"Julbach",37100,18000,15600,0,2400,0,41313,"Julbach",37100,1300,700,0,400,100,41313,"Julbach",37100,6300,200,2900,2700,600,41313,"Julbach",37100,2800,1100,200,400,1100]
[41314,"Kirchberg ob der Donau",22300,11400,9800,0,1600,0,41314,"Kirchberg ob der Donau",22300,900,500,0,300,100,41314,"Kirchberg ob der Donau",22300,1800,400,700,700,100,41314,"Kirchberg ob der Donau",22300,2300,900,100,400,900]
[41315,"Klaffer am Hochficht",27000,15400,13500,0,2000,0,41315,"Klaffer am Hochficht",27000,1900,1100,0,600,200,41315,"Klaffer am Hochficht",27000,900,100,100,500,200,41315,"Klaffer am Hochficht",27000,1900,800,100,300,700]
[41316,"Kleinzell im Mühlkreis",36200,15100,12800,0,2300,0,41316,"Kleinzell im Mühlkreis",36200,1500,900,0,500,200,41316,"Kleinzell im Mühlkreis",36200,7900,200,3600,3500,600,41316,"Kleinzell im Mühlkreis",36200,2200,900,100,300,900]
[41317,"Kollerschlag",37600,16500,14300,0,2200,0,41317,"Kollerschlag",37600,700,400,0,200,100,41317,"Kollerschlag",37600,10300,1600,4400,3300,900,41317,"Kollerschlag",37600,2300,900,100,400,900]
[41318,"Lembach im Mühlkreis",38000,15800,13500,0,2200,0,41318,"Lembach im Mühlkreis",38000,3700,2000,0,1200,400,41318,"Lembach im Mühlkreis",38000,8000,900,1300,4200,1600,41318,"Lembach im Mühlkreis",38000,1000,400,100,200,400]
[41319,"Lichtenau im Mühlkreis",10900,6300,5500,0,800,0,41319,"Lichtenau im Mühlkreis",10900,200,100,0,100,0,41319,"Lichtenau im Mühlkreis",10900,700,100,400,200,100,41319,"Lichtenau im Mühlkreis",10900,1300,500,100,200,500]
[41320,"Nebelberg",17400,7000,6000,0,900,0,41320,"Nebelberg",17400,300,200,0,100,0,41320,"Nebelberg",17400,5400,2600,400,2100,300,41320,"Nebelberg",17400,1400,600,100,200,600]
[41321,"Neufelden",40700,13600,11700,0,1800,0,41321,"Neufelden",40700,4200,2300,100,1300,500,41321,"Neufelden",40700,10100,2200,2600,4500,800,41321,"Neufelden",40700,1400,600,100,200,600]
[41322,"Niederkappel",22800,10100,8700,0,1400,0,41322,"Niederkappel",22800,700,400,0,200,100,41322,"Niederkappel",22800,3100,500,1000,1300,200,41322,"Niederkappel",22800,3300,1300,200,500,1300]
[41323,"Niederwaldkirchen",40400,19000,16300,0,2700,0,41323,"Niederwaldkirchen",40400,3600,2000,0,1200,400,41323,"Niederwaldkirchen",40400,2800,600,900,1100,200,41323,"Niederwaldkirchen",40400,4700,1900,300,700,1800]
[41324,"Oberkappel",14900,8100,7000,0,1100,0,41324,"Oberkappel",14900,800,500,0,300,100,41324,"Oberkappel",14900,800,100,400,200,100,41324,"Oberkappel",14900,1400,600,100,200,500]
[41325,"Oepping",51700,18000,15500,0,2500,0,41325,"Oepping",51700,1200,700,0,400,100,41325,"Oepping",51700,18800,3400,4400,9800,1300,41325,"Oepping",51700,3700,1500,200,600,1400]
[41326,"Peilstein im Mühlviertel",42100,19200,16700,0,2500,0,41326,"Peilstein im Mühlviertel",42100,1900,1100,0,600,200,41326,"Peilstein im Mühlviertel",42100,9100,1000,2600,3900,1600,41326,"Peilstein im Mühlviertel",42100,3300,1300,200,500,1300]
[41327,"Pfarrkirchen im Mühlkreis",35900,18100,15700,0,2400,0,41327,"Pfarrkirchen im Mühlkreis",35900,1300,700,0,400,100,41327,"Pfarrkirchen im Mühlkreis",35900,4600,600,1400,1900,800,41327,"Pfarrkirchen im Mühlkreis",35900,3900,1500,200,600,1500]
[41328,"Putzleinsdorf",54600,17400,14900,0,2500,0,41328,"Putzleinsdorf",54600,2100,1200,0,700,200,41328,"Putzleinsdorf",54600,19900,800,8900,8700,1600,41328,"Putzleinsdorf",54600,3300,1300,200,500,1300]
[41329,"Neustift im Mühlkreis",31600,16500,14100,0,2300,0,41329,"Neustift im Mühlkreis",31600,1700,900,0,500,200,41329,"Neustift im Mühlkreis",31600,3700,500,1900,1000,400,41329,"Neustift im Mühlkreis",31600,2100,800,100,300,800]
[41331,"St. Johann am Wimberg",23100,11700,10100,0,1600,0,41331,"St. Johann am Wimberg",23100,1300,800,0,400,100,41331,"St. Johann am Wimberg",23100,1700,200,700,600,200,41331,"St. Johann am Wimberg",23100,2800,1100,200,400,1100]
[41332,"St. Martin im Mühlkreis",93600,36400,31000,0,5300,0,41332,"St. Martin im Mühlkreis",93600,7900,4400,100,2500,900,41332,"St. Martin im Mühlkreis",93600,17300,2500,5600,6900,2300,41332,"St. Martin im Mühlkreis",93600,4500,1800,300,700,1800]
[41333,"St. Oswald bei Haslach",10700,6500,5600,0,800,0,41333,"St. Oswald bei Haslach",10700,600,300,0,200,100,41333,"St. Oswald bei Haslach",10700,100,0,0,0,0,41333,"St. Oswald bei Haslach",10700,1300,500,100,200,500]
[41334,"St. Peter am Wimberg",60600,18800,16200,0,2600,0,41334,"St. Peter am Wimberg",60600,2000,1100,0,600,200,41334,"St. Peter am Wimberg",60600,24900,1000,17000,6500,300,41334,"St. Peter am Wimberg",60600,3500,1400,200,500,1400]
[41336,"St. Ulrich im Mühlkreis",14100,7200,6200,0,1000,0,41336,"St. Ulrich im Mühlkreis",14100,500,300,0,200,100,41336,"St. Ulrich im Mühlkreis",14100,500,100,100,200,100,41336,"St. Ulrich im Mühlkreis",14100,2700,1100,200,400,1100]
[41337,"St. Veit im Mühlkreis",27100,14900,12900,0,2000,0,41337,"St. Veit im Mühlkreis",27100,1500,800,0,500,200,41337,"St. Veit im Mühlkreis",27100,1700,200,600,600,200,41337,"St. Veit im Mühlkreis",27100,2400,900,100,400,900]
[41338,"Sarleinsbach",105400,23700,20500,0,3200,0,41338,"Sarleinsbach",105400,3300,1900,0,1100,400,41338,"Sarleinsbach",105400,53200,8800,16200,24100,4100,41338,"Sarleinsbach",105400,4900,2000,300,800,1900]
[41341,"Schwarzenberg am Böhmerwald",14100,8800,7800,0,1000,0,41341,"Schwarzenberg am Böhmerwald",14100,500,300,0,100,0,41341,"Schwarzenberg am Böhmerwald",14100,400,100,200,200,0,41341,"Schwarzenberg am Böhmerwald",14100,1600,600,100,200,600]
[41342,"Ulrichsberg",91200,34700,30300,0,4400,0,41342,"Ulrichsberg",91200,4100,2300,100,1300,400,41342,"Ulrichsberg",91200,29100,2400,11900,11300,3600,41342,"Ulrichsberg",91200,5100,2100,300,800,2000]
[41343,"Aigen-Schlägl",99800,38500,33400,0,5100,0,41343,"Aigen-Schlägl",99800,9200,5100,100,2900,1000,41343,"Aigen-Schlägl",99800,27400,2000,14000,9200,2300,41343,"Aigen-Schlägl",99800,3300,1300,200,500,1300]
[41344,"Rohrbach-Berg",153300,56200,48500,0,7700,0,41344,"Rohrbach-Berg",153300,34000,19100,400,10900,3700,41344,"Rohrbach-Berg",153300,13300,1200,3900,6000,2300,41344,"Rohrbach-Berg",153300,5200,2100,300,800,2000]
[41345,"Helfenberg",34600,17200,15000,0,2100,0,41345,"Helfenberg",34600,2000,1100,0,600,200,41345,"Helfenberg",34600,4400,500,1900,1700,300,41345,"Helfenberg",34600,2400,1000,100,400,900]
[41346,"St. Stefan-Afiesl",25600,14300,12500,0,1900,0,41346,"St. Stefan-Afiesl",25600,1800,1000,0,600,200,41346,"St. Stefan-Afiesl",25600,700,100,300,200,100,41346,"St. Stefan-Afiesl",25600,3300,1300,200,500,1300]
[41401,"Altschwendt",14100,7300,6300,0,1000,0,41401,"Altschwendt",14100,600,300,0,200,100,41401,"Altschwendt",14100,300,0,100,100,0,41401,"Altschwendt",14100,2600,1100,100,400,1000]
[41402,"Andorf",156700,50200,43100,0,7200,0,41402,"Andorf",156700,10500,5900,100,3400,1100,41402,"Andorf",156700,53900,5600,31300,12100,5000,41402,"Andorf",156700,6900,2800,400,1100,2700]
[41403,"Brunnenthal",43200,19900,16900,0,3100,0,41403,"Brunnenthal",43200,3700,2100,0,1200,400,41403,"Brunnenthal",43200,7000,500,4100,1900,600,41403,"Brunnenthal",43200,2300,900,100,400,900]
[41404,"Diersbach",34100,16700,14400,0,2300,0,41404,"Diersbach",34100,1600,900,0,500,200,41404,"Diersbach",34100,2900,600,1000,1100,300,41404,"Diersbach",34100,5300,2100,300,800,2100]
[41405,"Dorf an der Pram",25300,11900,10200,0,1700,0,41405,"Dorf an der Pram",25300,2200,1200,0,700,200,41405,"Dorf an der Pram",25300,2200,400,400,1100,300,41405,"Dorf an der Pram",25300,2500,1000,100,400,1000]
[41406,"Eggerding",27800,14000,12100,0,2000,0,41406,"Eggerding",27800,1100,600,0,400,100,41406,"Eggerding",27800,1500,200,400,600,300,41406,"Eggerding",27800,4400,1800,200,700,1700]
[41407,"Engelhartszell",23500,10500,9100,0,1400,0,41407,"Engelhartszell",23500,2600,1500,0,800,300,41407,"Engelhartszell",23500,2900,300,400,1500,600,41407,"Engelhartszell",23500,1100,400,100,200,400]
[41408,"Enzenkirchen",39100,19800,16900,0,2900,0,41408,"Enzenkirchen",39100,2000,1100,0,600,200,41408,"Enzenkirchen",39100,3800,500,800,1900,600,41408,"Enzenkirchen",39100,3800,1500,200,600,1500]
[41409,"Esternberg",73200,27400,23500,0,3800,0,41409,"Esternberg",73200,2800,1600,0,900,300,41409,"Esternberg",73200,20600,1200,9100,8800,1600,41409,"Esternberg",73200,4500,1800,300,700,1700]
[41410,"Freinberg",68400,15800,13600,0,2200,0,41410,"Freinberg",68400,1900,1100,0,600,200,41410,"Freinberg",68400,39000,18900,2700,15100,2300,41410,"Freinberg",68400,2000,800,100,300,800]
[41411,"Kopfing im Innkreis",94200,22800,19600,0,3200,0,41411,"Kopfing im Innkreis",94200,2200,1200,0,700,200,41411,"Kopfing im Innkreis",94200,49300,6200,26100,12300,4700,41411,"Kopfing im Innkreis",94200,3400,1400,200,500,1300]
[41412,"Mayrhof",6000,3100,2600,0,500,0,41412,"Mayrhof",6000,100,100,0,0,0,41412,"Mayrhof",6000,0,0,0,0,0,41412,"Mayrhof",6000,1100,500,100,200,400]
[41413,"Münzkirchen",53000,25400,21700,0,3600,0,41413,"Münzkirchen",53000,5000,2800,100,1600,500,41413,"Münzkirchen",53000,5300,600,1000,2600,1100,41413,"Münzkirchen",53000,3300,1300,200,500,1300]
[41414,"Raab",54000,27200,23500,0,3700,0,41414,"Raab",54000,4300,2400,100,1400,500,41414,"Raab",54000,5100,500,800,2600,1200,41414,"Raab",54000,4100,1600,200,600,1600]
[41415,"Rainbach im Innkreis",28800,15000,12800,0,2200,0,41415,"Rainbach im Innkreis",28800,1000,500,0,300,100,41415,"Rainbach im Innkreis",28800,1300,200,300,700,300,41415,"Rainbach im Innkreis",28800,4400,1800,200,700,1700]
[41416,"Riedau",50900,23000,19700,0,3200,0,41416,"Riedau",50900,3600,2000,0,1100,400,41416,"Riedau",50900,11700,2400,2500,5200,1500,41416,"Riedau",50900,1200,500,100,200,500]
[41417,"St. Aegidi",35600,17800,15400,0,2400,0,41417,"St. Aegidi",35600,2000,1100,0,600,200,41417,"St. Aegidi",35600,3500,400,1700,1000,400,41417,"St. Aegidi",35600,3800,1500,200,600,1500]
[41418,"St. Florian am Inn",137800,31900,27000,0,4900,0,41418,"St. Florian am Inn",137800,12800,7100,200,4100,1400,41418,"St. Florian am Inn",137800,58800,4300,23600,25600,5300,41418,"St. Florian am Inn",137800,3700,1500,200,600,1400]
[41419,"St. Marienkirchen bei Schärding",66200,19800,16900,0,2800,0,41419,"St. Marienkirchen bei Schärding",66200,3000,1700,0,1000,300,41419,"St. Marienkirchen bei Schärding",66200,25700,2900,14100,6400,2300,41419,"St. Marienkirchen bei Schärding",66200,4800,1900,300,700,1900]
[41420,"St. Roman",37100,18000,15400,0,2500,0,41420,"St. Roman",37100,1400,800,0,500,200,41420,"St. Roman",37100,3800,500,1500,1300,400,41420,"St. Roman",37100,4300,1700,200,700,1700]
[41421,"St. Willibald",27500,12700,10900,0,1700,0,41421,"St. Willibald",27500,1300,700,0,400,100,41421,"St. Willibald",27500,4100,400,1900,1600,300,41421,"St. Willibald",27500,2300,900,100,300,900]
[41422,"Schärding",139900,50900,43100,0,7800,0,41422,"Schärding",139900,36600,20500,500,11700,4000,41422,"Schärding",139900,6600,700,2600,2600,600,41422,"Schärding",139900,200,100,0,0,100]
[41423,"Schardenberg",61400,25300,21600,0,3800,0,41423,"Schardenberg",61400,2800,1600,0,900,300,41423,"Schardenberg",61400,14300,1300,6000,5700,1300,41423,"Schardenberg",61400,4700,1900,300,700,1800]
[41424,"Sigharting",25300,9400,8100,0,1300,0,41424,"Sigharting",25300,2000,1100,0,700,200,41424,"Sigharting",25300,6900,1000,2600,2700,600,41424,"Sigharting",25300,1000,400,100,100,400]
[41425,"Suben",38000,12500,10700,0,1800,0,41425,"Suben",38000,13700,7700,200,4400,1500,41425,"Suben",38000,1100,200,200,500,200,41425,"Suben",38000,1000,400,100,100,400]
[41426,"Taufkirchen an der Pram",90600,30700,26400,0,4400,0,41426,"Taufkirchen an der Pram",90600,9000,5000,100,2900,1000,41426,"Taufkirchen an der Pram",90600,28500,3900,5300,14000,5300,41426,"Taufkirchen an der Pram",90600,5500,2200,300,800,2100]
[41427,"Vichtenstein",12000,7600,6600,0,1000,0,41427,"Vichtenstein",12000,500,300,0,200,100,41427,"Vichtenstein",12000,400,100,100,200,100,41427,"Vichtenstein",12000,600,200,0,100,200]
[41428,"Waldkirchen am Wesen",25100,14000,12100,0,1900,0,41428,"Waldkirchen am Wesen",25100,1700,900,0,500,200,41428,"Waldkirchen am Wesen",25100,500,100,200,200,100,41428,"Waldkirchen am Wesen",25100,2600,1000,100,400,1000]
[41429,"Wernstein am Inn",32800,16400,14000,0,2400,0,41429,"Wernstein am Inn",32800,2000,1100,0,600,200,41429,"Wernstein am Inn",32800,3900,800,1300,1500,400,41429,"Wernstein am Inn",32800,2600,1100,100,400,1000]
[41430,"Zell an der Pram",46600,21200,18300,0,2900,0,41430,"Zell an der Pram",46600,3000,1700,0,1000,300,41430,"Zell an der Pram",46600,6500,800,2500,2600,600,41430,"Zell an der Pram",46600,4500,1800,300,700,1700]
[41501,"Adlwang",41900,17100,14400,0,2700,0,41501,"Adlwang",41900,2700,1500,0,900,300,41501,"Adlwang",41900,8900,2100,2300,3600,800,41501,"Adlwang",41900,3100,1300,200,500,1200]
[41502,"Aschach an der Steyr",46900,24200,20600,0,3600,0,41502,"Aschach an der Steyr",46900,2000,1100,0,700,200,41502,"Aschach an der Steyr",46900,5500,300,2400,2300,500,41502,"Aschach an der Steyr",46900,3800,1500,200,600,1500]
[41503,"Bad Hall",164600,49400,41900,0,7500,0,41503,"Bad Hall",164600,29300,16400,400,9400,3200,41503,"Bad Hall",164600,37900,6800,7500,20600,2900,41503,"Bad Hall",164600,2200,900,100,300,900]
[41504,"Dietach",84400,31300,26300,0,5000,0,41504,"Dietach",84400,7900,4400,100,2500,900,41504,"Dietach",84400,20100,3800,6900,7700,1800,41504,"Dietach",84400,3500,1400,200,500,1400]
[41505,"Gaflenz",51500,18600,16000,0,2600,0,41505,"Gaflenz",51500,4000,2200,0,1300,400,41505,"Gaflenz",51500,13900,1900,4800,5900,1200,41505,"Gaflenz",51500,3800,1500,200,600,1500]
[41506,"Garsten",127100,59100,50300,0,8800,0,41506,"Garsten",127100,9600,5400,100,3100,1000,41506,"Garsten",127100,19500,1300,10700,6000,1600,41506,"Garsten",127100,5900,2400,300,900,2300]
[41507,"Großraming",71200,26400,22600,0,3800,0,41507,"Großraming",71200,4100,2300,100,1300,400,41507,"Großraming",71200,18800,2200,1700,10100,4900,41507,"Großraming",71200,5600,2200,300,900,2200]
[41508,"Laussa",25000,11800,10100,0,1700,0,41508,"Laussa",25000,1200,700,0,400,100,41508,"Laussa",25000,1400,200,300,700,200,41508,"Laussa",25000,3900,1500,200,600,1500]
[41509,"Losenstein",45100,15100,12900,0,2200,0,41509,"Losenstein",45100,3200,1800,0,1000,400,41509,"Losenstein",45100,14000,3000,3000,7000,1000,41509,"Losenstein",45100,1600,600,100,200,600]
[41510,"Maria Neustift",33400,16500,14200,0,2300,0,41510,"Maria Neustift",33400,1300,800,0,400,100,41510,"Maria Neustift",33400,1100,200,500,300,100,41510,"Maria Neustift",33400,6100,2500,300,900,2400]
[41511,"Pfarrkirchen bei Bad Hall",45100,21100,17800,0,3200,0,41511,"Pfarrkirchen bei Bad Hall",45100,1500,800,0,500,200,41511,"Pfarrkirchen bei Bad Hall",45100,7900,1500,1800,4000,600,41511,"Pfarrkirchen bei Bad Hall",45100,2000,800,100,300,800]
[41512,"Reichraming",55300,16500,14100,0,2400,0,41512,"Reichraming",55300,1900,1100,0,600,200,41512,"Reichraming",55300,21500,1900,8300,9800,1500,41512,"Reichraming",55300,2800,1100,200,400,1100]
[41513,"Rohr im Kremstal",37000,12800,10700,0,2100,0,41513,"Rohr im Kremstal",37000,1600,900,0,500,200,41513,"Rohr im Kremstal",37000,12100,800,7400,3300,600,41513,"Rohr im Kremstal",37000,2900,1200,200,400,1100]
[41514,"St. Ulrich bei Steyr",66100,29800,25300,0,4500,0,41514,"St. Ulrich bei Steyr",66100,4800,2700,100,1500,500,41514,"St. Ulrich bei Steyr",66100,12700,2000,4200,4800,1600,41514,"St. Ulrich bei Steyr",66100,3600,1400,200,600,1400]
[41515,"Schiedlberg",35500,15200,13100,0,2100,0,41515,"Schiedlberg",35500,2600,1400,0,800,300,41515,"Schiedlberg",35500,3400,400,1400,1300,300,41515,"Schiedlberg",35500,6400,2600,400,1000,2500]
[41516,"Sierning",195600,95300,81400,0,13800,0,41516,"Sierning",195600,16000,8900,200,5100,1700,41516,"Sierning",195600,27800,2800,11900,10200,3000,41516,"Sierning",195600,6800,2700,400,1000,2600]
[41517,"Ternberg",78500,32200,27300,0,4900,0,41517,"Ternberg",78500,6500,3600,100,2100,700,41517,"Ternberg",78500,14700,4200,2500,6500,1400,41517,"Ternberg",78500,5300,2100,300,800,2100]
[41518,"Waldneukirchen",81800,21900,18700,0,3200,0,41518,"Waldneukirchen",81800,4900,2700,100,1600,500,41518,"Waldneukirchen",81800,35100,2500,19700,11000,1900,41518,"Waldneukirchen",81800,4900,2000,300,800,1900]
[41521,"Wolfern",98000,33500,28400,0,5100,0,41521,"Wolfern",98000,6400,3600,100,2000,700,41521,"Wolfern",98000,32100,4700,12500,11800,3100,41521,"Wolfern",98000,6400,2600,400,1000,2500]
[41522,"Weyer",89600,44500,38500,0,6000,0,41522,"Weyer",89600,9000,5000,100,2900,1000,41522,"Weyer",89600,6400,700,1700,2800,1200,41522,"Weyer",89600,5800,2300,300,900,2200]
[41601,"Alberndorf in der Riedmark",76700,40300,34300,0,6000,0,41601,"Alberndorf in der Riedmark",76700,4400,2500,100,1400,500,41601,"Alberndorf in der Riedmark",76700,6300,700,2700,2100,700,41601,"Alberndorf in der Riedmark",76700,5300,2100,300,800,2100]
[41602,"Altenberg bei Linz",88200,49000,42000,0,7000,0,41602,"Altenberg bei Linz",88200,5000,2800,100,1600,500,41602,"Altenberg bei Linz",88200,5800,600,1400,2700,1100,41602,"Altenberg bei Linz",88200,5900,2400,300,900,2300]
[41603,"Bad Leonfelden",117700,45500,39600,0,5900,0,41603,"Bad Leonfelden",117700,11400,6400,100,3600,1200,41603,"Bad Leonfelden",117700,25300,2500,7800,11000,4000,41603,"Bad Leonfelden",117700,5300,2100,300,800,2100]
[41604,"Eidenberg",42200,24500,20900,0,3500,0,41604,"Eidenberg",42200,1900,1100,0,600,200,41604,"Eidenberg",42200,900,100,300,400,100,41604,"Eidenberg",42200,3700,1500,200,600,1400]
[41605,"Engerwitzdorf",164600,80600,68000,0,12600,0,41605,"Engerwitzdorf",164600,10900,6100,100,3500,1200,41605,"Engerwitzdorf",164600,21100,3500,7400,8300,1900,41605,"Engerwitzdorf",164600,6300,2500,400,1000,2400]
[41606,"Feldkirchen an der Donau",104400,53900,45800,0,8200,0,41606,"Feldkirchen an der Donau",104400,8700,4900,100,2800,900,41606,"Feldkirchen an der Donau",104400,6600,1100,1900,2800,800,41606,"Feldkirchen an der Donau",104400,5400,2200,300,800,2100]
[41607,"Gallneukirchen",123700,57200,48000,0,9200,0,41607,"Gallneukirchen",123700,14700,8200,200,4700,1600,41607,"Gallneukirchen",123700,11900,1500,3200,5600,1600,41607,"Gallneukirchen",123700,500,200,0,100,200]
[41608,"Goldwörth",17900,9800,8300,0,1500,0,41608,"Goldwörth",17900,1400,800,0,400,100,41608,"Goldwörth",17900,700,100,100,300,100,41608,"Goldwörth",17900,1700,700,100,300,600]
[41609,"Gramastetten",93100,51700,43700,0,8000,0,41609,"Gramastetten",93100,6400,3600,100,2100,700,41609,"Gramastetten",93100,3000,500,600,1500,400,41609,"Gramastetten",93100,5700,2300,300,900,2200]
[41610,"Haibach im Mühlkreis",17000,10200,8800,0,1400,0,41610,"Haibach im Mühlkreis",17000,400,200,0,100,0,41610,"Haibach im Mühlkreis",17000,100,0,0,100,0,41610,"Haibach im Mühlkreis",17000,1800,700,100,300,700]
[41611,"Hellmonsödt",50200,25300,21900,0,3400,0,41611,"Hellmonsödt",50200,5300,3000,100,1700,600,41611,"Hellmonsödt",50200,4500,600,2000,1500,400,41611,"Hellmonsödt",50200,1800,700,100,300,700]
[41612,"Herzogsdorf",51500,27400,23400,0,4000,0,41612,"Herzogsdorf",51500,2500,1400,0,800,300,41612,"Herzogsdorf",51500,3500,600,800,1600,500,41612,"Herzogsdorf",51500,5500,2200,300,800,2200]
[41613,"Kirchschlag bei Linz",46500,26900,23400,0,3500,0,41613,"Kirchschlag bei Linz",46500,2800,1500,0,900,300,41613,"Kirchschlag bei Linz",46500,3600,800,700,1600,500,41613,"Kirchschlag bei Linz",46500,1700,700,100,300,700]
[41614,"Lichtenberg",52400,30200,25800,0,4400,0,41614,"Lichtenberg",52400,3400,1900,0,1100,400,41614,"Lichtenberg",52400,2700,900,600,1000,200,41614,"Lichtenberg",52400,2400,1000,100,400,900]
[41615,"Oberneukirchen",77700,36300,31600,0,4700,0,41615,"Oberneukirchen",77700,3400,1900,0,1100,400,41615,"Oberneukirchen",77700,15600,1800,3900,7000,2900,41615,"Oberneukirchen",77700,4400,1800,200,700,1700]
[41616,"Ottenschlag im Mühlkreis",10900,5500,4700,0,800,0,41616,"Ottenschlag im Mühlkreis",10900,200,100,0,100,0,41616,"Ottenschlag im Mühlkreis",10900,900,0,600,200,100,41616,"Ottenschlag im Mühlkreis",10900,1500,600,100,200,600]
[41617,"Ottensheim",94100,44100,37100,0,7000,0,41617,"Ottensheim",94100,11800,6600,100,3800,1300,41617,"Ottensheim",94100,8700,800,2100,4100,1700,41617,"Ottensheim",94100,1200,500,100,200,500]
[41618,"Puchenau",74600,47600,40200,0,7400,0,41618,"Puchenau",74600,5400,3000,100,1700,600,41618,"Puchenau",74600,900,100,300,400,100,41618,"Puchenau",74600,700,300,0,100,300]
[41619,"Reichenau im Mühlkreis",25300,14100,12100,0,2000,0,41619,"Reichenau im Mühlkreis",25300,2200,1200,0,700,200,41619,"Reichenau im Mühlkreis",25300,900,100,500,300,100,41619,"Reichenau im Mühlkreis",25300,1300,500,100,200,500]
[41620,"Reichenthal",37700,16800,14400,0,2300,0,41620,"Reichenthal",37700,1600,900,0,500,200,41620,"Reichenthal",37700,7000,600,3500,2500,500,41620,"Reichenthal",37700,3000,1200,200,500,1200]
[41621,"St. Gotthard im Mühlkreis",24100,14600,12500,0,2100,0,41621,"St. Gotthard im Mühlkreis",24100,1300,700,0,400,100,41621,"St. Gotthard im Mühlkreis",24100,700,100,300,300,100,41621,"St. Gotthard im Mühlkreis",24100,1500,600,100,200,600]
[41622,"Schenkenfelden",33300,18000,15700,0,2300,0,41622,"Schenkenfelden",33300,1100,600,0,300,100,41622,"Schenkenfelden",33300,2100,200,700,900,300,41622,"Schenkenfelden",33300,4000,1600,200,600,1600]
[41623,"Sonnberg im Mühlkreis",21300,11300,9700,0,1700,0,41623,"Sonnberg im Mühlkreis",21300,800,400,0,200,100,41623,"Sonnberg im Mühlkreis",21300,2600,300,1200,800,300,41623,"Sonnberg im Mühlkreis",21300,1800,700,100,300,700]
[41624,"Steyregg",138200,47800,40500,0,7400,0,41624,"Steyregg",138200,10000,5600,100,3200,1100,41624,"Steyregg",138200,46000,4000,20300,17500,4100,41624,"Steyregg",138200,2500,1000,100,400,1000]
[41626,"Walding",82200,40800,34400,0,6400,0,41626,"Walding",82200,7500,4200,100,2400,800,41626,"Walding",82200,9700,1100,4000,3400,1100,41626,"Walding",82200,2300,900,100,300,900]
[41627,"Zwettl an der Rodl",33100,18800,16300,0,2400,0,41627,"Zwettl an der Rodl",33100,2500,1400,0,800,300,41627,"Zwettl an der Rodl",33100,400,100,200,200,0,41627,"Zwettl an der Rodl",33100,2100,900,100,300,800]
[41628,"Vorderweißenbach",66900,31200,27200,0,4000,0,41628,"Vorderweißenbach",66900,3200,1800,0,1000,400,41628,"Vorderweißenbach",66900,11500,1400,5400,3400,1300,41628,"Vorderweißenbach",66900,6200,2500,300,900,2400]
[41701,"Ampflwang im Hausruckwald",80200,37300,32500,0,4800,0,41701,"Ampflwang im Hausruckwald",80200,12000,6700,100,3800,1300,41701,"Ampflwang im Hausruckwald",80200,11000,1200,4200,4500,1100,41701,"Ampflwang im Hausruckwald",80200,1400,600,100,200,600]
[41702,"Attersee am Attersee",41700,25500,21900,0,3700,0,41702,"Attersee am Attersee",41700,3200,1800,0,1000,300,41702,"Attersee am Attersee",41700,2400,700,400,1000,200,41702,"Attersee am Attersee",41700,1000,400,100,100,400]
[41703,"Attnang-Puchheim",342900,78900,67800,0,11100,0,41703,"Attnang-Puchheim",342900,24600,13800,300,7800,2700,41703,"Attnang-Puchheim",342900,176300,14700,92400,57000,12200,41703,"Attnang-Puchheim",342900,800,300,0,100,300]
[41704,"Atzbach",32400,12800,11000,0,1800,0,41704,"Atzbach",32400,1600,900,0,500,200,41704,"Atzbach",32400,7800,900,1200,3900,1800,41704,"Atzbach",32400,2700,1100,200,400,1000]
[41705,"Aurach am Hongar",31400,17400,14800,0,2600,0,41705,"Aurach am Hongar",31400,1300,700,0,400,100,41705,"Aurach am Hongar",31400,1800,200,500,800,300,41705,"Aurach am Hongar",31400,2300,900,100,400,900]
[41706,"Berg im Attergau",22600,12900,11100,0,1800,0,41706,"Berg im Attergau",22600,1200,700,0,400,100,41706,"Berg im Attergau",22600,200,0,0,100,0,41706,"Berg im Attergau",22600,3100,1200,200,500,1200]
[41707,"Desselbrunn",39200,19200,16400,0,2800,0,41707,"Desselbrunn",39200,4700,2600,100,1500,500,41707,"Desselbrunn",39200,3300,300,1700,900,400,41707,"Desselbrunn",39200,3000,1200,200,500,1200]
[41708,"Fornach",20200,10400,8900,0,1500,0,41708,"Fornach",20200,1400,800,0,400,200,41708,"Fornach",20200,1200,200,400,400,100,41708,"Fornach",20200,1600,600,100,200,600]
[41709,"Frankenburg am Hausruck",116300,54000,46700,0,7300,0,41709,"Frankenburg am Hausruck",116300,7100,4000,100,2300,800,41709,"Frankenburg am Hausruck",116300,23400,2600,10000,8400,2400,41709,"Frankenburg am Hausruck",116300,5300,2100,300,800,2100]
[41710,"Frankenmarkt",159900,39100,33800,0,5200,0,41710,"Frankenmarkt",159900,4900,2800,100,1600,500,41710,"Frankenmarkt",159900,88800,10100,43400,28900,6400,41710,"Frankenmarkt",159900,2300,900,100,400,900]
[41711,"Gampern",103100,30000,25600,0,4400,0,41711,"Gampern",103100,4400,2400,100,1400,500,41711,"Gampern",103100,46000,19200,6400,17500,3000,41711,"Gampern",103100,4500,1800,300,700,1800]
[41712,"Innerschwand am Mondsee",24100,13500,11500,0,1900,0,41712,"Innerschwand am Mondsee",24100,1900,1100,0,600,200,41712,"Innerschwand am Mondsee",24100,600,100,100,300,100,41712,"Innerschwand am Mondsee",24100,1700,700,100,300,600]
[41713,"Lenzing",3114000,49000,42200,0,6800,0,41713,"Lenzing",3114000,22800,12800,300,7300,2500,41713,"Lenzing",3114000,2993900,175200,2046300,759200,13100,41713,"Lenzing",3114000,1100,400,100,200,400]
[41714,"Manning",17400,9100,7900,0,1200,0,41714,"Manning",17400,1200,700,0,400,100,41714,"Manning",17400,1600,100,900,500,100,41714,"Manning",17400,1700,700,100,300,700]
[41715,"Mondsee",109300,36400,30600,0,5700,0,41715,"Mondsee",109300,23000,12900,300,7300,2500,41715,"Mondsee",109300,16000,2300,3600,7200,2900,41715,"Mondsee",109300,100,0,0,0,0]
[41716,"Neukirchen an der Vöckla",83400,29800,25800,0,4000,0,41716,"Neukirchen an der Vöckla",83400,3400,1900,0,1100,400,41716,"Neukirchen an der Vöckla",83400,31600,2600,17500,9100,2300,41716,"Neukirchen an der Vöckla",83400,3400,1400,200,500,1300]
[41717,"Niederthalheim",22400,12000,10400,0,1600,0,41717,"Niederthalheim",22400,700,400,0,200,100,41717,"Niederthalheim",22400,900,100,300,400,100,41717,"Niederthalheim",22400,3200,1300,200,500,1200]
[41718,"Nußdorf am Attersee",34300,20000,17200,0,2800,0,41718,"Nußdorf am Attersee",34300,2300,1300,0,700,300,41718,"Nußdorf am Attersee",34300,3400,400,1500,1200,400,41718,"Nußdorf am Attersee",34300,1400,600,100,200,500]
[41719,"Oberhofen am Irrsee",37900,17700,15100,0,2600,0,41719,"Oberhofen am Irrsee",37900,2800,1600,0,900,300,41719,"Oberhofen am Irrsee",37900,5900,700,2100,2500,600,41719,"Oberhofen am Irrsee",37900,2800,1100,200,400,1100]
[41720,"Oberndorf bei Schwanenstadt",27500,14900,12700,0,2200,0,41720,"Oberndorf bei Schwanenstadt",27500,1200,700,0,400,100,41720,"Oberndorf bei Schwanenstadt",27500,3100,600,600,1600,400,41720,"Oberndorf bei Schwanenstadt",27500,1100,400,100,200,400]
[41721,"Oberwang",73700,18500,15900,0,2500,0,41721,"Oberwang",73700,6000,3400,100,1900,700,41721,"Oberwang",73700,32000,1800,22000,5500,2700,41721,"Oberwang",73700,3000,1200,200,500,1200]
[41722,"Ottnang am Hausruck",88600,40800,35100,0,5800,0,41722,"Ottnang am Hausruck",88600,4300,2400,100,1400,500,41722,"Ottnang am Hausruck",88600,19200,1600,11900,4400,1300,41722,"Ottnang am Hausruck",88600,4000,1600,200,600,1500]
[41723,"Pfaffing",36400,16800,14500,0,2300,0,41723,"Pfaffing",36400,1000,600,0,300,100,41723,"Pfaffing",36400,8200,2100,2100,3400,600,41723,"Pfaffing",36400,1800,700,100,300,700]
[41724,"Pilsbach",11800,7200,6200,0,1000,0,41724,"Pilsbach",11800,400,200,0,100,0,41724,"Pilsbach",11800,100,0,0,0,0,41724,"Pilsbach",11800,1300,500,100,200,500]
[41725,"Pitzenberg",9900,5500,4700,0,800,0,41725,"Pitzenberg",9900,300,200,0,100,0,41725,"Pitzenberg",9900,300,100,100,100,0,41725,"Pitzenberg",9900,900,400,100,100,400]
[41726,"Pöndorf",56200,28200,24400,0,3800,0,41726,"Pöndorf",56200,2000,1100,0,600,200,41726,"Pöndorf",56200,9500,900,4600,3200,800,41726,"Pöndorf",56200,4700,1900,300,700,1800]
[41727,"Puchkirchen am Trattberg",23000,11300,9700,0,1600,0,41727,"Puchkirchen am Trattberg",23000,1700,1000,0,600,200,41727,"Puchkirchen am Trattberg",23000,2200,100,800,1000,200,41727,"Puchkirchen am Trattberg",23000,1200,500,100,200,500]
[41728,"Pühret",10900,6500,5600,0,900,0,41728,"Pühret",10900,400,200,0,100,0,41728,"Pühret",10900,0,0,0,0,0,41728,"Pühret",10900,1200,500,100,200,500]
[41729,"Redleiten",14400,5600,4800,0,800,0,41729,"Redleiten",14400,300,200,0,100,0,41729,"Redleiten",14400,4300,100,2100,1700,300,41729,"Redleiten",14400,800,300,0,100,300]
[41730,"Redlham",55000,16800,14200,0,2500,0,41730,"Redlham",55000,9500,5300,100,3000,1000,41730,"Redlham",55000,17600,1700,6700,6700,2600,41730,"Redlham",55000,1200,500,100,200,500]
[41731,"Regau",165100,66100,56100,0,10000,0,41731,"Regau",165100,21300,11900,300,6800,2300,41731,"Regau",165100,31600,4800,12000,11500,3300,41731,"Regau",165100,3800,1500,200,600,1500]
[41732,"Rüstorf",48100,21900,18700,0,3200,0,41732,"Rüstorf",48100,2100,1200,0,700,200,41732,"Rüstorf",48100,10700,2000,2600,5400,700,41732,"Rüstorf",48100,1800,700,100,300,700]
[41733,"Rutzenham",6200,3000,2600,0,500,0,41733,"Rutzenham",6200,600,300,0,200,100,41733,"Rutzenham",6200,0,0,0,0,0,41733,"Rutzenham",6200,900,300,0,100,300]
[41734,"St. Georgen im Attergau",99100,42000,35900,0,6100,0,41734,"St. Georgen im Attergau",99100,11900,6700,100,3800,1300,41734,"St. Georgen im Attergau",99100,14200,1200,6300,5100,1600,41734,"St. Georgen im Attergau",99100,2200,900,100,300,900]
[41735,"St. Lorenz",57200,27900,23700,0,4200,0,41735,"St. Lorenz",57200,4300,2400,100,1400,500,41735,"St. Lorenz",57200,7800,1000,2000,3500,1300,41735,"St. Lorenz",57200,2500,1000,100,400,1000]
[41736,"Schlatt",26900,14800,12700,0,2100,0,41736,"Schlatt",26900,2100,1200,0,700,200,41736,"Schlatt",26900,1700,300,600,700,200,41736,"Schlatt",26900,1900,800,100,300,700]
[41737,"Schörfling am Attersee",99600,38900,33300,0,5700,0,41737,"Schörfling am Attersee",99600,8100,4500,100,2600,900,41737,"Schörfling am Attersee",99600,28100,3400,9500,12000,3100,41737,"Schörfling am Attersee",99600,1600,600,100,200,600]
[41738,"Schwanenstadt",129000,40100,34400,0,5700,0,41738,"Schwanenstadt",129000,11300,6400,100,3600,1200,41738,"Schwanenstadt",129000,47100,5200,20800,17500,3500,41738,"Schwanenstadt",129000,100,0,0,0,0]
[41739,"Seewalchen am Attersee",122700,66800,57300,0,9500,0,41739,"Seewalchen am Attersee",122700,12200,6800,200,3900,1300,41739,"Seewalchen am Attersee",122700,10800,1300,3800,4600,1200,41739,"Seewalchen am Attersee",122700,3000,1200,200,500,1200]
[41740,"Steinbach am Attersee",38800,15400,13300,0,2000,0,41740,"Steinbach am Attersee",38800,2100,1200,0,700,200,41740,"Steinbach am Attersee",38800,12800,700,8400,2700,1000,41740,"Steinbach am Attersee",38800,1200,500,100,200,500]
[41741,"Straß im Attergau",33600,17900,15400,0,2400,0,41741,"Straß im Attergau",33600,2100,1200,0,700,200,41741,"Straß im Attergau",33600,2700,600,700,1200,200,41741,"Straß im Attergau",33600,2700,1100,200,400,1100]
[41742,"Tiefgraben",83000,42100,35700,0,6300,0,41742,"Tiefgraben",83000,6900,3900,100,2200,800,41742,"Tiefgraben",83000,7200,1100,1900,3300,1000,41742,"Tiefgraben",83000,3600,1500,200,600,1400]
[41743,"Timelkam",119400,56900,49000,0,7900,0,41743,"Timelkam",119400,15100,8400,200,4800,1600,41743,"Timelkam",119400,14300,2300,3700,6600,1600,41743,"Timelkam",119400,2300,900,100,300,900]
[41744,"Ungenach",29100,16300,14000,0,2300,0,41744,"Ungenach",29100,1000,600,0,300,100,41744,"Ungenach",29100,1200,200,400,500,100,41744,"Ungenach",29100,2700,1100,200,400,1100]
[41745,"Unterach am Attersee",94200,22200,19200,0,3000,0,41745,"Unterach am Attersee",94200,3000,1700,0,1000,300,41745,"Unterach am Attersee",94200,57600,3800,38700,14600,500,41745,"Unterach am Attersee",94200,700,300,0,100,300]
[41746,"Vöcklabruck",456500,129900,111100,0,18800,0,41746,"Vöcklabruck",456500,90200,50500,1100,28800,9800,41746,"Vöcklabruck",456500,116500,9700,69900,28300,8700,41746,"Vöcklabruck",456500,1100,400,100,200,400]
[41747,"Vöcklamarkt",153600,53300,46000,0,7300,0,41747,"Vöcklamarkt",153600,14700,8200,200,4700,1600,41747,"Vöcklamarkt",153600,51900,7300,23200,16100,5300,41747,"Vöcklamarkt",153600,4100,1700,200,600,1600]
[41748,"Weißenkirchen im Attergau",26300,14200,12300,0,1800,0,41748,"Weißenkirchen im Attergau",26300,800,400,0,200,100,41748,"Weißenkirchen im Attergau",26300,3700,700,1400,1300,300,41748,"Weißenkirchen im Attergau",26300,2600,1100,100,400,1000]
[41749,"Weyregg am Attersee",34900,20800,17900,0,2900,0,41749,"Weyregg am Attersee",34900,2400,1300,0,800,300,41749,"Weyregg am Attersee",34900,1200,100,700,300,100,41749,"Weyregg am Attersee",34900,1600,700,100,200,600]
[41750,"Wolfsegg am Hausruck",45600,21300,18500,0,2800,0,41750,"Wolfsegg am Hausruck",45600,2400,1300,0,800,300,41750,"Wolfsegg am Hausruck",45600,8000,2000,2100,3300,600,41750,"Wolfsegg am Hausruck",45600,1800,700,100,300,700]
[41751,"Zell am Moos",61000,18400,15800,0,2600,0,41751,"Zell am Moos",61000,2300,1300,0,700,300,41751,"Zell am Moos",61000,25100,3200,13000,6300,2600,41751,"Zell am Moos",61000,2200,900,100,300,900]
[41752,"Zell am Pettenfirst",24300,14200,12300,0,1900,0,41752,"Zell am Pettenfirst",24300,900,500,0,300,100,41752,"Zell am Pettenfirst",24300,1000,100,500,400,100,41752,"Zell am Pettenfirst",24300,1800,700,100,300,700]
[41801,"Aichkirchen",15600,6900,5800,0,1000,0,41801,"Aichkirchen",15600,2300,1300,0,700,300,41801,"Aichkirchen",15600,0,0,0,0,0,41801,"Aichkirchen",15600,1300,500,100,200,500]
[41802,"Bachmanning",19700,7300,6200,0,1100,0,41802,"Bachmanning",19700,700,400,0,200,100,41802,"Bachmanning",19700,6200,500,3300,2100,400,41802,"Bachmanning",19700,1400,500,100,200,500]
[41803,"Bad Wimsbach-Neydharting",60900,28000,23900,0,4000,0,41803,"Bad Wimsbach-Neydharting",60900,5500,3100,100,1800,600,41803,"Bad Wimsbach-Neydharting",60900,9400,1300,3300,3400,1400,41803,"Bad Wimsbach-Neydharting",60900,4300,1700,200,700,1700]
[41804,"Buchkirchen",91600,43800,37300,0,6600,0,41804,"Buchkirchen",91600,6400,3600,100,2000,700,41804,"Buchkirchen",91600,11800,2100,4500,4200,1000,41804,"Buchkirchen",91600,6800,2700,400,1000,2600]
[41805,"Eberstalzell",83800,23200,19500,0,3700,0,41805,"Eberstalzell",83800,8000,4500,100,2500,900,41805,"Eberstalzell",83800,22100,1900,10400,8000,1700,41805,"Eberstalzell",83800,5600,2300,300,900,2200]
[41806,"Edt bei Lambach",46500,23300,19800,0,3500,0,41806,"Edt bei Lambach",46500,5700,3200,100,1800,600,41806,"Edt bei Lambach",46500,1600,300,500,700,100,41806,"Edt bei Lambach",46500,3100,1200,200,500,1200]
[41807,"Fischlham",29100,14600,12500,0,2100,0,41807,"Fischlham",29100,1500,800,0,500,200,41807,"Fischlham",29100,3800,900,900,1600,300,41807,"Fischlham",29100,2600,1000,100,400,1000]
[41808,"Gunskirchen",334700,58200,49100,0,9100,0,41808,"Gunskirchen",334700,18000,10100,200,5700,1900,41808,"Gunskirchen",334700,192600,43900,73800,62400,12600,41808,"Gunskirchen",334700,6600,2600,400,1000,2600]
[41809,"Holzhausen",32200,9400,7800,0,1600,0,41809,"Holzhausen",32200,3400,1900,0,1100,400,41809,"Holzhausen",32200,10300,1800,2100,5400,1000,41809,"Holzhausen",32200,1700,700,100,300,700]
[41810,"Krenglbach",131500,31400,26500,0,4900,0,41810,"Krenglbach",131500,7600,4300,100,2400,800,41810,"Krenglbach",131500,70700,3300,50700,10700,6000,41810,"Krenglbach",131500,2500,1000,100,400,1000]
[41811,"Lambach",80400,33900,29200,0,4700,0,41811,"Lambach",80400,13300,7400,200,4200,1400,41811,"Lambach",80400,10800,1900,3300,4600,900,41811,"Lambach",80400,300,100,0,0,100]
[41812,"Marchtrenk",349900,119600,100500,0,19100,0,41812,"Marchtrenk",349900,48600,27200,600,15500,5300,41812,"Marchtrenk",349900,91300,15400,25100,42200,8500,41812,"Marchtrenk",349900,2900,1200,200,400,1100]
[41813,"Neukirchen bei Lambach",20100,10500,9000,0,1500,0,41813,"Neukirchen bei Lambach",20100,2200,1200,0,700,200,41813,"Neukirchen bei Lambach",20100,600,100,100,300,100,41813,"Neukirchen bei Lambach",20100,2300,900,100,400,900]
[41814,"Offenhausen",35100,18300,15600,0,2700,0,41814,"Offenhausen",35100,1700,1000,0,600,200,41814,"Offenhausen",35100,3700,400,600,1900,800,41814,"Offenhausen",35100,2700,1100,200,400,1000]
[41815,"Pennewang",20900,11000,9400,0,1500,0,41815,"Pennewang",20900,900,500,0,300,100,41815,"Pennewang",20900,1300,200,500,500,100,41815,"Pennewang",20900,3200,1300,200,500,1300]
[41816,"Pichl bei Wels",64000,29600,25300,0,4300,0,41816,"Pichl bei Wels",64000,5700,3200,100,1800,600,41816,"Pichl bei Wels",64000,7300,1100,2300,3100,800,41816,"Pichl bei Wels",64000,4600,1900,300,700,1800]
[41817,"Sattledt",197000,23800,20100,0,3700,0,41817,"Sattledt",197000,22100,12400,300,7100,2400,41817,"Sattledt",197000,106600,21000,38400,39100,8000,41817,"Sattledt",197000,4200,1700,200,600,1600]
[41818,"Schleißheim",23500,13000,10800,0,2200,0,41818,"Schleißheim",23500,1600,900,0,500,200,41818,"Schleißheim",23500,700,100,300,300,100,41818,"Schleißheim",23500,1200,500,100,200,500]
[41819,"Sipbachzell",48100,19500,16400,0,3000,0,41819,"Sipbachzell",48100,5900,3300,100,1900,600,41819,"Sipbachzell",48100,4000,800,1100,1700,500,41819,"Sipbachzell",48100,4800,1900,300,700,1900]
[41820,"Stadl-Paura",283700,47700,41100,0,6600,0,41820,"Stadl-Paura",283700,8800,4900,100,2800,1000,41820,"Stadl-Paura",283700,200200,12500,134000,51900,1900,41820,"Stadl-Paura",283700,500,200,0,100,200]
[41821,"Steinerkirchen an der Traun",51300,23100,19700,0,3400,0,41821,"Steinerkirchen an der Traun",51300,6000,3400,100,1900,700,41821,"Steinerkirchen an der Traun",51300,3200,400,1200,1100,400,41821,"Steinerkirchen an der Traun",51300,6200,2500,300,900,2400]
[41822,"Steinhaus",79900,23200,19600,0,3600,0,41822,"Steinhaus",79900,11200,6300,100,3600,1200,41822,"Steinhaus",79900,21400,3100,9100,7600,1700,41822,"Steinhaus",79900,4900,2000,300,800,1900]
[41823,"Thalheim bei Wels",162000,54100,45800,0,8400,0,41823,"Thalheim bei Wels",162000,11800,6600,100,3800,1300,41823,"Thalheim bei Wels",162000,59000,12100,20600,21900,4400,41823,"Thalheim bei Wels",162000,2800,1100,200,400,1100]
[41824,"Weißkirchen an der Traun",76400,33100,27800,0,5300,0,41824,"Weißkirchen an der Traun",76400,11100,6200,100,3500,1200,41824,"Weißkirchen an der Traun",76400,8600,1700,1600,4400,1000,41824,"Weißkirchen an der Traun",76400,3400,1400,200,500,1300]
[50101,"Salzburg",3500100,1114700,917200,0,197500,0,50101,"Salzburg",3500100,939600,622700,13800,217700,85500,50101,"Salzburg",3500100,247100,31000,83400,102700,30000,50101,"Salzburg",3500100,3900,1400,300,700,1600]
[50201,"Abtenau",165100,54500,46800,0,7700,0,50201,"Abtenau",165100,10100,6700,100,2300,900,50201,"Abtenau",165100,49700,10900,15600,19400,3800,50201,"Abtenau",165100,9800,3600,600,1700,4000]
[50202,"Adnet",94900,34200,28600,0,5600,0,50202,"Adnet",94900,4000,2700,100,900,400,50202,"Adnet",94900,31600,6400,10500,12200,2400,50202,"Adnet",94900,3100,1100,200,500,1200]
[50203,"Annaberg-Lungötz",105300,24900,21500,0,3400,0,50203,"Annaberg-Lungötz",105300,3900,2600,100,900,400,50203,"Annaberg-Lungötz",105300,56600,13600,21600,18400,3000,50203,"Annaberg-Lungötz",105300,2900,1100,200,500,1200]
[50204,"Golling an der Salzach",169700,33800,28000,0,5800,0,50204,"Golling an der Salzach",169700,8600,5700,100,2000,800,50204,"Golling an der Salzach",169700,92500,4500,57300,19900,10700,50204,"Golling an der Salzach",169700,2000,700,100,300,800]
[50205,"Hallein",1386000,142400,117300,0,25100,0,50205,"Hallein",1386000,53000,35100,800,12300,4800,50205,"Hallein",1386000,1052400,16900,810000,215500,10000,50205,"Hallein",1386000,1700,600,100,300,700]
[50206,"Krispl",19500,9400,8100,0,1300,0,50206,"Krispl",19500,900,600,0,200,100,50206,"Krispl",19500,1900,400,600,700,100,50206,"Krispl",19500,1900,700,100,300,700]
[50207,"Kuchl",188500,57700,47600,0,10200,0,50207,"Kuchl",188500,14200,9400,200,3300,1300,50207,"Kuchl",188500,63900,10900,28500,19600,4900,50207,"Kuchl",188500,4100,1500,300,700,1700]
[50208,"Oberalm",73900,33300,27400,0,5900,0,50208,"Oberalm",73900,7700,5100,100,1800,700,50208,"Oberalm",73900,6000,800,2200,2100,900,50208,"Oberalm",73900,700,200,0,100,300]
[50209,"Puch bei Hallein",117600,37100,30800,0,6300,0,50209,"Puch bei Hallein",117600,19500,12900,300,4500,1800,50209,"Puch bei Hallein",117600,16200,1700,6600,6000,1900,50209,"Puch bei Hallein",117600,1400,500,100,200,600]
[50210,"Rußbach am Paß Gschütt",18400,9000,7900,0,1200,0,50210,"Rußbach am Paß Gschütt",18400,1900,1200,0,400,200,50210,"Rußbach am Paß Gschütt",18400,1000,200,300,500,100,50210,"Rußbach am Paß Gschütt",18400,1400,500,100,200,600]
[50211,"Sankt Koloman",43900,18900,16200,0,2700,0,50211,"Sankt Koloman",43900,1300,900,0,300,100,50211,"Sankt Koloman",43900,8200,1100,3300,2800,1100,50211,"Sankt Koloman",43900,3900,1400,300,700,1600]
[50212,"Scheffau am Tennengebirge",36400,13400,11200,0,2200,0,50212,"Scheffau am Tennengebirge",36400,1800,1200,0,400,200,50212,"Scheffau am Tennengebirge",36400,9200,2100,3500,3000,600,50212,"Scheffau am Tennengebirge",36400,2800,1000,200,500,1100]
[50213,"Bad Vigaun",35900,17200,14200,0,2900,0,50213,"Bad Vigaun",35900,4700,3100,100,1100,400,50213,"Bad Vigaun",35900,700,100,200,300,100,50213,"Bad Vigaun",35900,1700,600,100,300,700]
[50301,"Anif",123900,38300,31800,0,6500,0,50301,"Anif",123900,18300,12100,300,4200,1700,50301,"Anif",123900,30900,2100,18300,8400,2100,50301,"Anif",123900,900,300,100,200,400]
[50302,"Anthering",77700,30600,25300,0,5300,0,50302,"Anthering",77700,6400,4300,100,1500,600,50302,"Anthering",77700,15400,1300,7300,5500,1300,50302,"Anthering",77700,3300,1200,200,600,1300]
[50303,"Bergheim",159400,43600,35900,0,7800,0,50303,"Bergheim",159400,43000,28500,600,10000,3900,50303,"Bergheim",159400,25300,2500,12300,7500,3000,50303,"Bergheim",159400,1900,700,100,300,800]
[50304,"Berndorf bei Salzburg",34500,17400,14600,0,2800,0,50304,"Berndorf bei Salzburg",34500,2500,1700,0,600,200,50304,"Berndorf bei Salzburg",34500,1700,200,300,800,400,50304,"Berndorf bei Salzburg",34500,2600,900,200,400,1000]
[50305,"Bürmoos",91400,40400,33800,0,6600,0,50305,"Bürmoos",91400,5300,3500,100,1200,500,50305,"Bürmoos",91400,13800,2600,3100,7000,1200,50305,"Bürmoos",91400,400,100,0,100,100]
[50306,"Dorfbeuern",29100,14700,12300,0,2400,0,50306,"Dorfbeuern",29100,1400,900,0,300,100,50306,"Dorfbeuern",29100,800,100,200,400,100,50306,"Dorfbeuern",29100,2300,800,200,400,900]
[50307,"Ebenau",30500,13600,11500,0,2100,0,50307,"Ebenau",30500,1800,1200,0,400,200,50307,"Ebenau",30500,4600,300,2700,1000,600,50307,"Ebenau",30500,1300,500,100,200,500]
[50308,"Elixhausen",58300,27200,22800,0,4500,0,50308,"Elixhausen",58300,6700,4400,100,1600,600,50308,"Elixhausen",58300,4600,700,1800,1700,400,50308,"Elixhausen",58300,1400,500,100,200,500]
[50309,"Elsbethen",118300,46700,38600,0,8000,0,50309,"Elsbethen",118300,11300,7500,200,2600,1000,50309,"Elsbethen",118300,20900,3000,8100,7900,1800,50309,"Elsbethen",118300,1800,700,100,300,700]
[50310,"Eugendorf",164300,56400,46800,0,9500,0,50310,"Eugendorf",164300,26800,17800,400,6200,2400,50310,"Eugendorf",164300,23500,7400,4600,9200,2400,50310,"Eugendorf",164300,4700,1700,300,800,1900]
[50311,"Faistenau",66300,30100,25500,0,4600,0,50311,"Faistenau",66300,3000,2000,0,700,300,50311,"Faistenau",66300,11700,2500,4200,4000,900,50311,"Faistenau",66300,3100,1100,200,500,1200]
[50312,"Fuschl am See",46300,14300,11900,0,2300,0,50312,"Fuschl am See",46300,5600,3700,100,1300,500,50312,"Fuschl am See",46300,10200,700,5500,3400,600,50312,"Fuschl am See",46300,800,300,100,100,300]
[50313,"Göming",15800,7500,6200,0,1300,0,50313,"Göming",15800,1300,800,0,300,100,50313,"Göming",15800,1500,400,600,500,100,50313,"Göming",15800,1400,500,100,200,600]
[50314,"Grödig",742300,52100,42800,0,9200,0,50314,"Grödig",742300,26400,17500,400,6100,2400,50314,"Grödig",742300,611200,22300,432200,93200,63500,50314,"Grödig",742300,1300,500,100,200,500]
[50315,"Großgmain",56400,22900,19300,0,3700,0,50315,"Großgmain",56400,5300,3500,100,1200,500,50315,"Großgmain",56400,7900,200,3500,2600,1600,50315,"Großgmain",56400,900,300,100,200,400]
[50316,"Hallwang",106600,35900,29700,0,6200,0,50316,"Hallwang",106600,13300,8800,200,3100,1200,50316,"Hallwang",106600,27900,3200,14800,7800,2100,50316,"Hallwang",106600,1500,600,100,300,600]
[50317,"Henndorf am Wallersee",137400,45000,37700,0,7400,0,50317,"Henndorf am Wallersee",137400,8900,5900,100,2100,800,50317,"Henndorf am Wallersee",137400,45300,4000,22700,14800,3700,50317,"Henndorf am Wallersee",137400,2800,1000,200,500,1100]
[50318,"Hintersee",10100,4900,4200,0,700,0,50318,"Hintersee",10100,600,400,0,100,100,50318,"Hintersee",10100,200,0,0,100,0,50318,"Hintersee",10100,1300,500,100,200,500]
[50319,"Hof bei Salzburg",81000,33300,28100,0,5200,0,50319,"Hof bei Salzburg",81000,10900,7200,200,2500,1000,50319,"Hof bei Salzburg",81000,12600,2500,4300,4700,1100,50319,"Hof bei Salzburg",81000,1700,600,100,300,700]
[50320,"Köstendorf",70400,25200,21300,0,3900,0,50320,"Köstendorf",70400,3600,2400,100,800,300,50320,"Köstendorf",70400,21400,4200,8500,7600,1200,50320,"Köstendorf",70400,3800,1400,200,600,1500]
[50321,"Koppl",69700,33500,28000,0,5500,0,50321,"Koppl",69700,4300,2800,100,1000,400,50321,"Koppl",69700,9800,1300,3400,3800,1200,50321,"Koppl",69700,2300,800,200,400,900]
[50322,"Lamprechtshausen",128400,35000,29100,0,5900,0,50322,"Lamprechtshausen",128400,7800,5100,100,1800,700,50322,"Lamprechtshausen",128400,53000,7600,23000,18200,4100,50322,"Lamprechtshausen",128400,5600,2000,400,1000,2300]
[50323,"Mattsee",66100,33200,27600,0,5600,0,50323,"Mattsee",66100,5800,3800,100,1300,500,50323,"Mattsee",66100,3600,800,1100,1300,400,50323,"Mattsee",66100,2400,900,200,400,1000]
[50324,"Neumarkt am Wallersee",138200,51700,43000,0,8700,0,50324,"Neumarkt am Wallersee",138200,16100,10700,200,3700,1500,50324,"Neumarkt am Wallersee",138200,25000,5700,7600,9800,1900,50324,"Neumarkt am Wallersee",138200,4200,1500,300,700,1700]
[50325,"Nußdorf am Haunsberg",74300,20800,17400,0,3400,0,50325,"Nußdorf am Haunsberg",74300,3700,2500,100,900,300,50325,"Nußdorf am Haunsberg",74300,30000,4300,15700,7600,2500,50325,"Nußdorf am Haunsberg",74300,4100,1500,300,700,1600]
[50326,"Oberndorf bei Salzburg",110700,45900,38100,0,7700,0,50326,"Oberndorf bei Salzburg",110700,12200,8100,200,2800,1100,50326,"Oberndorf bei Salzburg",110700,16000,1500,7600,5700,1300,50326,"Oberndorf bei Salzburg",110700,600,200,0,100,200]
[50327,"Obertrum am See",102700,41100,34100,0,7100,0,50327,"Obertrum am See",102700,9300,6200,100,2200,800,50327,"Obertrum am See",102700,16400,1900,7400,5900,1300,50327,"Obertrum am See",102700,3900,1400,300,700,1600]
[50328,"Plainfeld",28600,12000,10000,0,2000,0,50328,"Plainfeld",28600,2800,1900,0,700,300,50328,"Plainfeld",28600,4600,400,2600,1100,500,50328,"Plainfeld",28600,800,300,100,100,300]
[50329,"Sankt Georgen bei Salzburg",104000,29000,24300,0,4800,0,50329,"Sankt Georgen bei Salzburg",104000,4200,2800,100,1000,400,50329,"Sankt Georgen bei Salzburg",104000,47700,9200,21500,14000,3000,50329,"Sankt Georgen bei Salzburg",104000,3900,1400,300,700,1600]
[50330,"Sankt Gilgen",94500,46100,38700,0,7300,0,50330,"Sankt Gilgen",94500,9600,6400,100,2200,900,50330,"Sankt Gilgen",94500,8300,1200,2600,3300,1100,50330,"Sankt Gilgen",94500,2400,900,200,400,1000]
[50331,"Schleedorf",22000,9900,8300,0,1700,0,50331,"Schleedorf",22000,1400,900,0,300,100,50331,"Schleedorf",22000,2200,500,700,800,100,50331,"Schleedorf",22000,1800,700,100,300,700]
[50332,"Seeham",36700,19000,15800,0,3200,0,50332,"Seeham",36700,2700,1800,0,600,200,50332,"Seeham",36700,2100,300,800,800,200,50332,"Seeham",36700,1700,600,100,300,700]
[50335,"Straßwalchen",252600,66300,55900,0,10400,0,50335,"Straßwalchen",252600,21400,14200,300,5000,2000,50335,"Straßwalchen",252600,104100,10400,63100,26800,3800,50335,"Straßwalchen",252600,7500,2700,500,1300,3000]
[50336,"Strobl",88500,37500,31600,0,5900,0,50336,"Strobl",88500,7600,5000,100,1800,700,50336,"Strobl",88500,18500,2600,6500,7300,2100,50336,"Strobl",88500,2900,1000,200,500,1200]
[50337,"Thalgau",148400,51100,42800,0,8300,0,50337,"Thalgau",148400,12200,8100,200,2800,1100,50337,"Thalgau",148400,37400,4100,15400,13600,4300,50337,"Thalgau",148400,5600,2000,400,1000,2300]
[50338,"Wals-Siezenheim",518200,96000,78500,0,17500,0,50338,"Wals-Siezenheim",518200,112400,74500,1600,26000,10200,50338,"Wals-Siezenheim",518200,171400,33500,65500,58000,14400,50338,"Wals-Siezenheim",518200,2000,700,100,300,800]
[50339,"Seekirchen am Wallersee",223800,88600,73900,0,14700,0,50339,"Seekirchen am Wallersee",223800,26600,17600,400,6200,2400,50339,"Seekirchen am Wallersee",223800,22900,3600,6800,9500,3000,50339,"Seekirchen am Wallersee",223800,8700,3100,600,1500,3500]
[50401,"Altenmarkt im Pongau",134900,49700,42400,0,7300,0,50401,"Altenmarkt im Pongau",134900,15900,10600,200,3700,1500,50401,"Altenmarkt im Pongau",134900,31200,6400,9300,12700,2900,50401,"Altenmarkt im Pongau",134900,2200,800,100,400,900]
[50402,"Bad Hofgastein",162300,66200,56700,0,9500,0,50402,"Bad Hofgastein",162300,32700,21600,500,7600,3000,50402,"Bad Hofgastein",162300,7800,1400,1900,3400,1100,50402,"Bad Hofgastein",162300,4100,1500,300,700,1700]
[50403,"Bad Gastein",108100,51600,45200,0,6400,0,50403,"Bad Gastein",108100,16700,11100,200,3900,1500,50403,"Bad Gastein",108100,8000,900,3500,2800,800,50403,"Bad Gastein",108100,1900,700,100,300,800]
[50404,"Bischofshofen",243900,80100,67800,0,12300,0,50404,"Bischofshofen",243900,25000,16500,400,5800,2300,50404,"Bischofshofen",243900,62000,9500,28600,18300,5700,50404,"Bischofshofen",243900,3300,1200,200,600,1300]
[50405,"Dorfgastein",45300,16400,14100,0,2300,0,50405,"Dorfgastein",45300,4000,2700,100,900,400,50405,"Dorfgastein",45300,11000,1500,5000,3300,1200,50405,"Dorfgastein",45300,2400,900,200,400,1000]
[50406,"Eben im Pongau",81800,23200,19900,0,3400,0,50406,"Eben im Pongau",81800,6200,4100,100,1400,600,50406,"Eben im Pongau",81800,34700,8000,12900,11500,2200,50406,"Eben im Pongau",81800,2000,700,100,300,800]
[50407,"Filzmoos",33500,17000,14800,0,2200,0,50407,"Filzmoos",33500,3500,2400,100,800,300,50407,"Filzmoos",33500,900,200,300,400,100,50407,"Filzmoos",33500,2700,1000,200,500,1100]
[50408,"Flachau",128500,33500,28700,0,4800,0,50408,"Flachau",128500,11100,7400,200,2600,1000,50408,"Flachau",128500,59200,14100,22500,19300,3300,50408,"Flachau",128500,4100,1500,300,700,1700]
[50409,"Forstau",14800,5300,4500,0,700,0,50409,"Forstau",14800,700,500,0,200,100,50409,"Forstau",14800,3600,800,900,1600,300,50409,"Forstau",14800,1800,600,100,300,700]
[50410,"Goldegg",56500,27200,23300,0,4000,0,50410,"Goldegg",56500,2800,1800,0,600,300,50410,"Goldegg",56500,8600,1900,3100,3000,600,50410,"Goldegg",56500,3400,1200,200,600,1400]
[50411,"Großarl",108200,36200,31000,0,5200,0,50411,"Großarl",108200,11700,7800,200,2700,1100,50411,"Großarl",108200,28200,5800,9800,9900,2600,50411,"Großarl",108200,6200,2200,400,1100,2500]
[50412,"Hüttau",36800,15400,13400,0,2000,0,50412,"Hüttau",36800,1600,1100,0,400,100,50412,"Hüttau",36800,8700,1900,3200,3000,600,50412,"Hüttau",36800,2400,900,200,400,1000]
[50413,"Hüttschlag",19700,10300,9000,0,1300,0,50413,"Hüttschlag",19700,1000,700,0,200,100,50413,"Hüttschlag",19700,600,100,100,400,100,50413,"Hüttschlag",19700,2400,800,200,400,900]
[50414,"Kleinarl",18400,9000,7800,0,1200,0,50414,"Kleinarl",18400,2000,1400,0,500,200,50414,"Kleinarl",18400,700,100,200,300,100,50414,"Kleinarl",18400,1900,700,100,300,800]
[50415,"Mühlbach am Hochkönig",35500,17400,15100,0,2300,0,50415,"Mühlbach am Hochkönig",35500,4600,3100,100,1100,400,50415,"Mühlbach am Hochkönig",35500,1000,100,500,300,100,50415,"Mühlbach am Hochkönig",35500,1800,600,100,300,700]
[50416,"Pfarrwerfen",48000,23300,20000,0,3300,0,50416,"Pfarrwerfen",48000,3900,2600,100,900,400,50416,"Pfarrwerfen",48000,4900,1100,1700,1800,400,50416,"Pfarrwerfen",48000,2400,900,200,400,1000]
[50417,"Radstadt",149400,46700,40300,0,6300,0,50417,"Radstadt",149400,12900,8500,200,3000,1200,50417,"Radstadt",149400,48500,8100,18800,16500,5200,50417,"Radstadt",149400,3800,1400,200,600,1500]
[50418,"Sankt Johann im Pongau",300600,88100,73800,0,14400,0,50418,"Sankt Johann im Pongau",300600,69700,46200,1000,16100,6300,50418,"Sankt Johann im Pongau",300600,42800,5900,12900,17700,6300,50418,"Sankt Johann im Pongau",300600,6100,2200,400,1000,2500]
[50419,"Sankt Martin am Tennengebirge",33400,17200,15000,0,2300,0,50419,"Sankt Martin am Tennengebirge",33400,2000,1300,0,500,200,50419,"Sankt Martin am Tennengebirge",33400,2100,300,400,900,400,50419,"Sankt Martin am Tennengebirge",33400,2200,800,100,400,900]
[50420,"Sankt Veit im Pongau",72200,33400,28200,0,5200,0,50420,"Sankt Veit im Pongau",72200,9300,6200,100,2200,800,50420,"Sankt Veit im Pongau",72200,4300,400,900,1900,1000,50420,"Sankt Veit im Pongau",72200,3400,1200,200,600,1400]
[50421,"Schwarzach im Pongau",75600,26600,22500,0,4100,0,50421,"Schwarzach im Pongau",75600,17900,11800,300,4100,1600,50421,"Schwarzach im Pongau",75600,4000,1000,400,1800,800,50421,"Schwarzach im Pongau",75600,300,100,0,100,100]
[50422,"Untertauern",18000,6600,5700,0,900,0,50422,"Untertauern",18000,4800,3200,100,1100,400,50422,"Untertauern",18000,100,0,0,0,0,50422,"Untertauern",18000,1600,600,100,300,600]
[50423,"Wagrain",146500,32000,27600,0,4500,0,50423,"Wagrain",146500,15400,10200,200,3600,1400,50423,"Wagrain",146500,64900,2700,42300,11900,7900,50423,"Wagrain",146500,3400,1200,200,600,1400]
[50424,"Werfen",91500,29800,25500,0,4300,0,50424,"Werfen",91500,5200,3500,100,1200,500,50424,"Werfen",91500,29400,1800,14200,8900,4500,50424,"Werfen",91500,2800,1000,200,500,1100]
[50425,"Werfenweng",23600,9800,8400,0,1400,0,50425,"Werfenweng",23600,4300,2800,100,1000,400,50425,"Werfenweng",23600,400,0,0,200,100,50425,"Werfenweng",23600,1600,600,100,300,700]
[50501,"Göriach",8400,3800,3300,0,400,0,50501,"Göriach",8400,200,100,0,0,0,50501,"Göriach",8400,700,0,300,200,100,50501,"Göriach",8400,1600,600,100,300,700]
[50502,"Lessach",12400,6500,5700,0,800,0,50502,"Lessach",12400,400,300,0,100,0,50502,"Lessach",12400,0,0,0,0,0,50502,"Lessach",12400,2200,800,100,400,900]
[50503,"Mariapfarr",53600,26800,23400,0,3400,0,50503,"Mariapfarr",53600,3600,2400,100,800,300,50503,"Mariapfarr",53600,5000,1000,1300,2100,600,50503,"Mariapfarr",53600,3700,1300,200,600,1500]
[50504,"Mauterndorf",47600,20700,18100,0,2500,0,50504,"Mauterndorf",47600,7100,4700,100,1600,600,50504,"Mauterndorf",47600,5800,900,1300,2700,900,50504,"Mauterndorf",47600,2200,800,100,400,900]
[50505,"Muhr",16900,7800,6900,0,800,0,50505,"Muhr",16900,300,200,0,100,0,50505,"Muhr",16900,3800,0,3000,700,0,50505,"Muhr",16900,2100,800,100,400,800]
[50506,"Ramingstein",32600,13700,12000,0,1700,0,50506,"Ramingstein",32600,900,600,0,200,100,50506,"Ramingstein",32600,8000,200,5700,1200,800,50506,"Ramingstein",32600,3100,1100,200,500,1200]
[50507,"Sankt Andrä im Lungau",15600,9500,8300,0,1200,0,50507,"Sankt Andrä im Lungau",15600,500,300,0,100,0,50507,"Sankt Andrä im Lungau",15600,400,100,100,200,100,50507,"Sankt Andrä im Lungau",15600,1100,400,100,200,400]
[50508,"Sankt Margarethen im Lungau",27400,7900,6900,0,1000,0,50508,"Sankt Margarethen im Lungau",27400,1700,1100,0,400,200,50508,"Sankt Margarethen im Lungau",27400,9200,500,5500,2900,400,50508,"Sankt Margarethen im Lungau",27400,1500,500,100,300,600]
[50509,"Sankt Michael im Lungau",140500,38100,33100,0,4900,0,50509,"Sankt Michael im Lungau",140500,10800,7100,200,2500,1000,50509,"Sankt Michael im Lungau",140500,59100,13100,21300,19700,4900,50509,"Sankt Michael im Lungau",140500,3100,1100,200,500,1200]
[50510,"Tamsweg",165500,62600,54100,0,8400,0,50510,"Tamsweg",165500,26300,17400,400,6100,2400,50510,"Tamsweg",165500,25000,4500,7700,9700,3100,50510,"Tamsweg",165500,6400,2300,400,1100,2600]
[50511,"Thomatal",17100,4900,4300,0,600,0,50511,"Thomatal",17100,200,100,0,0,0,50511,"Thomatal",17100,7900,1900,3000,2500,400,50511,"Thomatal",17100,2000,700,100,300,800]
[50512,"Tweng",12400,4000,3600,0,400,0,50512,"Tweng",12400,3100,2100,0,700,300,50512,"Tweng",12400,500,100,200,200,0,50512,"Tweng",12400,1600,600,100,300,600]
[50513,"Unternberg",80500,11200,9700,0,1500,0,50513,"Unternberg",80500,1600,1000,0,400,100,50513,"Unternberg",80500,57300,13700,22000,18500,3000,50513,"Unternberg",80500,1700,600,100,300,700]
[50514,"Weißpriach",12600,4300,3800,0,500,0,50514,"Weißpriach",12600,700,500,0,200,100,50514,"Weißpriach",12600,3700,900,1400,1200,200,50514,"Weißpriach",12600,1800,700,100,300,700]
[50515,"Zederhaus",25700,13800,12200,0,1600,0,50515,"Zederhaus",25700,700,500,0,200,100,50515,"Zederhaus",25700,1300,0,600,400,200,50515,"Zederhaus",25700,2700,1000,200,500,1100]
[50601,"Bramberg am Wildkogel",121100,39900,34000,0,5900,0,50601,"Bramberg am Wildkogel",121100,6700,4400,100,1600,600,50601,"Bramberg am Wildkogel",121100,46100,10800,16500,15800,3100,50601,"Bramberg am Wildkogel",121100,3800,1400,200,600,1500]
[50602,"Bruck an der Großglocknerstraße",111000,42200,36300,0,6000,0,50602,"Bruck an der Großglocknerstraße",111000,10200,6800,100,2400,900,50602,"Bruck an der Großglocknerstraße",111000,24800,5100,7900,9300,2500,50602,"Bruck an der Großglocknerstraße",111000,2900,1100,200,500,1200]
[50603,"Dienten am Hochkönig",18800,10400,9100,0,1300,0,50603,"Dienten am Hochkönig",18800,1300,800,0,300,100,50603,"Dienten am Hochkönig",18800,200,0,0,100,0,50603,"Dienten am Hochkönig",18800,2400,900,200,400,1000]
[50604,"Fusch an der Großglocknerstraße",18100,7600,6600,0,1000,0,50604,"Fusch an der Großglocknerstraße",18100,1800,1200,0,400,200,50604,"Fusch an der Großglocknerstraße",18100,1400,200,100,800,400,50604,"Fusch an der Großglocknerstraße",18100,2900,1000,200,500,1200]
[50605,"Hollersbach im Pinzgau",110400,15200,13000,0,2200,0,50605,"Hollersbach im Pinzgau",110400,3200,2100,0,700,300,50605,"Hollersbach im Pinzgau",110400,63900,1800,28500,20800,12800,50605,"Hollersbach im Pinzgau",110400,1900,700,100,300,800]
[50606,"Kaprun",95000,31400,26700,0,4700,0,50606,"Kaprun",95000,25700,17000,400,6000,2300,50606,"Kaprun",95000,6000,900,900,3300,900,50606,"Kaprun",95000,2000,700,100,300,800]
[50607,"Krimml",24800,12600,10900,0,1700,0,50607,"Krimml",24800,3200,2200,0,800,300,50607,"Krimml",24800,1200,300,400,500,100,50607,"Krimml",24800,1900,700,100,300,800]
[50608,"Lend",30300,14500,12600,0,1900,0,50608,"Lend",30300,1400,1000,0,300,100,50608,"Lend",30300,4200,1600,200,1800,600,50608,"Lend",30300,1700,600,100,300,700]
[50609,"Leogang",101500,37500,32400,0,5000,0,50609,"Leogang",101500,14200,9400,200,3300,1300,50609,"Leogang",101500,21200,3800,9200,6500,1700,50609,"Leogang",101500,4700,1700,300,800,1900]
[50610,"Lofer",51300,20100,17100,0,3100,0,50610,"Lofer",51300,5800,3900,100,1300,500,50610,"Lofer",51300,9500,1200,3900,3500,900,50610,"Lofer",51300,2000,700,100,300,800]
[50611,"Maishofen",168600,33300,28200,0,5100,0,50611,"Maishofen",168600,15800,10500,200,3700,1400,50611,"Maishofen",168600,83700,4300,54700,19100,5600,50611,"Maishofen",168600,2600,900,200,400,1100]
[50612,"Maria Alm am Steinernen Meer",63500,29100,25000,0,4100,0,50612,"Maria Alm am Steinernen Meer",63500,9000,6000,100,2100,800,50612,"Maria Alm am Steinernen Meer",63500,5100,600,1900,1800,800,50612,"Maria Alm am Steinernen Meer",63500,4800,1700,300,800,1900]
[50613,"Mittersill",136200,56700,49000,0,7800,0,50613,"Mittersill",136200,14900,9900,200,3500,1400,50613,"Mittersill",136200,19300,2300,4400,9100,3400,50613,"Mittersill",136200,4700,1700,300,800,1900]
[50614,"Neukirchen am Großvenediger",65900,27300,23400,0,3900,0,50614,"Neukirchen am Großvenediger",65900,7200,4800,100,1700,700,50614,"Neukirchen am Großvenediger",65900,10900,1300,4000,4000,1600,50614,"Neukirchen am Großvenediger",65900,3000,1100,200,500,1200]
[50615,"Niedernsill",61400,26900,23000,0,4000,0,50615,"Niedernsill",61400,3000,2000,0,700,300,50615,"Niedernsill",61400,14000,3100,4600,5200,1100,50615,"Niedernsill",61400,2600,900,200,400,1000]
[50616,"Piesendorf",99300,36600,31100,0,5500,0,50616,"Piesendorf",99300,5300,3500,100,1200,500,50616,"Piesendorf",99300,28900,4600,4700,16500,3100,50616,"Piesendorf",99300,3800,1400,300,700,1500]
[50617,"Rauris",69400,33200,28800,0,4300,0,50617,"Rauris",69400,4900,3300,100,1100,400,50617,"Rauris",69400,5400,1000,1700,2100,700,50617,"Rauris",69400,6700,2400,400,1100,2700]
[50618,"Saalbach-Hinterglemm",102400,43500,37700,0,5800,0,50618,"Saalbach-Hinterglemm",102400,22200,14700,300,5100,2000,50618,"Saalbach-Hinterglemm",102400,7400,1200,2300,3000,900,50618,"Saalbach-Hinterglemm",102400,4200,1500,300,700,1700]
[50619,"Saalfelden am Steinernen Meer",509500,147900,125800,0,22200,0,50619,"Saalfelden am Steinernen Meer",509500,70000,46400,1000,16200,6400,50619,"Saalfelden am Steinernen Meer",509500,165100,19300,89100,46600,10100,50619,"Saalfelden am Steinernen Meer",509500,7800,2800,500,1300,3200]
[50620,"Sankt Martin bei Lofer",31100,12800,10900,0,1900,0,50620,"Sankt Martin bei Lofer",31100,2000,1300,0,500,200,50620,"Sankt Martin bei Lofer",31100,7000,1100,3300,2200,400,50620,"Sankt Martin bei Lofer",31100,1700,600,100,300,700]
[50621,"Stuhlfelden",37200,15700,13500,0,2200,0,50621,"Stuhlfelden",37200,1200,800,0,300,100,50621,"Stuhlfelden",37200,9200,1900,3200,3400,700,50621,"Stuhlfelden",37200,1800,600,100,300,700]
[50622,"Taxenbach",57700,27600,23700,0,3800,0,50622,"Taxenbach",57700,3800,2500,100,900,300,50622,"Taxenbach",57700,5900,1000,2000,2300,600,50622,"Taxenbach",57700,4300,1600,300,700,1700]
[50623,"Unken",80100,20600,17600,0,3000,0,50623,"Unken",80100,3600,2400,100,800,300,50623,"Unken",80100,34800,4800,14400,11400,4300,50623,"Unken",80100,3600,1300,200,600,1500]
[50624,"Uttendorf",67400,28700,24500,0,4200,0,50624,"Uttendorf",67400,6600,4400,100,1500,600,50624,"Uttendorf",67400,8600,1700,2200,3900,900,50624,"Uttendorf",67400,5200,1900,300,900,2100]
[50625,"Viehhofen",13300,6100,5300,0,800,0,50625,"Viehhofen",13300,1000,700,0,200,100,50625,"Viehhofen",13300,1700,400,600,600,100,50625,"Viehhofen",13300,1100,400,100,200,400]
[50626,"Wald im Pinzgau",33700,20600,17900,0,2700,0,50626,"Wald im Pinzgau",33700,3100,2100,0,700,300,50626,"Wald im Pinzgau",33700,500,100,100,300,100,50626,"Wald im Pinzgau",33700,2000,700,100,300,800]
[50627,"Weißbach bei Lofer",23500,3900,3400,0,500,0,50627,"Weißbach bei Lofer",23500,600,400,0,100,100,50627,"Weißbach bei Lofer",23500,11800,600,4900,4000,2300,50627,"Weißbach bei Lofer",23500,1700,600,100,300,700]
[50628,"Zell am See",250800,99000,84100,0,14900,0,50628,"Zell am See",250800,55300,36600,800,12800,5000,50628,"Zell am See",250800,14400,1400,2800,6900,3400,50628,"Zell am See",250800,2200,800,100,400,900]
[60101,"Graz",6921300,2116900,1730700,0,386300,0,60101,"Graz",6921300,1270300,608400,10700,469700,181600,60101,"Graz",6921300,1084800,180600,453800,384100,66300,60101,"Graz",6921300,3300,1300,200,600,1200]
[60305,"Frauental an der Laßnitz",127400,30200,25500,0,4600,0,60305,"Frauental an der Laßnitz",127400,2300,1100,0,900,300,60305,"Frauental an der Laßnitz",127400,66900,4600,41100,15500,5700,60305,"Frauental an der Laßnitz",127400,1500,600,100,300,500]
[60318,"Lannach",202600,32200,26900,0,5300,0,60318,"Lannach",202600,14000,6700,100,5200,2000,60318,"Lannach",202600,112400,22500,44400,41100,4300,60318,"Lannach",202600,2000,800,100,300,800]
[60323,"Pölfing-Brunn",32300,16700,14300,0,2400,0,60323,"Pölfing-Brunn",32300,3000,1500,0,1100,400,60323,"Pölfing-Brunn",32300,2200,300,400,1100,400,60323,"Pölfing-Brunn",32300,800,300,100,100,300]
[60324,"Preding",76500,18000,15200,0,2800,0,60324,"Preding",76500,4000,1900,0,1500,600,60324,"Preding",76500,36500,4100,16300,12600,3500,60324,"Preding",76500,2200,900,200,400,800]
[60326,"Sankt Josef (Weststeiermark)",29600,15500,13000,0,2500,0,60326,"Sankt Josef (Weststeiermark)",29600,900,500,0,300,100,60326,"Sankt Josef (Weststeiermark)",29600,2800,700,800,1200,100,60326,"Sankt Josef (Weststeiermark)",29600,1300,500,100,200,500]
[60329,"Sankt Peter im Sulmtal",25800,12000,10200,0,1800,0,60329,"Sankt Peter im Sulmtal",25800,1700,800,0,600,200,60329,"Sankt Peter im Sulmtal",25800,2300,200,700,900,400,60329,"Sankt Peter im Sulmtal",25800,1500,600,100,300,600]
[60341,"Wettmannstätten",34900,16300,13700,0,2600,0,60341,"Wettmannstätten",34900,1500,700,0,500,200,60341,"Wettmannstätten",34900,4700,500,1200,2100,900,60341,"Wettmannstätten",34900,2500,1000,200,400,1000]
[60344,"Deutschlandsberg",372400,115400,97700,0,17700,0,60344,"Deutschlandsberg",372400,34300,16400,300,12700,4900,60344,"Deutschlandsberg",372400,114200,25300,35900,45800,7100,60344,"Deutschlandsberg",372400,10000,3800,700,1700,3700]
[60345,"Eibiswald",165400,67400,57500,0,9800,0,60345,"Eibiswald",165400,10700,5100,100,3900,1500,60345,"Eibiswald",165400,34400,4200,15300,10700,4200,60345,"Eibiswald",165400,9100,3500,700,1600,3400]
[60346,"Groß Sankt Florian",94000,43800,37100,0,6700,0,60346,"Groß Sankt Florian",94000,8700,4200,100,3200,1200,60346,"Groß Sankt Florian",94000,10500,1500,3100,4500,1400,60346,"Groß Sankt Florian",94000,6100,2300,400,1100,2300]
[60347,"Sankt Martin im Sulmtal",380700,30900,26200,0,4700,0,60347,"Sankt Martin im Sulmtal",380700,2800,1300,0,1000,400,60347,"Sankt Martin im Sulmtal",380700,319700,16300,232600,53500,17400,60347,"Sankt Martin im Sulmtal",380700,4400,1700,300,800,1700]
[60348,"Sankt Stefan ob Stainz",69900,35400,30000,0,5400,0,60348,"Sankt Stefan ob Stainz",69900,3800,1800,0,1400,500,60348,"Sankt Stefan ob Stainz",69900,4700,400,2200,1600,500,60348,"Sankt Stefan ob Stainz",69900,4400,1700,300,800,1600]
[60349,"Bad Schwanberg",92900,45900,39100,0,6900,0,60349,"Bad Schwanberg",92900,6700,3200,100,2500,1000,60349,"Bad Schwanberg",92900,5800,800,1900,2400,700,60349,"Bad Schwanberg",92900,5700,2200,400,1000,2100]
[60350,"Stainz",228800,86500,73000,0,13500,0,60350,"Stainz",228800,11200,5400,100,4200,1600,60350,"Stainz",228800,59100,4000,32700,16100,6300,60350,"Stainz",228800,8700,3300,600,1500,3200]
[60351,"Wies",108400,44500,37900,0,6700,0,60351,"Wies",108400,6200,3000,100,2300,900,60351,"Wies",108400,24100,5200,7200,10000,1800,60351,"Wies",108400,5500,2100,400,1000,2100]
[60608,"Feldkirchen bei Graz",143800,50200,41400,0,8700,0,60608,"Feldkirchen bei Graz",143800,30200,14500,300,11200,4300,60608,"Feldkirchen bei Graz",143800,17500,1700,7200,6200,2300,60608,"Feldkirchen bei Graz",143800,600,200,0,100,200]
[60611,"Gössendorf",107300,32500,26900,0,5600,0,60611,"Gössendorf",107300,6900,3300,100,2600,1000,60611,"Gössendorf",107300,40100,2700,20200,15700,1500,60611,"Gössendorf",107300,700,300,100,100,300]
[60613,"Gratkorn",3004400,62600,51800,0,10700,0,60613,"Gratkorn",3004400,23700,11400,200,8800,3400,60613,"Gratkorn",3004400,2838100,74900,2255900,500700,6600,60613,"Gratkorn",3004400,1900,700,100,300,700]
[60617,"Hart bei Graz",139400,45200,37100,0,8100,0,60617,"Hart bei Graz",139400,7200,3400,100,2600,1000,60617,"Hart bei Graz",139400,50600,12400,14500,20900,2800,60617,"Hart bei Graz",139400,500,200,0,100,200]
[60618,"Haselsdorf-Tobelbad",30100,14100,11800,0,2400,0,60618,"Haselsdorf-Tobelbad",30100,4500,2200,0,1700,600,60618,"Haselsdorf-Tobelbad",30100,1300,200,600,400,100,60618,"Haselsdorf-Tobelbad",30100,400,200,0,100,200]
[60619,"Hausmannstätten",71200,29600,24400,0,5300,0,60619,"Hausmannstätten",71200,12600,6000,100,4700,1800,60619,"Hausmannstätten",71200,5100,600,1300,2300,900,60619,"Hausmannstätten",71200,400,200,0,100,200]
[60623,"Kainbach bei Graz",50200,22100,18400,0,3700,0,60623,"Kainbach bei Graz",50200,5400,2600,0,2000,800,60623,"Kainbach bei Graz",50200,2600,1000,300,1200,200,60623,"Kainbach bei Graz",50200,1300,500,100,200,500]
[60624,"Kalsdorf bei Graz",198000,54200,44200,0,10000,0,60624,"Kalsdorf bei Graz",198000,27900,13400,200,10300,4000,60624,"Kalsdorf bei Graz",198000,54100,5300,31500,14600,2600,60624,"Kalsdorf bei Graz",198000,1500,600,100,300,600]
[60626,"Kumberg",64100,34300,28500,0,5800,0,60626,"Kumberg",64100,3400,1600,0,1300,500,60626,"Kumberg",64100,1700,200,300,900,400,60626,"Kumberg",64100,3100,1200,200,500,1200]
[60628,"Laßnitzhöhe",54600,25200,21000,0,4200,0,60628,"Laßnitzhöhe",54600,6900,3300,100,2600,1000,60628,"Laßnitzhöhe",54600,2000,400,500,900,200,60628,"Laßnitzhöhe",54600,900,400,100,200,300]
[60629,"Lieboch",114700,45600,37900,0,7700,0,60629,"Lieboch",114700,12400,6000,100,4600,1800,60629,"Lieboch",114700,15700,3200,5300,6200,900,60629,"Lieboch",114700,900,300,100,200,300]
[60632,"Peggau",425700,18700,15600,0,3100,0,60632,"Peggau",425700,8800,4200,100,3300,1300,60632,"Peggau",425700,364000,17900,259700,59400,27000,60632,"Peggau",425700,300,100,0,100,100]
[60639,"Sankt Bartholomä",32100,14000,11700,0,2300,0,60639,"Sankt Bartholomä",32100,1800,800,0,700,300,60639,"Sankt Bartholomä",32100,6200,800,2800,2000,700,60639,"Sankt Bartholomä",32100,1400,500,100,200,500]
[60641,"Sankt Oswald bei Plankenwarth",22100,12600,10600,0,2000,0,60641,"Sankt Oswald bei Plankenwarth",22100,900,400,0,300,100,60641,"Sankt Oswald bei Plankenwarth",22100,400,100,100,200,0,60641,"Sankt Oswald bei Plankenwarth",22100,900,300,100,200,300]
[60642,"Sankt Radegund bei Graz",42600,22800,19500,0,3300,0,60642,"Sankt Radegund bei Graz",42600,4000,1900,0,1500,600,60642,"Sankt Radegund bei Graz",42600,1100,200,300,500,100,60642,"Sankt Radegund bei Graz",42600,1200,400,100,200,400]
[60645,"Semriach",76200,32600,28100,0,4400,0,60645,"Semriach",76200,3000,1400,0,1100,400,60645,"Semriach",76200,12200,800,7900,2600,1000,60645,"Semriach",76200,6300,2400,400,1100,2300]
[60646,"Stattegg",47000,28100,23500,0,4600,0,60646,"Stattegg",47000,2200,1000,0,800,300,60646,"Stattegg",47000,1000,100,400,400,100,60646,"Stattegg",47000,1200,500,100,200,400]
[60647,"Stiwoll",13300,7200,6100,0,1100,0,60647,"Stiwoll",13300,300,100,0,100,0,60647,"Stiwoll",13300,300,0,100,100,0,60647,"Stiwoll",13300,1300,500,100,200,500]
[60648,"Thal",38000,22200,18600,0,3500,0,60648,"Thal",38000,2000,1000,0,700,300,60648,"Thal",38000,400,0,0,200,100,60648,"Thal",38000,1100,400,100,200,400]
[60651,"Übelbach",69800,21200,18300,0,2900,0,60651,"Übelbach",69800,2800,1300,0,1000,400,60651,"Übelbach",69800,26600,3000,11600,9300,2600,60651,"Übelbach",69800,2700,1000,200,500,1000]
[60653,"Vasoldsberg",72700,39200,32500,0,6700,0,60653,"Vasoldsberg",72700,4000,1900,0,1500,600,60653,"Vasoldsberg",72700,2900,400,500,1400,500,60653,"Vasoldsberg",72700,2500,1000,200,400,900]
[60654,"Weinitzen",48700,24600,20600,0,4000,0,60654,"Weinitzen",48700,6100,2900,100,2200,900,60654,"Weinitzen",48700,400,100,100,200,100,60654,"Weinitzen",48700,1500,600,100,300,600]
[60655,"Werndorf",340800,21200,17500,0,3700,0,60655,"Werndorf",340800,10100,4800,100,3700,1400,60655,"Werndorf",340800,284900,28400,163800,88400,4200,60655,"Werndorf",340800,500,200,0,100,200]
[60656,"Wundschuh",46000,16000,13400,0,2600,0,60656,"Wundschuh",46000,7300,3500,100,2700,1000,60656,"Wundschuh",46000,7900,1900,2400,3200,500,60656,"Wundschuh",46000,1600,600,100,300,600]
[60659,"Deutschfeistritz",80000,40000,33800,0,6200,0,60659,"Deutschfeistritz",80000,4300,2000,0,1600,600,60659,"Deutschfeistritz",80000,7500,1100,2300,3100,900,60659,"Deutschfeistritz",80000,3300,1300,200,600,1200]
[60660,"Dobl-Zwaring",76500,32000,26600,0,5300,0,60660,"Dobl-Zwaring",76500,6600,3100,100,2400,900,60660,"Dobl-Zwaring",76500,8300,1500,2000,3700,1000,60660,"Dobl-Zwaring",76500,4800,1800,300,800,1800]
[60661,"Eggersdorf bei Graz",116400,60000,50100,0,10000,0,60661,"Eggersdorf bei Graz",116400,6200,3000,100,2300,900,60661,"Eggersdorf bei Graz",116400,8400,1300,2400,3600,1100,60661,"Eggersdorf bei Graz",116400,4800,1800,300,800,1800]
[60662,"Fernitz-Mellach",84200,42000,34500,0,7500,0,60662,"Fernitz-Mellach",84200,5900,2800,0,2200,800,60662,"Fernitz-Mellach",84200,5600,600,1900,2200,900,60662,"Fernitz-Mellach",84200,2000,700,100,300,700]
[60663,"Frohnleiten",1635900,70100,60000,0,10100,0,60663,"Frohnleiten",1635900,13300,6400,100,4900,1900,60663,"Frohnleiten",1635900,1494600,40500,1183100,266500,4500,60663,"Frohnleiten",1635900,5600,2200,400,1000,2100]
[60664,"Gratwein-Straßengel",238700,109900,91800,0,18100,0,60664,"Gratwein-Straßengel",238700,17900,8600,200,6600,2600,60664,"Gratwein-Straßengel",238700,29900,3500,13600,10800,2000,60664,"Gratwein-Straßengel",238700,5100,1900,400,900,1900]
[60665,"Hitzendorf",123600,67900,56800,0,11200,0,60665,"Hitzendorf",123600,6900,3300,100,2500,1000,60665,"Hitzendorf",123600,3900,400,1500,1500,600,60665,"Hitzendorf",123600,4800,1800,300,800,1800]
[60666,"Nestelbach bei Graz",46500,24700,20700,0,4000,0,60666,"Nestelbach bei Graz",46500,2100,1000,0,800,300,60666,"Nestelbach bei Graz",46500,1200,200,300,600,200,60666,"Nestelbach bei Graz",46500,2400,900,200,400,900]
[60667,"Raaba-Grambach",196300,37700,30900,0,6800,0,60667,"Raaba-Grambach",196300,24300,11600,200,9000,3500,60667,"Raaba-Grambach",196300,79100,17600,24500,32100,4900,60667,"Raaba-Grambach",196300,700,300,100,100,300]
[60668,"Sankt Marein bei Graz",64900,34200,28600,0,5600,0,60668,"Sankt Marein bei Graz",64900,2600,1300,0,1000,400,60668,"Sankt Marein bei Graz",64900,1900,200,800,700,200,60668,"Sankt Marein bei Graz",64900,4200,1600,300,700,1600]
[60669,"Seiersberg-Pirka",304400,93600,77100,0,16500,0,60669,"Seiersberg-Pirka",304400,49600,23800,400,18300,7100,60669,"Seiersberg-Pirka",304400,49200,3400,21900,15900,8000,60669,"Seiersberg-Pirka",304400,1000,400,100,200,400]
[60670,"Premstätten",280200,54500,45000,0,9500,0,60670,"Premstätten",280200,25800,12400,200,9500,3700,60670,"Premstätten",280200,133100,21800,58100,42400,10700,60670,"Premstätten",280200,3000,1100,200,500,1100]
[61001,"Allerheiligen bei Wildon",30400,14900,12500,0,2400,0,61001,"Allerheiligen bei Wildon",30400,1500,700,0,600,200,61001,"Allerheiligen bei Wildon",30400,1100,100,600,400,0,61001,"Allerheiligen bei Wildon",30400,3100,1200,200,500,1100]
[61002,"Arnfels",18900,9000,7700,0,1400,0,61002,"Arnfels",18900,1600,800,0,600,200,61002,"Arnfels",18900,800,100,200,400,100,61002,"Arnfels",18900,400,200,0,100,100]
[61007,"Empersdorf",25400,13000,10900,0,2200,0,61007,"Empersdorf",25400,1100,500,0,400,200,61007,"Empersdorf",25400,1400,200,200,700,300,61007,"Empersdorf",25400,1700,700,100,300,700]
[61008,"Gabersdorf",40000,10800,9000,0,1800,0,61008,"Gabersdorf",40000,900,400,0,300,100,61008,"Gabersdorf",40000,16800,1400,8000,5600,1800,61008,"Gabersdorf",40000,2400,900,200,400,900]
[61012,"Gralla",57600,19700,16200,0,3500,0,61012,"Gralla",57600,5600,2700,0,2100,800,61012,"Gralla",57600,11800,900,5500,4000,1400,61012,"Gralla",57600,1500,600,100,300,600]
[61013,"Großklein",47200,20800,17500,0,3300,0,61013,"Großklein",47200,2900,1400,0,1100,400,61013,"Großklein",47200,4600,500,1500,1900,700,61013,"Großklein",47200,3300,1300,200,600,1200]
[61016,"Heimschuh",39400,20000,16700,0,3300,0,61016,"Heimschuh",39400,2100,1000,0,800,300,61016,"Heimschuh",39400,2900,300,1100,1100,400,61016,"Heimschuh",39400,2300,900,200,400,800]
[61017,"Hengsberg",27700,14200,11900,0,2300,0,61017,"Hengsberg",27700,1300,600,0,500,200,61017,"Hengsberg",27700,1000,100,100,500,300,61017,"Hengsberg",27700,2500,1000,200,400,900]
[61019,"Kitzeck im Sausal",31200,14300,12200,0,2100,0,61019,"Kitzeck im Sausal",31200,2900,1400,0,1100,400,61019,"Kitzeck im Sausal",31200,600,100,100,300,100,61019,"Kitzeck im Sausal",31200,2000,800,100,300,800]
[61020,"Lang",44900,13200,11100,0,2200,0,61020,"Lang",44900,1400,700,0,500,200,61020,"Lang",44900,17600,1000,12400,3000,1200,61020,"Lang",44900,2000,800,100,400,800]
[61021,"Lebring-Sankt Margarethen",82100,20000,16800,0,3200,0,61021,"Lebring-Sankt Margarethen",82100,7000,3300,100,2600,1000,61021,"Lebring-Sankt Margarethen",82100,34100,4500,17300,10000,2200,61021,"Lebring-Sankt Margarethen",82100,700,300,0,100,200]
[61024,"Oberhaag",40500,20700,17600,0,3100,0,61024,"Oberhaag",40500,1700,800,0,600,200,61024,"Oberhaag",40500,2000,300,500,900,300,61024,"Oberhaag",40500,3600,1400,300,600,1400]
[61027,"Ragnitz",37200,15500,13000,0,2400,0,61027,"Ragnitz",37200,2300,1100,0,900,300,61027,"Ragnitz",37200,5300,500,2600,1600,600,61027,"Ragnitz",37200,2900,1100,200,500,1100]
[61030,"Sankt Andrä-Höch",33000,18100,15500,0,2600,0,61030,"Sankt Andrä-Höch",33000,1300,600,0,500,200,61030,"Sankt Andrä-Höch",33000,600,100,200,300,100,61030,"Sankt Andrä-Höch",33000,2100,800,100,400,800]
[61032,"Sankt Johann im Saggautal",38200,18900,16000,0,2900,0,61032,"Sankt Johann im Saggautal",38200,1400,700,0,500,200,61032,"Sankt Johann im Saggautal",38200,3100,300,1400,1000,400,61032,"Sankt Johann im Saggautal",38200,3200,1200,200,600,1200]
[61033,"Sankt Nikolai im Sausal",46100,24100,20400,0,3700,0,61033,"Sankt Nikolai im Sausal",46100,2100,1000,0,800,300,61033,"Sankt Nikolai im Sausal",46100,2100,200,700,800,300,61033,"Sankt Nikolai im Sausal",46100,3300,1300,200,600,1200]
[61043,"Tillmitsch",77900,29700,24800,0,4900,0,61043,"Tillmitsch",77900,3900,1900,0,1400,600,61043,"Tillmitsch",77900,22200,1400,12900,5400,2500,61043,"Tillmitsch",77900,1400,500,100,200,500]
[61045,"Wagna",119900,50800,42100,0,8700,0,61045,"Wagna",119900,11800,5600,100,4400,1700,61045,"Wagna",119900,19000,1900,8400,6800,2000,61045,"Wagna",119900,1400,500,100,200,500]
[61049,"Ehrenhausen an der Weinstraße",491300,24600,20600,0,4000,0,61049,"Ehrenhausen an der Weinstraße",491300,4100,2000,0,1500,600,61049,"Ehrenhausen an der Weinstraße",491300,443000,22100,329200,65500,26200,61049,"Ehrenhausen an der Weinstraße",491300,2800,1100,200,500,1000]
[61050,"Gamlitz",65500,29300,24700,0,4600,0,61050,"Gamlitz",65500,5400,2600,0,2000,800,61050,"Gamlitz",65500,1700,100,800,600,200,61050,"Gamlitz",65500,6400,2400,500,1100,2400]
[61051,"Gleinstätten",64000,29400,24700,0,4700,0,61051,"Gleinstätten",64000,5600,2700,0,2100,800,61051,"Gleinstätten",64000,6700,800,2000,2900,1100,61051,"Gleinstätten",64000,2700,1100,200,500,1000]
[61052,"Heiligenkreuz am Waasen",51800,25900,21600,0,4300,0,61052,"Heiligenkreuz am Waasen",51800,3600,1700,0,1300,500,61052,"Heiligenkreuz am Waasen",51800,1200,100,500,500,100,61052,"Heiligenkreuz am Waasen",51800,3600,1400,300,600,1300]
[61053,"Leibnitz",326600,108500,90400,0,18100,0,61053,"Leibnitz",326600,46400,22200,400,17200,6600,61053,"Leibnitz",326600,67800,6800,34200,23300,3500,61053,"Leibnitz",326600,2300,900,200,400,800]
[61054,"Leutschach an der Weinstraße",76900,35700,30200,0,5500,0,61054,"Leutschach an der Weinstraße",76900,4500,2100,0,1600,600,61054,"Leutschach an der Weinstraße",76900,1400,100,400,600,200,61054,"Leutschach an der Weinstraße",76900,9700,3700,700,1700,3600]
[61055,"Sankt Georgen an der Stiefing",32100,15900,13500,0,2400,0,61055,"Sankt Georgen an der Stiefing",32100,1900,900,0,700,300,61055,"Sankt Georgen an der Stiefing",32100,500,0,300,200,100,61055,"Sankt Georgen an der Stiefing",32100,3000,1200,200,500,1100]
[61057,"Schwarzautal",60300,21800,18400,0,3500,0,61057,"Schwarzautal",60300,2400,1100,0,900,300,61057,"Schwarzautal",60300,12500,1300,6100,4000,1100,61057,"Schwarzautal",60300,5800,2200,400,1000,2100]
[61059,"Wildon",112900,50000,42100,0,7900,0,61059,"Wildon",112900,9300,4500,100,3400,1300,61059,"Wildon",112900,14800,1500,5700,5500,2100,61059,"Wildon",112900,4100,1600,300,700,1500]
[61060,"Sankt Veit in der Südsteiermark",112100,42200,35500,0,6700,0,61060,"Sankt Veit in der Südsteiermark",112100,4600,2200,0,1700,700,61060,"Sankt Veit in der Südsteiermark",112100,25200,1900,13000,7200,3000,61060,"Sankt Veit in der Südsteiermark",112100,10000,3800,700,1700,3700]
[61061,"Straß in Steiermark",152300,59500,50000,0,9500,0,61061,"Straß in Steiermark",152300,23100,11000,200,8500,3300,61061,"Straß in Steiermark",152300,17500,1500,6400,6900,2700,61061,"Straß in Steiermark",152300,7600,2900,500,1300,2800]
[61101,"Eisenerz",242300,58400,51400,0,7000,0,61101,"Eisenerz",242300,8600,4100,100,3200,1200,61101,"Eisenerz",242300,110500,3300,69300,21100,16800,61101,"Eisenerz",242300,1800,700,100,300,700]
[61105,"Kalwang",27000,14800,13000,0,1800,0,61105,"Kalwang",27000,3000,1500,0,1100,400,61105,"Kalwang",27000,300,0,0,200,100,61105,"Kalwang",27000,1700,700,100,300,600]
[61106,"Kammern im Liesingtal",48000,18500,16100,0,2400,0,61106,"Kammern im Liesingtal",48000,1800,900,0,700,300,61106,"Kammern im Liesingtal",48000,12200,900,6400,3300,1700,61106,"Kammern im Liesingtal",48000,3400,1300,200,600,1300]
[61107,"Kraubath an der Mur",53200,14800,12700,0,2100,0,61107,"Kraubath an der Mur",53200,2800,1400,0,1100,400,61107,"Kraubath an der Mur",53200,25800,1300,19100,3900,1500,61107,"Kraubath an der Mur",53200,1600,600,100,300,600]
[61108,"Leoben",1670200,224400,190900,0,33500,0,61108,"Leoben",1670200,97600,46800,800,36100,14000,61108,"Leoben",1670200,1123300,79200,790300,231000,22700,61108,"Leoben",1670200,2800,1100,200,500,1100]
[61109,"Mautern in Steiermark",48300,21300,18600,0,2700,0,61109,"Mautern in Steiermark",48300,4100,2000,0,1500,600,61109,"Mautern in Steiermark",48300,5800,400,3900,1100,400,61109,"Mautern in Steiermark",48300,3400,1300,200,600,1300]
[61110,"Niklasdorf",637700,23100,19800,0,3400,0,61110,"Niklasdorf",637700,7300,3500,100,2700,1000,61110,"Niklasdorf",637700,587600,16600,463600,106200,1100,61110,"Niklasdorf",637700,800,300,100,100,300]
[61111,"Proleb",27100,16300,13800,0,2500,0,61111,"Proleb",27100,1100,500,0,400,200,61111,"Proleb",27100,800,100,100,400,200,61111,"Proleb",27100,1200,400,100,200,400]
[61112,"Radmer",15000,8900,7900,0,1000,0,61112,"Radmer",15000,400,200,0,200,100,61112,"Radmer",15000,1000,100,600,200,100,61112,"Radmer",15000,1300,500,100,200,500]
[61113,"Sankt Michael in Obersteiermark",74300,30900,26300,0,4600,0,61113,"Sankt Michael in Obersteiermark",74300,17200,8300,100,6400,2500,61113,"Sankt Michael in Obersteiermark",74300,2300,200,1100,700,300,61113,"Sankt Michael in Obersteiermark",74300,2400,900,200,400,900]
[61114,"Sankt Peter-Freienstein",224000,26000,22400,0,3600,0,61114,"Sankt Peter-Freienstein",224000,2300,1100,0,900,300,61114,"Sankt Peter-Freienstein",224000,177700,10700,132900,32300,1800,61114,"Sankt Peter-Freienstein",224000,2000,800,100,300,700]
[61115,"Sankt Stefan ob Leoben",94500,21300,18400,0,2900,0,61115,"Sankt Stefan ob Leoben",94500,1700,800,0,600,200,61115,"Sankt Stefan ob Leoben",94500,48900,1500,31700,8900,6800,61115,"Sankt Stefan ob Leoben",94500,2700,1100,200,500,1000]
[61116,"Traboch",41500,15800,13500,0,2300,0,61116,"Traboch",41500,3900,1900,0,1400,600,61116,"Traboch",41500,10000,2500,2300,4500,700,61116,"Traboch",41500,800,300,100,100,300]
[61118,"Vordernberg",26900,16000,14300,0,1800,0,61118,"Vordernberg",26900,3000,1500,0,1100,400,61118,"Vordernberg",26900,400,100,100,200,100,61118,"Vordernberg",26900,800,300,100,100,300]
[61119,"Wald am Schoberpaß",19600,8600,7500,0,1000,0,61119,"Wald am Schoberpaß",19600,1500,700,0,500,200,61119,"Wald am Schoberpaß",19600,3100,200,1900,700,400,61119,"Wald am Schoberpaß",19600,2300,900,200,400,800]
[61120,"Trofaiach",234700,119700,103000,0,16700,0,61120,"Trofaiach",234700,16300,7800,100,6000,2300,61120,"Trofaiach",234700,31400,2300,19700,6900,2600,61120,"Trofaiach",234700,6200,2400,400,1100,2300]
[61203,"Aigen im Ennstal",70700,32900,28500,0,4300,0,61203,"Aigen im Ennstal",70700,9300,4400,100,3400,1300,61203,"Aigen im Ennstal",70700,4600,300,2600,1200,500,61203,"Aigen im Ennstal",70700,4900,1900,300,800,1800]
[61204,"Altaussee",105600,31400,27700,0,3700,0,61204,"Altaussee",105600,4800,2300,0,1800,700,61204,"Altaussee",105600,45100,1300,28200,8700,7000,61204,"Altaussee",105600,1900,700,100,300,700]
[61205,"Altenmarkt bei Sankt Gallen",112700,8700,7500,0,1200,0,61205,"Altenmarkt bei Sankt Gallen",112700,800,400,0,300,100,61205,"Altenmarkt bei Sankt Gallen",112700,92000,4900,59100,26100,1900,61205,"Altenmarkt bei Sankt Gallen",112700,900,400,100,200,300]
[61206,"Ardning",27500,15300,13300,0,2000,0,61206,"Ardning",27500,1100,500,0,400,200,61206,"Ardning",27500,2200,300,1000,800,200,61206,"Ardning",27500,1600,600,100,300,600]
[61207,"Bad Aussee",172600,68100,59200,0,8800,0,61207,"Bad Aussee",172600,16000,7700,100,5900,2300,61207,"Bad Aussee",172600,44800,2500,31100,8200,3000,61207,"Bad Aussee",172600,3100,1200,200,500,1200]
[61213,"Gröbming",80600,33400,28600,0,4800,0,61213,"Gröbming",80600,9300,4400,100,3400,1300,61213,"Gröbming",80600,11000,800,5400,3600,1300,61213,"Gröbming",80600,2700,1000,200,500,1000]
[61215,"Grundlsee",35400,22100,19500,0,2600,0,61215,"Grundlsee",35400,2300,1100,0,900,300,61215,"Grundlsee",35400,700,100,100,400,200,61215,"Grundlsee",35400,2500,1000,200,400,900]
[61217,"Haus",97100,27400,23600,0,3700,0,61217,"Haus",97100,8700,4200,100,3200,1300,61217,"Haus",97100,34900,1900,21800,7600,3600,61217,"Haus",97100,3800,1500,300,700,1400]
[61222,"Lassing",43900,18800,16400,0,2300,0,61222,"Lassing",43900,1000,500,0,400,100,61222,"Lassing",43900,10900,1100,5100,3700,1000,61222,"Lassing",43900,3000,1200,200,500,1100]
[61236,"Ramsau am Dachstein",67400,32000,27700,0,4200,0,61236,"Ramsau am Dachstein",67400,6600,3200,100,2400,900,61236,"Ramsau am Dachstein",67400,6700,500,3400,2400,500,61236,"Ramsau am Dachstein",67400,3900,1500,300,700,1400]
[61243,"Selzthal",36000,19400,16900,0,2500,0,61243,"Selzthal",36000,5400,2600,0,2000,800,61243,"Selzthal",36000,200,0,100,100,0,61243,"Selzthal",36000,900,300,100,100,300]
[61247,"Trieben",294600,38000,33300,0,4800,0,61247,"Trieben",294600,4100,2000,0,1500,600,61247,"Trieben",294600,224900,15300,158200,38400,13000,61247,"Trieben",294600,2100,800,200,400,800]
[61251,"Wildalpen",15700,7800,6800,0,900,0,61251,"Wildalpen",15700,500,300,0,200,100,61251,"Wildalpen",15700,1500,100,800,500,100,61251,"Wildalpen",15700,2900,1100,200,500,1100]
[61252,"Wörschach",32800,14100,12300,0,1800,0,61252,"Wörschach",32800,1000,500,0,400,100,61252,"Wörschach",32800,9100,600,4600,3600,300,61252,"Wörschach",32800,1900,700,100,300,700]
[61253,"Admont",143000,63900,56100,0,7800,0,61253,"Admont",143000,7600,3600,100,2800,1100,61253,"Admont",143000,24900,3000,10600,8800,2400,61253,"Admont",143000,8400,3200,600,1500,3100]
[61254,"Aich",29400,14800,12800,0,2000,0,61254,"Aich",29400,1300,600,0,500,200,61254,"Aich",29400,2200,200,900,800,200,61254,"Aich",29400,3200,1200,200,600,1200]
[61255,"Bad Mitterndorf",159000,76400,67300,0,9100,0,61255,"Bad Mitterndorf",159000,10100,4800,100,3700,1400,61255,"Bad Mitterndorf",159000,30400,2800,14100,11900,1600,61255,"Bad Mitterndorf",159000,9600,3700,700,1700,3600]
[61256,"Gaishorn am See",54700,17300,15200,0,2100,0,61256,"Gaishorn am See",54700,800,400,0,300,100,61256,"Gaishorn am See",54700,22900,2600,10500,7800,2000,61256,"Gaishorn am See",54700,2800,1100,200,500,1100]
[61257,"Irdning-Donnersbachtal",101500,52200,45600,0,6700,0,61257,"Irdning-Donnersbachtal",101500,6200,3000,100,2300,900,61257,"Irdning-Donnersbachtal",101500,5600,600,1300,2500,1100,61257,"Irdning-Donnersbachtal",101500,7200,2700,500,1200,2700]
[61258,"Landl",76500,35200,30600,0,4600,0,61258,"Landl",76500,6200,3000,100,2300,900,61258,"Landl",76500,10400,1300,4400,3700,1000,61258,"Landl",76500,6400,2400,500,1100,2400]
[61259,"Liezen",281100,81600,70300,0,11300,0,61259,"Liezen",281100,46500,22300,400,17200,6600,61259,"Liezen",281100,64700,6700,38300,15900,3700,61259,"Liezen",281100,4000,1500,300,700,1500]
[61260,"Michaelerberg-Pruggern",28400,14500,12700,0,1800,0,61260,"Michaelerberg-Pruggern",28400,1900,900,0,700,300,61260,"Michaelerberg-Pruggern",28400,1500,200,200,800,400,61260,"Michaelerberg-Pruggern",28400,2600,1000,200,500,1000]
[61261,"Mitterberg-Sankt Martin",45100,25100,21800,0,3300,0,61261,"Mitterberg-Sankt Martin",45100,1900,900,0,700,300,61261,"Mitterberg-Sankt Martin",45100,2300,200,800,900,400,61261,"Mitterberg-Sankt Martin",45100,4200,1600,300,700,1600]
[61262,"Öblarn",42600,23400,20400,0,3000,0,61262,"Öblarn",42600,2100,1000,0,800,300,61262,"Öblarn",42600,1600,200,500,700,300,61262,"Öblarn",42600,3000,1100,200,500,1100]
[61263,"Rottenmann",175300,59400,51600,0,7800,0,61263,"Rottenmann",175300,10800,5200,100,4000,1500,61263,"Rottenmann",175300,57000,7400,26100,17500,6000,61263,"Rottenmann",175300,6100,2300,400,1100,2300]
[61264,"Sankt Gallen",62200,21700,18900,0,2800,0,61264,"Sankt Gallen",62200,3400,1600,0,1300,500,61264,"Sankt Gallen",62200,19400,2500,8200,7000,1800,61264,"Sankt Gallen",62200,3300,1300,200,600,1200]
[61265,"Schladming",206400,72600,62100,0,10500,0,61265,"Schladming",206400,38900,18700,300,14400,5600,61265,"Schladming",206400,20800,1800,8400,8500,2200,61265,"Schladming",206400,7100,2700,500,1200,2700]
[61266,"Sölk",56500,23300,20700,0,2700,0,61266,"Sölk",56500,1000,500,0,400,100,61266,"Sölk",56500,14500,500,8800,3000,2100,61266,"Sölk",56500,6300,2400,500,1100,2300]
[61267,"Stainach-Pürgg",160100,35300,30900,0,4400,0,61267,"Stainach-Pürgg",160100,6700,3200,100,2500,1000,61267,"Stainach-Pürgg",160100,85400,5400,49800,23500,6700,61267,"Stainach-Pürgg",160100,3700,1400,300,600,1400]
[61410,"Mühlen",22800,11800,10500,0,1300,0,61410,"Mühlen",22800,600,300,0,200,100,61410,"Mühlen",22800,1500,100,800,400,200,61410,"Mühlen",22800,3400,1300,200,600,1300]
[61413,"Niederwölz",41900,7400,6400,0,1000,0,61413,"Niederwölz",41900,500,200,0,200,100,61413,"Niederwölz",41900,27400,1400,20200,4100,1600,61413,"Niederwölz",41900,900,400,100,200,300]
[61425,"St. Peter am Kammersberg",48300,26300,23200,0,3100,0,61425,"St. Peter am Kammersberg",48300,1900,900,0,700,300,61425,"St. Peter am Kammersberg",48300,700,100,100,400,200,61425,"St. Peter am Kammersberg",48300,6500,2500,500,1100,2400]
[61428,"Schöder",22300,13000,11500,0,1500,0,61428,"Schöder",22300,600,300,0,200,100,61428,"Schöder",22300,300,0,100,100,100,61428,"Schöder",22300,2800,1100,200,500,1100]
[61437,"Krakau",33900,19500,17400,0,2100,0,61437,"Krakau",33900,800,400,0,300,100,61437,"Krakau",33900,200,0,0,100,0,61437,"Krakau",33900,4700,1800,300,800,1800]
[61438,"Murau",124800,46300,40500,0,5800,0,61438,"Murau",124800,15400,7400,100,5700,2200,61438,"Murau",124800,23400,1600,11200,7400,3100,61438,"Murau",124800,4900,1900,400,900,1800]
[61439,"Neumarkt in der Steiermark",139600,66800,58900,0,7900,0,61439,"Neumarkt in der Steiermark",139600,11500,5500,100,4300,1600,61439,"Neumarkt in der Steiermark",139600,9400,1100,3600,3500,1200,61439,"Neumarkt in der Steiermark",139600,14000,5400,1000,2400,5200]
[61440,"Oberwölz",79900,42800,37900,0,4900,0,61440,"Oberwölz",79900,3700,1800,0,1400,500,61440,"Oberwölz",79900,3500,400,1400,1300,400,61440,"Oberwölz",79900,10400,4000,700,1800,3900]
[61441,"Ranten",27600,14000,12400,0,1600,0,61441,"Ranten",27600,700,300,0,300,100,61441,"Ranten",27600,1300,100,600,400,200,61441,"Ranten",27600,4500,1700,300,800,1700]
[61442,"Sankt Georgen am Kreischberg",46700,23400,20400,0,3100,0,61442,"Sankt Georgen am Kreischberg",46700,3700,1800,0,1400,500,61442,"Sankt Georgen am Kreischberg",46700,1500,200,500,600,200,61442,"Sankt Georgen am Kreischberg",46700,5500,2100,400,1000,2100]
[61443,"Sankt Lambrecht",51200,28000,25000,0,3000,0,61443,"Sankt Lambrecht",51200,2700,1300,0,1000,400,61443,"Sankt Lambrecht",51200,4000,400,1900,1400,200,61443,"Sankt Lambrecht",51200,4400,1700,300,800,1700]
[61444,"Scheifling",59800,27300,23800,0,3400,0,61444,"Scheifling",59800,3700,1800,0,1400,500,61444,"Scheifling",59800,10100,1100,3600,4000,1400,61444,"Scheifling",59800,2800,1100,200,500,1100]
[61445,"Stadl-Predlitz",58400,30400,27000,0,3400,0,61445,"Stadl-Predlitz",58400,3900,1900,0,1400,600,61445,"Stadl-Predlitz",58400,5900,800,2400,2200,600,61445,"Stadl-Predlitz",58400,5800,2200,400,1000,2200]
[61446,"Teufenbach-Katsch",78200,21600,18700,0,2900,0,61446,"Teufenbach-Katsch",78200,2800,1300,0,1000,400,61446,"Teufenbach-Katsch",78200,34300,4300,15200,11400,3300,61446,"Teufenbach-Katsch",78200,2900,1100,200,500,1100]
[61611,"Krottendorf-Gaisfeld",49400,24500,20700,0,3800,0,61611,"Krottendorf-Gaisfeld",49400,2900,1400,0,1100,400,61611,"Krottendorf-Gaisfeld",49400,5800,1100,1700,2400,600,61611,"Krottendorf-Gaisfeld",49400,1500,600,100,300,500]
[61612,"Ligist",62700,30100,25400,0,4700,0,61612,"Ligist",62700,3600,1700,0,1300,500,61612,"Ligist",62700,6200,1000,2400,2300,500,61612,"Ligist",62700,2400,900,200,400,900]
[61615,"Mooskirchen",42600,19200,16100,0,3100,0,61615,"Mooskirchen",42600,1800,900,0,700,300,61615,"Mooskirchen",42600,4900,500,2200,1700,600,61615,"Mooskirchen",42600,2100,800,200,400,800]
[61618,"Rosental an der Kainach",38900,15100,12800,0,2300,0,61618,"Rosental an der Kainach",38900,6100,2900,100,2300,900,61618,"Rosental an der Kainach",38900,2400,300,1000,900,200,61618,"Rosental an der Kainach",38900,300,100,0,100,100]
[61621,"Sankt Martin am Wöllmißberg",16800,9100,7900,0,1200,0,61621,"Sankt Martin am Wöllmißberg",16800,400,200,0,200,100,61621,"Sankt Martin am Wöllmißberg",16800,600,100,100,300,100,61621,"Sankt Martin am Wöllmißberg",16800,1900,700,100,300,700]
[61624,"Stallhofen",56900,29000,24400,0,4600,0,61624,"Stallhofen",56900,3100,1500,0,1100,400,61624,"Stallhofen",56900,2500,200,700,1000,500,61624,"Stallhofen",56900,2900,1100,200,500,1100]
[61625,"Voitsberg",261800,88800,74900,0,13900,0,61625,"Voitsberg",261800,22700,10900,200,8400,3200,61625,"Voitsberg",261800,80600,9800,41600,23400,5800,61625,"Voitsberg",261800,1700,600,100,300,600]
[61626,"Bärnbach",127600,52000,43800,0,8200,0,61626,"Bärnbach",127600,10300,4900,100,3800,1500,61626,"Bärnbach",127600,23900,2300,13600,5900,2200,61626,"Bärnbach",127600,1900,700,100,300,700]
[61627,"Edelschrott",43500,24200,21300,0,3000,0,61627,"Edelschrott",43500,1700,800,0,600,200,61627,"Edelschrott",43500,600,100,100,300,100,61627,"Edelschrott",43500,5700,2200,400,1000,2100]
[61628,"Geistthal-Södingberg",31900,16400,14100,0,2300,0,61628,"Geistthal-Södingberg",31900,700,300,0,300,100,61628,"Geistthal-Södingberg",31900,1000,100,400,400,100,61628,"Geistthal-Södingberg",31900,4200,1600,300,700,1600]
[61629,"Hirschegg-Pack",30000,16700,14900,0,1800,0,61629,"Hirschegg-Pack",30000,900,500,0,300,100,61629,"Hirschegg-Pack",30000,200,0,100,100,0,61629,"Hirschegg-Pack",30000,5400,2100,400,900,2000]
[61630,"Kainach bei Voitsberg",58900,17600,15200,0,2400,0,61630,"Kainach bei Voitsberg",58900,900,400,0,300,100,61630,"Kainach bei Voitsberg",58900,22300,700,13900,4300,3400,61630,"Kainach bei Voitsberg",58900,3700,1400,300,600,1400]
[61631,"Köflach",332300,103900,88900,0,15000,0,61631,"Köflach",332300,30700,14700,300,11400,4400,61631,"Köflach",332300,102500,7300,68600,19700,6900,61631,"Köflach",332300,3100,1200,200,500,1200]
[61632,"Maria Lankowitz",73700,33600,29200,0,4400,0,61632,"Maria Lankowitz",73700,2600,1300,0,1000,400,61632,"Maria Lankowitz",73700,14200,600,8400,3000,2200,61632,"Maria Lankowitz",73700,4900,1900,400,800,1800]
[61633,"Söding-Sankt Johann",82500,37300,31000,0,6300,0,61633,"Söding-Sankt Johann",82500,9600,4600,100,3600,1400,61633,"Söding-Sankt Johann",82500,6900,900,1800,3100,1100,61633,"Söding-Sankt Johann",82500,2300,900,200,400,800]
[61701,"Albersdorf-Prebuch",70400,18800,15600,0,3100,0,61701,"Albersdorf-Prebuch",70400,3600,1700,0,1300,500,61701,"Albersdorf-Prebuch",70400,29700,7300,9100,11900,1400,61701,"Albersdorf-Prebuch",70400,2000,800,100,300,800]
[61708,"Fischbach",32900,17500,15400,0,2100,0,61708,"Fischbach",32900,1900,900,0,700,300,61708,"Fischbach",32900,900,100,500,300,100,61708,"Fischbach",32900,3900,1500,300,700,1400]
[61710,"Floing",50600,11200,9600,0,1700,0,61710,"Floing",50600,1200,600,0,500,200,61710,"Floing",50600,24600,800,15100,4900,3800,61710,"Floing",50600,1800,700,100,300,700]
[61711,"Gasen",21400,9600,8500,0,1200,0,61711,"Gasen",21400,1000,500,0,400,100,61711,"Gasen",21400,1900,400,600,800,100,61711,"Gasen",21400,3100,1200,200,500,1200]
[61716,"Markt Hartmannsdorf",63500,27700,23200,0,4500,0,61716,"Markt Hartmannsdorf",63500,5500,2600,0,2000,800,61716,"Markt Hartmannsdorf",63500,5100,500,1900,2000,700,61716,"Markt Hartmannsdorf",63500,4500,1700,300,800,1700]
[61719,"Hofstätten an der Raab",77400,19100,15900,0,3200,0,61719,"Hofstätten an der Raab",77400,8800,4200,100,3200,1300,61719,"Hofstätten an der Raab",77400,27300,900,20900,5200,400,61719,"Hofstätten an der Raab",77400,1900,700,100,300,700]
[61727,"Ludersdorf-Wilfersdorf",58400,21100,17500,0,3600,0,61727,"Ludersdorf-Wilfersdorf",58400,9800,4700,100,3600,1400,61727,"Ludersdorf-Wilfersdorf",58400,10100,1200,2400,4700,1800,61727,"Ludersdorf-Wilfersdorf",58400,1300,500,100,200,500]
[61728,"Miesenbach bei Birkfeld",14100,7300,6400,0,900,0,61728,"Miesenbach bei Birkfeld",14100,700,400,0,300,100,61728,"Miesenbach bei Birkfeld",14100,400,0,200,200,0,61728,"Miesenbach bei Birkfeld",14100,1500,600,100,300,600]
[61729,"Mitterdorf an der Raab",39700,20900,17400,0,3500,0,61729,"Mitterdorf an der Raab",39700,1300,600,0,500,200,61729,"Mitterdorf an der Raab",39700,3000,200,1700,900,300,61729,"Mitterdorf an der Raab",39700,3200,1200,200,600,1200]
[61730,"Mortantsch",34500,20100,17000,0,3200,0,61730,"Mortantsch",34500,1500,700,0,500,200,61730,"Mortantsch",34500,300,0,0,100,0,61730,"Mortantsch",34500,2000,800,100,300,700]
[61731,"Naas",79400,11900,10200,0,1700,0,61731,"Naas",79400,700,300,0,300,100,61731,"Naas",79400,48100,1500,29700,9500,7400,61731,"Naas",79400,1600,600,100,300,600]
[61740,"Puch bei Weiz",41600,20800,17600,0,3300,0,61740,"Puch bei Weiz",41600,2100,1000,0,800,300,61740,"Puch bei Weiz",41600,2200,100,1500,400,200,61740,"Puch bei Weiz",41600,4700,1800,300,800,1800]
[61741,"Ratten",32200,12400,10900,0,1500,0,61741,"Ratten",32200,1600,800,0,600,200,61741,"Ratten",32200,7700,1200,1800,3600,1200,61741,"Ratten",32200,2400,900,200,400,900]
[61743,"Rettenegg",19800,12400,11000,0,1400,0,61743,"Rettenegg",19800,800,400,0,300,100,61743,"Rettenegg",19800,100,0,0,0,0,61743,"Rettenegg",19800,2100,800,200,400,800]
[61744,"St. Kathrein am Hauenstein",15700,8700,7800,0,900,0,61744,"St. Kathrein am Hauenstein",15700,600,300,0,200,100,61744,"St. Kathrein am Hauenstein",15700,600,100,300,200,100,61744,"St. Kathrein am Hauenstein",15700,2000,800,100,300,700]
[61745,"Sankt Kathrein am Offenegg",24900,13300,11600,0,1600,0,61745,"Sankt Kathrein am Offenegg",24900,1200,600,0,500,200,61745,"Sankt Kathrein am Offenegg",24900,200,0,0,100,100,61745,"Sankt Kathrein am Offenegg",24900,3200,1200,200,500,1200]
[61746,"St. Margarethen an der Raab",90200,37000,30900,0,6100,0,61746,"St. Margarethen an der Raab",90200,6600,3100,100,2400,900,61746,"St. Margarethen an der Raab",90200,13700,2100,6200,4500,900,61746,"St. Margarethen an der Raab",90200,5700,2200,400,1000,2100]
[61748,"Sinabelkirchen",90400,36200,30200,0,5900,0,61748,"Sinabelkirchen",90400,4400,2100,0,1600,600,61748,"Sinabelkirchen",90400,16800,4600,3500,7400,1400,61748,"Sinabelkirchen",90400,5100,2000,400,900,1900]
[61750,"Strallegg",41400,19700,17100,0,2500,0,61750,"Strallegg",41400,1100,500,0,400,200,61750,"Strallegg",41400,4400,500,1800,1600,500,61750,"Strallegg",41400,4600,1800,300,800,1700]
[61751,"Thannhausen",58300,21600,18200,0,3400,0,61751,"Thannhausen",58300,2000,1000,0,800,300,61751,"Thannhausen",58300,17600,900,11600,3400,1700,61751,"Thannhausen",58300,2800,1100,200,500,1100]
[61756,"Anger",131700,42900,36500,0,6400,0,61756,"Anger",131700,5600,2700,0,2100,800,61756,"Anger",131700,42500,2800,23100,10800,5800,61756,"Anger",131700,4100,1600,300,700,1500]
[61757,"Birkfeld",128700,51000,43900,0,7000,0,61757,"Birkfeld",128700,7900,3800,100,2900,1100,61757,"Birkfeld",128700,25700,2300,12700,8100,2500,61757,"Birkfeld",128700,8800,3400,600,1500,3300]
[61758,"Fladnitz an der Teichalm",46000,21000,18100,0,2800,0,61758,"Fladnitz an der Teichalm",46000,3700,1800,0,1400,500,61758,"Fladnitz an der Teichalm",46000,3000,500,500,1500,500,61758,"Fladnitz an der Teichalm",46000,4500,1700,300,800,1700]
[61759,"Gersdorf an der Feistritz",70600,14100,11800,0,2200,0,61759,"Gersdorf an der Feistritz",70600,700,400,0,300,100,61759,"Gersdorf an der Feistritz",70600,37200,2100,26700,6100,2300,61759,"Gersdorf an der Feistritz",70600,5100,1900,400,900,1900]
[61760,"Gleisdorf",346600,93400,77600,0,15800,0,61760,"Gleisdorf",346600,61000,29200,500,22600,8700,61760,"Gleisdorf",346600,93200,8000,50300,29300,5700,61760,"Gleisdorf",346600,3900,1500,300,700,1400]
[61761,"Gutenberg-Stenzengreith",28700,16300,13800,0,2500,0,61761,"Gutenberg-Stenzengreith",28700,900,400,0,300,100,61761,"Gutenberg-Stenzengreith",28700,900,100,400,300,100,61761,"Gutenberg-Stenzengreith",28700,1800,700,100,300,700]
[61762,"Ilztal",42200,20200,16900,0,3300,0,61762,"Ilztal",42200,2100,1000,0,800,300,61762,"Ilztal",42200,3800,400,600,1900,900,61762,"Ilztal",42200,4200,1600,300,700,1600]
[61763,"Passail",102700,47900,41400,0,6500,0,61763,"Passail",102700,5600,2700,0,2100,800,61763,"Passail",102700,9900,1500,2800,4300,1300,61763,"Passail",102700,8000,3000,600,1400,3000]
[61764,"Pischelsdorf am Kulm",87100,33900,28400,0,5500,0,61764,"Pischelsdorf am Kulm",87100,4800,2300,0,1800,700,61764,"Pischelsdorf am Kulm",87100,20200,3200,6800,7900,2300,61764,"Pischelsdorf am Kulm",87100,3500,1300,300,600,1300]
[61765,"Sankt Ruprecht an der Raab",207600,47500,39600,0,7800,0,61765,"Sankt Ruprecht an der Raab",207600,10600,5100,100,3900,1500,61765,"Sankt Ruprecht an der Raab",207600,99900,5900,60800,29900,3400,61765,"Sankt Ruprecht an der Raab",207600,7000,2700,500,1200,2600]
[61766,"Weiz",532800,102200,85400,0,16700,0,61766,"Weiz",532800,43200,20700,400,16000,6200,61766,"Weiz",532800,275600,60400,81200,113700,20400,61766,"Weiz",532800,1800,700,100,300,700]
[62007,"Fohnsdorf",188500,86600,75400,0,11200,0,62007,"Fohnsdorf",188500,18300,8800,200,6800,2600,62007,"Fohnsdorf",188500,23800,3900,6800,10300,2900,62007,"Fohnsdorf",188500,4500,1700,300,800,1700]
[62008,"Gaal",33000,17100,15000,0,2100,0,62008,"Gaal",33000,800,400,0,300,100,62008,"Gaal",33000,600,100,200,200,100,62008,"Gaal",33000,6000,2300,400,1000,2200]
[62010,"Hohentauern",15000,9800,8800,0,1000,0,62010,"Hohentauern",15000,500,200,0,200,100,62010,"Hohentauern",15000,0,0,0,0,0,62010,"Hohentauern",15000,2200,800,200,400,800]
[62014,"Kobenz",57000,20200,17300,0,2900,0,62014,"Kobenz",57000,2800,1300,0,1000,400,62014,"Kobenz",57000,17600,1000,9800,4100,2600,62014,"Kobenz",57000,2300,900,200,400,900]
[62021,"Pusterwald",14200,8000,7300,0,800,0,62021,"Pusterwald",14200,200,100,0,100,0,62021,"Pusterwald",14200,300,0,200,100,0,62021,"Pusterwald",14200,2800,1100,200,500,1100]
[62026,"Sankt Georgen ob Judenburg",19300,10900,9600,0,1400,0,62026,"Sankt Georgen ob Judenburg",19300,700,300,0,200,100,62026,"Sankt Georgen ob Judenburg",19300,200,0,0,100,0,62026,"Sankt Georgen ob Judenburg",19300,2700,1000,200,500,1000]
[62032,"Sankt Peter ob Judenburg",42700,13800,12000,0,1800,0,62032,"Sankt Peter ob Judenburg",42700,800,400,0,300,100,62032,"Sankt Peter ob Judenburg",42700,17500,700,12700,3700,500,62032,"Sankt Peter ob Judenburg",42700,2600,1000,200,500,1000]
[62034,"Seckau",35800,15900,13800,0,2100,0,62034,"Seckau",35800,1600,800,0,600,200,62034,"Seckau",35800,5600,400,3200,1600,400,62034,"Seckau",35800,2800,1100,200,500,1000]
[62036,"Unzmarkt-Frauenburg",28900,16100,14100,0,2000,0,62036,"Unzmarkt-Frauenburg",28900,1300,600,0,500,200,62036,"Unzmarkt-Frauenburg",28900,2000,200,600,900,300,62036,"Unzmarkt-Frauenburg",28900,1600,600,100,300,600]
[62038,"Zeltweg",858300,71200,61600,0,9600,0,62038,"Zeltweg",858300,42400,20300,400,15700,6100,62038,"Zeltweg",858300,673300,32600,504400,129400,7000,62038,"Zeltweg",858300,600,200,0,100,200]
[62039,"Lobmingtal",39300,21600,18800,0,2800,0,62039,"Lobmingtal",39300,1600,800,0,600,200,62039,"Lobmingtal",39300,2300,500,700,1000,100,62039,"Lobmingtal",39300,3500,1300,200,600,1300]
[62040,"Judenburg",501700,106600,92300,0,14200,0,62040,"Judenburg",501700,32200,15400,300,11900,4600,62040,"Judenburg",501700,278800,19600,198600,56200,4400,62040,"Judenburg",501700,3400,1300,200,600,1300]
[62041,"Knittelfeld",388800,122300,105300,0,17000,0,62041,"Knittelfeld",388800,64800,31000,500,23900,9300,62041,"Knittelfeld",388800,112300,13100,61800,29900,7500,62041,"Knittelfeld",388800,1100,400,100,200,400]
[62042,"Obdach",123500,50600,44600,0,6000,0,62042,"Obdach",123500,4100,1900,0,1500,600,62042,"Obdach",123500,33300,4900,12900,12500,3000,62042,"Obdach",123500,10200,3900,700,1800,3800]
[62043,"Pöls-Oberkurzheim",1389300,35900,31500,0,4500,0,62043,"Pöls-Oberkurzheim",1389300,3200,1500,0,1200,500,62043,"Pöls-Oberkurzheim",1389300,1321800,34700,1050700,233700,2700,62043,"Pöls-Oberkurzheim",1389300,4400,1700,300,800,1700]
[62044,"Pölstal",86200,38700,34500,0,4200,0,62044,"Pölstal",86200,3300,1600,0,1200,500,62044,"Pölstal",86200,15700,700,11100,3500,400,62044,"Pölstal",86200,10500,4000,800,1800,3900]
[62045,"Sankt Marein-Feistritz",43500,22100,18900,0,3200,0,62045,"Sankt Marein-Feistritz",43500,1700,800,0,600,200,62045,"Sankt Marein-Feistritz",43500,1000,100,100,500,200,62045,"Sankt Marein-Feistritz",43500,5200,2000,400,900,2000]
[62046,"Sankt Margarethen bei Knittelfeld",102000,33600,29300,0,4300,0,62046,"Sankt Margarethen bei Knittelfeld",102000,2800,1400,0,1000,400,62046,"Sankt Margarethen bei Knittelfeld",102000,42500,2200,30900,6700,2600,62046,"Sankt Margarethen bei Knittelfeld",102000,7100,2700,500,1200,2600]
[62047,"Spielberg",163400,58400,49800,0,8600,0,62047,"Spielberg",163400,16600,7900,100,6100,2400,62047,"Spielberg",163400,42300,8900,14100,16800,2600,62047,"Spielberg",163400,3300,1200,200,600,1200]
[62048,"Weißkirchen in Steiermark",202100,55700,48200,0,7500,0,62048,"Weißkirchen in Steiermark",202100,5600,2700,0,2100,800,62048,"Weißkirchen in Steiermark",202100,93300,5100,53400,25600,9200,62048,"Weißkirchen in Steiermark",202100,9900,3800,700,1700,3700]
[62105,"Breitenau am Hochlantsch",262600,19600,17200,0,2400,0,62105,"Breitenau am Hochlantsch",262600,1100,500,0,400,200,62105,"Breitenau am Hochlantsch",262600,197800,9100,121800,43600,23300,62105,"Breitenau am Hochlantsch",262600,2500,1000,200,400,900]
[62115,"Krieglach",297600,58900,50800,0,8100,0,62115,"Krieglach",297600,6300,3000,100,2300,900,62115,"Krieglach",297600,189800,12200,137700,36500,3400,62115,"Krieglach",297600,4500,1700,300,800,1700]
[62116,"Langenwang",94500,42500,36700,0,5900,0,62116,"Langenwang",94500,4500,2200,0,1700,600,62116,"Langenwang",94500,18500,2600,7300,6800,1800,62116,"Langenwang",94500,3300,1300,200,600,1200]
[62125,"Pernegg an der Mur",43300,25000,21400,0,3600,0,62125,"Pernegg an der Mur",43300,2600,1300,0,1000,400,62125,"Pernegg an der Mur",43300,500,100,100,200,100,62125,"Pernegg an der Mur",43300,2100,800,100,400,800]
[62128,"Sankt Lorenzen im Mürztal",80400,37500,32200,0,5300,0,62128,"Sankt Lorenzen im Mürztal",80400,6200,3000,100,2300,900,62128,"Sankt Lorenzen im Mürztal",80400,9600,1100,4300,3400,900,62128,"Sankt Lorenzen im Mürztal",80400,2000,800,100,300,700]
[62131,"Spital am Semmering",58300,29200,26000,0,3200,0,62131,"Spital am Semmering",58300,4900,2300,0,1800,700,62131,"Spital am Semmering",58300,5900,600,500,3200,1600,62131,"Spital am Semmering",58300,2500,1000,200,400,900]
[62132,"Stanz im Mürztal",37100,22300,19500,0,2800,0,62132,"Stanz im Mürztal",37100,900,400,0,300,100,62132,"Stanz im Mürztal",37100,700,100,200,300,100,62132,"Stanz im Mürztal",37100,3200,1200,200,500,1200]
[62135,"Turnau",38200,20000,17700,0,2300,0,62135,"Turnau",38200,1800,900,0,700,300,62135,"Turnau",38200,3500,400,1500,1300,400,62135,"Turnau",38200,3800,1500,300,700,1400]
[62138,"Aflenz",65000,36300,32000,0,4300,0,62138,"Aflenz",65000,3900,1900,0,1400,600,62138,"Aflenz",65000,7000,1400,2500,2700,500,62138,"Aflenz",65000,2500,900,200,400,900]
[62139,"Bruck an der Mur",1590400,149500,126800,0,22700,0,62139,"Bruck an der Mur",1590400,49500,23700,400,18300,7100,62139,"Bruck an der Mur",1590400,1266700,42500,987100,230600,6600,62139,"Bruck an der Mur",1590400,3600,1400,300,600,1300]
[62140,"Kapfenberg",1727000,199400,170800,0,28600,0,62140,"Kapfenberg",1727000,47900,22900,400,17700,6800,62140,"Kapfenberg",1727000,1290800,99200,908700,263500,19400,62140,"Kapfenberg",1727000,3600,1400,300,600,1300]
[62141,"Kindberg",750900,83600,71700,0,12000,0,62141,"Kindberg",750900,11900,5700,100,4400,1700,62141,"Kindberg",750900,587000,36600,431000,110800,8600,62141,"Kindberg",750900,5100,1900,400,900,1900]
[62142,"Mariazell",125000,60200,53300,0,6800,0,62142,"Mariazell",125000,10900,5200,100,4000,1600,62142,"Mariazell",125000,17200,2000,6800,6400,2000,62142,"Mariazell",125000,9100,3500,700,1600,3400]
[62143,"Mürzzuschlag",480600,92400,80300,0,12100,0,62143,"Mürzzuschlag",480600,19400,9300,200,7200,2800,62143,"Mürzzuschlag",480600,303900,20200,220000,59200,4500,62143,"Mürzzuschlag",480600,2400,900,200,400,900]
[62144,"Neuberg an der Mürz",70600,42900,38300,0,4600,0,62144,"Neuberg an der Mürz",70600,2800,1400,0,1100,400,62144,"Neuberg an der Mürz",70600,2900,300,1400,800,300,62144,"Neuberg an der Mürz",70600,6400,2400,500,1100,2400]
[62145,"Sankt Barbara im Mürztal",540600,80100,69700,0,10500,0,62145,"Sankt Barbara im Mürztal",540600,7200,3500,100,2700,1000,62145,"Sankt Barbara im Mürztal",540600,403800,24600,293900,68900,16400,62145,"Sankt Barbara im Mürztal",540600,3900,1500,300,700,1400]
[62146,"Sankt Marein im Mürztal",60000,27200,23300,0,3900,0,62146,"Sankt Marein im Mürztal",60000,4100,2000,0,1500,600,62146,"Sankt Marein im Mürztal",60000,10500,1200,4100,3900,1200,62146,"Sankt Marein im Mürztal",60000,1000,400,100,200,400]
[62147,"Thörl",150400,30000,26300,0,3800,0,62147,"Thörl",150400,5200,2500,0,1900,700,62147,"Thörl",150400,95500,5800,71400,17400,1000,62147,"Thörl",150400,4000,1500,300,700,1500]
[62148,"Tragöß-Sankt Katharein",85400,26300,23200,0,3200,0,62148,"Tragöß-Sankt Katharein",85400,1400,700,0,500,200,62148,"Tragöß-Sankt Katharein",85400,35500,1100,22300,6800,5400,62148,"Tragöß-Sankt Katharein",85400,4200,1600,300,700,1600]
[62202,"Bad Blumau",35000,15400,12800,0,2500,0,62202,"Bad Blumau",35000,5000,2400,0,1900,700,62202,"Bad Blumau",35000,400,0,100,200,100,62202,"Bad Blumau",35000,3800,1400,300,600,1400]
[62205,"Buch-St. Magdalena",42400,20600,17300,0,3300,0,62205,"Buch-St. Magdalena",42400,1000,500,0,400,100,62205,"Buch-St. Magdalena",42400,4900,800,1400,2100,600,62205,"Buch-St. Magdalena",42400,3400,1300,200,600,1300]
[62206,"Burgau",26200,11900,10000,0,1900,0,62206,"Burgau",26200,1400,700,0,500,200,62206,"Burgau",26200,3700,500,1500,1300,400,62206,"Burgau",26200,2100,800,100,400,800]
[62209,"Ebersdorf",30200,12100,10200,0,2000,0,62209,"Ebersdorf",30200,1500,700,0,600,200,62209,"Ebersdorf",30200,5900,700,1800,2500,900,62209,"Ebersdorf",30200,2700,1000,200,500,1000]
[62211,"Friedberg",54100,26400,22500,0,3900,0,62211,"Friedberg",54100,3900,1900,0,1400,600,62211,"Friedberg",54100,4300,700,1000,2100,500,62211,"Friedberg",54100,2700,1000,200,500,1000]
[62214,"Greinbach",37300,16300,13800,0,2500,0,62214,"Greinbach",37300,2000,1000,0,700,300,62214,"Greinbach",37300,5200,800,1200,2400,800,62214,"Greinbach",37300,2600,1000,200,500,1000]
[62216,"Großsteinbach",25700,13200,11200,0,2100,0,62216,"Großsteinbach",25700,1000,500,0,400,100,62216,"Großsteinbach",25700,1000,100,200,500,200,62216,"Großsteinbach",25700,2900,1100,200,500,1100]
[62219,"Hartberg",251100,63300,52900,0,10400,0,62219,"Hartberg",251100,44300,21200,400,16400,6300,62219,"Hartberg",251100,62900,5500,30600,23000,3800,62219,"Hartberg",251100,2700,1000,200,500,1000]
[62220,"Hartberg Umgebung",79900,19800,16500,0,3200,0,62220,"Hartberg Umgebung",79900,5000,2400,0,1800,700,62220,"Hartberg Umgebung",79900,29700,1200,17700,6400,4500,62220,"Hartberg Umgebung",79900,4100,1600,300,700,1500]
[62226,"Lafnitz",36100,14600,12300,0,2300,0,62226,"Lafnitz",36100,2300,1100,0,900,300,62226,"Lafnitz",36100,6400,800,700,3400,1500,62226,"Lafnitz",36100,1900,700,100,300,700]
[62232,"Ottendorf an der Rittschein",27400,14100,11800,0,2300,0,62232,"Ottendorf an der Rittschein",27400,1400,700,0,500,200,62232,"Ottendorf an der Rittschein",27400,700,100,100,300,100,62232,"Ottendorf an der Rittschein",27400,1900,700,100,300,700]
[62233,"Pinggau",94700,32000,27400,0,4700,0,62233,"Pinggau",94700,3500,1700,0,1300,500,62233,"Pinggau",94700,31500,2900,15400,10300,3000,62233,"Pinggau",94700,4500,1700,300,800,1700]
[62235,"Pöllauberg",40400,20600,17400,0,3200,0,62235,"Pöllauberg",40400,2100,1000,0,800,300,62235,"Pöllauberg",40400,1600,100,700,500,200,62235,"Pöllauberg",40400,3800,1400,300,600,1400]
[62242,"Sankt Jakob im Walde",32700,12700,11200,0,1500,0,62242,"Sankt Jakob im Walde",32700,1100,500,0,400,200,62242,"Sankt Jakob im Walde",32700,8300,300,5100,1700,1200,62242,"Sankt Jakob im Walde",32700,2800,1100,200,500,1000]
[62244,"Sankt Johann in der Haide",50600,20200,16700,0,3500,0,62244,"Sankt Johann in der Haide",50600,5000,2400,0,1900,700,62244,"Sankt Johann in der Haide",50600,6800,700,1400,3200,1500,62244,"Sankt Johann in der Haide",50600,2300,900,200,400,900]
[62245,"Sankt Lorenzen am Wechsel",28500,15000,12900,0,2100,0,62245,"Sankt Lorenzen am Wechsel",28500,900,400,0,300,100,62245,"Sankt Lorenzen am Wechsel",28500,500,100,100,200,100,62245,"Sankt Lorenzen am Wechsel",28500,3200,1200,200,600,1200]
[62247,"Schäffern",27900,13200,11300,0,1900,0,62247,"Schäffern",27900,900,400,0,300,100,62247,"Schäffern",27900,1800,200,700,600,200,62247,"Schäffern",27900,3800,1500,300,700,1400]
[62252,"Söchau",27300,13900,11700,0,2200,0,62252,"Söchau",27300,1000,500,0,400,100,62252,"Söchau",27300,1400,100,800,300,200,62252,"Söchau",27300,2600,1000,200,500,1000]
[62256,"Stubenberg",73500,20800,17500,0,3200,0,62256,"Stubenberg",73500,4000,1900,0,1500,600,62256,"Stubenberg",73500,23000,800,13800,4900,3500,62256,"Stubenberg",73500,3600,1400,300,600,1300]
[62262,"Wenigzell",40400,15000,13200,0,1800,0,62262,"Wenigzell",40400,1500,700,0,600,200,62262,"Wenigzell",40400,8900,500,4900,2200,1300,62262,"Wenigzell",40400,4600,1800,300,800,1700]
[62264,"Bad Waltersdorf",104900,36000,30100,0,5900,0,62264,"Bad Waltersdorf",104900,18400,8800,200,6800,2600,62264,"Bad Waltersdorf",104900,8400,1400,2900,3300,800,62264,"Bad Waltersdorf",104900,5800,2200,400,1000,2200]
[62265,"Dechantskirchen",38100,20700,17500,0,3200,0,62265,"Dechantskirchen",38100,1200,600,0,400,200,62265,"Dechantskirchen",38100,1200,100,200,600,300,62265,"Dechantskirchen",38100,3300,1300,200,600,1200]
[62266,"Feistritztal",58200,23000,19300,0,3700,0,62266,"Feistritztal",58200,4900,2300,0,1800,700,62266,"Feistritztal",58200,12200,1400,5200,4300,1300,62266,"Feistritztal",58200,3100,1200,200,500,1200]
[62267,"Fürstenfeld",256400,87300,73600,0,13700,0,62267,"Fürstenfeld",256400,26700,12800,200,9900,3800,62267,"Fürstenfeld",256400,63500,5800,35700,18100,3800,62267,"Fürstenfeld",256400,6600,2500,500,1100,2500]
[62268,"Grafendorf bei Hartberg",106000,31300,26400,0,4900,0,62268,"Grafendorf bei Hartberg",106000,3600,1700,0,1300,500,62268,"Grafendorf bei Hartberg",106000,41700,2800,27300,8500,3100,62268,"Grafendorf bei Hartberg",106000,6200,2400,400,1100,2300]
[62269,"Großwilfersdorf",111000,22900,19300,0,3600,0,62269,"Großwilfersdorf",111000,3600,1700,0,1300,500,62269,"Großwilfersdorf",111000,58800,4600,34700,14500,4900,62269,"Großwilfersdorf",111000,5100,2000,400,900,1900]
[62270,"Hartl",84300,20800,17500,0,3300,0,62270,"Hartl",84300,8300,4000,100,3100,1200,62270,"Hartl",84300,31300,1100,18500,6700,5000,62270,"Hartl",84300,4600,1800,300,800,1700]
[62271,"Ilz",107200,38000,31900,0,6100,0,62271,"Ilz",107200,7500,3600,100,2800,1100,62271,"Ilz",107200,25800,7500,6600,10200,1500,62271,"Ilz",107200,5700,2200,400,1000,2100]
[62272,"Kaindorf",75600,26200,21900,0,4400,0,62272,"Kaindorf",75600,4200,2000,0,1500,600,62272,"Kaindorf",75600,20300,1600,10500,6300,1800,62272,"Kaindorf",75600,4300,1600,300,700,1600]
[62273,"Bad Loipersdorf",42100,17900,15100,0,2800,0,62273,"Bad Loipersdorf",42100,5700,2700,0,2100,800,62273,"Bad Loipersdorf",42100,2400,300,900,1000,300,62273,"Bad Loipersdorf",42100,3000,1200,200,500,1100]
[62274,"Neudau",28000,13500,11400,0,2100,0,62274,"Neudau",28000,2200,1100,0,800,300,62274,"Neudau",28000,2000,200,800,800,200,62274,"Neudau",28000,1200,400,100,200,400]
[62275,"Pöllau",145000,56800,48200,0,8600,0,62275,"Pöllau",145000,8400,4000,100,3100,1200,62275,"Pöllau",145000,27100,2600,10400,10300,3800,62275,"Pöllau",145000,11000,4200,800,1900,4100]
[62276,"Rohr bei Hartberg",29300,15100,12700,0,2400,0,62276,"Rohr bei Hartberg",29300,1700,800,0,600,200,62276,"Rohr bei Hartberg",29300,500,0,100,200,100,62276,"Rohr bei Hartberg",29300,3200,1200,200,500,1200]
[62277,"Rohrbach an der Lafnitz",85800,27200,23100,0,4100,0,62277,"Rohrbach an der Lafnitz",85800,3200,1500,0,1200,500,62277,"Rohrbach an der Lafnitz",85800,33000,3600,15200,10800,3400,62277,"Rohrbach an der Lafnitz",85800,3000,1200,200,500,1100]
[62278,"Vorau",111000,49000,42300,0,6600,0,62278,"Vorau",111000,6900,3300,100,2500,1000,62278,"Vorau",111000,13900,1400,6100,4900,1500,62278,"Vorau",111000,9900,3800,700,1700,3700]
[62279,"Waldbach-Mönichwald",36600,18800,16500,0,2300,0,62279,"Waldbach-Mönichwald",36600,1500,700,0,600,200,62279,"Waldbach-Mönichwald",36600,2600,300,1100,900,300,62279,"Waldbach-Mönichwald",36600,4200,1600,300,700,1600]
[62311,"Edelsbach bei Feldbach",38600,11700,9900,0,1800,0,62311,"Edelsbach bei Feldbach",38600,800,400,0,300,100,62311,"Edelsbach bei Feldbach",38600,14600,900,8400,4100,1100,62311,"Edelsbach bei Feldbach",38600,2200,800,200,400,800]
[62314,"Eichkögl",22700,12000,9900,0,2000,0,62314,"Eichkögl",22700,1000,500,0,400,100,62314,"Eichkögl",22700,200,0,0,100,0,62314,"Eichkögl",22700,2000,700,100,300,700]
[62326,"Halbenrain",48500,17400,14800,0,2600,0,62326,"Halbenrain",48500,3800,1800,0,1400,500,62326,"Halbenrain",48500,8700,400,5300,1900,1100,62326,"Halbenrain",48500,6000,2300,400,1000,2200]
[62330,"Jagerberg",35700,14600,12300,0,2300,0,62330,"Jagerberg",35700,1600,800,0,600,200,62330,"Jagerberg",35700,4700,400,2200,1600,500,62330,"Jagerberg",35700,3800,1500,300,700,1400]
[62332,"Kapfenstein",31900,13900,11800,0,2100,0,62332,"Kapfenstein",31900,1400,700,0,500,200,62332,"Kapfenstein",31900,3900,800,1200,1600,300,62332,"Kapfenstein",31900,3500,1300,300,600,1300]
[62335,"Klöch",67400,13200,11100,0,2100,0,62335,"Klöch",67400,1500,700,0,600,200,62335,"Klöch",67400,35400,1100,21700,7000,5600,62335,"Klöch",67400,2800,1100,200,500,1000]
[62343,"Mettersdorf am Saßbach",46400,12000,10100,0,1900,0,62343,"Mettersdorf am Saßbach",46400,1200,600,0,400,200,62343,"Mettersdorf am Saßbach",46400,19400,2100,8500,6800,2000,62343,"Mettersdorf am Saßbach",46400,2800,1100,200,500,1000]
[62368,"Tieschen",23400,12200,10400,0,1900,0,62368,"Tieschen",23400,800,400,0,300,100,62368,"Tieschen",23400,100,0,0,100,0,62368,"Tieschen",23400,3000,1100,200,500,1100]
[62372,"Unterlamm",22600,11000,9300,0,1800,0,62372,"Unterlamm",22600,800,400,0,300,100,62372,"Unterlamm",22600,1300,100,300,600,300,62372,"Unterlamm",22600,2400,900,200,400,900]
[62375,"Bad Gleichenberg",136200,50500,42300,0,8200,0,62375,"Bad Gleichenberg",136200,14700,7000,100,5400,2100,62375,"Bad Gleichenberg",136200,21700,2900,7400,8400,2900,62375,"Bad Gleichenberg",136200,3800,1400,300,700,1400]
[62376,"Bad Radkersburg",97000,32400,27200,0,5300,0,62376,"Bad Radkersburg",97000,22100,10600,200,8200,3200,62376,"Bad Radkersburg",97000,8600,900,4100,2800,900,62376,"Bad Radkersburg",97000,4900,1900,400,800,1800]
[62377,"Deutsch Goritz",48900,18900,16000,0,2900,0,62377,"Deutsch Goritz",48900,3000,1500,0,1100,400,62377,"Deutsch Goritz",48900,9000,900,3800,3200,1100,62377,"Deutsch Goritz",48900,4500,1700,300,800,1700]
[62378,"Fehring",182200,71700,60400,0,11200,0,62378,"Fehring",182200,17600,8400,100,6500,2500,62378,"Fehring",182200,32300,5100,13500,11300,2500,62378,"Fehring",182200,12500,4800,900,2200,4700]
[62379,"Feldbach",427000,112800,93900,0,18800,0,62379,"Feldbach",427000,55400,26500,500,20500,7900,62379,"Feldbach",427000,127700,8300,68900,40200,10300,62379,"Feldbach",427000,8400,3200,600,1400,3100]
[62380,"Gnas",128100,52700,44500,0,8200,0,62380,"Gnas",128100,7500,3600,100,2800,1100,62380,"Gnas",128100,15200,1300,7200,5000,1700,62380,"Gnas",128100,12100,4600,900,2100,4500]
[62381,"Kirchbach-Zerlach",135600,30100,25300,0,4800,0,62381,"Kirchbach-Zerlach",135600,4800,2300,0,1800,700,62381,"Kirchbach-Zerlach",135600,72500,5000,50100,12900,4400,62381,"Kirchbach-Zerlach",135600,5400,2100,400,900,2000]
[62382,"Kirchberg an der Raab",120300,42900,35800,0,7000,0,62382,"Kirchberg an der Raab",120300,7600,3600,100,2800,1100,62382,"Kirchberg an der Raab",120300,35000,1600,24400,8100,1000,62382,"Kirchberg an der Raab",120300,6100,2300,400,1000,2300]
[62383,"Mureck",80200,36800,31300,0,5500,0,62383,"Mureck",80200,5900,2800,0,2200,800,62383,"Mureck",80200,7900,800,3000,3000,1000,62383,"Mureck",80200,5600,2100,400,1000,2100]
[62384,"Paldau",60300,27600,23100,0,4500,0,62384,"Paldau",60300,3800,1800,0,1400,500,62384,"Paldau",60300,3300,300,1400,1200,400,62384,"Paldau",60300,5600,2100,400,1000,2100]
[62385,"Pirching am Traubenberg",46400,22900,19100,0,3800,0,62385,"Pirching am Traubenberg",46400,1500,700,0,600,200,62385,"Pirching am Traubenberg",46400,2800,400,1100,1100,300,62385,"Pirching am Traubenberg",46400,4100,1600,300,700,1500]
[62386,"Riegersburg",123100,47300,39700,0,7500,0,62386,"Riegersburg",123100,5400,2600,0,2000,800,62386,"Riegersburg",123100,26600,2100,14200,8000,2200,62386,"Riegersburg",123100,10400,4000,700,1800,3900]
[62387,"Sankt Anna am Aigen",57800,21200,17800,0,3400,0,62387,"Sankt Anna am Aigen",57800,2000,900,0,700,300,62387,"Sankt Anna am Aigen",57800,13100,600,7300,3100,2100,62387,"Sankt Anna am Aigen",57800,5200,2000,400,900,2000]
[62388,"Sankt Peter am Ottersbach",63900,28300,24000,0,4400,0,62388,"Sankt Peter am Ottersbach",63900,4300,2100,0,1600,600,62388,"Sankt Peter am Ottersbach",63900,2900,200,1300,1000,300,62388,"Sankt Peter am Ottersbach",63900,6200,2400,400,1100,2300]
[62389,"Sankt Stefan im Rosental",93200,34800,29200,0,5600,0,62389,"Sankt Stefan im Rosental",93200,7500,3600,100,2800,1100,62389,"Sankt Stefan im Rosental",93200,18700,2400,7600,6900,1900,62389,"Sankt Stefan im Rosental",93200,5800,2200,400,1000,2200]
[62390,"Straden",84600,39600,33500,0,6100,0,62390,"Straden",84600,4900,2300,0,1800,700,62390,"Straden",84600,8300,800,3800,2700,1000,62390,"Straden",84600,8800,3400,600,1500,3300]
[70101,"Innsbruck",3188000,890900,728700,0,162200,0,70101,"Innsbruck",3188000,928300,545400,39100,270700,73200,70101,"Innsbruck",3188000,303800,41500,107400,125600,29300,70101,"Innsbruck",3188000,2700,900,300,400,1100]
[70201,"Arzl im Pitztal",62200,31500,27100,0,4400,0,70201,"Arzl im Pitztal",62200,5000,2900,200,1500,400,70201,"Arzl im Pitztal",62200,6700,700,900,3500,1600,70201,"Arzl im Pitztal",62200,1700,600,200,300,700]
[70202,"Haiming",130200,41000,34600,0,6400,0,70202,"Haiming",130200,34300,20100,1400,10000,2700,70202,"Haiming",130200,17900,1800,4700,8500,3000,70202,"Haiming",130200,1700,600,200,300,700]
[70203,"Imst",393800,89500,75200,0,14300,0,70203,"Imst",393800,54700,32100,2300,15900,4300,70203,"Imst",393800,156900,28400,60300,54100,14100,70203,"Imst",393800,2600,900,300,400,1000]
[70204,"Imsterberg",17900,8700,7600,0,1100,0,70204,"Imsterberg",17900,700,400,0,200,100,70204,"Imsterberg",17900,3800,700,1500,1300,300,70204,"Imsterberg",17900,600,200,100,100,300]
[70205,"Jerzens",23400,10400,9100,0,1300,0,70205,"Jerzens",23400,4300,2500,200,1200,300,70205,"Jerzens",23400,1300,200,400,500,100,70205,"Jerzens",23400,800,300,100,100,300]
[70206,"Karres",10500,6000,5200,0,900,0,70206,"Karres",10500,400,300,0,100,0,70206,"Karres",10500,600,100,100,300,100,70206,"Karres",10500,300,100,0,0,100]
[70207,"Karrösten",19900,7800,6700,0,1100,0,70207,"Karrösten",19900,900,600,0,300,100,70207,"Karrösten",19900,7200,1400,3100,2300,500,70207,"Karrösten",19900,200,100,0,0,100]
[70208,"Längenfeld",147500,46800,40100,0,6800,0,70208,"Längenfeld",147500,15600,9200,700,4500,1200,70208,"Längenfeld",147500,40800,2500,16800,14700,6800,70208,"Längenfeld",147500,3400,1100,300,600,1400]
[70209,"Mieming",76600,37800,31500,0,6200,0,70209,"Mieming",76600,10500,6200,400,3100,800,70209,"Mieming",76600,3200,400,600,1600,500,70209,"Mieming",76600,2200,700,200,400,900]
[70210,"Mils bei Imst",20600,6200,5400,0,800,0,70210,"Mils bei Imst",20600,2300,1400,100,700,200,70210,"Mils bei Imst",20600,6500,900,2300,2400,800,70210,"Mils bei Imst",20600,100,0,0,0,100]
[70211,"Mötz",21200,12400,10400,0,2000,0,70211,"Mötz",21200,1300,700,100,400,100,70211,"Mötz",21200,100,0,0,100,0,70211,"Mötz",21200,300,100,0,0,100]
[70212,"Nassereith",43700,21600,18700,0,3000,0,70212,"Nassereith",43700,2700,1600,100,800,200,70212,"Nassereith",43700,4700,300,2100,1600,600,70212,"Nassereith",43700,2100,700,200,300,900]
[70213,"Obsteig",25900,13400,11300,0,2000,0,70213,"Obsteig",25900,2600,1500,100,800,200,70213,"Obsteig",25900,800,100,300,300,100,70213,"Obsteig",25900,1500,500,100,200,600]
[70214,"Oetz",60500,22800,19600,0,3200,0,70214,"Oetz",60500,8300,4900,300,2400,700,70214,"Oetz",60500,11400,1000,2600,5400,2500,70214,"Oetz",60500,1000,300,100,200,400]
[70215,"Rietz",60900,19800,16400,0,3400,0,70215,"Rietz",60900,10500,6200,400,3100,800,70215,"Rietz",60900,14900,900,7900,5800,400,70215,"Rietz",60900,800,300,100,100,300]
[70216,"Roppen",47200,17200,14600,0,2600,0,70216,"Roppen",47200,2400,1400,100,700,200,70216,"Roppen",47200,15000,2900,3100,7500,1400,70216,"Roppen",47200,800,300,100,100,300]
[70217,"St. Leonhard im Pitztal",39000,16600,14600,0,1900,0,70217,"St. Leonhard im Pitztal",39000,9300,5500,400,2700,700,70217,"St. Leonhard im Pitztal",39000,200,0,100,100,0,70217,"St. Leonhard im Pitztal",39000,2200,700,200,400,900]
[70218,"Sautens",27600,16000,13600,0,2400,0,70218,"Sautens",27600,2300,1300,100,700,200,70218,"Sautens",27600,400,0,0,200,100,70218,"Sautens",27600,400,100,0,100,200]
[70219,"Silz",67300,22500,19000,0,3500,0,70219,"Silz",67300,7000,4100,300,2000,600,70219,"Silz",67300,18700,3200,7800,6000,1800,70219,"Silz",67300,1800,600,200,300,700]
[70220,"Sölden",122400,34900,30600,0,4300,0,70220,"Sölden",122400,42400,24900,1800,12400,3300,70220,"Sölden",122400,3700,400,1100,1600,700,70220,"Sölden",122400,5500,1900,600,900,2200]
[70221,"Stams",36100,12800,10600,0,2200,0,70221,"Stams",36100,5800,3400,200,1700,500,70221,"Stams",36100,3000,300,200,1700,800,70221,"Stams",36100,1100,400,100,200,500]
[70222,"Tarrenz",54000,30800,26600,0,4200,0,70222,"Tarrenz",54000,3700,2200,200,1100,300,70222,"Tarrenz",54000,1900,200,500,900,300,70222,"Tarrenz",54000,2300,800,200,400,900]
[70223,"Umhausen",67000,31200,26700,0,4500,0,70223,"Umhausen",67000,6000,3500,300,1700,500,70223,"Umhausen",67000,7600,900,1400,3900,1300,70223,"Umhausen",67000,3000,1000,300,500,1200]
[70224,"Wenns",40900,21400,18600,0,2800,0,70224,"Wenns",40900,3200,1900,100,900,300,70224,"Wenns",40900,2900,500,900,1200,300,70224,"Wenns",40900,1800,600,200,300,700]
[70301,"Absam",171100,56200,46400,0,9800,0,70301,"Absam",171100,16000,9400,700,4700,1300,70301,"Absam",171100,57200,7900,23200,24200,2000,70301,"Absam",171100,1100,400,100,200,400]
[70302,"Aldrans",43600,23100,19100,0,4000,0,70302,"Aldrans",43600,4400,2600,200,1300,300,70302,"Aldrans",43600,1400,200,400,600,200,70302,"Aldrans",43600,600,200,100,100,300]
[70303,"Ampass",27700,13800,11400,0,2400,0,70303,"Ampass",27700,2500,1500,100,700,200,70303,"Ampass",27700,1900,200,100,1100,500,70303,"Ampass",27700,600,200,100,100,200]
[70304,"Axams",107400,55600,46900,0,8700,0,70304,"Axams",107400,10000,5900,400,2900,800,70304,"Axams",107400,7500,1300,2400,2900,1000,70304,"Axams",107400,1000,300,100,200,400]
[70305,"Baumkirchen",17600,9600,7900,0,1700,0,70305,"Baumkirchen",17600,800,500,0,200,100,70305,"Baumkirchen",17600,700,100,200,300,100,70305,"Baumkirchen",17600,300,100,0,100,100]
[70306,"Birgitz",22500,12700,10700,0,2000,0,70306,"Birgitz",22500,2000,1200,100,600,200,70306,"Birgitz",22500,400,0,100,200,100,70306,"Birgitz",22500,400,100,0,100,200]
[70307,"Ellbögen",21000,12200,10500,0,1700,0,70307,"Ellbögen",21000,1000,600,0,300,100,70307,"Ellbögen",21000,400,100,100,200,0,70307,"Ellbögen",21000,1500,500,200,300,600]
[70308,"Flaurling",26400,11800,9900,0,1800,0,70308,"Flaurling",26400,1500,900,100,400,100,70308,"Flaurling",26400,5200,800,1800,1900,700,70308,"Flaurling",26400,800,300,100,100,300]
[70309,"Fritzens",35900,17700,14600,0,3100,0,70309,"Fritzens",35900,5000,2900,200,1400,400,70309,"Fritzens",35900,1100,200,400,400,100,70309,"Fritzens",35900,500,200,100,100,200]
[70310,"Fulpmes",111100,35900,30400,0,5500,0,70310,"Fulpmes",111100,11600,6800,500,3400,900,70310,"Fulpmes",111100,35200,5300,18600,9500,1800,70310,"Fulpmes",111100,700,200,100,100,300]
[70311,"Gnadenwald",17800,8700,7300,0,1400,0,70311,"Gnadenwald",17800,1500,900,100,400,100,70311,"Gnadenwald",17800,1700,200,500,700,200,70311,"Gnadenwald",17800,700,200,100,100,300]
[70312,"Götzens",76000,36800,30900,0,5900,0,70312,"Götzens",76000,4800,2800,200,1400,400,70312,"Götzens",76000,12700,2900,3800,4900,1100,70312,"Götzens",76000,600,200,100,100,200]
[70313,"Gries am Brenner",42000,15100,13300,0,1800,0,70313,"Gries am Brenner",42000,2500,1500,100,700,200,70313,"Gries am Brenner",42000,10500,500,4800,3500,1700,70313,"Gries am Brenner",42000,3000,1000,300,500,1200]
[70314,"Gries im Sellrain",11600,6500,5600,0,900,0,70314,"Gries im Sellrain",11600,700,400,0,200,100,70314,"Gries im Sellrain",11600,400,0,0,200,100,70314,"Gries im Sellrain",11600,600,200,100,100,300]
[70315,"Grinzens",23100,13400,11400,0,2000,0,70315,"Grinzens",23100,1500,900,100,400,100,70315,"Grinzens",23100,400,0,100,200,100,70315,"Grinzens",23100,800,300,100,100,300]
[70317,"Gschnitz",11600,7000,6200,0,800,0,70317,"Gschnitz",11600,500,300,0,100,0,70317,"Gschnitz",11600,700,100,200,300,100,70317,"Gschnitz",11600,900,300,100,100,400]
[70318,"Hatting",21500,11200,9300,0,1900,0,70318,"Hatting",21500,1300,800,100,400,100,70318,"Hatting",21500,1100,200,300,400,200,70318,"Hatting",21500,400,100,0,100,200]
[70319,"Inzing",82900,33400,28000,0,5500,0,70319,"Inzing",82900,11700,6900,500,3400,900,70319,"Inzing",82900,13200,1800,1800,6800,2700,70319,"Inzing",82900,900,300,100,200,400]
[70320,"Kematen in Tirol",89000,22100,18200,0,3900,0,70320,"Kematen in Tirol",89000,7100,4200,300,2100,600,70320,"Kematen in Tirol",89000,34200,4900,6100,17700,5600,70320,"Kematen in Tirol",89000,1000,300,100,200,400]
[70322,"Kolsass",34700,13400,11200,0,2200,0,70322,"Kolsass",34700,3000,1800,100,900,200,70322,"Kolsass",34700,8100,1500,2800,3000,800,70322,"Kolsass",34700,500,200,0,100,200]
[70323,"Kolsassberg",14900,8400,7100,0,1300,0,70323,"Kolsassberg",14900,900,500,0,200,100,70323,"Kolsassberg",14900,200,0,0,100,0,70323,"Kolsassberg",14900,1300,400,100,200,500]
[70325,"Lans",26200,11000,9200,0,1800,0,70325,"Lans",26200,6300,3700,300,1800,500,70325,"Lans",26200,1000,200,400,400,100,70325,"Lans",26200,300,100,0,100,100]
[70326,"Leutasch",59600,28900,25200,0,3700,0,70326,"Leutasch",59600,6700,3900,300,1900,500,70326,"Leutasch",59600,5500,1000,2200,1800,500,70326,"Leutasch",59600,3300,1100,300,500,1300]
[70328,"Mieders",47600,17400,14800,0,2600,0,70328,"Mieders",47600,4800,2800,200,1400,400,70328,"Mieders",47600,12000,3200,3200,4500,1100,70328,"Mieders",47600,800,300,100,100,300]
[70329,"Mils",90000,36600,30200,0,6400,0,70329,"Mils",90000,15400,9000,600,4500,1200,70329,"Mils",90000,10500,1700,1900,5200,1600,70329,"Mils",90000,500,200,100,100,200]
[70331,"Mutters",41900,20100,17100,0,3100,0,70331,"Mutters",41900,6200,3600,300,1800,500,70331,"Mutters",41900,1500,200,400,700,200,70331,"Mutters",41900,900,300,100,200,400]
[70332,"Natters",38800,19200,16100,0,3000,0,70332,"Natters",38800,6400,3800,300,1900,500,70332,"Natters",38800,900,100,100,500,100,70332,"Natters",38800,600,200,100,100,200]
[70333,"Navis",50500,24600,21700,0,3000,0,70333,"Navis",50500,1500,900,100,400,100,70333,"Navis",50500,10300,2200,2700,4300,1100,70333,"Navis",50500,2700,900,300,400,1100]
[70334,"Neustift im Stubaital",112600,43000,36700,0,6300,0,70334,"Neustift im Stubaital",112600,25800,15200,1100,7500,2000,70334,"Neustift im Stubaital",112600,5500,900,1600,2200,700,70334,"Neustift im Stubaital",112600,4200,1400,400,700,1700]
[70335,"Oberhofen im Inntal",50300,15000,12400,0,2600,0,70335,"Oberhofen im Inntal",50300,1600,900,100,500,100,70335,"Oberhofen im Inntal",50300,20300,3100,7800,7600,1800,70335,"Oberhofen im Inntal",50300,1100,400,100,200,400]
[70336,"Obernberg am Brenner",9500,5100,4500,0,600,0,70336,"Obernberg am Brenner",9500,500,300,0,100,0,70336,"Obernberg am Brenner",9500,100,0,0,0,0,70336,"Obernberg am Brenner",9500,1800,600,200,300,700]
[70337,"Oberperfuss",51400,28700,24100,0,4600,0,70337,"Oberperfuss",51400,4100,2400,200,1200,300,70337,"Oberperfuss",51400,1700,300,400,800,300,70337,"Oberperfuss",51400,1000,400,100,200,400]
[70338,"Patsch",20800,10300,8800,0,1500,0,70338,"Patsch",20800,1300,800,100,400,100,70338,"Patsch",20800,2700,400,1100,1000,200,70338,"Patsch",20800,700,200,100,100,300]
[70339,"Pettnau",19200,9800,8200,0,1600,0,70339,"Pettnau",19200,1800,1100,100,500,100,70339,"Pettnau",19200,900,200,300,400,100,70339,"Pettnau",19200,600,200,100,100,200]
[70340,"Pfaffenhofen",34100,9500,7900,0,1600,0,70340,"Pfaffenhofen",34100,6500,3800,300,1900,500,70340,"Pfaffenhofen",34100,10600,700,5200,4300,400,70340,"Pfaffenhofen",34100,200,100,0,0,100]
[70342,"Polling in Tirol",22400,8500,7000,0,1500,0,70342,"Polling in Tirol",22400,3000,1800,100,900,200,70342,"Polling in Tirol",22400,2500,400,400,1300,500,70342,"Polling in Tirol",22400,400,100,0,100,100]
[70343,"Ranggen",18700,9800,8200,0,1600,0,70343,"Ranggen",18700,1200,700,0,300,100,70343,"Ranggen",18700,1100,100,400,400,200,70343,"Ranggen",18700,500,200,0,100,200]
[70344,"Reith bei Seefeld",30300,15400,13300,0,2100,0,70344,"Reith bei Seefeld",30300,3400,2000,100,1000,300,70344,"Reith bei Seefeld",30300,2900,300,1000,1300,200,70344,"Reith bei Seefeld",30300,800,300,100,100,300]
[70345,"Rinn",31500,16600,13800,0,2800,0,70345,"Rinn",31500,2800,1600,100,800,200,70345,"Rinn",31500,1000,200,200,500,200,70345,"Rinn",31500,700,200,100,100,300]
[70346,"Rum",166900,61600,50200,0,11400,0,70346,"Rum",166900,35800,21100,1500,10400,2800,70346,"Rum",166900,10200,1500,3000,4600,1200,70346,"Rum",166900,200,100,0,0,100]
[70347,"St. Sigmund im Sellrain",5100,2400,2100,0,300,0,70347,"St. Sigmund im Sellrain",5100,300,200,0,100,0,70347,"St. Sigmund im Sellrain",5100,0,0,0,0,0,70347,"St. Sigmund im Sellrain",5100,1200,400,100,200,500]
[70348,"Scharnitz",28700,16300,14200,0,2100,0,70348,"Scharnitz",28700,1700,1000,100,500,100,70348,"Scharnitz",28700,1500,100,500,600,300,70348,"Scharnitz",28700,2000,700,200,300,800]
[70349,"Schmirn",17400,10300,9200,0,1100,0,70349,"Schmirn",17400,400,200,0,100,0,70349,"Schmirn",17400,300,100,100,100,0,70349,"Schmirn",17400,1600,500,200,300,600]
[70350,"Schönberg im Stubaital",27000,12600,11000,0,1700,0,70350,"Schönberg im Stubaital",27000,5600,3300,200,1600,400,70350,"Schönberg im Stubaital",27000,1300,200,500,500,100,70350,"Schönberg im Stubaital",27000,400,100,0,100,200]
[70351,"Seefeld in Tirol",87100,38400,33500,0,4900,0,70351,"Seefeld in Tirol",87100,22500,13200,900,6600,1800,70351,"Seefeld in Tirol",87100,1000,100,200,500,100,70351,"Seefeld in Tirol",87100,400,100,0,100,200]
[70352,"Sellrain",24300,14300,12300,0,2000,0,70352,"Sellrain",24300,1000,600,0,300,100,70352,"Sellrain",24300,600,100,200,300,100,70352,"Sellrain",24300,1500,500,200,200,600]
[70353,"Sistrans",39100,22200,18600,0,3500,0,70353,"Sistrans",39100,3500,2100,100,1000,300,70353,"Sistrans",39100,1000,200,200,400,100,70353,"Sistrans",39100,700,200,100,100,300]
[70354,"Hall in Tirol",533600,89600,73300,0,16200,0,70354,"Hall in Tirol",533600,91100,53500,3800,26600,7200,70354,"Hall in Tirol",533600,234500,18500,138000,67700,10300,70354,"Hall in Tirol",533600,300,100,0,0,100]
[70355,"Steinach am Brenner",87300,34700,29800,0,5000,0,70355,"Steinach am Brenner",87300,12700,7400,500,3700,1000,70355,"Steinach am Brenner",87300,15900,2900,6000,5500,1500,70355,"Steinach am Brenner",87300,1300,400,100,200,500]
[70356,"Telfes im Stubai",30400,17100,14600,0,2400,0,70356,"Telfes im Stubai",30400,2800,1600,100,800,200,70356,"Telfes im Stubai",30400,800,200,200,300,100,70356,"Telfes im Stubai",30400,900,300,100,200,400]
[70357,"Telfs",555700,110300,90400,0,19900,0,70357,"Telfs",555700,40900,24100,1700,11900,3200,70357,"Telfs",555700,294500,18100,152500,116000,7900,70357,"Telfs",555700,1600,500,200,300,600]
[70358,"Thaur",76200,34300,28300,0,6000,0,70358,"Thaur",76200,10600,6200,400,3100,800,70358,"Thaur",76200,7200,1000,1400,3600,1200,70358,"Thaur",76200,800,300,100,100,300]
[70359,"Trins",27000,15300,13300,0,1900,0,70359,"Trins",27000,1200,700,100,300,100,70359,"Trins",27000,500,100,100,200,100,70359,"Trins",27000,2100,700,200,300,800]
[70360,"Tulfes",28500,14800,12500,0,2300,0,70360,"Tulfes",28500,2100,1300,100,600,200,70360,"Tulfes",28500,1800,200,300,900,400,70360,"Tulfes",28500,1300,400,100,200,500]
[70361,"Unterperfuss",4300,1600,1300,0,300,0,70361,"Unterperfuss",4300,900,600,0,300,100,70361,"Unterperfuss",4300,100,0,0,0,0,70361,"Unterperfuss",4300,200,100,0,0,100]
[70362,"Vals",11400,5800,5100,0,700,0,70362,"Vals",11400,400,200,0,100,0,70362,"Vals",11400,500,100,200,200,0,70362,"Vals",11400,1500,500,200,200,600]
[70364,"Völs",127500,50900,42200,0,8700,0,70364,"Völs",127500,24300,14300,1000,7100,1900,70364,"Völs",127500,3800,500,800,1800,700,70364,"Völs",127500,300,100,0,0,100]
[70365,"Volders",72100,34900,28700,0,6100,0,70365,"Volders",72100,5500,3200,200,1600,400,70365,"Volders",72100,6700,1000,2000,2900,800,70365,"Volders",72100,1600,500,200,300,700]
[70366,"Wattenberg",17900,7300,6200,0,1200,0,70366,"Wattenberg",17900,3000,1800,100,900,200,70366,"Wattenberg",17900,700,100,200,300,100,70366,"Wattenberg",17900,1800,600,200,300,700]
[70367,"Wattens",709000,57900,47500,0,10400,0,70367,"Wattens",709000,24900,14600,1000,7200,2000,70367,"Wattens",709000,480900,16000,295000,130500,39400,70367,"Wattens",709000,600,200,100,100,200]
[70368,"Wildermieming",18700,9600,8200,0,1400,0,70368,"Wildermieming",18700,1100,600,0,300,100,70368,"Wildermieming",18700,1700,400,400,700,200,70368,"Wildermieming",18700,1000,300,100,200,400]
[70369,"Zirl",194500,59900,49200,0,10700,0,70369,"Zirl",194500,22500,13200,900,6600,1800,70369,"Zirl",194500,52100,2400,19800,20600,9400,70369,"Zirl",194500,1500,500,100,200,600]
[70370,"Matrei am Brenner",71200,33000,28400,0,4700,0,70370,"Matrei am Brenner",71200,6300,3700,300,1800,500,70370,"Matrei am Brenner",71200,8400,1700,2800,3100,700,70370,"Matrei am Brenner",71200,2900,1000,300,500,1200]
[70401,"Aurach bei Kitzbühel",36200,18800,16100,0,2700,0,70401,"Aurach bei Kitzbühel",36200,2300,1300,100,700,200,70401,"Aurach bei Kitzbühel",36200,5200,500,900,2600,1200,70401,"Aurach bei Kitzbühel",36200,2300,800,200,400,900]
[70402,"Brixen im Thale",82400,29800,25200,0,4600,0,70402,"Brixen im Thale",82400,6000,3500,300,1800,500,70402,"Brixen im Thale",82400,24100,1300,10400,8500,3900,70402,"Brixen im Thale",82400,2600,900,300,400,1000]
[70403,"Fieberbrunn",138700,49300,42600,0,6800,0,70403,"Fieberbrunn",138700,14100,8300,600,4100,1100,70403,"Fieberbrunn",138700,42800,3300,18000,19700,1700,70403,"Fieberbrunn",138700,4100,1400,400,700,1600]
[70404,"Going am Wilden Kaiser",45100,22500,19000,0,3500,0,70404,"Going am Wilden Kaiser",45100,7200,4200,300,2100,600,70404,"Going am Wilden Kaiser",45100,2600,400,500,1300,500,70404,"Going am Wilden Kaiser",45100,1600,500,200,300,600]
[70405,"Hochfilzen",79100,13500,11700,0,1800,0,70405,"Hochfilzen",79100,6800,4000,300,2000,500,70405,"Hochfilzen",79100,47900,1600,30000,11500,4800,70405,"Hochfilzen",79100,1400,500,100,200,600]
[70406,"Hopfgarten im Brixental",153500,59600,50900,0,8800,0,70406,"Hopfgarten im Brixental",153500,16400,9600,700,4800,1300,70406,"Hopfgarten im Brixental",153500,36500,6300,12800,13500,3800,70406,"Hopfgarten im Brixental",153500,6600,2200,700,1100,2600]
[70407,"Itter",28600,12600,10800,0,1900,0,70407,"Itter",28600,3400,2000,100,1000,300,70407,"Itter",28600,4100,400,1300,1700,600,70407,"Itter",28600,1000,300,100,200,400]
[70408,"Jochberg",42300,23400,20200,0,3200,0,70408,"Jochberg",42300,5400,3200,200,1600,400,70408,"Jochberg",42300,1300,200,300,700,200,70408,"Jochberg",42300,2600,900,300,400,1000]
[70409,"Kirchberg in Tirol",132500,72900,61100,0,11800,0,70409,"Kirchberg in Tirol",132500,16500,9700,700,4800,1300,70409,"Kirchberg in Tirol",132500,7200,800,1600,3400,1400,70409,"Kirchberg in Tirol",132500,5000,1700,500,800,2000]
[70410,"Kirchdorf in Tirol",116200,41100,35200,0,5800,0,70410,"Kirchdorf in Tirol",116200,13800,8100,600,4000,1100,70410,"Kirchdorf in Tirol",116200,30200,4800,9200,13200,3000,70410,"Kirchdorf in Tirol",116200,4800,1600,500,800,1900]
[70411,"Kitzbühel",288400,120800,102700,0,18100,0,70411,"Kitzbühel",288400,62100,36500,2600,18100,4900,70411,"Kitzbühel",288400,27600,2600,8100,12800,4200,70411,"Kitzbühel",288400,3100,1000,300,500,1200]
[70412,"Kössen",103100,44600,38200,0,6400,0,70412,"Kössen",103100,10300,6100,400,3000,800,70412,"Kössen",103100,15500,1400,5900,5900,2300,70412,"Kössen",103100,5100,1700,500,800,2000]
[70413,"Oberndorf in Tirol",90400,24200,20500,0,3700,0,70413,"Oberndorf in Tirol",90400,8000,4700,300,2300,600,70413,"Oberndorf in Tirol",90400,34400,1600,15200,12000,5600,70413,"Oberndorf in Tirol",90400,1800,600,200,300,700]
[70414,"Reith bei Kitzbühel",45800,26900,22600,0,4300,0,70414,"Reith bei Kitzbühel",45800,3500,2100,100,1000,300,70414,"Reith bei Kitzbühel",45800,3000,400,300,1700,600,70414,"Reith bei Kitzbühel",45800,1700,600,200,300,700]
[70415,"St. Jakob in Haus",18300,9200,7900,0,1300,0,70415,"St. Jakob in Haus",18300,1300,800,100,400,100,70415,"St. Jakob in Haus",18300,2400,500,1000,800,200,70415,"St. Jakob in Haus",18300,700,200,100,100,300]
[70416,"St. Johann in Tirol",410300,87000,73800,0,13100,0,70416,"St. Johann in Tirol",410300,45900,27000,1900,13400,3600,70416,"St. Johann in Tirol",410300,193200,36600,79700,61500,15500,70416,"St. Johann in Tirol",410300,4700,1600,500,800,1900]
[70417,"St. Ulrich am Pillersee",44900,20800,17800,0,3000,0,70417,"St. Ulrich am Pillersee",44900,3900,2300,200,1100,300,70417,"St. Ulrich am Pillersee",44900,7400,1300,2200,3200,700,70417,"St. Ulrich am Pillersee",44900,2000,700,200,300,800]
[70418,"Schwendt",20800,10900,9400,0,1400,0,70418,"Schwendt",20800,1000,600,0,300,100,70418,"Schwendt",20800,2500,500,1000,900,200,70418,"Schwendt",20800,1700,600,200,300,700]
[70419,"Waidring",48700,22300,19300,0,3000,0,70419,"Waidring",48700,5600,3300,200,1600,400,70419,"Waidring",48700,5900,1000,2000,2300,600,70419,"Waidring",48700,2100,700,200,300,800]
[70420,"Westendorf",80000,37900,32100,0,5800,0,70420,"Westendorf",80000,11000,6500,500,3200,900,70420,"Westendorf",80000,4700,600,1100,2100,800,70420,"Westendorf",80000,5000,1700,500,800,2000]
[70501,"Alpbach",62200,30400,26200,0,4200,0,70501,"Alpbach",62200,7800,4600,300,2300,600,70501,"Alpbach",62200,5300,800,1400,2200,800,70501,"Alpbach",62200,2700,900,300,400,1100]
[70502,"Angath",17500,8700,7300,0,1400,0,70502,"Angath",17500,1500,900,100,400,100,70502,"Angath",17500,1400,200,500,500,100,70502,"Angath",17500,400,100,0,100,200]
[70503,"Bad Häring",55800,24100,20400,0,3700,0,70503,"Bad Häring",55800,10900,6400,500,3200,900,70503,"Bad Häring",55800,2600,500,900,1000,300,70503,"Bad Häring",55800,700,200,100,100,300]
[70504,"Brandenberg",30100,15500,13400,0,2100,0,70504,"Brandenberg",30100,1500,900,100,400,100,70504,"Brandenberg",30100,200,0,100,100,0,70504,"Brandenberg",30100,3600,1200,400,600,1500]
[70505,"Breitenbach am Inn",62200,30300,25400,0,4900,0,70505,"Breitenbach am Inn",62200,2900,1700,100,800,200,70505,"Breitenbach am Inn",62200,7800,800,2300,3900,800,70505,"Breitenbach am Inn",62200,3000,1000,300,500,1200]
[70506,"Brixlegg",119100,25800,21600,0,4200,0,70506,"Brixlegg",119100,9700,5700,400,2800,800,70506,"Brixlegg",119100,57400,4600,26200,24500,2200,70506,"Brixlegg",119100,800,300,100,100,300]
[70508,"Ebbs",133200,49600,41700,0,7900,0,70508,"Ebbs",133200,14800,8700,600,4300,1200,70508,"Ebbs",133200,30700,5600,11100,11300,2700,70508,"Ebbs",133200,2700,900,300,400,1100]
[70509,"Ellmau",76600,33000,27800,0,5300,0,70509,"Ellmau",76600,16100,9400,700,4700,1300,70509,"Ellmau",76600,4500,600,1000,2100,800,70509,"Ellmau",76600,2000,700,200,300,800]
[70510,"Erl",35300,14900,12700,0,2200,0,70510,"Erl",35300,3500,2000,100,1000,300,70510,"Erl",35300,5400,800,1500,2500,500,70510,"Erl",35300,1600,500,200,300,600]
[70511,"Kirchbichl",179500,48600,40600,0,8000,0,70511,"Kirchbichl",179500,19500,11500,800,5700,1500,70511,"Kirchbichl",179500,71500,4300,39500,20000,7700,70511,"Kirchbichl",179500,1600,500,200,300,600]
[70512,"Kramsach",107800,43700,36400,0,7300,0,70512,"Kramsach",107800,17300,10100,700,5000,1400,70512,"Kramsach",107800,11600,1600,2200,5700,2100,70512,"Kramsach",107800,1400,500,100,200,500]
[70513,"Kufstein",456600,136900,112900,0,23900,0,70513,"Kufstein",456600,101500,59600,4300,29600,8000,70513,"Kufstein",456600,83600,11300,24100,37700,10500,70513,"Kufstein",456600,1000,300,100,200,400]
[70514,"Kundl",596600,37000,30600,0,6400,0,70514,"Kundl",596600,15800,9300,700,4600,1200,70514,"Kundl",596600,489500,41500,232900,201400,13800,70514,"Kundl",596600,1700,600,200,300,700]
[70515,"Langkampfen",315800,35500,29800,0,5700,0,70515,"Langkampfen",315800,6700,4000,300,2000,500,70515,"Langkampfen",315800,236000,20500,107700,101000,6800,70515,"Langkampfen",315800,1900,600,200,300,700]
[70516,"Mariastein",6800,3500,2900,0,600,0,70516,"Mariastein",6800,600,300,0,200,0,70516,"Mariastein",6800,300,0,100,100,0,70516,"Mariastein",6800,100,0,0,0,0]
[70517,"Münster",60200,27600,22700,0,4800,0,70517,"Münster",60200,5600,3300,200,1600,400,70517,"Münster",60200,6100,900,1800,2600,800,70517,"Münster",60200,1400,500,100,200,600]
[70518,"Niederndorf",56600,24900,20800,0,4100,0,70518,"Niederndorf",56600,4900,2900,200,1400,400,70518,"Niederndorf",56600,10000,2100,3400,3700,800,70518,"Niederndorf",56600,800,300,100,100,300]
[70519,"Niederndorferberg",16300,8900,7600,0,1300,0,70519,"Niederndorferberg",16300,500,300,0,100,0,70519,"Niederndorferberg",16300,1600,200,500,600,200,70519,"Niederndorferberg",16300,1700,600,200,300,700]
[70520,"Radfeld",60600,18900,15600,0,3400,0,70520,"Radfeld",60600,4200,2500,200,1200,300,70520,"Radfeld",60600,19500,3800,7400,6100,2100,70520,"Radfeld",60600,1300,400,100,200,500]
[70521,"Rattenberg",14600,4700,4000,0,600,0,70521,"Rattenberg",14600,2700,1600,100,800,200,70521,"Rattenberg",14600,2900,100,2100,500,200,70521,"Rattenberg",14600,0,0,0,0,0]
[70522,"Reith im Alpbachtal",56100,24700,20800,0,3900,0,70522,"Reith im Alpbachtal",56100,6500,3800,300,1900,500,70522,"Reith im Alpbachtal",56100,5800,800,1700,2500,800,70522,"Reith im Alpbachtal",56100,2400,800,200,400,900]
[70523,"Rettenschöss",10800,5600,4800,0,800,0,70523,"Rettenschöss",10800,600,300,0,200,0,70523,"Rettenschöss",10800,600,100,200,200,100,70523,"Rettenschöss",10800,1100,400,100,200,500]
[70524,"Scheffau am Wilden Kaiser",33500,15200,12900,0,2300,0,70524,"Scheffau am Wilden Kaiser",33500,5700,3300,200,1700,400,70524,"Scheffau am Wilden Kaiser",33500,1200,100,300,700,100,70524,"Scheffau am Wilden Kaiser",33500,1500,500,200,200,600]
[70525,"Schwoich",56000,24000,20200,0,3800,0,70525,"Schwoich",56000,4100,2400,200,1200,300,70525,"Schwoich",56000,11400,1800,2100,5500,2000,70525,"Schwoich",56000,1700,600,200,300,700]
[70526,"Söll",97400,35900,30400,0,5500,0,70526,"Söll",97400,12100,7100,500,3500,1000,70526,"Söll",97400,18100,800,7500,6500,3200,70526,"Söll",97400,3800,1300,400,600,1500]
[70527,"Thiersee",73000,33000,28100,0,4900,0,70527,"Thiersee",73000,5400,3200,200,1600,400,70527,"Thiersee",73000,10900,1100,4000,4200,1600,70527,"Thiersee",73000,4000,1300,400,600,1600]
[70528,"Angerberg",35200,19300,16300,0,3000,0,70528,"Angerberg",35200,2400,1400,100,700,200,70528,"Angerberg",35200,2300,400,900,800,200,70528,"Angerberg",35200,1700,600,200,300,700]
[70529,"Walchsee",45300,19800,16900,0,2900,0,70529,"Walchsee",45300,5600,3300,200,1600,400,70529,"Walchsee",45300,5900,500,1700,2600,1100,70529,"Walchsee",45300,2300,800,200,400,900]
[70530,"Wildschönau",91900,46300,39800,0,6600,0,70530,"Wildschönau",91900,10100,6000,400,3000,800,70530,"Wildschönau",91900,4500,700,1000,2100,700,70530,"Wildschönau",91900,5400,1800,500,900,2200]
[70531,"Wörgl",357300,95300,78200,0,17100,0,70531,"Wörgl",357300,80700,47400,3400,23500,6400,70531,"Wörgl",357300,77500,12000,28900,29300,7200,70531,"Wörgl",357300,1500,500,200,300,600]
[70601,"Faggen",6100,3500,2900,0,500,0,70601,"Faggen",6100,200,100,0,100,0,70601,"Faggen",6100,400,0,0,200,100,70601,"Faggen",6100,200,100,0,0,100]
[70602,"Fendels",6300,2900,2500,0,400,0,70602,"Fendels",6300,1100,600,0,300,100,70602,"Fendels",6300,100,0,0,0,0,70602,"Fendels",6300,500,200,0,100,200]
[70603,"Fiss",32600,9900,8500,0,1400,0,70603,"Fiss",32600,10800,6400,500,3200,900,70603,"Fiss",32600,1200,200,200,600,200,70603,"Fiss",32600,900,300,100,100,400]
[70604,"Fließ",57900,30000,25800,0,4100,0,70604,"Fließ",57900,2300,1400,100,700,200,70604,"Fließ",57900,6300,900,1400,2900,1000,70604,"Fließ",57900,2700,900,300,400,1100]
[70605,"Flirsch",17500,10100,8800,0,1300,0,70605,"Flirsch",17500,1300,700,100,400,100,70605,"Flirsch",17500,400,100,100,200,0,70605,"Flirsch",17500,500,200,100,100,200]
[70606,"Galtür",20700,9400,8400,0,1100,0,70606,"Galtür",20700,3100,1800,100,900,200,70606,"Galtür",20700,1800,300,600,600,200,70606,"Galtür",20700,1400,500,100,200,600]
[70607,"Grins",26900,13500,11500,0,2000,0,70607,"Grins",26900,2300,1300,100,700,200,70607,"Grins",26900,3100,300,100,1800,800,70607,"Grins",26900,700,200,100,100,300]
[70608,"Ischgl",51900,15100,13000,0,2100,0,70608,"Ischgl",51900,18200,10700,800,5300,1400,70608,"Ischgl",51900,1400,200,400,600,200,70608,"Ischgl",51900,1800,600,200,300,700]
[70609,"Kappl",55700,28500,24800,0,3700,0,70609,"Kappl",55700,5300,3100,200,1500,400,70609,"Kappl",55700,4600,600,700,2400,900,70609,"Kappl",55700,1900,700,200,300,800]
[70610,"Kaunerberg",9300,5500,4800,0,700,0,70610,"Kaunerberg",9300,400,200,0,100,0,70610,"Kaunerberg",9300,100,0,0,0,0,70610,"Kaunerberg",9300,1200,400,100,200,500]
[70611,"Kaunertal",18500,6700,5900,0,800,0,70611,"Kaunertal",18500,5100,3000,200,1500,400,70611,"Kaunertal",18500,200,0,0,100,0,70611,"Kaunertal",18500,1500,500,100,200,600]
[70612,"Kauns",8900,5200,4500,0,700,0,70612,"Kauns",8900,500,300,0,100,0,70612,"Kauns",8900,100,0,0,0,0,70612,"Kauns",8900,400,100,0,100,200]
[70613,"Ladis",12500,6400,5500,0,900,0,70613,"Ladis",12500,1900,1100,100,500,100,70613,"Ladis",12500,400,100,100,200,0,70613,"Ladis",12500,600,200,100,100,200]
[70614,"Landeck",280100,62600,52800,0,9800,0,70614,"Landeck",280100,46000,27000,1900,13400,3600,70614,"Landeck",280100,117200,8700,49600,54500,4500,70614,"Landeck",280100,600,200,100,100,200]
[70615,"Nauders",38100,17300,15300,0,2100,0,70615,"Nauders",38100,5300,3100,200,1500,400,70615,"Nauders",38100,2700,400,1000,1000,300,70615,"Nauders",38100,3100,1000,300,500,1200]
[70616,"Pettneu am Arlberg",29600,15900,13800,0,2100,0,70616,"Pettneu am Arlberg",29600,2400,1400,100,700,200,70616,"Pettneu am Arlberg",29600,1600,300,600,600,100,70616,"Pettneu am Arlberg",29600,900,300,100,100,400]
[70617,"Pfunds",148700,27300,23500,0,3800,0,70617,"Pfunds",148700,3900,2300,200,1100,300,70617,"Pfunds",148700,78100,2100,35100,27000,14000,70617,"Pfunds",148700,3900,1300,400,600,1600]
[70618,"Pians",28800,7200,6200,0,1000,0,70618,"Pians",28800,1500,900,100,400,100,70618,"Pians",28800,13300,2200,5300,4800,1000,70618,"Pians",28800,200,100,0,0,100]
[70619,"Prutz",52400,17800,15000,0,2800,0,70619,"Prutz",52400,4500,2600,200,1300,400,70619,"Prutz",52400,17500,3200,7100,5600,1500,70619,"Prutz",52400,500,200,100,100,200]
[70620,"Ried im Oberinntal",30900,11300,9600,0,1800,0,70620,"Ried im Oberinntal",30900,5200,3100,200,1500,400,70620,"Ried im Oberinntal",30900,4600,600,800,2300,1000,70620,"Ried im Oberinntal",30900,700,200,100,100,300]
[70621,"St. Anton am Arlberg",64100,31500,27400,0,4100,0,70621,"St. Anton am Arlberg",64100,13100,7700,600,3800,1000,70621,"St. Anton am Arlberg",64100,1600,300,500,600,200,70621,"St. Anton am Arlberg",64100,1600,500,200,300,600]
[70622,"Schönwies",60300,17400,15000,0,2400,0,70622,"Schönwies",60300,1800,1000,100,500,100,70622,"Schönwies",60300,25900,3200,11200,9000,2500,70622,"Schönwies",60300,600,200,100,100,300]
[70623,"See",23800,11300,9700,0,1600,0,70623,"See",23800,3100,1800,100,900,200,70623,"See",23800,1300,200,300,600,200,70623,"See",23800,800,300,100,100,300]
[70624,"Serfaus",35400,11000,9500,0,1500,0,70624,"Serfaus",35400,11700,6900,500,3400,900,70624,"Serfaus",35400,400,100,100,200,100,70624,"Serfaus",35400,1800,600,200,300,700]
[70625,"Spiss",3300,1900,1700,0,200,0,70625,"Spiss",3300,200,100,0,0,0,70625,"Spiss",3300,100,0,0,0,0,70625,"Spiss",3300,600,200,100,100,200]
[70626,"Stanz bei Landeck",11200,6500,5700,0,800,0,70626,"Stanz bei Landeck",11200,700,400,0,200,100,70626,"Stanz bei Landeck",11200,800,100,100,400,200,70626,"Stanz bei Landeck",11200,200,100,0,0,100]
[70627,"Strengen",23100,13600,12000,0,1700,0,70627,"Strengen",23100,900,500,0,300,100,70627,"Strengen",23100,1200,200,200,700,200,70627,"Strengen",23100,700,200,100,100,300]
[70628,"Tobadill",13800,6100,5400,0,700,0,70628,"Tobadill",13800,400,200,0,100,0,70628,"Tobadill",13800,3800,300,1800,1700,0,70628,"Tobadill",13800,500,200,100,100,200]
[70629,"Tösens",12200,7000,6000,0,1100,0,70629,"Tösens",12200,700,400,0,200,100,70629,"Tösens",12200,200,0,0,100,100,70629,"Tösens",12200,700,200,100,100,300]
[70630,"Zams",130300,31100,26200,0,4900,0,70630,"Zams",130300,27300,16100,1100,8000,2200,70630,"Zams",130300,34500,1500,15100,12100,5800,70630,"Zams",130300,1600,500,200,300,600]
[70701,"Abfaltersbach",28000,7400,6400,0,1000,0,70701,"Abfaltersbach",28000,1100,600,0,300,100,70701,"Abfaltersbach",28000,13700,3300,4800,4800,900,70701,"Abfaltersbach",28000,500,200,100,100,200]
[70702,"Ainet",37000,9700,8300,0,1400,0,70702,"Ainet",37000,1400,800,100,400,100,70702,"Ainet",37000,18600,3700,7900,5700,1300,70702,"Ainet",37000,1300,400,100,200,500]
[70703,"Amlach",9400,4300,3500,0,700,0,70703,"Amlach",9400,1000,600,0,300,100,70703,"Amlach",9400,1400,100,600,600,0,70703,"Amlach",9400,400,100,0,100,200]
[70704,"Anras",26300,14000,12300,0,1700,0,70704,"Anras",26300,700,400,0,200,100,70704,"Anras",26300,2900,600,1000,1100,200,70704,"Anras",26300,2400,800,200,400,1000]
[70705,"Assling",120900,22800,20100,0,2700,0,70705,"Assling",120900,1600,900,100,500,100,70705,"Assling",120900,79800,15300,34500,24600,5400,70705,"Assling",120900,3100,1000,300,500,1200]
[70706,"Außervillgraten",17900,9200,8100,0,1000,0,70706,"Außervillgraten",17900,1100,700,0,300,100,70706,"Außervillgraten",17900,900,200,200,500,100,70706,"Außervillgraten",17900,2300,800,200,400,900]
[70707,"Dölsach",49400,23600,19800,0,3800,0,70707,"Dölsach",49400,3800,2300,200,1100,300,70707,"Dölsach",49400,7200,1000,2200,3200,800,70707,"Dölsach",49400,1700,600,200,300,700]
[70708,"Gaimberg",19000,9500,8100,0,1400,0,70708,"Gaimberg",19000,2400,1400,100,700,200,70708,"Gaimberg",19000,1600,200,200,900,400,70708,"Gaimberg",19000,700,200,100,100,300]
[70709,"Hopfgarten in Defereggen",17400,9500,8500,0,1000,0,70709,"Hopfgarten in Defereggen",17400,1100,600,0,300,100,70709,"Hopfgarten in Defereggen",17400,500,100,100,200,100,70709,"Hopfgarten in Defereggen",17400,1800,600,200,300,700]
[70710,"Innervillgraten",22600,11300,10100,0,1200,0,70710,"Innervillgraten",22600,1000,600,0,300,100,70710,"Innervillgraten",22600,2100,300,700,900,200,70710,"Innervillgraten",22600,2800,900,300,400,1100]
[70711,"Iselsberg-Stronach",13400,8100,7100,0,1100,0,70711,"Iselsberg-Stronach",13400,1000,600,0,300,100,70711,"Iselsberg-Stronach",13400,300,0,0,200,0,70711,"Iselsberg-Stronach",13400,900,300,100,100,400]
[70712,"Kals am Großglockner",28100,15000,13200,0,1800,0,70712,"Kals am Großglockner",28100,3100,1800,100,900,200,70712,"Kals am Großglockner",28100,400,100,100,200,100,70712,"Kals am Großglockner",28100,2700,900,300,400,1100]
[70713,"Kartitsch",17500,10600,9400,0,1100,0,70713,"Kartitsch",17500,800,500,0,200,100,70713,"Kartitsch",17500,100,0,0,100,0,70713,"Kartitsch",17500,1800,600,200,300,700]
[70714,"Lavant",40100,3000,2500,0,500,0,70714,"Lavant",40100,2600,1500,100,800,200,70714,"Lavant",40100,24600,600,11500,8200,4200,70714,"Lavant",40100,500,200,100,100,200]
[70715,"Leisach",18000,7900,6800,0,1100,0,70715,"Leisach",18000,1200,700,100,400,100,70715,"Leisach",18000,3700,400,1800,1100,400,70715,"Leisach",18000,800,300,100,100,300]
[70716,"Lienz",394200,104100,87000,0,17100,0,70716,"Lienz",394200,84800,49800,3600,24700,6700,70716,"Lienz",394200,103400,21300,31900,40100,10100,70716,"Lienz",394200,1100,400,100,200,500]
[70717,"Matrei in Osttirol",107300,45600,39100,0,6500,0,70717,"Matrei in Osttirol",107300,11100,6500,500,3200,900,70717,"Matrei in Osttirol",107300,12000,2300,3400,5100,1200,70717,"Matrei in Osttirol",107300,6800,2300,700,1100,2700]
[70718,"Nikolsdorf",27400,9100,7800,0,1300,0,70718,"Nikolsdorf",27400,900,500,0,300,100,70718,"Nikolsdorf",27400,10300,1900,4300,3200,900,70718,"Nikolsdorf",27400,1900,600,200,300,700]
[70719,"Nußdorf-Debant",75700,29100,24400,0,4700,0,70719,"Nußdorf-Debant",75700,12700,7500,500,3700,1000,70719,"Nußdorf-Debant",75700,11900,2000,3700,4600,1500,70719,"Nußdorf-Debant",75700,1500,500,200,200,600]
[70720,"Oberlienz",30500,18000,15400,0,2700,0,70720,"Oberlienz",30500,1500,900,100,400,100,70720,"Oberlienz",30500,1300,200,300,600,200,70720,"Oberlienz",30500,1900,600,200,300,700]
[70721,"Obertilliach",21100,8300,7400,0,900,0,70721,"Obertilliach",21100,1600,1000,100,500,100,70721,"Obertilliach",21100,4500,900,2000,1400,300,70721,"Obertilliach",21100,2200,800,200,400,900]
[70723,"Prägraten am Großvenediger",27200,11600,10200,0,1400,0,70723,"Prägraten am Großvenediger",27200,1600,900,100,500,100,70723,"Prägraten am Großvenediger",27200,4200,100,1900,1400,700,70723,"Prägraten am Großvenediger",27200,2000,700,200,300,800]
[70724,"St. Jakob in Defereggen",25100,13100,11800,0,1300,0,70724,"St. Jakob in Defereggen",25100,3400,2000,100,1000,300,70724,"St. Jakob in Defereggen",25100,400,100,100,200,100,70724,"St. Jakob in Defereggen",25100,2700,900,300,400,1100]
[70725,"St. Johann im Walde",30200,3000,2600,0,400,0,70725,"St. Johann im Walde",30200,200,100,0,100,0,70725,"St. Johann im Walde",30200,19200,700,9000,6300,3200,70725,"St. Johann im Walde",30200,1100,400,100,200,400]
[70726,"St. Veit in Defereggen",15800,9900,8900,0,1000,0,70726,"St. Veit in Defereggen",15800,600,400,0,200,0,70726,"St. Veit in Defereggen",15800,200,0,0,100,100,70726,"St. Veit in Defereggen",15800,1300,400,100,200,500]
[70727,"Schlaiten",9700,5400,4600,0,700,0,70727,"Schlaiten",9700,500,300,0,100,0,70727,"Schlaiten",9700,200,0,100,100,0,70727,"Schlaiten",9700,1000,300,100,200,400]
[70728,"Sillian",55300,25800,22500,0,3200,0,70728,"Sillian",55300,8000,4700,300,2300,600,70728,"Sillian",55300,4900,900,1400,2100,600,70728,"Sillian",55300,1800,600,200,300,700]
[70729,"Strassen",28800,9000,7900,0,1100,0,70729,"Strassen",28800,600,400,0,200,0,70729,"Strassen",28800,13300,2600,5600,4100,1000,70729,"Strassen",28800,1000,300,100,200,400]
[70731,"Thurn",11800,7000,6000,0,1000,0,70731,"Thurn",11800,600,300,0,200,0,70731,"Thurn",11800,300,100,100,100,0,70731,"Thurn",11800,600,200,100,100,200]
[70732,"Tristach",21600,13000,11000,0,2000,0,70732,"Tristach",21600,1100,700,0,300,100,70732,"Tristach",21600,0,0,0,0,0,70732,"Tristach",21600,700,200,100,100,300]
[70733,"Untertilliach",5600,3000,2700,0,300,0,70733,"Untertilliach",5600,200,100,0,100,0,70733,"Untertilliach",5600,0,0,0,0,0,70733,"Untertilliach",5600,1100,400,100,200,400]
[70734,"Virgen",39600,20500,17700,0,2800,0,70734,"Virgen",39600,2200,1300,100,700,200,70734,"Virgen",39600,1500,200,400,600,200,70734,"Virgen",39600,3000,1000,300,500,1200]
[70735,"Heinfels",62100,11200,9700,0,1500,0,70735,"Heinfels",62100,2900,1700,100,800,200,70735,"Heinfels",62100,36300,6700,13900,13200,2500,70735,"Heinfels",62100,800,300,100,100,300]
[70801,"Bach",14700,8500,7600,0,900,0,70801,"Bach",14700,1000,600,0,300,100,70801,"Bach",14700,500,100,200,200,0,70801,"Bach",14700,1100,400,100,200,400]
[70802,"Berwang",18100,10400,9300,0,1200,0,70802,"Berwang",18100,2900,1700,100,800,200,70802,"Berwang",18100,100,0,0,100,0,70802,"Berwang",18100,800,300,100,100,300]
[70803,"Biberwier",15700,7600,6600,0,1000,0,70803,"Biberwier",15700,2400,1400,100,700,200,70803,"Biberwier",15700,800,100,200,300,100,70803,"Biberwier",15700,600,200,100,100,200]
[70804,"Bichlbach",16400,9800,8600,0,1100,0,70804,"Bichlbach",16400,1700,1000,100,500,100,70804,"Bichlbach",16400,0,0,0,0,0,70804,"Bichlbach",16400,900,300,100,200,400]
[70805,"Breitenwang",222100,14600,12500,0,2100,0,70805,"Breitenwang",222100,2500,1500,100,700,200,70805,"Breitenwang",222100,180800,12800,93700,71400,2900,70805,"Breitenwang",222100,400,100,0,100,200]
[70806,"Ehenbichl",19600,8800,7500,0,1300,0,70806,"Ehenbichl",19600,5200,3100,200,1500,400,70806,"Ehenbichl",19600,200,0,0,100,0,70806,"Ehenbichl",19600,400,100,0,100,200]
[70807,"Ehrwald",66000,33300,28700,0,4500,0,70807,"Ehrwald",66000,11700,6900,500,3400,900,70807,"Ehrwald",66000,3400,500,700,1600,600,70807,"Ehrwald",66000,1100,400,100,200,500]
[70808,"Elbigenalp",26100,11100,9800,0,1400,0,70808,"Elbigenalp",26100,3200,1900,100,900,200,70808,"Elbigenalp",26100,4000,400,1900,1600,100,70808,"Elbigenalp",26100,800,300,100,100,300]
[70809,"Elmen",8600,4800,4100,0,600,0,70809,"Elmen",8600,600,300,0,200,0,70809,"Elmen",8600,200,0,100,100,0,70809,"Elmen",8600,700,200,100,100,300]
[70810,"Forchach",6500,2900,2500,0,400,0,70810,"Forchach",6500,200,100,0,100,0,70810,"Forchach",6500,1400,400,400,600,100,70810,"Forchach",6500,400,100,0,100,100]
[70811,"Grän",20300,7400,6600,0,900,0,70811,"Grän",20300,5800,3400,200,1700,500,70811,"Grän",20300,1300,200,400,500,200,70811,"Grän",20300,700,200,100,100,300]
[70812,"Gramais",1600,800,700,0,100,0,70812,"Gramais",1600,200,100,0,0,0,70812,"Gramais",1600,0,0,0,0,0,70812,"Gramais",1600,300,100,0,100,100]
[70813,"Häselgehr",14700,7700,6800,0,900,0,70813,"Häselgehr",14700,700,400,0,200,100,70813,"Häselgehr",14700,1100,200,400,400,100,70813,"Häselgehr",14700,1200,400,100,200,500]
[70814,"Heiterwang",10300,5800,5000,0,800,0,70814,"Heiterwang",10300,600,400,0,200,0,70814,"Heiterwang",10300,400,100,100,100,0,70814,"Heiterwang",10300,1100,400,100,200,400]
[70815,"Hinterhornbach",2500,1200,1000,0,100,0,70815,"Hinterhornbach",2500,200,100,0,100,0,70815,"Hinterhornbach",2500,200,0,100,0,0,70815,"Hinterhornbach",2500,400,100,0,100,200]
[70816,"Höfen",59100,13200,11300,0,1900,0,70816,"Höfen",59100,4900,2900,200,1400,400,70816,"Höfen",59100,32400,4100,16100,9400,2800,70816,"Höfen",59100,400,100,0,100,200]
[70817,"Holzgau",10500,6100,5500,0,700,0,70817,"Holzgau",10500,900,500,0,300,100,70817,"Holzgau",10500,300,0,100,100,100,70817,"Holzgau",10500,700,200,100,100,300]
[70818,"Jungholz",7600,4200,3700,0,500,0,70818,"Jungholz",7600,1300,700,100,400,100,70818,"Jungholz",7600,0,0,0,0,0,70818,"Jungholz",7600,500,200,0,100,200]
[70819,"Kaisers",2500,1200,1100,0,100,0,70819,"Kaisers",2500,200,100,0,100,0,70819,"Kaisers",2500,0,0,0,0,0,70819,"Kaisers",2500,600,200,100,100,200]
[70820,"Lechaschau",42500,20500,17400,0,3100,0,70820,"Lechaschau",42500,3400,2000,100,1000,300,70820,"Lechaschau",42500,7600,1500,2300,3000,800,70820,"Lechaschau",42500,300,100,0,0,100]
[70821,"Lermoos",30300,11400,9800,0,1700,0,70821,"Lermoos",30300,7400,4300,300,2200,600,70821,"Lermoos",30300,3100,600,1200,1100,300,70821,"Lermoos",30300,1200,400,100,200,500]
[70822,"Musau",6900,4100,3600,0,600,0,70822,"Musau",6900,300,200,0,100,0,70822,"Musau",6900,100,0,0,100,0,70822,"Musau",6900,500,200,100,100,200]
[70823,"Namlos",2400,1300,1200,0,100,0,70823,"Namlos",2400,200,100,0,0,0,70823,"Namlos",2400,0,0,0,0,0,70823,"Namlos",2400,400,100,0,100,200]
[70824,"Nesselwängle",12300,6500,5700,0,800,0,70824,"Nesselwängle",12300,1900,1100,100,600,200,70824,"Nesselwängle",12300,200,0,0,100,0,70824,"Nesselwängle",12300,700,200,100,100,300]
[70825,"Pfafflar",3400,2000,1800,0,200,0,70825,"Pfafflar",3400,200,100,0,100,0,70825,"Pfafflar",3400,0,0,0,0,0,70825,"Pfafflar",3400,400,100,0,100,200]
[70826,"Pflach",22900,13800,11600,0,2200,0,70826,"Pflach",22900,1600,1000,100,500,100,70826,"Pflach",22900,800,100,100,400,200,70826,"Pflach",22900,400,100,0,100,200]
[70827,"Pinswang",12200,4300,3800,0,600,0,70827,"Pinswang",12200,600,400,0,200,100,70827,"Pinswang",12200,3400,100,1600,1200,600,70827,"Pinswang",12200,400,100,0,100,200]
[70828,"Reutte",153300,58200,49000,0,9200,0,70828,"Reutte",153300,35400,20800,1500,10300,2800,70828,"Reutte",153300,12100,1300,2000,6200,2500,70828,"Reutte",153300,1600,500,200,300,600]
[70829,"Schattwald",10200,5700,4900,0,700,0,70829,"Schattwald",10200,1000,600,0,300,100,70829,"Schattwald",10200,200,0,0,100,0,70829,"Schattwald",10200,800,300,100,100,300]
[70830,"Stanzach",11800,5500,4800,0,700,0,70830,"Stanzach",11800,1800,1100,100,500,100,70830,"Stanzach",11800,900,200,200,400,100,70830,"Stanzach",11800,500,200,0,100,200]
[70831,"Steeg",17800,8500,7600,0,1000,0,70831,"Steeg",17800,1100,600,0,300,100,70831,"Steeg",17800,2800,400,1000,1200,200,70831,"Steeg",17800,1300,400,100,200,500]
[70832,"Tannheim",29100,12800,11200,0,1600,0,70832,"Tannheim",29100,6300,3700,300,1800,500,70832,"Tannheim",29100,900,100,0,500,200,70832,"Tannheim",29100,1700,600,200,300,700]
[70833,"Vils",387500,16600,14300,0,2300,0,70833,"Vils",387500,2300,1400,100,700,200,70833,"Vils",387500,355900,10700,226200,83000,36000,70833,"Vils",387500,1300,400,100,200,500]
[70834,"Vorderhornbach",6000,3300,2800,0,400,0,70834,"Vorderhornbach",6000,300,200,0,100,0,70834,"Vorderhornbach",6000,600,100,200,200,100,70834,"Vorderhornbach",6000,300,100,0,100,100]
[70835,"Wängle",15900,10800,9300,0,1500,0,70835,"Wängle",15900,700,400,0,200,100,70835,"Wängle",15900,100,0,0,100,0,70835,"Wängle",15900,300,100,0,100,100]
[70836,"Weißenbach am Lech",29200,12900,11200,0,1700,0,70836,"Weißenbach am Lech",29200,1600,900,100,500,100,70836,"Weißenbach am Lech",29200,6300,300,3400,1900,700,70836,"Weißenbach am Lech",29200,1400,500,100,200,500]
[70837,"Zöblen",4800,2600,2300,0,300,0,70837,"Zöblen",4800,500,300,0,200,0,70837,"Zöblen",4800,100,0,0,0,0,70837,"Zöblen",4800,400,100,0,100,100]
[70901,"Achenkirch",55300,26500,23100,0,3500,0,70901,"Achenkirch",55300,7400,4300,300,2100,600,70901,"Achenkirch",55300,4400,800,1500,1700,400,70901,"Achenkirch",55300,3100,1000,300,500,1300]
[70902,"Aschau im Zillertal",33300,16100,13500,0,2500,0,70902,"Aschau im Zillertal",33300,3400,2000,100,1000,300,70902,"Aschau im Zillertal",33300,2600,500,900,1000,200,70902,"Aschau im Zillertal",33300,1500,500,200,200,600]
[70903,"Brandberg",8300,3700,3200,0,500,0,70903,"Brandberg",8300,600,300,0,200,0,70903,"Brandberg",8300,400,0,0,200,100,70903,"Brandberg",8300,1600,500,200,300,600]
[70904,"Bruck am Ziller",17500,9900,8200,0,1700,0,70904,"Bruck am Ziller",17500,800,500,0,200,100,70904,"Bruck am Ziller",17500,100,0,0,100,0,70904,"Bruck am Ziller",17500,700,200,100,100,300]
[70905,"Buch in Tirol",44400,22500,18900,0,3600,0,70905,"Buch in Tirol",44400,4100,2400,200,1200,300,70905,"Buch in Tirol",44400,3300,500,800,1500,500,70905,"Buch in Tirol",44400,700,200,100,100,300]
[70907,"Eben am Achensee",72500,30100,25600,0,4500,0,70907,"Eben am Achensee",72500,15400,9000,600,4500,1200,70907,"Eben am Achensee",72500,2500,300,300,1400,600,70907,"Eben am Achensee",72500,3300,1100,300,500,1300]
[70908,"Finkenberg",32300,14700,12700,0,2100,0,70908,"Finkenberg",32300,5500,3200,200,1600,400,70908,"Finkenberg",32300,700,100,100,400,100,70908,"Finkenberg",32300,2700,900,300,400,1100]
[70909,"Fügen",232200,30700,25300,0,5400,0,70909,"Fügen",232200,15100,8900,600,4400,1200,70909,"Fügen",232200,151400,28100,61800,49000,12400,70909,"Fügen",232200,1000,300,100,200,400]
[70910,"Fügenberg",28600,14300,12100,0,2200,0,70910,"Fügenberg",28600,3000,1700,100,900,200,70910,"Fügenberg",28600,600,100,100,300,100,70910,"Fügenberg",28600,2300,800,200,400,900]
[70911,"Gallzein",14200,5800,4900,0,1000,0,70911,"Gallzein",14200,300,200,0,100,0,70911,"Gallzein",14200,3600,600,1300,1200,400,70911,"Gallzein",14200,700,200,100,100,300]
[70912,"Gerlos",25100,8500,7400,0,1100,0,70912,"Gerlos",25100,5800,3400,200,1700,500,70912,"Gerlos",25100,2100,100,800,800,400,70912,"Gerlos",25100,2300,800,200,400,900]
[70913,"Gerlosberg",8400,4500,3900,0,700,0,70913,"Gerlosberg",8400,500,300,0,100,0,70913,"Gerlosberg",8400,0,0,0,0,0,70913,"Gerlosberg",8400,900,300,100,200,400]
[70914,"Hainzenberg",13500,6800,5800,0,1100,0,70914,"Hainzenberg",13500,1500,900,100,400,100,70914,"Hainzenberg",13500,300,0,100,100,100,70914,"Hainzenberg",13500,800,300,100,100,300]
[70915,"Hart im Zillertal",29200,14700,12300,0,2300,0,70915,"Hart im Zillertal",29200,2000,1200,100,600,200,70915,"Hart im Zillertal",29200,1800,300,700,700,100,70915,"Hart im Zillertal",29200,2300,800,200,400,900]
[70916,"Hippach",22900,11800,9800,0,2000,0,70916,"Hippach",22900,1500,900,100,400,100,70916,"Hippach",22900,600,100,100,300,100,70916,"Hippach",22900,1700,600,200,300,700]
[70917,"Jenbach",305900,53600,44600,0,9000,0,70917,"Jenbach",305900,12300,7200,500,3600,1000,70917,"Jenbach",305900,186800,39200,71600,62200,13800,70917,"Jenbach",305900,400,100,0,100,200]
[70918,"Kaltenbach",46700,11600,9800,0,1900,0,70918,"Kaltenbach",46700,10500,6200,400,3100,800,70918,"Kaltenbach",46700,12400,4000,1400,5100,1900,70918,"Kaltenbach",46700,600,200,100,100,200]
[70920,"Mayrhofen",112000,32700,27300,0,5400,0,70920,"Mayrhofen",112000,25000,14700,1100,7300,2000,70920,"Mayrhofen",112000,20500,3200,7000,8100,2200,70920,"Mayrhofen",112000,2100,700,200,300,800]
[70921,"Pill",33000,12700,10900,0,1900,0,70921,"Pill",33000,7300,4300,300,2100,600,70921,"Pill",33000,4800,900,2000,1600,300,70921,"Pill",33000,1100,400,100,200,400]
[70922,"Ramsau im Zillertal",36800,13200,10900,0,2300,0,70922,"Ramsau im Zillertal",36800,4800,2800,200,1400,400,70922,"Ramsau im Zillertal",36800,7500,1200,1600,3500,1300,70922,"Ramsau im Zillertal",36800,700,200,100,100,300]
[70923,"Ried im Zillertal",33100,10700,8800,0,1900,0,70923,"Ried im Zillertal",33100,2600,1500,100,800,200,70923,"Ried im Zillertal",33100,12100,1100,600,7000,3400,70923,"Ried im Zillertal",33100,500,200,0,100,200]
[70924,"Rohrberg",16900,5600,4600,0,1000,0,70924,"Rohrberg",16900,4600,2700,200,1300,400,70924,"Rohrberg",16900,1100,200,300,500,200,70924,"Rohrberg",16900,700,200,100,100,300]
[70925,"Schlitters",28400,11000,9200,0,1800,0,70925,"Schlitters",28400,4100,2400,200,1200,300,70925,"Schlitters",28400,2600,400,900,1000,200,70925,"Schlitters",28400,1000,300,100,200,400]
[70926,"Schwaz",475700,102900,85800,0,17100,0,70926,"Schwaz",475700,111100,65300,4700,32400,8800,70926,"Schwaz",475700,139200,6200,82200,37500,13300,70926,"Schwaz",475700,1200,400,100,200,500]
[70927,"Schwendau",27900,12900,10800,0,2200,0,70927,"Schwendau",27900,3800,2300,200,1100,300,70927,"Schwendau",27900,1400,200,200,700,300,70927,"Schwendau",27900,800,300,100,100,300]
[70928,"Stans",73100,19600,16400,0,3200,0,70928,"Stans",73100,7000,4100,300,2000,600,70928,"Stans",73100,28600,4700,11600,10200,2100,70928,"Stans",73100,800,300,100,100,300]
[70929,"Steinberg am Rofan",10600,4600,4000,0,600,0,70929,"Steinberg am Rofan",10600,500,300,0,200,0,70929,"Steinberg am Rofan",10600,1800,0,800,600,300,70929,"Steinberg am Rofan",10600,1500,500,100,200,600]
[70930,"Strass im Zillertal",22100,7200,6000,0,1200,0,70930,"Strass im Zillertal",22100,5400,3200,200,1600,400,70930,"Strass im Zillertal",22100,1100,200,200,600,200,70930,"Strass im Zillertal",22100,700,200,100,100,300]
[70931,"Stumm",36800,17800,15100,0,2800,0,70931,"Stumm",36800,3800,2200,200,1100,300,70931,"Stumm",36800,3700,600,1200,1500,400,70931,"Stumm",36800,700,200,100,100,300]
[70932,"Stummerberg",16400,9000,7800,0,1200,0,70932,"Stummerberg",16400,500,300,0,100,0,70932,"Stummerberg",16400,600,100,200,200,100,70932,"Stummerberg",16400,1900,600,200,300,800]
[70933,"Terfens",58300,19500,16400,0,3100,0,70933,"Terfens",58300,2900,1700,100,800,200,70933,"Terfens",58300,21000,2000,3300,10900,4800,70933,"Terfens",58300,1100,400,100,200,500]
[70934,"Tux",68400,19600,17200,0,2400,0,70934,"Tux",68400,20000,11700,800,5800,1600,70934,"Tux",68400,8000,1400,2800,2900,900,70934,"Tux",68400,2900,1000,300,500,1200]
[70935,"Uderns",31500,13600,11200,0,2400,0,70935,"Uderns",31500,4400,2600,200,1300,300,70935,"Uderns",31500,2900,500,400,1500,600,70935,"Uderns",31500,500,200,100,100,200]
[70936,"Vomp",192000,41300,34000,0,7200,0,70936,"Vomp",192000,15600,9100,700,4500,1200,70936,"Vomp",192000,91800,12600,42600,29000,7600,70936,"Vomp",192000,3100,1000,300,500,1200]
[70937,"Weer",38000,14100,11600,0,2500,0,70937,"Weer",38000,3800,2300,200,1100,300,70937,"Weer",38000,9600,1600,3400,3500,1100,70937,"Weer",38000,600,200,100,100,300]
[70938,"Weerberg",47800,27400,23700,0,3700,0,70938,"Weerberg",47800,2200,1300,100,600,200,70938,"Weerberg",47800,2500,400,800,1000,300,70938,"Weerberg",47800,2600,900,300,400,1000]
[70939,"Wiesing",47800,18000,15000,0,3000,0,70939,"Wiesing",47800,5000,2900,200,1500,400,70939,"Wiesing",47800,11800,1600,5000,3900,1300,70939,"Wiesing",47800,600,200,100,100,200]
[70940,"Zell am Ziller",45300,13900,11500,0,2400,0,70940,"Zell am Ziller",45300,11200,6600,500,3300,900,70940,"Zell am Ziller",45300,4800,600,1200,2100,700,70940,"Zell am Ziller",45300,400,100,0,100,100]
[70941,"Zellberg",15700,6200,5200,0,1000,0,70941,"Zellberg",15700,1400,800,100,400,100,70941,"Zellberg",15700,3300,700,800,1500,300,70941,"Zellberg",15700,1000,300,100,200,400]
[80101,"Bartholomäberg",53000,32700,29200,0,3600,0,80101,"Bartholomäberg",53000,4200,2400,100,1500,300,80101,"Bartholomäberg",53000,3500,300,1400,1100,700,80101,"Bartholomäberg",53000,2800,1100,300,500,900]
[80102,"Blons",8200,3700,3300,0,500,0,80102,"Blons",8200,600,300,0,200,0,80102,"Blons",8200,1000,100,600,200,100,80102,"Blons",8200,1000,400,100,200,300]
[80103,"Bludenz",452300,120800,103200,0,17600,0,80103,"Bludenz",452300,87500,48800,2800,30400,5500,80103,"Bludenz",452300,159700,10900,83200,55800,9800,80103,"Bludenz",452300,1800,700,200,300,600]
[80104,"Bludesch",60500,18300,15500,0,2800,0,80104,"Bludesch",60500,20900,11700,700,7300,1300,80104,"Bludesch",60500,6100,1000,2500,2200,300,80104,"Bludesch",60500,1000,400,100,200,300]
[80105,"Brand",24600,9000,7800,0,1100,0,80105,"Brand",24600,8400,4700,300,2900,500,80105,"Brand",24600,400,0,100,200,100,80105,"Brand",24600,1000,400,100,200,300]
[80106,"Bürs",115000,27700,23600,0,4100,0,80106,"Bürs",115000,23800,13300,800,8300,1500,80106,"Bürs",115000,35900,4400,11100,16000,4400,80106,"Bürs",115000,900,300,100,200,300]
[80107,"Bürserberg",16600,9900,8700,0,1200,0,80107,"Bürserberg",16600,2000,1100,100,700,100,80107,"Bürserberg",16600,800,100,500,200,100,80107,"Bürserberg",16600,1000,400,100,200,300]
[80108,"Dalaas",32600,17600,15300,0,2200,0,80108,"Dalaas",32600,3600,2000,100,1200,200,80108,"Dalaas",32600,1900,200,800,600,200,80108,"Dalaas",32600,2100,800,300,400,600]
[80109,"Fontanella",12500,6300,5500,0,700,0,80109,"Fontanella",12500,1800,1000,100,600,100,80109,"Fontanella",12500,500,100,200,200,100,80109,"Fontanella",12500,1500,600,200,300,400]
[80110,"Gaschurn",36600,20400,18200,0,2300,0,80110,"Gaschurn",36600,5000,2800,200,1800,300,80110,"Gaschurn",36600,1200,100,300,500,200,80110,"Gaschurn",36600,2900,1100,400,500,900]
[80111,"Innerbraz",17100,9400,8100,0,1300,0,80111,"Innerbraz",17100,1700,900,100,600,100,80111,"Innerbraz",17100,200,0,0,100,0,80111,"Innerbraz",17100,1100,400,100,200,300]
[80112,"Klösterle",17300,9200,8100,0,1100,0,80112,"Klösterle",17300,2900,1600,100,1000,200,80112,"Klösterle",17300,400,100,100,200,0,80112,"Klösterle",17300,1200,500,200,200,400]
[80113,"Lech",63500,27700,24800,0,2900,0,80113,"Lech",63500,20300,11300,700,7100,1300,80113,"Lech",63500,500,0,100,200,100,80113,"Lech",63500,2700,1100,300,500,800]
[80114,"Lorüns",5000,2600,2200,0,400,0,80114,"Lorüns",5000,600,300,0,200,0,80114,"Lorüns",5000,300,0,0,100,100,80114,"Lorüns",5000,300,100,0,100,100]
[80115,"Ludesch",69800,28800,24400,0,4500,0,80115,"Ludesch",69800,6300,3500,200,2200,400,80115,"Ludesch",69800,16600,2200,7700,5700,1000,80115,"Ludesch",69800,1400,500,200,200,400]
[80116,"Nenzing",262800,53800,45900,0,7900,0,80116,"Nenzing",262800,20100,11200,700,7000,1300,80116,"Nenzing",262800,143700,13900,62800,62000,5000,80116,"Nenzing",262800,4000,1500,500,700,1200]
[80117,"Nüziders",202700,44300,37500,0,6800,0,80117,"Nüziders",202700,11000,6100,400,3800,700,80117,"Nüziders",202700,113700,8700,59300,33800,11800,80117,"Nüziders",202700,1300,500,200,200,400]
[80118,"Raggal",20400,11200,9900,0,1300,0,80118,"Raggal",20400,1200,600,0,400,100,80118,"Raggal",20400,1300,100,400,500,200,80118,"Raggal",20400,2300,900,300,400,700]
[80119,"St. Anton im Montafon",11500,6200,5300,0,900,0,80119,"St. Anton im Montafon",11500,1400,800,0,500,100,80119,"St. Anton im Montafon",11500,600,100,200,200,100,80119,"St. Anton im Montafon",11500,200,100,0,0,100]
[80120,"St. Gallenkirch",51500,27400,24100,0,3300,0,80120,"St. Gallenkirch",51500,6800,3800,200,2300,400,80120,"St. Gallenkirch",51500,3400,400,1700,900,300,80120,"St. Gallenkirch",51500,3400,1300,400,600,1100]
[80121,"St. Gerold",8400,4600,4100,0,600,0,80121,"St. Gerold",8400,800,500,0,300,100,80121,"St. Gerold",8400,200,0,100,100,0,80121,"St. Gerold",8400,800,300,100,100,200]
[80122,"Schruns",119700,40800,35100,0,5700,0,80122,"Schruns",119700,30400,16900,1000,10500,1900,80122,"Schruns",119700,21500,2500,4600,10000,4400,80122,"Schruns",119700,1200,500,100,200,400]
[80123,"Silbertal",19000,11000,9800,0,1200,0,80123,"Silbertal",19000,1900,1000,100,600,100,80123,"Silbertal",19000,400,0,200,100,100,80123,"Silbertal",19000,1900,700,200,300,600]
[80124,"Sonntag",28400,7700,6800,0,900,0,80124,"Sonntag",28400,2400,1300,100,800,100,80124,"Sonntag",28400,11900,1600,7900,1900,500,80124,"Sonntag",28400,2400,900,300,400,700]
[80125,"Stallehr",6900,2600,2200,0,400,0,80125,"Stallehr",6900,400,200,0,100,0,80125,"Stallehr",6900,2500,200,1500,700,100,80125,"Stallehr",6900,100,0,0,0,0]
[80126,"Thüringen",55800,20900,18000,0,3000,0,80126,"Thüringen",55800,6300,3500,200,2200,400,80126,"Thüringen",55800,16000,3000,4700,7300,1000,80126,"Thüringen",55800,700,300,100,100,200]
[80127,"Thüringerberg",19000,10500,9200,0,1300,0,80127,"Thüringerberg",19000,1000,600,0,400,100,80127,"Thüringerberg",19000,3200,300,1500,1000,300,80127,"Thüringerberg",19000,1000,400,100,200,300]
[80128,"Tschagguns",46000,27800,24200,0,3600,0,80128,"Tschagguns",46000,4500,2500,100,1600,300,80128,"Tschagguns",46000,2300,200,900,900,300,80128,"Tschagguns",46000,2100,800,300,400,600]
[80129,"Vandans",49100,26400,22600,0,3800,0,80129,"Vandans",49100,3600,2000,100,1200,200,80129,"Vandans",49100,6100,1000,2000,2500,500,80129,"Vandans",49100,1100,400,100,200,300]
[80201,"Alberschwende",71600,34100,29600,0,4500,0,80201,"Alberschwende",71600,5200,2900,200,1800,300,80201,"Alberschwende",71600,12500,1100,4000,4900,2500,80201,"Alberschwende",71600,3600,1400,500,700,1100]
[80202,"Andelsbuch",71100,25000,21600,0,3400,0,80202,"Andelsbuch",71100,7200,4000,200,2500,500,80202,"Andelsbuch",71100,21100,1900,6800,8500,4000,80202,"Andelsbuch",71100,2700,1100,300,500,800]
[80203,"Au",57200,24100,21300,0,2800,0,80203,"Au",57200,5600,3100,200,1900,300,80203,"Au",57200,14900,1600,6300,4800,2200,80203,"Au",57200,2700,1000,300,500,800]
[80204,"Bezau",62700,21100,18300,0,2800,0,80204,"Bezau",62700,9200,5100,300,3200,600,80204,"Bezau",62700,17400,2000,10400,4100,1000,80204,"Bezau",62700,2600,1000,300,500,800]
[80205,"Bildstein",14900,9100,7800,0,1300,0,80205,"Bildstein",14900,1100,600,0,400,100,80205,"Bildstein",14900,100,0,0,0,0,80205,"Bildstein",14900,1500,600,200,300,500]
[80206,"Bizau",36400,13000,11300,0,1700,0,80206,"Bizau",36400,2100,1200,100,700,100,80206,"Bizau",36400,13400,1800,7200,3800,600,80206,"Bizau",36400,1900,700,200,400,600]
[80207,"Bregenz",721300,209500,175700,0,33700,0,80207,"Bregenz",721300,217400,121300,7100,75500,13600,80207,"Bregenz",721300,104800,11600,37200,39400,16700,80207,"Bregenz",721300,900,400,100,200,300]
[80208,"Buch",11100,6300,5400,0,900,0,80208,"Buch",11100,600,300,0,200,0,80208,"Buch",11100,600,100,200,200,100,80208,"Buch",11100,800,300,100,100,200]
[80209,"Damüls",13800,5900,5300,0,600,0,80209,"Damüls",13800,3800,2100,100,1300,200,80209,"Damüls",13800,200,0,0,100,100,80209,"Damüls",13800,1300,500,200,200,400]
[80210,"Doren",23000,11300,9800,0,1500,0,80210,"Doren",23000,1500,800,0,500,100,80210,"Doren",23000,2900,400,1200,1000,300,80210,"Doren",23000,2200,900,300,400,700]
[80211,"Egg",98400,41400,35900,0,5500,0,80211,"Egg",98400,14300,8000,500,5000,900,80211,"Egg",98400,16400,1900,9700,3700,1100,80211,"Egg",98400,5900,2300,700,1100,1800]
[80212,"Eichenberg",11900,4800,4200,0,600,0,80212,"Eichenberg",11900,1100,600,0,400,100,80212,"Eichenberg",11900,2300,200,1400,600,100,80212,"Eichenberg",11900,1400,500,200,300,400]
[80213,"Fußach",88400,31900,27100,0,4900,0,80213,"Fußach",88400,6800,3800,200,2300,400,80213,"Fußach",88400,30300,5300,9200,14000,1700,80213,"Fußach",88400,1100,400,100,200,300]
[80214,"Gaißau",37800,14600,12300,0,2300,0,80214,"Gaißau",37800,3000,1700,100,1000,200,80214,"Gaißau",37800,11300,2300,2900,5300,700,80214,"Gaißau",37800,400,200,100,100,100]
[80215,"Hard",326100,101200,85000,0,16200,0,80215,"Hard",326100,41900,23400,1400,14500,2600,80215,"Hard",326100,110000,14100,41600,46900,7400,80215,"Hard",326100,900,400,100,200,300]
[80216,"Hittisau",60700,26000,22800,0,3200,0,80216,"Hittisau",60700,5800,3300,200,2000,400,80216,"Hittisau",60700,14400,1700,7300,4700,700,80216,"Hittisau",60700,3700,1400,500,700,1200]
[80217,"Höchst",224000,67500,57000,0,10500,0,80217,"Höchst",224000,16500,9200,500,5700,1000,80217,"Höchst",224000,95200,18200,28900,43200,4900,80217,"Höchst",224000,2900,1100,400,500,900]
[80218,"Hörbranz",203000,55600,47200,0,8400,0,80218,"Hörbranz",203000,10800,6000,400,3800,700,80218,"Hörbranz",203000,100300,7500,61100,26700,5000,80218,"Hörbranz",203000,1300,500,200,200,400]
[80219,"Hohenweiler",22200,12200,10500,0,1700,0,80219,"Hohenweiler",22200,1700,900,100,600,100,80219,"Hohenweiler",22200,1200,100,700,400,100,80219,"Hohenweiler",22200,1300,500,200,200,400]
[80220,"Kennelbach",40000,15800,13500,0,2300,0,80220,"Kennelbach",40000,7500,4200,200,2600,500,80220,"Kennelbach",40000,6100,1200,1300,3000,700,80220,"Kennelbach",40000,200,100,0,0,100]
[80221,"Krumbach (V)",21200,11700,10200,0,1500,0,80221,"Krumbach (V)",21200,1900,1100,100,700,100,80221,"Krumbach (V)",21200,1200,100,600,300,100,80221,"Krumbach (V)",21200,1600,600,200,300,500]
[80222,"Langen bei Bregenz",32300,14400,12400,0,2100,0,80222,"Langen bei Bregenz",32300,3400,1900,100,1200,200,80222,"Langen bei Bregenz",32300,4700,600,2600,1100,300,80222,"Langen bei Bregenz",32300,2700,1100,300,500,800]
[80223,"Langenegg",28000,11800,10300,0,1500,0,80223,"Langenegg",28000,1900,1100,100,700,100,80223,"Langenegg",28000,6500,1100,2200,2700,400,80223,"Langenegg",28000,1800,700,200,300,600]
[80224,"Lauterach",255300,68700,57300,0,11400,0,80224,"Lauterach",255300,40000,22300,1300,13900,2500,80224,"Lauterach",255300,91100,9900,39100,33100,9100,80224,"Lauterach",255300,2300,900,300,400,700]
[80225,"Lingenau",35200,16000,13800,0,2100,0,80225,"Lingenau",35200,4100,2300,100,1400,300,80225,"Lingenau",35200,6200,700,3100,2000,400,80225,"Lingenau",35200,1300,500,200,200,400]
[80226,"Lochau",102400,54100,45100,0,9000,0,80226,"Lochau",102400,14200,7900,500,4900,900,80226,"Lochau",102400,7400,600,3200,2800,800,80226,"Lochau",102400,1000,400,100,200,300]
[80227,"Mellau",34700,13000,11200,0,1800,0,80227,"Mellau",34700,7500,4200,200,2600,500,80227,"Mellau",34700,5500,400,2500,2300,300,80227,"Mellau",34700,1800,700,200,300,600]
[80228,"Mittelberg",132800,60000,53500,0,6500,0,80228,"Mittelberg",132800,34900,19500,1100,12100,2200,80228,"Mittelberg",132800,7500,1000,2800,2700,900,80228,"Mittelberg",132800,4200,1600,500,800,1300]
[80229,"Möggers",14100,5800,5100,0,700,0,80229,"Möggers",14100,600,300,0,200,0,80229,"Möggers",14100,3200,200,2000,800,200,80229,"Möggers",14100,1900,700,200,300,600]
[80230,"Reuthe",57500,6500,5700,0,900,0,80230,"Reuthe",57500,3600,2000,100,1200,200,80230,"Reuthe",57500,40400,5400,27100,6500,1500,80230,"Reuthe",57500,900,400,100,200,300]
[80231,"Riefensberg",59500,13200,11600,0,1600,0,80231,"Riefensberg",59500,1900,1100,100,700,100,80231,"Riefensberg",59500,29900,1200,12700,8900,7100,80231,"Riefensberg",59500,2200,900,300,400,700]
[80232,"Schnepfau",12900,6000,5200,0,800,0,80232,"Schnepfau",12900,700,400,0,200,0,80232,"Schnepfau",12900,2600,300,1300,800,200,80232,"Schnepfau",12900,1400,500,200,300,400]
[80233,"Schoppernau",27200,12300,10900,0,1500,0,80233,"Schoppernau",27200,3800,2100,100,1300,200,80233,"Schoppernau",27200,4200,400,2300,1100,300,80233,"Schoppernau",27200,1800,700,200,300,500]
[80234,"Schröcken",6800,3800,3400,0,400,0,80234,"Schröcken",6800,900,500,0,300,100,80234,"Schröcken",6800,100,0,0,100,0,80234,"Schröcken",6800,800,300,100,100,200]
[80235,"Schwarzach",156400,34800,29400,0,5400,0,80235,"Schwarzach",156400,13100,7300,400,4500,800,80235,"Schwarzach",156400,82900,6000,47100,27600,2200,80235,"Schwarzach",156400,600,200,100,100,200]
[80236,"Schwarzenberg",52900,25900,23000,0,2900,0,80236,"Schwarzenberg",52900,4800,2700,200,1700,300,80236,"Schwarzenberg",52900,9500,1000,3200,3500,1600,80236,"Schwarzenberg",52900,3400,1300,400,600,1100]
[80237,"Sibratsgfäll",11600,6400,5800,0,700,0,80237,"Sibratsgfäll",11600,800,500,0,300,100,80237,"Sibratsgfäll",11600,700,100,300,300,100,80237,"Sibratsgfäll",11600,1700,700,200,300,500]
[80238,"Sulzberg",43500,20200,17400,0,2700,0,80238,"Sulzberg",43500,4300,2400,100,1500,300,80238,"Sulzberg",43500,5400,500,2300,1900,700,80238,"Sulzberg",43500,4600,1800,600,800,1400]
[80239,"Warth (V)",10700,2700,2400,0,300,0,80239,"Warth (V)",10700,4300,2400,100,1500,300,80239,"Warth (V)",10700,900,100,600,200,100,80239,"Warth (V)",10700,700,300,100,100,200]
[80240,"Wolfurt",253000,67200,56400,0,10800,0,80240,"Wolfurt",253000,54500,30400,1800,18900,3400,80240,"Wolfurt",253000,78700,13300,26600,33600,5300,80240,"Wolfurt",253000,1100,400,100,200,300]
[80301,"Dornbirn",1207500,398800,336100,0,62600,0,80301,"Dornbirn",1207500,253500,141400,8200,88000,15800,80301,"Dornbirn",1207500,269000,39600,97500,109400,22500,80301,"Dornbirn",1207500,7900,3000,1000,1400,2400]
[80302,"Hohenems",322500,121200,101800,0,19400,0,80302,"Hohenems",322500,69400,38700,2300,24100,4300,80302,"Hohenems",322500,46800,5900,19400,18300,3200,80302,"Hohenems",322500,2500,1000,300,500,800]
[80303,"Lustenau",547800,182000,154200,0,27900,0,80303,"Lustenau",547800,111800,62400,3600,38800,7000,80303,"Lustenau",547800,130300,11800,63300,48500,6800,80303,"Lustenau",547800,2900,1100,400,500,900]
[80401,"Altach",127000,55300,46500,0,8800,0,80401,"Altach",127000,15400,8600,500,5300,1000,80401,"Altach",127000,25100,2300,10300,10000,2500,80401,"Altach",127000,700,300,100,100,200]
[80402,"Düns",7400,4400,3800,0,600,0,80402,"Düns",7400,600,300,0,200,0,80402,"Düns",7400,100,0,0,0,0,80402,"Düns",7400,400,200,100,100,100]
[80403,"Dünserberg",4000,2100,1800,0,200,0,80403,"Dünserberg",4000,500,300,0,200,0,80403,"Dünserberg",4000,0,0,0,0,0,80403,"Dünserberg",4000,500,200,100,100,200]
[80404,"Feldkirch",750400,282100,239600,0,42500,0,80404,"Feldkirch",750400,188500,105200,6100,65500,11800,80404,"Feldkirch",750400,99400,10900,41700,35200,11500,80404,"Feldkirch",750400,3400,1300,400,600,1000]
[80405,"Frastanz",204800,53600,45600,0,8000,0,80405,"Frastanz",204800,21200,11900,700,7400,1300,80405,"Frastanz",204800,91400,6300,50100,31100,4000,80405,"Frastanz",204800,1900,700,200,300,600]
[80406,"Fraxern",11500,6800,5900,0,900,0,80406,"Fraxern",11500,500,300,0,200,0,80406,"Fraxern",11500,500,100,200,200,100,80406,"Fraxern",11500,500,200,100,100,100]
[80407,"Göfis",53500,30400,25900,0,4500,0,80407,"Göfis",53500,4200,2300,100,1500,300,80407,"Göfis",53500,4600,700,1500,2000,400,80407,"Göfis",53500,900,400,100,200,300]
[80408,"Götzis",282700,92200,77800,0,14500,0,80408,"Götzis",282700,69500,38800,2300,24100,4300,80408,"Götzis",282700,56400,7300,18700,23600,6700,80408,"Götzis",282700,1100,400,100,200,300]
[80409,"Klaus",100700,25600,21600,0,4000,0,80409,"Klaus",100700,13400,7500,400,4700,800,80409,"Klaus",100700,42900,8000,11900,19800,3200,80409,"Klaus",100700,400,100,0,100,100]
[80410,"Koblach",100700,39700,33300,0,6400,0,80410,"Koblach",100700,17000,9500,600,5900,1100,80410,"Koblach",100700,19300,2600,8400,7200,1100,80410,"Koblach",100700,1600,600,200,300,500]
[80411,"Laterns",15500,9200,8200,0,1000,0,80411,"Laterns",15500,800,400,0,300,0,80411,"Laterns",15500,700,100,300,200,100,80411,"Laterns",15500,1800,700,200,300,600]
[80412,"Mäder",82200,31900,26600,0,5300,0,80412,"Mäder",82200,13000,7300,400,4500,800,80412,"Mäder",82200,18300,1500,9100,6800,900,80412,"Mäder",82200,400,200,100,100,100]
[80413,"Meiningen",43500,18700,15700,0,3000,0,80413,"Meiningen",43500,5100,2900,200,1800,300,80413,"Meiningen",43500,8600,800,4900,2400,600,80413,"Meiningen",43500,700,300,100,100,200]
[80414,"Rankweil",406500,90900,76000,0,14900,0,80414,"Rankweil",406500,54400,30400,1800,18900,3400,80414,"Rankweil",406500,176500,20200,76700,61900,17600,80414,"Rankweil",406500,3000,1200,400,500,900]
[80415,"Röns",5800,3200,2700,0,500,0,80415,"Röns",5800,600,300,0,200,0,80415,"Röns",5800,400,100,100,200,100,80415,"Röns",5800,200,100,0,0,100]
[80416,"Röthis",78100,18500,15700,0,2900,0,80416,"Röthis",78100,11400,6300,400,3900,700,80416,"Röthis",78100,34000,2100,13400,10400,8100,80416,"Röthis",78100,200,100,0,0,100]
[80417,"Satteins",49100,24200,20600,0,3600,0,80417,"Satteins",49100,6700,3700,200,2300,400,80417,"Satteins",49100,5100,600,1700,2200,600,80417,"Satteins",49100,1500,600,200,300,500]
[80418,"Schlins",62900,19200,16200,0,3000,0,80418,"Schlins",62900,4800,2700,200,1700,300,80418,"Schlins",62900,23700,1400,14000,7500,700,80418,"Schlins",62900,900,400,100,200,300]
[80419,"Schnifis",17600,8100,7000,0,1100,0,80419,"Schnifis",17600,1100,600,0,400,100,80419,"Schnifis",17600,4000,300,2300,1100,300,80419,"Schnifis",17600,600,200,100,100,200]
[80420,"Sulz",58400,21100,17700,0,3400,0,80420,"Sulz",58400,10900,6100,400,3800,700,80420,"Sulz",58400,13000,2100,4000,6000,800,80420,"Sulz",58400,500,200,100,100,200]
[80421,"Übersaxen",11200,7100,6200,0,900,0,80421,"Übersaxen",11200,700,400,0,200,0,80421,"Übersaxen",11200,0,0,0,0,0,80421,"Übersaxen",11200,600,200,100,100,200]
[80422,"Viktorsberg",7500,4600,4100,0,600,0,80422,"Viktorsberg",7500,500,300,0,200,0,80422,"Viktorsberg",7500,0,0,0,0,0,80422,"Viktorsberg",7500,500,200,100,100,100]
[80423,"Weiler",57400,16900,14100,0,2800,0,80423,"Weiler",57400,6500,3600,200,2200,400,80423,"Weiler",57400,22500,1600,12100,7900,900,80423,"Weiler",57400,400,100,0,100,100]
[80424,"Zwischenwasser",54700,30900,26500,0,4400,0,80424,"Zwischenwasser",54700,4400,2500,100,1500,300,80424,"Zwischenwasser",54700,5100,500,2300,1900,400,80424,"Zwischenwasser",54700,1300,500,200,200,400]
[90101,"Wien  1. - Innere Stadt",2156700,186300,148700,0,37600,0,90101,"Wien  1. - Innere Stadt",2156700,1382600,786400,30000,492900,73300,90101,"Wien  1. - Innere Stadt",2156700,41900,4200,16600,15000,6000,90101,"Wien  1. - Innere Stadt",2156700,0,0,0,0,0]
[90201,"Wien  2. - Leopoldstadt",1914500,596000,470800,0,125100,0,90201,"Wien  2. - Leopoldstadt",1914500,700100,398200,15200,249600,37100,90201,"Wien  2. - Leopoldstadt",1914500,94400,8000,29200,32800,24400,90201,"Wien  2. - Leopoldstadt",1914500,400,300,0,0,0]
[90301,"Wien  3. - Landstraße",2553500,612200,486100,0,126100,0,90301,"Wien  3. - Landstraße",2553500,1276400,726000,27700,455100,67700,90301,"Wien  3. - Landstraße",2553500,88200,12400,27500,36500,11900,90301,"Wien  3. - Landstraße",2553500,0,0,0,0,0]
[90401,"Wien  4. - Wieden",782600,261500,208100,0,53400,0,90401,"Wien  4. - Wieden",782600,213400,121400,4600,76100,11300,90401,"Wien  4. - Wieden",782600,116700,9000,40000,57400,10200,90401,"Wien  4. - Wieden",782600,0,0,0,0,0]
[90501,"Wien  5. - Margareten",846100,328000,257700,0,70300,0,90501,"Wien  5. - Margareten",846100,293900,167200,6400,104800,15600,90501,"Wien  5. - Margareten",846100,23600,3100,5000,10700,4900,90501,"Wien  5. - Margareten",846100,0,0,0,0,0]
[90601,"Wien  6. - Mariahilf",881200,229600,182000,0,47600,0,90601,"Wien  6. - Mariahilf",881200,453800,258100,9800,161800,24100,90601,"Wien  6. - Mariahilf",881200,20300,2600,4000,9700,4000,90601,"Wien  6. - Mariahilf",881200,0,0,0,0,0]
[90701,"Wien  7. - Neubau",745800,242900,192900,0,50000,0,90701,"Wien  7. - Neubau",745800,282700,160800,6100,100800,15000,90701,"Wien  7. - Neubau",745800,13900,1600,5100,5700,1500,90701,"Wien  7. - Neubau",745800,0,0,0,0,0]
[90801,"Wien  8. - Josefstadt",509000,200700,160700,0,40000,0,90801,"Wien  8. - Josefstadt",509000,180900,102900,3900,64500,9600,90801,"Wien  8. - Josefstadt",509000,11400,1400,1500,5900,2600,90801,"Wien  8. - Josefstadt",509000,0,0,0,0,0]
[90901,"Wien  9. - Alsergrund",1149400,330800,265200,0,65600,0,90901,"Wien  9. - Alsergrund",1149400,551100,313400,11900,196500,29200,90901,"Wien  9. - Alsergrund",1149400,21700,2500,6500,9400,3300,90901,"Wien  9. - Alsergrund",1149400,0,0,0,0,0]
[91001,"Wien 10. - Favoriten",2842600,989300,776700,0,212600,0,91001,"Wien 10. - Favoriten",2842600,649700,369500,14100,231600,34500,91001,"Wien 10. - Favoriten",2842600,330800,35100,87800,147900,60000,91001,"Wien 10. - Favoriten",2842600,25100,17900,2900,3400,900]
[91101,"Wien 11. - Simmering",1450800,493200,381900,0,111300,0,91101,"Wien 11. - Simmering",1450800,429100,244000,9300,153000,22800,91101,"Wien 11. - Simmering",1450800,112400,18000,28600,48300,17400,91101,"Wien 11. - Simmering",1450800,1900,1400,200,300,100]
[91201,"Wien 12. - Meidling",1336700,538300,428100,0,110200,0,91201,"Wien 12. - Meidling",1336700,329200,187200,7100,117400,17500,91201,"Wien 12. - Meidling",1336700,84600,19000,13700,38300,13600,91201,"Wien 12. - Meidling",1336700,0,0,0,0,0]
[91301,"Wien 13. - Hietzing",928100,454000,366000,0,88000,0,91301,"Wien 13. - Hietzing",928100,193800,110200,4200,69100,10300,91301,"Wien 13. - Hietzing",928100,17100,1500,6500,6500,2500,91301,"Wien 13. - Hietzing",928100,8300,5900,900,1100,300]
[91401,"Wien 14. - Penzing",1276100,619500,498000,0,121600,0,91401,"Wien 14. - Penzing",1276100,227600,129500,4900,81200,12100,91401,"Wien 14. - Penzing",1276100,38800,4200,13200,15900,5500,91401,"Wien 14. - Penzing",1276100,4000,2900,500,600,200]
[91501,"Wien 15. - Rudolfsheim-Fünfhaus",1021400,429500,344400,0,85100,0,91501,"Wien 15. - Rudolfsheim-Fünfhaus",1021400,241000,137100,5200,85900,12800,91501,"Wien 15. - Rudolfsheim-Fünfhaus",1021400,32900,3900,5800,16200,6900,91501,"Wien 15. - Rudolfsheim-Fünfhaus",1021400,0,0,0,0,0]
[91601,"Wien 16. - Ottakring",1266600,590700,472500,0,118100,0,91601,"Wien 16. - Ottakring",1266600,235300,133800,5100,83900,12500,91601,"Wien 16. - Ottakring",1266600,65800,6900,26200,24500,8100,91601,"Wien 16. - Ottakring",1266600,600,400,100,100,0]
[91701,"Wien 17. - Hernals",803000,372400,300100,0,72300,0,91701,"Wien 17. - Hernals",803000,143500,81600,3100,51200,7600,91701,"Wien 17. - Hernals",803000,73600,6100,39500,22000,6100,91701,"Wien 17. - Hernals",803000,2400,1700,300,300,100]
[91801,"Wien 18. - Währing",731400,404900,326500,0,78300,0,91801,"Wien 18. - Währing",731400,108100,61500,2300,38600,5700,91801,"Wien 18. - Währing",731400,12300,1700,2400,5700,2500,91801,"Wien 18. - Währing",731400,200,100,0,0,0]
[91901,"Wien 19. - Döbling",1193400,554800,442300,0,112400,0,91901,"Wien 19. - Döbling",1193400,264900,150600,5700,94400,14000,91901,"Wien 19. - Döbling",1193400,42600,5400,13100,17800,6200,91901,"Wien 19. - Döbling",1193400,19000,13500,2200,2600,700]
[92001,"Wien 20. - Brigittenau",1099800,440500,344500,0,96000,0,92001,"Wien 20. - Brigittenau",1099800,302400,172000,6600,107800,16000,92001,"Wien 20. - Brigittenau",1099800,46700,7300,15600,17900,5900,92001,"Wien 20. - Brigittenau",1099800,0,0,0,0,0]
[92101,"Wien 21. - Floridsdorf",2278300,901700,707100,0,194600,0,92101,"Wien 21. - Floridsdorf",2278300,441600,251100,9600,157400,23400,92101,"Wien 21. - Floridsdorf",2278300,158400,37500,38700,64600,17700,92101,"Wien 21. - Floridsdorf",2278300,33900,24100,3900,4600,1300]
[92201,"Wien 22. - Donaustadt",2879000,1036800,811600,0,225300,0,92201,"Wien 22. - Donaustadt",2879000,503700,286500,10900,179600,26700,92201,"Wien 22. - Donaustadt",2879000,425200,52600,199900,141400,31300,92201,"Wien 22. - Donaustadt",2879000,67100,47700,7700,9200,2500]
[92301,"Wien 23. - Liesing",2003600,671800,533300,0,138500,0,92301,"Wien 23. - Liesing",2003600,437600,248900,9500,156000,23200,92301,"Wien 23. - Liesing",2003600,355000,44300,142700,125900,42100,92301,"Wien 23. - Liesing",2003600,6600,4700,800,900,200]

{"sheet":"Dropdownwerte","index":14,"n_rows":55,"n_cols":8,"rows_kept":55,"cut":false,"hidden":true,"merged":[]}
["Datenqualität","Energieträger/Verkehrsleistung","Einheiten",null,"+","-",null,"Emissionsfaktorjahre"]
["hoch","Benzin (inkl. Beimengung)","kg",null,{"$f":"\"+1\"","v":"+1"},{"$f":"\"+1\"","v":"+1"},null,2018]
["mittel","Benzin fossil","t",null,{"$f":"\"+2\"","v":"+2"},{"$f":"\"+2\"","v":"+2"},null,2019]
["niedrig","Biobrennstoffe flüssig ","Liter",null,{"$f":"\"+3\"","v":"+3"},{"$f":"\"+3\"","v":"+3"},null,2020]
[null,"Biobrennstoffe gasförmig ","Nm3 (Normkubikmeter)",null,{"$f":"\"+4\"","v":"+4"},{"$f":"\"+4\"","v":"+4"},null,2021]
[null,"Biodiesel","kWh",null,"EI und EFA zurücksetzen","Zeile löschen",null,2022]
[null,"Bioethanol","MWh",null,null,"EI und EFA zurücksetzen",null,2023]
[null,"Biomasse (Biobrennstoffe fest): Gesamt","Fzg-km"]
[null,"Biomasse (Biobrennstoffe fest): Hackgut ","Tonnen-km"]
[null,"Biomasse (Biobrennstoffe fest): Pellets","Personen-km"]
[null,"Biomasse (Biobrennstoffe fest): Stückholz "]
[null,"Brennbare Abfälle"]
[null,"Bus"]
[null,"CNG"]
[null,"CO2-eq Direkteingabe"]
[null,"Diesel (inkl. Beimengung)"]
[null,"Diesel fossil"]
[null,"Erdgas (fossil) (Brennwert)"]
[null,"Erdgas (fossil) (Heizwert)"]
[null,"Flüssiggas LPG"]
[null,"FW Bregenz"]
[null,"FW Dornbirn"]
[null,"FW Durchschnitt AT"]
[null,"FW Graz"]
[null,"FW Innsbruck"]
[null,"FW Klagenfurt"]
[null,"FW Linz"]
[null,"FW Salzburg"]
[null,"FW St. Pölten"]
[null,"FW St. Veit/Glan"]
[null,"FW Steyr"]
[null,"FW Tulln"]
[null,"FW Villach"]
[null,"FW Wien"]
[null,"FW Wiener Neustadt"]
[null,"Heizöl extra leicht (fossil) "]
[null,"Heizöl leicht (fossil) "]
[null,"Industrielle Abwärme"]
[null,"Kerosin"]
[null,"Kohle"]
[null,"LKW Durchschnitt"]
[null,"Leichtes Nutzfahrzeug"]
[null,"Motorrad / Mopeds"]
[null,"Photovoltaik"]
[null,"Pkw"]
[null,"Schienenverkehr Diesel"]
[null,"Schienenverkehr Elektrisch"]
[null,"Schweres Nutzfahrzeug"]
[null,"Solarthermie"]
[null,"Strom aus Wasserkraft"]
[null,"Strom aus Windkraft"]
[null,"Strom Durchschnitt AT"]
[null,"100% Ökostrom"]
[null,"Wärmepumpe (Strom Durchschnitt AT)"]
[null,"Wasserstoff"]

{"sheet":"Emissionsfaktoren","index":15,"n_rows":223,"n_cols":54,"rows_kept":223,"cut":false,"hidden":true,"merged":[[0,22,3,32],[0,37,1,53]]}
["Energieträger","Einheit","Schlüssel","Heizwert in kWh","Quellenangabe","Energieträger","Emissionsfaktor direkt","Emissionsfaktor indirekt","Quellenangabe, intern",null,null,null,null,null,null,null,null,null,null,null,null,null,"Dropdownlisten für die möglichen Einheiten je Energieträger",null,null,null,null,null,null,null,null,null,null,null,null,null,null,"Emissionsfaktoren Abfall"]
[null,null,"_","Energieträger/Einheit wählen",null,null," t CO2eq/MWh"," t CO2eq/MWh"]
["Benzin (inkl. Beimengung)","kg","Benzin (inkl. Beimengung)_kg",11.407686432867768,null,"Heizöl extra leicht (fossil) ",0.27087479999999997,7.3588102997403718E-2,"Basisfaktoren 2019"]
["Benzin (inkl. Beimengung)","Liter","Benzin (inkl. Beimengung)_Liter",8.5074874956669291,null,"Heizöl leicht (fossil) ",0.27807479999999996,7.3588102997403718E-2,"Basisfaktoren 2019",null,"Zeilenbeschriftungen",null,null,"Zeilenbeschriftungen",null,null,"Zeilenbeschriftungen","Anzahl von Einheit",null,null,null,null,null,null,null,null,null,null,null,null,null,null,null,null,null,null,null,"Abfallart","Aufkommen (t)",null,"% Scope 1","Recycling/Stoffliche Verwertung","EFAs kg CO2 / t Abfall","thermische Verwertung","EFA therm. Verw.","deponiert/Beseitigung","EFA Deponie, kg CO2-eq / t","Export","Recycling/stoffl. V. Export","EFA Export (kg CO2-eq / t)","Ergebnis t CO2-eq","Recycling/Stoffliche Verwertung","thermische Verwertung","deponiert/Beseitigung"]
["Benzin (inkl. Beimengung)","t","Benzin (inkl. Beimengung)_t",11407.686432867768,null,"Erdgas (fossil) (Heizwert)",0.2007594,4.8720599999999989E-2,"Basisfaktoren 2019",null,"Benzin (inkl. Beimengung)",null,null,"kg",null,null,"Benzin (inkl. Beimengung)",5,null,null,null,null,null,null,null,null,null,null,null,null,null,null,null,null,null,null,null,2018]
["Benzin (inkl. Beimengung)","kWh","Benzin (inkl. Beimengung)_kWh",1,null,"Erdgas (fossil) (Brennwert)",0.18068345999999999,4.3848539999999991E-2,"Basisfaktoren 2019",null,"Benzin fossil",null,null,"Liter",null,null,"kg",1,null,null,null,null,null,"kg","t","Liter","Nm3 (Normkubikmeter)","kWh","MWh","Fzg-km","Personen-km","Tonnen-km",null,null,null,null,null,"Abwasser",null,"Einwohner:innen",null,null,11,null,null,null,0]
["Benzin (inkl. Beimengung)","MWh","Benzin (inkl. Beimengung)_MWh",1000,null,"Flüssiggas LPG",0.23099940000000002,8.2030000000000006E-2,"Basisfaktoren 2019",null,"Biobrennstoffe flüssig ",null,null,"Nm3 (Normkubikmeter)",null,null,"kWh",1,null,null,null,null,{"$f":"K5","v":"Benzin (inkl. Beimengung)"},{"$f":"IF(ISERROR(GETPIVOTDATA(\"Einheit\",$Q$4,\"Energieträger\",$W7,\"Einheit\",X$6)),\"\",X$6&\",\")","v":"kg,"},{"$f":"IF(ISERROR(GETPIVOTDATA(\"Einheit\",$Q$4,\"Energieträger\",$W7,\"Einheit\",Y$6)),\"\",Y$6&\",\")","v":"t,"},"Liter,","","kWh,","MWh,","","","",{"$f":"X7&Y7&Z7&AA7&AB7&AC7&AD7&AE7&AF7","v":"kg,t,Liter,kWh,MWh,"},null,null,null,null,"Restmüll",null,"Tonnen",null,13.846997532218261,0,86.098162873594731,0,2.7858427573950735,7560,3.7222265935798107,372,null,null,null,93.445945945945937,6.1036036036036032]
["Benzin fossil","Liter","Benzin fossil_Liter",8.6342062242990405,null,"Biomasse (Biobrennstoffe fest): Stückholz ",1.8292736161375171E-2,6.3E-3,"Basisfaktoren 2019",null,"Biobrennstoffe gasförmig ",null,null,"(Leer)",null,null,"Liter",1,null,null,null,null,{"$f":"K6","v":"Benzin fossil"},{"$f":"IF(ISERROR(GETPIVOTDATA(\"Einheit\",$Q$4,\"Energieträger\",$W8,\"Einheit\",X$6)),\"\",X$6&\",\")","v":"kg,"},"t,","Liter,","","kWh,","MWh,","","","",{"$f":"X8&Y8&Z8&AA8&AB8&AC8&AD8&AE8&AF8","v":"kg,t,Liter,kWh,MWh,"},null,null,null,null,"Sperrmüll",null,"Tonnen",null,15.13280887692491,0,55.699678423806965,0,2.5497483730636081,0,2.4721269764251379,372,null,null,null,100]
["Benzin fossil","t","Benzin fossil_t",11605.115892875056,null,"Biomasse (Biobrennstoffe fest): Hackgut ",1.2739824E-2,6.62E-3,"Basisfaktoren 2019",null,"Biodiesel",null,null,"MWh",null,null,"MWh",1,null,null,null,null,"Biobrennstoffe flüssig ","","t,","Liter,","Nm3 (Normkubikmeter),","kWh,","MWh,","","","","t,Liter,Nm3 (Normkubikmeter),kWh,MWh,",null,null,null,null,"Leichtfraktion",null,"Tonnen",null,26,0,72,0,2,0,25.347984872376127,807,null,null,50.81939883321099,48.704481062215869,0.47612010457314319]
["Benzin fossil","kWh","Benzin fossil_kWh",1,null,"Biomasse (Biobrennstoffe fest): Pellets",5.3839439999999999E-3,2.0760000000000001E-2,"Basisfaktoren 2019",null,"Bioethanol",null,null,"kWh",null,null,"t",1,null,null,null,null,"Biobrennstoffe gasförmig ","kg,","t,","","","kWh,","MWh,","","","","kg,t,kWh,MWh,",null,null,null,null,"Altmetall",null,"Tonnen",null,65.455218376461474,0,52.031752343462699,0,0.35944767326463617,0,30.352104710747756,372,null,null,99.493021790642956,0.49964145220369521,1.2139194683236314E-2]
["Benzin fossil","MWh","Benzin fossil_MWh",1000,null,"Biomasse (Biobrennstoffe fest): Gesamt",1.5610493594460506E-2,8.5489999999999993E-3,"Basisfaktoren 2019",null,"Biomasse (Biobrennstoffe fest): Gesamt",null,null,"t",null,null,"Benzin fossil",5,null,null,null,null,"Biodiesel","kg,","t,","Liter,","","kWh,","MWh,","","","","kg,t,Liter,kWh,MWh,",null,null,null,null,"Altglas",null,"Tonnen",null,42.103948450307776,0,1.1644319428574417,0,0.44096842026334276,0,29.673056346730561,372,null,null,97.748923765183918,2.2510762348160722,0.12664165103189495]
["Benzin fossil","kg","Benzin fossil_kg",10.325348569988222,null,"Biobrennstoffe flüssig ",4.0980459618944138E-3,0.11291754638524576,"Basisfaktoren 2019",null,"Biomasse (Biobrennstoffe fest): Hackgut ",null,null,"Fzg-km",null,null,"kg",1,null,null,null,null,"Bioethanol","kg,","t,","Liter,","","kWh,","MWh,","","","","kg,t,Liter,kWh,MWh,",null,null,null,null,"Altpapier",null,"Tonnen",null,83.432231656955992,0,9.4268456247562611,0,0,0,6.0387038551503389,167,null,null,95.579618925900832,3.8370385318221061,0.4253611107107223]
["Biobrennstoffe flüssig ","Liter","Biobrennstoffe flüssig _Liter",9.2102109244294947,null,"Biobrennstoffe gasförmig ",5.9940000000000004E-4,8.1360000000000016E-2,"Basisfaktoren 2019",null,"Biomasse (Biobrennstoffe fest): Pellets",null,null,"Personen-km",null,null,"kWh",1,null,null,null,null,"Biomasse (Biobrennstoffe fest): Gesamt","kg,","t,","","","kWh,","MWh,","","","","kg,t,kWh,MWh,",null,null,null,null,"Bioabfall",null,"Tonnen",null,50.520599279145728,34.950000000000003,2.9989879187766788,0,0.94354027615879332,7560,2.5700600425570261,34.950000000000003,null,null,67.426808737784356,30.173482795434015,2.3997084667816373]
["Biobrennstoffe flüssig ","t","Biobrennstoffe flüssig _t",10325.348569988222,null,"Diesel (inkl. Beimengung)",0.25539282669306268,7.618384626100129E-2,"Basisfaktoren 2019",null,"Biomasse (Biobrennstoffe fest): Stückholz ",null,null,"Tonnen-km",null,null,"Liter",1,null,null,null,null,"Biomasse (Biobrennstoffe fest): Hackgut ","kg,","t,","","","kWh,","MWh,","","","","kg,t,kWh,MWh,",null,null,null,null,"Altholz",null,"Tonnen",null,53.415142028469994,0,36.022317902211078,0,0,0,9.5069530037638525,6.9,null,null,84.772372987426749,15.227627012573251]
["Biobrennstoffe flüssig ","kWh","Biobrennstoffe flüssig _kWh",1,null,"Benzin (inkl. Beimengung)",0.26248341625640026,6.4527354695540801E-2,"Basisfaktoren 2019",null,"CNG",null,null,"Gesamtergebnis",null,null,"MWh",1,null,null,null,null,"Biomasse (Biobrennstoffe fest): Pellets","kg,","t,","","","kWh,","MWh,","","","","kg,t,kWh,MWh,",null,null,null,null,"Alttextilien",null,"Tonnen",null,3.1695820577521676,0,16.955034735430253,0,3.4081011090687596,7560,22.080982089103674,32,null,null,63.083022388059703,35.824227078891255,1.2653251599147122]
["Biobrennstoffe flüssig ","MWh","Biobrennstoffe flüssig _MWh",1000,null,"CNG",0.20210260453011258,4.7377395469887403E-2,"Basisfaktoren 2019",null,"Diesel (inkl. Beimengung)",null,null,null,null,null,"t",1,null,null,null,null,"Biomasse (Biobrennstoffe fest): Stückholz ","kg,","t,","","","kWh,","MWh,","","","","kg,t,kWh,MWh,",null,null,null,null,"EAG",null,"Tonnen",null,77.5,0,null,0,0,0,null,427.3]
["Biobrennstoffe flüssig ","Nm3 (Normkubikmeter)","Biobrennstoffe flüssig _Nm3 (Normkubikmeter)",10.158064695232865,null,"Biodiesel",4.0980459618944138E-3,0.11291754638524576,"Basisfaktoren 2019",null,"Diesel fossil",null,null,null,null,null,"Biobrennstoffe flüssig ",5,null,null,null,null,"CNG","kg,","t,","","Nm3 (Normkubikmeter),","kWh,","MWh,","","","","kg,t,Nm3 (Normkubikmeter),kWh,MWh,"]
["Biobrennstoffe gasförmig ","kg","Biobrennstoffe gasförmig _kg",13.544086260310486,null,"Bioethanol",1.0844148317539699E-3,8.6635391843301213E-2,"Basisfaktoren 2019",null,"Erdgas (fossil) (Brennwert)",null,null,null,null,null,"kWh",1,null,null,null,null,"Diesel (inkl. Beimengung)","kg,","t,","Liter,","","kWh,","MWh,","","","","kg,t,Liter,kWh,MWh,"]
["Biobrennstoffe gasförmig ","t","Biobrennstoffe gasförmig _t",13544.086260310487,null,"Diesel fossil",0.26877189700259629,7.3588102997403718E-2,"Basisfaktoren 2019",null,"Erdgas (fossil) (Heizwert)",null,null,null,null,null,"Liter",1,null,null,null,null,"Diesel fossil","kg,","t,","Liter,","","kWh,","MWh,","","","","kg,t,Liter,kWh,MWh,"]
["Biobrennstoffe gasförmig ","kg","Biobrennstoffe gasförmig _kg",10.325348569988222,null,"Benzin fossil",0.27256532244758536,6.3314677552414711E-2,"Basisfaktoren 2019",null,"Flüssiggas LPG",null,null,null,null,null,"MWh",1,null,null,null,null,"Erdgas (fossil) (Brennwert)","kg,","t,","","Nm3 (Normkubikmeter),","kWh,","MWh,","","","","kg,t,Nm3 (Normkubikmeter),kWh,MWh,"]
["Biobrennstoffe gasförmig ","kWh","Biobrennstoffe gasförmig _kWh",1,null,"Strom Durchschnitt AT",0.1734,4.53E-2,"Basisfaktoren 2019",null,"Heizöl extra leicht (fossil) ",null,null,null,null,null,"Nm3 (Normkubikmeter)",1,null,null,null,null,"Erdgas (fossil) (Heizwert)","kg,","t,","","Nm3 (Normkubikmeter),","kWh,","MWh,","","","","kg,t,Nm3 (Normkubikmeter),kWh,MWh,"]
["Biobrennstoffe gasförmig ","MWh","Biobrennstoffe gasförmig _MWh",1000,null,"Kohle / Koks",0.33514971084497724,4.7960000000000003E-2,"Basisfaktoren 2019",null,"Heizöl leicht (fossil) ",null,null,null,null,null,"t",1,null,null,null,null,"Flüssiggas LPG","kg,","t,","Liter,","","kWh,","MWh,","","","","kg,t,Liter,kWh,MWh,"]
["Biodiesel","Liter","Biodiesel_Liter",9.2102109244294947,null,"Brennbare Abfälle",0.28299999999999997,8.2000000000000007E-3,"Basisfaktoren 2019",null,"(Leer)",null,null,null,null,null,"Biobrennstoffe gasförmig ",5,null,null,null,null,"Heizöl extra leicht (fossil) ","kg,","t,","Liter,","","kWh,","MWh,","","","","kg,t,Liter,kWh,MWh,"]
["Biodiesel","t","Biodiesel_t",10325.348569988222,null,"Pkw",0.2589381214747315,7.0355600478271052E-2,"Basisfaktoren 2019",null,"Brennbare Abfälle",null,null,null,null,null,"kg",2,null,null,null,null,"Heizöl leicht (fossil) ","kg,","t,","Liter,","","kWh,","MWh,","","","","kg,t,Liter,kWh,MWh,"]
["Biodiesel","kWh","Biodiesel_kWh",1,null,"Bus",0.2589381214747315,7.0355600478271052E-2,"Basisfaktoren 2019",null,"Umgebungswärme",null,null,null,null,null,"kWh",1,null,null,null,null,"(Leer)","","","","","","","","","",{"$f":"X25&Y25&Z25&AA25&AB25&AC25&AD25&AE25&AF25","v":""}]
["Biodiesel","MWh","Biodiesel_MWh",1000,null,"Schienenverkehr Diesel",0.25539282669306268,7.618384626100129E-2,"Basisfaktoren 2019",null,"Pkw",null,null,null,null,null,"MWh",1,null,null,null,null,"Brennbare Abfälle","","t,","","","kWh,","MWh,","","","","t,kWh,MWh,"]
["Biodiesel","kg","Biodiesel_kg",7.9656909984041802,null,"Schienenverkehr Elektrisch",0.15,4.5000000000000012E-2,"Basisfaktoren 2019",null,"Bus",null,null,null,null,null,"t",1,null,null,null,null,"Umgebungswärme","","","","","","MWh,","","","","MWh,"]
["Bioethanol","Liter","Bioethanol_Liter",6.1973075967584528,null,"CO2-eq Direkteingabe",1000,0,null,null,"Schienenverkehr Elektrisch",null,null,null,null,null,"Biodiesel",5,null,null,null,null,"Pkw","","","","","","","Fzg-km,","Personen-km,","","Fzg-km,Personen-km,"]
["Bioethanol","t","Bioethanol_t",7965.6909984041804,null,"Wasserstoff",0,0,null,null,"Schienenverkehr Diesel",null,null,null,null,null,"kg",1,null,null,null,null,"Bus","","","","","","","Fzg-km,","Personen-km,","","Fzg-km,Personen-km,"]
["Bioethanol","kg","Bioethanol_kg",3.8161780550550493,null,"Photovoltaik",0,0,null,null,"Strom Durchschnitt AT",null,null,null,null,null,"kWh",1,null,null,null,null,"Schienenverkehr Elektrisch","","","","","","","","Personen-km,","Tonnen-km,","Personen-km,Tonnen-km,"]
["Bioethanol","kWh","Bioethanol_kWh",1,null,"Solarthermie",0,0,null,null,"Wasserstoff",null,null,null,null,null,"Liter",1,null,null,null,null,"Schienenverkehr Diesel","","","","","","","","Personen-km,","Tonnen-km,","Personen-km,Tonnen-km,"]
["Bioethanol","MWh","Bioethanol_MWh",1000,null,"Industrielle Abwärme",0,0,null,null,"Photovoltaik",null,null,null,null,null,"MWh",1,null,null,null,null,"Strom Durchschnitt AT","","","","","kWh,","MWh,","","","","kWh,MWh,"]
["Biomasse (Biobrennstoffe fest): Gesamt","t","Biomasse (Biobrennstoffe fest): Gesamt_t",3816.1780550550493,null,"100% Ökostrom",0,1.4E-2,null,null,"Solarthermie",null,null,null,null,null,"t",1,null,null,null,null,"Wasserstoff","","","","","kWh,","MWh,","","","","kWh,MWh,"]
["Biomasse (Biobrennstoffe fest): Gesamt","kg","Biomasse (Biobrennstoffe fest): Gesamt_kg",2.9715772878822539,null,"Strom aus Wasserkraft",0,2.5999999999999999E-2,null,null,"Industrielle Abwärme",null,null,null,null,null,"Bioethanol",5,null,null,null,null,"Photovoltaik","","","","","kWh,","MWh,","","","","kWh,MWh,"]
["Biomasse (Biobrennstoffe fest): Gesamt","kWh","Biomasse (Biobrennstoffe fest): Gesamt_kWh",1,null,"Wärmepumpe (Strom Durchschnitt AT)",5.7799999999999997E-2,1.5100000000000001E-2,null,null,"Strom aus Wasserkraft",null,null,null,null,null,"kg",1,null,null,null,null,"Solarthermie","","","","","kWh,","MWh,","","","",{"$f":"X35&Y35&Z35&AA35&AB35&AC35&AD35&AE35&AF35","v":"kWh,MWh,"}]
["Biomasse (Biobrennstoffe fest): Gesamt","MWh","Biomasse (Biobrennstoffe fest): Gesamt_MWh",1000,null,"Strom aus Windkraft",0,8.0000000000000002E-3,null,null,"FW Innsbruck",null,null,null,null,null,"kWh",1,null,null,null,null,"Industrielle Abwärme","","","",{"$f":"IF(ISERROR(GETPIVOTDATA(\"Einheit\",$Q$4,\"Energieträger\",$W36,\"Einheit\",AA$6)),\"\",AA$6&\",\")","v":""},"kWh,","MWh,","","","",{"$f":"X36&Y36&Z36&AA36&AB36&AC36&AD36&AE36&AF36","v":"kWh,MWh,"}]
["Biomasse (Biobrennstoffe fest): Hackgut ","t","Biomasse (Biobrennstoffe fest): Hackgut _t",2971.577287882254,null,"Motorrad / Mopeds",0.26248341625640026,6.4527354695540801E-2,"climcalc & GEMIS Moped/Motorrad-2015-Benzin-mittel",null,"FW Salzburg",null,null,null,null,null,"Liter",1,null,null,null,null,"Strom aus Wasserkraft","","","","","kWh,","MWh,","","","","kWh,MWh,"]
["Biomasse (Biobrennstoffe fest): Hackgut ","kg","Biomasse (Biobrennstoffe fest): Hackgut _kg",4.8011111111111093,null,"Leichtes Nutzfahrzeug",0.2589381214747315,7.0355600478271052E-2,"VTL",null,"FW St. Pölten",null,null,null,null,null,"MWh",1,null,null,null,null,"FW Innsbruck","","","","","kWh,","MWh,","","","","kWh,MWh,"]
["Biomasse (Biobrennstoffe fest): Hackgut ","kWh","Biomasse (Biobrennstoffe fest): Hackgut _kWh",1,null,"Schweres Nutzfahrzeug",0.2589381214747315,7.0355600478271052E-2,"VTL",null,"Wärmepumpe (Strom Durchschnitt AT)",null,null,null,null,null,"t",1,null,null,null,null,"FW Salzburg","","","","","kWh,","MWh,","","","","kWh,MWh,"]
["Biomasse (Biobrennstoffe fest): Hackgut ","MWh","Biomasse (Biobrennstoffe fest): Hackgut _MWh",1000,null,"LKW Durchschnitt",0.2589381214747315,7.0355600478271052E-2,"VTL",null,"Strom aus Windkraft",null,null,null,null,null,"Biomasse (Biobrennstoffe fest): Gesamt",4,null,null,null,null,"FW St. Pölten","","","","","kWh,","MWh,","","","","kWh,MWh,"]
["Biomasse (Biobrennstoffe fest): Pellets","t","Biomasse (Biobrennstoffe fest): Pellets_t",4801.1111111111095,null,"Kerosin",0.26400000000000001,5.8999999999999997E-2,"Energieträgerliste 2024",null,"CO2-eq Direkteingabe",null,null,null,null,null,"kg",1,null,null,null,null,"Wärmepumpe (Strom Durchschnitt AT)","","","","","kWh,","MWh,","","","","kWh,MWh,"]
["Biomasse (Biobrennstoffe fest): Pellets","kg","Biomasse (Biobrennstoffe fest): Pellets_kg",3.9752777777777775,null,"FW Innsbruck",8.3264361658953359E-2,2.6549400850211236E-2,null,null,"Kerosin",null,null,null,null,null,"kWh",1,null,null,null,null,"Strom aus Windkraft","","","","","kWh,","MWh,","","","","kWh,MWh,"]
["Biomasse (Biobrennstoffe fest): Pellets","kWh","Biomasse (Biobrennstoffe fest): Pellets_kWh",1,null,"FW Wien",0.14099999999999999,5.8999999999999997E-2,null,null,"Kohle / Koks",null,null,null,null,null,"MWh",1,null,null,null,null,"CO2-eq Direkteingabe","","t,","","","","","","","","t,"]
["Biomasse (Biobrennstoffe fest): Pellets","MWh","Biomasse (Biobrennstoffe fest): Pellets_MWh",1000,null,"FW Graz",0.14099999999999999,5.8999999999999997E-2,null,null,"Leichtes Nutzfahrzeug",null,null,null,null,null,"t",1,null,null,null,null,"Kerosin","kg,","","Liter,","","kWh,","MWh,","","","","kg,Liter,kWh,MWh,"]
["Biomasse (Biobrennstoffe fest): Stückholz ","kg","Biomasse (Biobrennstoffe fest): Stückholz _kg",3.9752777777777801,null,"FW Salzburg",0.14984909659734416,5.254027830891269E-2,null,null,"LKW Durchschnitt",null,null,null,null,null,"Biomasse (Biobrennstoffe fest): Hackgut ",4,null,null,null,null,"Kohle / Koks","kg,","t,","","","kWh,","MWh,","","","","kg,t,kWh,MWh,"]
["Biomasse (Biobrennstoffe fest): Stückholz ","t","Biomasse (Biobrennstoffe fest): Stückholz _t",3975.2777777777774,null,"FW Bregenz",0.14099999999999999,5.8999999999999997E-2,null,null,"Motorrad / Mopeds",null,null,null,null,null,"kg",1,null,null,null,null,"Leichtes Nutzfahrzeug","","","","","","","Fzg-km,","","Tonnen-km,","Fzg-km,Tonnen-km,"]
["Biomasse (Biobrennstoffe fest): Stückholz ","kWh","Biomasse (Biobrennstoffe fest): Stückholz _kWh",1,null,"FW Dornbirn",0.14099999999999999,5.8999999999999997E-2,null,null,"Schweres Nutzfahrzeug",null,null,null,null,null,"kWh",1,null,null,null,null,"LKW Durchschnitt","","","","","","","Fzg-km,","","Tonnen-km,","Fzg-km,Tonnen-km,"]
["Biomasse (Biobrennstoffe fest): Stückholz ","MWh","Biomasse (Biobrennstoffe fest): Stückholz _MWh",1000,null,"FW Klagefurt",0.14099999999999999,5.8999999999999997E-2,null,null,"FW Durchschnitt AT",null,null,null,null,null,"MWh",1,null,null,null,null,"Motorrad / Mopeds","","","","","","","Fzg-km,","","","Fzg-km,"]
["Brennbare Abfälle","t","Brennbare Abfälle_t",4785,null,"FW Linz",0.23409533491497184,3.3606265998801052E-2,null,null,"FW Villach",null,null,null,null,null,"t",1,null,null,null,null,"Schweres Nutzfahrzeug","","","","","","","Fzg-km,","","Tonnen-km,","Fzg-km,Tonnen-km,"]
["Brennbare Abfälle","MWh","Brennbare Abfälle_MWh",1000,null,"FW St. Veit/Glan",0.14099999999999999,5.8999999999999997E-2,null,null,"FW Wien",null,null,null,null,null,"Biomasse (Biobrennstoffe fest): Pellets",4,null,null,null,null,"FW Durchschnitt AT","","","","","kWh,","MWh,","","","","kWh,MWh,"]
["Brennbare Abfälle","kWh","Brennbare Abfälle_kWh",1,null,"FW St. Pölten",0.19034492039398088,2.9502844782645064E-2,null,null,"FW Graz",null,null,null,null,null,"kg",1,null,null,null,null,{"$f":"IF(K49<>\"\",K49,\"\")","v":"FW Villach"},"","","","","kWh,","MWh,","","","","kWh,MWh,"]
["Bus","Fzg-km","Bus_Fzg-km",2.9849999999999999,"Verkehrsträgerliste 2019","FW Steyr",0.14099999999999999,5.8999999999999997E-2,null,null,"FW Bregenz",null,null,null,null,null,"kWh",1,null,null,null,null,{"$f":"IF(K50<>\"\",K50,\"\")","v":"FW Wien"},"","","","","kWh,","MWh,","","","",{"$f":"X52&Y52&Z52&AA52&AB52&AC52&AD52&AE52&AF52","v":"kWh,MWh,"}]
["Bus","Personen-km","Bus_Personen-km",0.159,"Verkehrsträgerliste 2019","FW Tulln",0.14099999999999999,5.8999999999999997E-2,null,null,"FW Dornbirn",null,null,null,null,null,"MWh",1,null,null,null,null,"FW Graz",{"$f":"IF(ISERROR(GETPIVOTDATA(\"Einheit\",$Q$4,\"Energieträger\",$W53,\"Einheit\",X$6)),\"\",X$6&\",\")","v":""},"","","","kWh,","MWh,","","","","kWh,MWh,"]
["CNG","kg","CNG_kg",10.179000000000004,null,"FW Villach",0.14099999999999999,5.8999999999999997E-2,null,null,"FW Klagefurt",null,null,null,null,null,"t",1,null,null,null,null,"FW Bregenz","","","","","kWh,","MWh,","","","","kWh,MWh,"]
["CNG","Nm3 (Normkubikmeter)","CNG_Nm3 (Normkubikmeter)",7.6342500000000033,null,"FW Wiener Neustadt",0.14099999999999999,5.8999999999999997E-2,null,null,"FW Linz",null,null,null,null,null,"Biomasse (Biobrennstoffe fest): Stückholz ",4,null,null,null,null,"FW Dornbirn","","","","","kWh,","MWh,","","","","kWh,MWh,"]
["CNG","t","CNG_t",10179.000000000004,null,"FW Durchschnitt AT",0.14099999999999999,5.8999999999999997E-2,"Basisfaktoren 2019",null,"FW St. Veit/Glan",null,null,null,null,null,"kg",1,null,null,null,null,"FW Klagefurt","","","","","kWh,","MWh,","","","","kWh,MWh,"]
["CNG","kWh","CNG_kWh",1,null,null,null,null,null,null,"FW Steyr",null,null,null,null,null,"kWh",1,null,null,null,null,"FW Linz","","","","","kWh,","MWh,","","","","kWh,MWh,"]
["CNG","MWh","CNG_MWh",1000,null,null,null,null,null,null,"FW Tulln",null,null,null,null,null,"MWh",1,null,null,null,null,"FW St. Veit/Glan","","","","","kWh,","MWh,","","","","kWh,MWh,"]
["CO2-eq Direkteingabe","t","CO2-eq Direkteingabe_t",1,null,null,null,null,null,null,"FW Wiener Neustadt",null,null,null,null,null,"t",1,null,null,null,null,"FW Steyr","","","","","kWh,","MWh,","","","","kWh,MWh,"]
["Diesel (inkl. Beimengung)","kg","Diesel (inkl. Beimengung)_kg",11.668309804566031,null,null,null,null,null,null,"100% Ökostrom",null,null,null,null,null,"Brennbare Abfälle",3,null,null,null,null,"FW Tulln","","","","","kWh,","MWh,","","","","kWh,MWh,"]
["Diesel (inkl. Beimengung)","Liter","Diesel (inkl. Beimengung)_Liter",9.8087312710123413,null,null,null,null,null,null,null,null,null,null,null,null,"kWh",1,null,null,null,null,"FW Wiener Neustadt","","","","","kWh,","MWh,","","","","kWh,MWh,"]
["Diesel (inkl. Beimengung)","t","Diesel (inkl. Beimengung)_t",11668.30980456603,null,null,null,null,null,null,null,null,null,null,null,null,"MWh",1,null,null,null,null,"100% Ökostrom","","","","","kWh,","MWh,","","","","kWh,MWh,"]
["Diesel (inkl. Beimengung)","kWh","Diesel (inkl. Beimengung)_kWh",1,null,null,null,null,null,null,null,null,null,null,null,null,"t",1,null,null,null,null,"","","","","","","","","","",""]
["Diesel (inkl. Beimengung)","MWh","Diesel (inkl. Beimengung)_MWh",1000,null,null,null,null,null,null,null,null,null,null,null,null,"Bus",2,null,null,null,null,"","","","","","","","","","",""]
["Diesel fossil","kg","Diesel fossil_kg",11.76944444444444,null,null,null,null,null,null,null,null,null,null,null,null,"Fzg-km",1,null,null,null,null,"","","","","","","","","","",""]
["Diesel fossil","Liter","Diesel fossil_Liter",9.8510249999999964,null,null,null,null,null,null,null,null,null,null,null,null,"Personen-km",1,null,null,null,null,"","","","","","","","","","",""]
["Diesel fossil","t","Diesel fossil_t",11769.44444444444,null,null,null,null,null,null,null,null,null,null,null,null,"CNG",5,null,null,null,null,"","","","","","","","","","",""]
["Diesel fossil","kWh","Diesel fossil_kWh",1,null,null,null,null,null,null,null,null,null,null,null,null,"kg",1,null,null,null,null,"","","","","","","","","","",""]
["Diesel fossil","MWh","Diesel fossil_MWh",1000,null,null,null,null,null,null,null,null,null,null,null,null,"kWh",1,null,null,null,null,{"$f":"IF(K67<>\"\",K67,\"\")","v":""},{"$f":"IF(ISERROR(GETPIVOTDATA(\"Einheit\",$Q$4,\"Energieträger\",$W69,\"Einheit\",X$6)),\"\",X$6&\",\")","v":""},"","","","","","","","",{"$f":"X69&Y69&Z69&AA69&AB69&AC69&AD69&AE69&AF69","v":""}]
["Erdgas (fossil) (Brennwert)","Nm3 (Normkubikmeter)","Erdgas (fossil) (Brennwert)_Nm3 (Normkubikmeter)",11.310000000000004,null,null,null,null,null,null,null,null,null,null,null,null,"MWh",1,null,null,null,null,"","","","","","","","","","",""]
["Erdgas (fossil) (Brennwert)","kg","Erdgas (fossil) (Brennwert)_kg",15.080000000000005,null,null,null,null,null,null,null,null,null,null,null,null,"Nm3 (Normkubikmeter)",1,null,null,null,null,"","","","","","","","","","",""]
["Erdgas (fossil) (Brennwert)","t","Erdgas (fossil) (Brennwert)_t",15080.000000000005,null,null,null,null,null,null,null,null,null,null,null,null,"t",1,null,null,null,null,"","","","","","","","","","",""]
["Erdgas (fossil) (Brennwert)","kWh","Erdgas (fossil) (Brennwert)_kWh",1,null,null,null,null,null,null,null,null,null,null,null,null,"Diesel (inkl. Beimengung)",5,null,null,null,null,"","","","","","","","","","",""]
["Erdgas (fossil) (Brennwert)","MWh","Erdgas (fossil) (Brennwert)_MWh",1000,null,null,null,null,null,null,null,null,null,null,null,null,"kg",1,null,null,null,null,"","","","","","","","","","",""]
["Erdgas (fossil) (Heizwert)","Nm3 (Normkubikmeter)","Erdgas (fossil) (Heizwert)_Nm3 (Normkubikmeter)",10.179000000000004,null,null,null,null,null,null,null,null,null,null,null,null,"kWh",1,null,null,null,null,"","","","","","","","","","",""]
["Erdgas (fossil) (Heizwert)","kg","Erdgas (fossil) (Heizwert)_kg",13.572000000000005,null,null,null,null,null,null,null,null,null,null,null,null,"Liter",1,null,null,null,null,"","","","","","","","","","",""]
["Erdgas (fossil) (Heizwert)","t","Erdgas (fossil) (Heizwert)_t",13572.000000000004,null,null,null,null,null,null,null,null,null,null,null,null,"MWh",1,null,null,null,null,"","","","","","","","","","",""]
["Erdgas (fossil) (Heizwert)","kWh","Erdgas (fossil) (Heizwert)_kWh",1,null,null,null,null,null,null,null,null,null,null,null,null,"t",1,null,null,null,null,"","","","","","","","","","",""]
["Erdgas (fossil) (Heizwert)","MWh","Erdgas (fossil) (Heizwert)_MWh",1000,null,null,null,null,null,null,null,null,null,null,null,null,"Diesel fossil",5,null,null,null,null,"","","","","","","","","","",""]
["FW Durchschnitt AT","MWh","FW Durchschnitt AT_MWh",1000,null,null,null,null,null,null,null,null,null,null,null,null,"kg",1,null,null,null,null,"","","","","","","","","","",""]
["FW Durchschnitt AT","kWh","FW Durchschnitt AT_kWh",1,null,null,null,null,null,null,null,null,null,null,null,null,"kWh",1,null,null,null,null,"","","","",{"$f":"IF(ISERROR(GETPIVOTDATA(\"Einheit\",$Q$4,\"Energieträger\",$W81,\"Einheit\",AA$6)),\"\",AA$6&\",\")","v":""},"","","","","",""]
["Flüssiggas LPG","kg","Flüssiggas LPG_kg",12.811111111111112,null,null,null,null,null,null,null,null,null,null,null,null,"Liter",1,null,null,null,null,"","","","","","","","","","",""]
["Flüssiggas LPG","Liter","Flüssiggas LPG_Liter",6.918000000000001,null,null,null,null,null,null,null,null,null,null,null,null,"MWh",1,null,null,null,null,"","","","","","","","","","",""]
["Flüssiggas LPG","t","Flüssiggas LPG_t",12811.111111111111,null,null,null,null,null,null,null,null,null,null,null,null,"t",1,null,null,null,null,"","","","","","","","","","",""]
["Flüssiggas LPG","kWh","Flüssiggas LPG_kWh",1,null,null,null,null,null,null,null,null,null,null,null,null,"Erdgas (fossil) (Brennwert)",5,null,null,null,null,"","","","","","","","","","",""]
["Flüssiggas LPG","MWh","Flüssiggas LPG_MWh",1000,null,null,null,null,null,null,null,null,null,null,null,null,"kg",1,null,null,null,null,"","","","","","","","","","",""]
["FW Innsbruck","kWh","FW Innsbruck_kWh",1,null,null,null,null,null,null,null,null,null,null,null,null,"kWh",1,null,null,null,null,"","","","","","","","","","",""]
["FW Innsbruck","MWh","FW Innsbruck_MWh",1000,null,null,null,null,null,null,null,null,null,null,null,null,"MWh",1,null,null,null,null,"","","","","","","","","","",""]
["FW Salzburg","kWh","FW Salzburg_kWh",1,null,null,null,null,null,null,null,null,null,null,null,null,"Nm3 (Normkubikmeter)",1,null,null,null,null,"","","","","","","","","","",{"$f":"X89&Y89&Z89&AA89&AB89&AC89&AD89&AE89&AF89","v":""}]
["FW Salzburg","MWh","FW Salzburg_MWh",1000,null,null,null,null,null,null,null,null,null,null,null,null,"t",1,null,null,null,null,"","","","","","","","","","",""]
["FW St. Pölten","kWh","FW St. Pölten_kWh",1,null,null,null,null,null,null,null,null,null,null,null,null,"Erdgas (fossil) (Heizwert)",5,null,null,null,null,"","","","","","","","","","",""]
["FW St. Pölten","MWh","FW St. Pölten_MWh",1000,null,null,null,null,null,null,null,null,null,null,null,null,"kg",1,null,null,null,null,"","","","","","","","","","",""]
["Heizöl extra leicht (fossil) ","kg","Heizöl extra leicht (fossil) _kg",11.76944444444444,null,null,null,null,null,null,null,null,null,null,null,null,"kWh",1,null,null,null,null,"","","","","","","","","","",""]
["Heizöl extra leicht (fossil) ","Liter","Heizöl extra leicht (fossil) _Liter",9.8510249999999964,null,null,null,null,null,null,null,null,null,null,null,null,"MWh",1,null,null,null,null,"","","","","","","","","","",""]
["Heizöl extra leicht (fossil) ","t","Heizöl extra leicht (fossil) _t",11769.44444444444,null,null,null,null,null,null,null,null,null,null,null,null,"Nm3 (Normkubikmeter)",1,null,null,null,null,"","","","","","","","","","",""]
["Heizöl extra leicht (fossil) ","MWh","Heizöl extra leicht (fossil) _MWh",1000,null,null,null,null,null,null,null,null,null,null,null,null,"t",1,null,null,null,null,"","","","","","","","","","",""]
["Heizöl extra leicht (fossil) ","kWh","Heizöl extra leicht (fossil) _kWh",1,null,null,null,null,null,null,null,null,null,null,null,null,"Flüssiggas LPG",5,null,null,null,null,"",{"$f":"IF(ISERROR(GETPIVOTDATA(\"Einheit\",$Q$4,\"Energieträger\",$W97,\"Einheit\",X$6)),\"\",X$6&\",\")","v":""},"","","","","","","","",""]
["Heizöl leicht (fossil) ","kg","Heizöl leicht (fossil) _kg",11.572222222222223,null,null,null,null,null,null,null,null,null,null,null,null,"kg",1,null,null,null,null,"","","","","","","","","","",""]
["Heizöl leicht (fossil) ","Liter","Heizöl leicht (fossil) _Liter",10.646444444444446,null,null,null,null,null,null,null,null,null,null,null,null,"kWh",1,null,null,null,null,"","","","","","","","","","",""]
["Heizöl leicht (fossil) ","t","Heizöl leicht (fossil) _t",11572.222222222223,null,null,null,null,null,null,null,null,null,null,null,null,"Liter",1,null,null,null,null,"","","","","","","","","","",""]
["Heizöl leicht (fossil) ","MWh","Heizöl leicht (fossil) _MWh",1000,null,null,null,null,null,null,null,null,null,null,null,null,"MWh",1,null,null,null,null,"","","","","","","","","","",""]
["Heizöl leicht (fossil) ","kWh","Heizöl leicht (fossil) _kWh",1,null,null,null,null,null,null,null,null,null,null,null,null,"t",1,null,null,null,null,"","","","","","","","","","",""]
["Industrielle Abwärme","kWh","Industrielle Abwärme_kWh",1,null,null,null,null,null,null,null,null,null,null,null,null,"Heizöl extra leicht (fossil) ",5,null,null,null,null,"","","","","","","","","","",""]
["Industrielle Abwärme","MWh","Industrielle Abwärme_MWh",1000,null,null,null,null,null,null,null,null,null,null,null,null,"kg",1,null,null,null,null,"","","","","","","","","","",""]
["Kerosin","kWh","Kerosin_kWh",1,null,null,null,null,null,null,null,null,null,null,null,null,"kWh",1,null,null,null,null,"","","","","","","","","","",""]
["Kerosin","MWh","Kerosin_MWh",1000,null,null,null,null,null,null,null,null,null,null,null,null,"Liter",1]
["Kerosin","kg","Kerosin_kg",12.028,null,null,null,null,null,null,null,null,null,null,null,null,"MWh",1]
["Kerosin","Liter","Kerosin_Liter",9.6224000000000007,null,null,null,null,null,null,null,null,null,null,null,null,"t",1]
["Kohle / Koks","kg","Kohle / Koks_kg",7.8957984951136577,null,null,null,null,null,null,null,null,null,null,null,null,"Heizöl leicht (fossil) ",5]
["Kohle / Koks","t","Kohle / Koks_t",7895.7984951136577,null,null,null,null,null,null,null,null,null,null,null,null,"kg",1]
["Kohle / Koks","kWh","Kohle / Koks_kWh",1,null,null,null,null,null,null,null,null,null,null,null,null,"kWh",1]
["Kohle / Koks","MWh","Kohle / Koks_MWh",1000,null,null,null,null,null,null,null,null,null,null,null,null,"Liter",1]
["Leichtes Nutzfahrzeug","Fzg-km","Leichtes Nutzfahrzeug_Fzg-km",0.85,"Verkehrsträgerliste 2024",null,null,null,null,null,null,null,null,null,null,null,"MWh",1]
["Leichtes Nutzfahrzeug","Tonnen-km","Leichtes Nutzfahrzeug_Tonnen-km",2.54,"Verkehrsträgerliste 2024",null,null,null,null,null,null,null,null,null,null,null,"t",1]
["LKW Durchschnitt","Fzg-km","LKW Durchschnitt_Fzg-km",2.8889999999999998,"Verkehrsträgerliste 2019",null,null,null,null,null,null,null,null,null,null,null,"Pkw",2]
["LKW Durchschnitt","Tonnen-km","LKW Durchschnitt_Tonnen-km",0.27700000000000002,"Verkehrsträgerliste 2019",null,null,null,null,null,null,null,null,null,null,null,"Fzg-km",1]
["Motorrad / Mopeds","Fzg-km","Motorrad / Mopeds_Fzg-km",0.38,null,null,null,null,null,null,null,null,null,null,null,null,"Personen-km",1]
["Photovoltaik","kWh","Photovoltaik_kWh",1,null,null,null,null,null,null,null,null,null,null,null,null,"Schienenverkehr Diesel",2]
["Photovoltaik","MWh","Photovoltaik_MWh",1000,null,null,null,null,null,null,null,null,null,null,null,null,"Personen-km",1]
["Pkw","Fzg-km","Pkw_Fzg-km",0.65100000000000002,"Verkehrsträgerliste 2019",null,null,null,null,null,null,null,null,null,null,null,"Tonnen-km",1]
["Pkw","Personen-km","Pkw_Personen-km",0.57199999999999995,"Verkehrsträgerliste 2019",null,null,null,null,null,null,null,null,null,null,null,"Schienenverkehr Elektrisch",2]
["Schienenverkehr Diesel","Personen-km","Schienenverkehr Diesel_Personen-km",0.246,"Dreifacher Wert wie Schienenverkehr Elektrisch",null,null,null,null,null,null,null,null,null,null,null,"Personen-km",1]
["Schienenverkehr Diesel","Tonnen-km","Schienenverkehr Diesel_Tonnen-km",9.6000000000000002E-2,"Dreifacher Wert wie Schienenverkehr Elektrisch",null,null,null,null,null,null,null,null,null,null,null,"Tonnen-km",1]
["Schienenverkehr Elektrisch","Personen-km","Schienenverkehr Elektrisch_Personen-km",8.2000000000000003E-2,"Verkehrsträgerliste 2019",null,null,null,null,null,null,null,null,null,null,null,"Umgebungswärme",1]
["Schienenverkehr Elektrisch","Tonnen-km","Schienenverkehr Elektrisch_Tonnen-km",3.2000000000000001E-2,"Verkehrsträgerliste 2019",null,null,null,null,null,null,null,null,null,null,null,"MWh",1]
["Schweres Nutzfahrzeug","Fzg-km","Schweres Nutzfahrzeug_Fzg-km",3.26,"Verkehrsträgerliste 2024",null,null,null,null,null,null,null,null,null,null,null,"(Leer)"]
["Schweres Nutzfahrzeug","Tonnen-km","Schweres Nutzfahrzeug_Tonnen-km",0.21,"Verkehrsträgerliste 2024",null,null,null,null,null,null,null,null,null,null,null,"(Leer)"]
["Solarthermie","kWh","Solarthermie_kWh",1,null,null,null,null,null,null,null,null,null,null,null,null,"Strom Durchschnitt AT",2]
["Solarthermie","MWh","Solarthermie_MWh",1000,null,null,null,null,null,null,null,null,null,null,null,null,"kWh",1]
["Strom aus Wasserkraft","kWh","Strom aus Wasserkraft_kWh",1,null,null,null,null,null,null,null,null,null,null,null,null,"MWh",1]
["Strom aus Wasserkraft","MWh","Strom aus Wasserkraft_MWh",1000,null,null,null,null,null,null,null,null,null,null,null,null,"Wasserstoff",2]
["Strom aus Windkraft","kWh","Strom aus Windkraft_kWh",1,null,null,null,null,null,null,null,null,null,null,null,null,"kWh",1]
["Strom aus Windkraft","MWh","Strom aus Windkraft_MWh",1000,null,null,null,null,null,null,null,null,null,null,null,null,"MWh",1]
["Strom Durchschnitt AT","MWh","Strom Durchschnitt AT_MWh",1000,null,null,null,null,null,null,null,null,null,null,null,null,"Photovoltaik",2]
["Strom Durchschnitt AT","kWh","Strom Durchschnitt AT_kWh",1,null,null,null,null,null,null,null,null,null,null,null,null,"kWh",1]
["Umgebungswärme","MWh","Umgebungswärme_MWh",1000,null,null,null,null,null,null,null,null,null,null,null,null,"MWh",1]
["100% Ökostrom","kWh","100% Ökostrom_kWh",1,null,null,null,null,null,null,null,null,null,null,null,null,"Solarthermie",2]
["100% Ökostrom","MWh","100% Ökostrom_MWh",1000,null,null,null,null,null,null,null,null,null,null,null,null,"kWh",1]
["Wärmepumpe (Strom Durchschnitt AT)","kWh","Wärmepumpe (Strom Durchschnitt AT)_kWh",1,null,null,null,null,null,null,null,null,null,null,null,null,"MWh",1]
["Wärmepumpe (Strom Durchschnitt AT)","MWh","Wärmepumpe (Strom Durchschnitt AT)_MWh",1000,null,null,null,null,null,null,null,null,null,null,null,null,"Industrielle Abwärme",2]
["Wasserstoff","kWh","Wasserstoff_kWh",1,null,null,null,null,null,null,null,null,null,null,null,null,"kWh",1]
["Wasserstoff","MWh","Wasserstoff_MWh",1000,null,null,null,null,null,null,null,null,null,null,null,null,"MWh",1]
["FW Villach","kWh","FW Villach_kWh",1,null,null,null,null,null,null,null,null,null,null,null,null,"Strom aus Wasserkraft",2]
["FW Villach","MWh","FW Villach_MWh",1000,null,null,null,null,null,null,null,null,null,null,null,null,"kWh",1]
["FW Wien","kWh","FW Wien_kWh",1,null,null,null,null,null,null,null,null,null,null,null,null,"MWh",1]
["FW Wien","MWh","FW Wien_MWh",1000,null,null,null,null,null,null,null,null,null,null,null,null,"FW Innsbruck",2]
["FW Graz","kWh","FW Graz_kWh",1,null,null,null,null,null,null,null,null,null,null,null,null,"kWh",1]
["FW Graz","MWh","FW Graz_MWh",1000,null,null,null,null,null,null,null,null,null,null,null,null,"MWh",1]
["FW Bregenz","kWh","FW Bregenz_kWh",1,null,null,null,null,null,null,null,null,null,null,null,null,"FW Salzburg",2]
["FW Bregenz","MWh","FW Bregenz_MWh",1000,null,null,null,null,null,null,null,null,null,null,null,null,"kWh",1]
["FW Dornbirn","kWh","FW Dornbirn_kWh",1,null,null,null,null,null,null,null,null,null,null,null,null,"MWh",1]
["FW Dornbirn","MWh","FW Dornbirn_MWh",1000,null,null,null,null,null,null,null,null,null,null,null,null,"FW St. Pölten",2]
["FW Klagefurt","kWh","FW Klagefurt_kWh",1,null,null,null,null,null,null,null,null,null,null,null,null,"kWh",1]
["FW Klagefurt","MWh","FW Klagefurt_MWh",1000,null,null,null,null,null,null,null,null,null,null,null,null,"MWh",1]
["FW Linz","kWh","FW Linz_kWh",1,null,null,null,null,null,null,null,null,null,null,null,null,"Wärmepumpe (Strom Durchschnitt AT)",2]
["FW Linz","MWh","FW Linz_MWh",1000,null,null,null,null,null,null,null,null,null,null,null,null,"kWh",1]
["FW St. Veit/Glan","kWh","FW St. Veit/Glan_kWh",1,null,null,null,null,null,null,null,null,null,null,null,null,"MWh",1]
["FW St. Veit/Glan","MWh","FW St. Veit/Glan_MWh",1000,null,null,null,null,null,null,null,null,null,null,null,null,"Strom aus Windkraft",2]
["FW Steyr","kWh","FW Steyr_kWh",1,null,null,null,null,null,null,null,null,null,null,null,null,"kWh",1]
["FW Steyr","MWh","FW Steyr_MWh",1000,null,null,null,null,null,null,null,null,null,null,null,null,"MWh",1]
["FW Tulln","kWh","FW Tulln_kWh",1,null,null,null,null,null,null,null,null,null,null,null,null,"CO2-eq Direkteingabe",1]
["FW Tulln","MWh","FW Tulln_MWh",1000,null,null,null,null,null,null,null,null,null,null,null,null,"t",1]
["FW Wiener Neustadt","kWh","FW Wiener Neustadt_kWh",1,null,null,null,null,null,null,null,null,null,null,null,null,"Kerosin",4]
["FW Wiener Neustadt","MWh","FW Wiener Neustadt_MWh",1000,null,null,null,null,null,null,null,null,null,null,null,null,"kg",1]
[null,null,null,null,null,null,null,null,null,null,null,null,null,null,null,null,"kWh",1]
[null,null,null,null,null,null,null,null,null,null,null,null,null,null,null,null,"Liter",1]
[null,null,null,null,null,null,null,null,null,null,null,null,null,null,null,null,"MWh",1]
[null,null,null,null,null,null,null,null,null,null,null,null,null,null,null,null,"Kohle / Koks",4]
[null,null,null,null,null,null,null,null,null,null,null,null,null,null,null,null,"kg",1]
[null,null,null,null,null,null,null,null,null,null,null,null,null,null,null,null,"kWh",1]
[null,null,null,null,null,null,null,null,null,null,null,null,null,null,null,null,"MWh",1]
[null,null,null,null,null,null,null,null,null,null,null,null,null,null,null,null,"t",1]
[null,null,null,null,null,null,null,null,null,null,null,null,null,null,null,null,"Leichtes Nutzfahrzeug",2]
[null,null,null,null,null,null,null,null,null,null,null,null,null,null,null,null,"Fzg-km",1]
[null,null,null,null,null,null,null,null,null,null,null,null,null,null,null,null,"Tonnen-km",1]
[null,null,null,null,null,null,null,null,null,null,null,null,null,null,null,null,"LKW Durchschnitt",2]
[null,null,null,null,null,null,null,null,null,null,null,null,null,null,null,null,"Fzg-km",1]
[null,null,null,null,null,null,null,null,null,null,null,null,null,null,null,null,"Tonnen-km",1]
[null,null,null,null,null,null,null,null,null,null,null,null,null,null,null,null,"Motorrad / Mopeds",1]
[null,null,null,null,null,null,null,null,null,null,null,null,null,null,null,null,"Fzg-km",1]
[null,null,null,null,null,null,null,null,null,null,null,null,null,null,null,null,"Schweres Nutzfahrzeug",2]
[null,null,null,null,null,null,null,null,null,null,null,null,null,null,null,null,"Fzg-km",1]
[null,null,null,null,null,null,null,null,null,null,null,null,null,null,null,null,"Tonnen-km",1]
[null,null,null,null,null,null,null,null,null,null,null,null,null,null,null,null,"FW Durchschnitt AT",2]
[null,null,null,null,null,null,null,null,null,null,null,null,null,null,null,null,"kWh",1]
[null,null,null,null,null,null,null,null,null,null,null,null,null,null,null,null,"MWh",1]
[null,null,null,null,null,null,null,null,null,null,null,null,null,null,null,null,"FW Villach",2]
[null,null,null,null,null,null,null,null,null,null,null,null,null,null,null,null,"kWh",1]
[null,null,null,null,null,null,null,null,null,null,null,null,null,null,null,null,"MWh",1]
[null,null,null,null,null,null,null,null,null,null,null,null,null,null,null,null,"FW Wien",2]
[null,null,null,null,null,null,null,null,null,null,null,null,null,null,null,null,"kWh",1]
[null,null,null,null,null,null,null,null,null,null,null,null,null,null,null,null,"MWh",1]
[null,null,null,null,null,null,null,null,null,null,null,null,null,null,null,null,"FW Graz",2]
[null,null,null,null,null,null,null,null,null,null,null,null,null,null,null,null,"kWh",1]
[null,null,null,null,null,null,null,null,null,null,null,null,null,null,null,null,"MWh",1]
[null,null,null,null,null,null,null,null,null,null,null,null,null,null,null,null,"FW Bregenz",2]
[null,null,null,null,null,null,null,null,null,null,null,null,null,null,null,null,"kWh",1]
[null,null,null,null,null,null,null,null,null,null,null,null,null,null,null,null,"MWh",1]
[null,null,null,null,null,null,null,null,null,null,null,null,null,null,null,null,"FW Dornbirn",2]
[null,null,null,null,null,null,null,null,null,null,null,null,null,null,null,null,"kWh",1]
[null,null,null,null,null,null,null,null,null,null,null,null,null,null,null,null,"MWh",1]
[null,null,null,null,null,null,null,null,null,null,null,null,null,null,null,null,"FW Klagefurt",2]
[null,null,null,null,null,null,null,null,null,null,null,null,null,null,null,null,"kWh",1]
[null,null,null,null,null,null,null,null,null,null,null,null,null,null,null,null,"MWh",1]
[null,null,null,null,null,null,null,null,null,null,null,null,null,null,null,null,"FW Linz",2]
[null,null,null,null,null,null,null,null,null,null,null,null,null,null,null,null,"kWh",1]
[null,null,null,null,null,null,null,null,null,null,null,null,null,null,null,null,"MWh",1]
[null,null,null,null,null,null,null,null,null,null,null,null,null,null,null,null,"FW St. Veit/Glan",2]
[null,null,null,null,null,null,null,null,null,null,null,null,null,null,null,null,"kWh",1]
[null,null,null,null,null,null,null,null,null,null,null,null,null,null,null,null,"MWh",1]
[null,null,null,null,null,null,null,null,null,null,null,null,null,null,null,null,"FW Steyr",2]
[null,null,null,null,null,null,null,null,null,null,null,null,null,null,null,null,"kWh",1]
[null,null,null,null,null,null,null,null,null,null,null,null,null,null,null,null,"MWh",1]
[null,null,null,null,null,null,null,null,null,null,null,null,null,null,null,null,"FW Tulln",2]
[null,null,null,null,null,null,null,null,null,null,null,null,null,null,null,null,"kWh",1]
[null,null,null,null,null,null,null,null,null,null,null,null,null,null,null,null,"MWh",1]
[null,null,null,null,null,null,null,null,null,null,null,null,null,null,null,null,"FW Wiener Neustadt",2]
[null,null,null,null,null,null,null,null,null,null,null,null,null,null,null,null,"kWh",1]
[null,null,null,null,null,null,null,null,null,null,null,null,null,null,null,null,"MWh",1]
[null,null,null,null,null,null,null,null,null,null,null,null,null,null,null,null,"100% Ökostrom",2]
[null,null,null,null,null,null,null,null,null,null,null,null,null,null,null,null,"kWh",1]
[null,null,null,null,null,null,null,null,null,null,null,null,null,null,null,null,"MWh",1]
[null,null,null,null,null,null,null,null,null,null,null,null,null,null,null,null,"Gesamtergebnis",162]

{"sheet":"EFA2018","index":16,"n_rows":164,"n_cols":29,"rows_kept":164,"cut":false,"hidden":true,"merged":[[0,12,1,28]]}
["Energieträger","Einheit","Schlüssel","Heizwert in kWh","Quellenangabe","Energieträger","Emissionsfaktor direkt","Emissionsfaktor indirekt","Quellenangabe, intern",null,null,null,"Emissionsfaktoren Abfall"]
[null,null,{"$f":"A2&\"_\"&B2","v":"_"},"Energieträger/Einheit wählen",null,null," t CO2eq/MWh"," t CO2eq/MWh"]
["Benzin (inkl. Beimengung)","kg","Benzin (inkl. Beimengung)_kg",11.407686432867768,null,"Heizöl extra leicht (fossil) ",0.27087479999999997,7.3588102997403718E-2,"Basisfaktoren 2019"]
["Benzin (inkl. Beimengung)","Liter","Benzin (inkl. Beimengung)_Liter",8.5074874956669291,null,"Heizöl leicht (fossil) ",0.27807479999999996,7.3588102997403718E-2,"Basisfaktoren 2019",null,null,null,"Abfallart","Aufkommen (t)",null,"% Scope 1","Recycling/Stoffliche Verwertung","EFAs kg CO2 / t Abfall","thermische Verwertung","EFA therm. Verw.","deponiert/Beseitigung","EFA Deponie, kg CO2-eq / t","Export","Recycling/stoffl. V. Export","EFA Export (kg CO2-eq / t)","Ergebnis t CO2-eq","Recycling/Stoffliche Verwertung","thermische Verwertung","deponiert/Beseitigung"]
["Benzin (inkl. Beimengung)","t","Benzin (inkl. Beimengung)_t",11407.686432867768,null,"Erdgas (fossil) (Heizwert)",0.2007594,4.8720599999999989E-2,"Basisfaktoren 2019",null,null,null,2018]
["Benzin (inkl. Beimengung)","kWh","Benzin (inkl. Beimengung)_kWh",1,null,"Erdgas (fossil) (Brennwert)",0.18068345999999999,4.3848539999999991E-2,"Basisfaktoren 2019",null,null,null,"Abwasser",null,"Einwohner:innen",null,null,11,null,null,null,0]
["Benzin (inkl. Beimengung)","MWh","Benzin (inkl. Beimengung)_MWh",1000,null,"Flüssiggas LPG",0.23099940000000002,8.2030000000000006E-2,"Basisfaktoren 2019",null,null,null,"Restmüll",null,"Tonnen",null,13.846997532218261,0,86.098162873594731,0,2.7858427573950735,7560,3.7222265935798107,372,null,null,null,93.445945945945937,6.1036036036036032]
["Benzin fossil","Liter","Benzin fossil_Liter",8.6342062242990405,null,"Biomasse (Biobrennstoffe fest): Stückholz ",1.8292736161375171E-2,6.3E-3,"Basisfaktoren 2019",null,null,null,"Sperrmüll",null,"Tonnen",null,15.13280887692491,0,55.699678423806965,0,2.5497483730636081,0,2.4721269764251379,372,null,null,null,100]
["Benzin fossil","t","Benzin fossil_t",11605.115892875056,null,"Biomasse (Biobrennstoffe fest): Hackgut ",1.2739824E-2,6.62E-3,"Basisfaktoren 2019",null,null,null,"Leichtfraktion",null,"Tonnen",null,26,0,72,0,2,0,25.347984872376127,807,null,null,50.81939883321099,48.704481062215869,0.47612010457314319]
["Benzin fossil","kWh","Benzin fossil_kWh",1,null,"Biomasse (Biobrennstoffe fest): Pellets",5.3839439999999999E-3,2.0760000000000001E-2,"Basisfaktoren 2019",null,null,null,"Altmetall",null,"Tonnen",null,65.455218376461474,0,52.031752343462699,0,0.35944767326463617,0,30.352104710747756,372,null,null,99.493021790642956,0.49964145220369521,1.2139194683236314E-2]
["Benzin fossil","MWh","Benzin fossil_MWh",1000,null,"Biomasse (Biobrennstoffe fest): Gesamt",1.5610493594460506E-2,8.5489999999999993E-3,"Basisfaktoren 2019",null,null,null,"Altglas",null,"Tonnen",null,42.103948450307776,0,1.1644319428574417,0,0.44096842026334276,0,29.673056346730561,372,null,null,97.748923765183918,2.2510762348160722,0.12664165103189495]
["Benzin fossil","kg","Benzin fossil_kg",10.325348569988222,null,"Biobrennstoffe flüssig ",4.0980459618944138E-3,0.11291754638524576,"Basisfaktoren 2019",null,null,null,"Altpapier",null,"Tonnen",null,83.432231656955992,0,9.4268456247562611,0,0,0,6.0387038551503389,167,null,null,95.579618925900832,3.8370385318221061,0.4253611107107223]
["Biobrennstoffe flüssig ","Liter","Biobrennstoffe flüssig _Liter",9.2102109244294947,null,"Biobrennstoffe gasförmig ",5.9940000000000004E-4,8.1360000000000016E-2,"Basisfaktoren 2019",null,null,null,"Bioabfall",null,"Tonnen",null,50.520599279145728,34.950000000000003,2.9989879187766788,0,0.94354027615879332,7560,2.5700600425570261,34.950000000000003,null,null,67.426808737784356,30.173482795434015,2.3997084667816373]
["Biobrennstoffe flüssig ","t","Biobrennstoffe flüssig _t",10325.348569988222,null,"Diesel (inkl. Beimengung)",0.25539282669306268,7.618384626100129E-2,"Basisfaktoren 2019",null,null,null,"Altholz",null,"Tonnen",null,53.415142028469994,0,36.022317902211078,0,0,0,9.5069530037638525,6.9,null,null,84.772372987426749,15.227627012573251]
["Biobrennstoffe flüssig ","kWh","Biobrennstoffe flüssig _kWh",1,null,"Benzin (inkl. Beimengung)",0.26248341625640026,6.4527354695540801E-2,"Basisfaktoren 2019",null,null,null,"Alttextilien",null,"Tonnen",null,3.1695820577521676,0,16.955034735430253,0,3.4081011090687596,7560,22.080982089103674,32,null,null,63.083022388059703,35.824227078891255,1.2653251599147122]
["Biobrennstoffe flüssig ","MWh","Biobrennstoffe flüssig _MWh",1000,null,"CNG",0.20210260453011258,4.7377395469887403E-2,"Basisfaktoren 2019",null,null,null,"EAG",null,"Tonnen",null,77.5,0,null,0,0,0,null,427.3]
["Biobrennstoffe flüssig ","Nm3 (Normkubikmeter)","Biobrennstoffe flüssig _Nm3 (Normkubikmeter)",10.158064695232865,null,"Biodiesel",4.0980459618944138E-3,0.11291754638524576,"Basisfaktoren 2019"]
["Biobrennstoffe gasförmig ","kg","Biobrennstoffe gasförmig _kg",13.544086260310486,null,"Bioethanol",1.0844148317539699E-3,8.6635391843301213E-2,"Basisfaktoren 2019"]
["Biobrennstoffe gasförmig ","t","Biobrennstoffe gasförmig _t",13544.086260310487,null,"Diesel fossil",0.26877189700259629,7.3588102997403718E-2,"Basisfaktoren 2019"]
["Biobrennstoffe gasförmig ","kg","Biobrennstoffe gasförmig _kg",10.325348569988222,null,"Benzin fossil",0.27256532244758536,6.3314677552414711E-2,"Basisfaktoren 2019"]
["Biobrennstoffe gasförmig ","kWh","Biobrennstoffe gasförmig _kWh",1,null,"Strom Durchschnitt AT",0.1734,4.53E-2,"Basisfaktoren 2019"]
["Biobrennstoffe gasförmig ","MWh","Biobrennstoffe gasförmig _MWh",1000,null,"Kohle / Koks",0.33514971084497724,4.7960000000000003E-2,"Basisfaktoren 2019"]
["Biodiesel","Liter","Biodiesel_Liter",9.2102109244294947,null,"Brennbare Abfälle",0.28299999999999997,8.2000000000000007E-3,"Basisfaktoren 2019"]
["Biodiesel","t","Biodiesel_t",10325.348569988222,null,"Pkw",0.2589381214747315,7.0355600478271052E-2,"Basisfaktoren 2019"]
["Biodiesel","kWh","Biodiesel_kWh",1,null,"Bus",0.2589381214747315,7.0355600478271052E-2,"Basisfaktoren 2019"]
["Biodiesel","MWh","Biodiesel_MWh",1000,null,"Schienenverkehr Diesel",0.25539282669306268,7.618384626100129E-2,"Basisfaktoren 2019"]
["Biodiesel","kg","Biodiesel_kg",7.9656909984041802,null,"Schienenverkehr Elektrisch",0.15,4.5000000000000012E-2,"Basisfaktoren 2019"]
["Bioethanol","Liter","Bioethanol_Liter",6.1973075967584528,null,"CO2-eq Direkteingabe",1000,0]
["Bioethanol","t","Bioethanol_t",7965.6909984041804,null,"Wasserstoff",0,0]
["Bioethanol","kg","Bioethanol_kg",3.8161780550550493,null,"Photovoltaik",0,0]
["Bioethanol","kWh","Bioethanol_kWh",1,null,"Solarthermie",0,0]
["Bioethanol","MWh","Bioethanol_MWh",1000,null,"Industrielle Abwärme",0,0]
["Biomasse (Biobrennstoffe fest): Gesamt","t","Biomasse (Biobrennstoffe fest): Gesamt_t",3816.1780550550493,null,"100% Ökostrom",0,1.4E-2]
["Biomasse (Biobrennstoffe fest): Gesamt","kg","Biomasse (Biobrennstoffe fest): Gesamt_kg",2.9715772878822539,null,"Strom aus Wasserkraft",0,2.5999999999999999E-2]
["Biomasse (Biobrennstoffe fest): Gesamt","kWh","Biomasse (Biobrennstoffe fest): Gesamt_kWh",1,null,"Wärmepumpe (Strom Durchschnitt AT)",5.7799999999999997E-2,1.5100000000000001E-2]
["Biomasse (Biobrennstoffe fest): Gesamt","MWh","Biomasse (Biobrennstoffe fest): Gesamt_MWh",1000,null,"Strom aus Windkraft",0,8.0000000000000002E-3]
["Biomasse (Biobrennstoffe fest): Hackgut ","t","Biomasse (Biobrennstoffe fest): Hackgut _t",2971.577287882254,null,"Motorrad / Mopeds",0.26248341625640026,6.4527354695540801E-2,"climcalc & GEMIS Moped/Motorrad-2015-Benzin-mittel"]
["Biomasse (Biobrennstoffe fest): Hackgut ","kg","Biomasse (Biobrennstoffe fest): Hackgut _kg",4.8011111111111093,null,"Leichtes Nutzfahrzeug",0.2589381214747315,7.0355600478271052E-2,"VTL"]
["Biomasse (Biobrennstoffe fest): Hackgut ","kWh","Biomasse (Biobrennstoffe fest): Hackgut _kWh",1,null,"Schweres Nutzfahrzeug",0.2589381214747315,7.0355600478271052E-2,"VTL"]
["Biomasse (Biobrennstoffe fest): Hackgut ","MWh","Biomasse (Biobrennstoffe fest): Hackgut _MWh",1000,null,"LKW Durchschnitt",0.2589381214747315,7.0355600478271052E-2,"VTL"]
["Biomasse (Biobrennstoffe fest): Pellets","t","Biomasse (Biobrennstoffe fest): Pellets_t",4801.1111111111095,null,"Kerosin",0.26400000000000001,5.8999999999999997E-2,"Energieträgerliste 2024"]
["Biomasse (Biobrennstoffe fest): Pellets","kg","Biomasse (Biobrennstoffe fest): Pellets_kg",3.9752777777777775,null,"FW Innsbruck",8.3264361658953359E-2,2.6549400850211236E-2]
["Biomasse (Biobrennstoffe fest): Pellets","kWh","Biomasse (Biobrennstoffe fest): Pellets_kWh",1,null,"FW Wien",0.14099999999999999,5.8999999999999997E-2]
["Biomasse (Biobrennstoffe fest): Pellets","MWh","Biomasse (Biobrennstoffe fest): Pellets_MWh",1000,null,"FW Graz",0.14099999999999999,5.8999999999999997E-2]
["Biomasse (Biobrennstoffe fest): Stückholz ","kg","Biomasse (Biobrennstoffe fest): Stückholz _kg",3.9752777777777801,null,"FW Salzburg",0.14984909659734416,5.254027830891269E-2]
["Biomasse (Biobrennstoffe fest): Stückholz ","t","Biomasse (Biobrennstoffe fest): Stückholz _t",3975.2777777777774,null,"FW Bregenz",0.14099999999999999,5.8999999999999997E-2]
["Biomasse (Biobrennstoffe fest): Stückholz ","kWh","Biomasse (Biobrennstoffe fest): Stückholz _kWh",1,null,"FW Dornbirn",0.14099999999999999,5.8999999999999997E-2]
["Biomasse (Biobrennstoffe fest): Stückholz ","MWh","Biomasse (Biobrennstoffe fest): Stückholz _MWh",1000,null,"FW Klagefurt",0.14099999999999999,5.8999999999999997E-2]
["Brennbare Abfälle","t","Brennbare Abfälle_t",4785,null,"FW Linz",0.23409533491497184,3.3606265998801052E-2]
["Brennbare Abfälle","MWh","Brennbare Abfälle_MWh",1000,null,"FW St. Veit/Glan",0.14099999999999999,5.8999999999999997E-2]
["Brennbare Abfälle","kWh","Brennbare Abfälle_kWh",1,null,"FW St. Pölten",0.19034492039398088,2.9502844782645064E-2]
["Bus","Fzg-km","Bus_Fzg-km",2.9849999999999999,"Verkehrsträgerliste 2019","FW Steyr",0.14099999999999999,5.8999999999999997E-2]
["Bus","Personen-km","Bus_Personen-km",0.159,"Verkehrsträgerliste 2019","FW Tulln",0.14099999999999999,5.8999999999999997E-2]
["CNG","kg","CNG_kg",10.179000000000004,null,"FW Villach",0.14099999999999999,5.8999999999999997E-2]
["CNG","Nm3 (Normkubikmeter)","CNG_Nm3 (Normkubikmeter)",7.6342500000000033,null,"FW Wiener Neustadt",0.14099999999999999,5.8999999999999997E-2]
["CNG","t","CNG_t",10179.000000000004,null,"FW Durchschnitt AT",0.14099999999999999,5.8999999999999997E-2,"Basisfaktoren 2019"]
["CNG","kWh","CNG_kWh",1]
["CNG","MWh","CNG_MWh",1000]
["CO2-eq Direkteingabe","t","CO2-eq Direkteingabe_t",1]
["Diesel (inkl. Beimengung)","kg","Diesel (inkl. Beimengung)_kg",11.668309804566031]
["Diesel (inkl. Beimengung)","Liter","Diesel (inkl. Beimengung)_Liter",9.8087312710123413]
["Diesel (inkl. Beimengung)","t","Diesel (inkl. Beimengung)_t",11668.30980456603]
["Diesel (inkl. Beimengung)","kWh","Diesel (inkl. Beimengung)_kWh",1]
["Diesel (inkl. Beimengung)","MWh","Diesel (inkl. Beimengung)_MWh",1000]
["Diesel fossil","kg","Diesel fossil_kg",11.76944444444444]
["Diesel fossil","Liter",{"$f":"A66&\"_\"&B66","v":"Diesel fossil_Liter"},9.8510249999999964]
["Diesel fossil","t","Diesel fossil_t",11769.44444444444]
["Diesel fossil","kWh","Diesel fossil_kWh",1]
["Diesel fossil","MWh","Diesel fossil_MWh",1000]
["Erdgas (fossil) (Brennwert)","Nm3 (Normkubikmeter)","Erdgas (fossil) (Brennwert)_Nm3 (Normkubikmeter)",11.310000000000004]
["Erdgas (fossil) (Brennwert)","kg","Erdgas (fossil) (Brennwert)_kg",15.080000000000005]
["Erdgas (fossil) (Brennwert)","t","Erdgas (fossil) (Brennwert)_t",15080.000000000005]
["Erdgas (fossil) (Brennwert)","kWh","Erdgas (fossil) (Brennwert)_kWh",1]
["Erdgas (fossil) (Brennwert)","MWh","Erdgas (fossil) (Brennwert)_MWh",1000]
["Erdgas (fossil) (Heizwert)","Nm3 (Normkubikmeter)","Erdgas (fossil) (Heizwert)_Nm3 (Normkubikmeter)",10.179000000000004]
["Erdgas (fossil) (Heizwert)","kg","Erdgas (fossil) (Heizwert)_kg",13.572000000000005]
["Erdgas (fossil) (Heizwert)","t","Erdgas (fossil) (Heizwert)_t",13572.000000000004]
["Erdgas (fossil) (Heizwert)","kWh","Erdgas (fossil) (Heizwert)_kWh",1]
["Erdgas (fossil) (Heizwert)","MWh","Erdgas (fossil) (Heizwert)_MWh",1000]
["FW Durchschnitt AT","MWh","FW Durchschnitt AT_MWh",1000]
["FW Durchschnitt AT","kWh","FW Durchschnitt AT_kWh",1]
["Flüssiggas LPG","kg","Flüssiggas LPG_kg",12.811111111111112]
["Flüssiggas LPG","Liter","Flüssiggas LPG_Liter",6.918000000000001]
["Flüssiggas LPG","t","Flüssiggas LPG_t",12811.111111111111]
["Flüssiggas LPG","kWh","Flüssiggas LPG_kWh",1]
["Flüssiggas LPG","MWh","Flüssiggas LPG_MWh",1000]
["FW Innsbruck","kWh","FW Innsbruck_kWh",1]
["FW Innsbruck","MWh","FW Innsbruck_MWh",1000]
["FW Salzburg","kWh","FW Salzburg_kWh",1]
["FW Salzburg","MWh","FW Salzburg_MWh",1000]
["FW St. Pölten","kWh","FW St. Pölten_kWh",1]
["FW St. Pölten","MWh","FW St. Pölten_MWh",1000]
["Heizöl extra leicht (fossil) ","kg","Heizöl extra leicht (fossil) _kg",11.76944444444444]
["Heizöl extra leicht (fossil) ","Liter","Heizöl extra leicht (fossil) _Liter",9.8510249999999964]
["Heizöl extra leicht (fossil) ","t","Heizöl extra leicht (fossil) _t",11769.44444444444]
["Heizöl extra leicht (fossil) ","MWh","Heizöl extra leicht (fossil) _MWh",1000]
["Heizöl extra leicht (fossil) ","kWh","Heizöl extra leicht (fossil) _kWh",1]
["Heizöl leicht (fossil) ","kg","Heizöl leicht (fossil) _kg",11.572222222222223]
["Heizöl leicht (fossil) ","Liter","Heizöl leicht (fossil) _Liter",10.646444444444446]
["Heizöl leicht (fossil) ","t","Heizöl leicht (fossil) _t",11572.222222222223]
["Heizöl leicht (fossil) ","MWh","Heizöl leicht (fossil) _MWh",1000]
["Heizöl leicht (fossil) ","kWh","Heizöl leicht (fossil) _kWh",1]
["Industrielle Abwärme","kWh","Industrielle Abwärme_kWh",1]
["Industrielle Abwärme","MWh","Industrielle Abwärme_MWh",1000]
["Kerosin","kWh","Kerosin_kWh",1]
["Kerosin","MWh","Kerosin_MWh",1000]
["Kerosin","kg","Kerosin_kg",12.028]
["Kerosin","Liter","Kerosin_Liter",{"$f":"D107*0.8","v":9.6224000000000007}]
["Kohle / Koks","kg","Kohle / Koks_kg",7.8957984951136577]
["Kohle / Koks","t","Kohle / Koks_t",7895.7984951136577]
["Kohle / Koks","kWh","Kohle / Koks_kWh",1]
["Kohle / Koks","MWh","Kohle / Koks_MWh",1000]
["Leichtes Nutzfahrzeug","Fzg-km","Leichtes Nutzfahrzeug_Fzg-km",0.85,"Verkehrsträgerliste 2024"]
["Leichtes Nutzfahrzeug","Tonnen-km","Leichtes Nutzfahrzeug_Tonnen-km",2.54,"Verkehrsträgerliste 2024"]
["LKW Durchschnitt","Fzg-km","LKW Durchschnitt_Fzg-km",2.8889999999999998,"Verkehrsträgerliste 2019"]
["LKW Durchschnitt","Tonnen-km","LKW Durchschnitt_Tonnen-km",0.27700000000000002,"Verkehrsträgerliste 2019"]
["Motorrad / Mopeds","Fzg-km","Motorrad / Mopeds_Fzg-km",0.38]
["Photovoltaik","kWh","Photovoltaik_kWh",1]
["Photovoltaik","MWh","Photovoltaik_MWh",1000]
["Pkw","Fzg-km","Pkw_Fzg-km",0.65100000000000002,"Verkehrsträgerliste 2019"]
["Pkw","Personen-km","Pkw_Personen-km",0.57199999999999995,"Verkehrsträgerliste 2019"]
["Schienenverkehr Diesel","Personen-km","Schienenverkehr Diesel_Personen-km",0.246,"Dreifacher Wert wie Schienenverkehr Elektrisch"]
["Schienenverkehr Diesel","Tonnen-km","Schienenverkehr Diesel_Tonnen-km",9.6000000000000002E-2,"Dreifacher Wert wie Schienenverkehr Elektrisch"]
["Schienenverkehr Elektrisch","Personen-km","Schienenverkehr Elektrisch_Personen-km",8.2000000000000003E-2,"Verkehrsträgerliste 2019"]
["Schienenverkehr Elektrisch","Tonnen-km","Schienenverkehr Elektrisch_Tonnen-km",3.2000000000000001E-2,"Verkehrsträgerliste 2019"]
["Schweres Nutzfahrzeug","Fzg-km","Schweres Nutzfahrzeug_Fzg-km",3.26,"Verkehrsträgerliste 2024"]
["Schweres Nutzfahrzeug","Tonnen-km","Schweres Nutzfahrzeug_Tonnen-km",0.21,"Verkehrsträgerliste 2024"]
["Solarthermie","kWh","Solarthermie_kWh",1]
["Solarthermie","MWh","Solarthermie_MWh",1000]
["Strom aus Wasserkraft","kWh",{"$f":"A130&\"_\"&B130","v":"Strom aus Wasserkraft_kWh"},1]
["Strom aus Wasserkraft","MWh","Strom aus Wasserkraft_MWh",1000]
["Strom aus Windkraft","kWh","Strom aus Windkraft_kWh",1]
["Strom aus Windkraft","MWh","Strom aus Windkraft_MWh",1000]
["Strom Durchschnitt AT","MWh","Strom Durchschnitt AT_MWh",1000]
["Strom Durchschnitt AT","kWh","Strom Durchschnitt AT_kWh",1]
["Umgebungswärme","MWh","Umgebungswärme_MWh",1000]
["100% Ökostrom","kWh","100% Ökostrom_kWh",1]
["100% Ökostrom","MWh","100% Ökostrom_MWh",1000]
["Wärmepumpe (Strom Durchschnitt AT)","kWh","Wärmepumpe (Strom Durchschnitt AT)_kWh",1]
["Wärmepumpe (Strom Durchschnitt AT)","MWh","Wärmepumpe (Strom Durchschnitt AT)_MWh",1000]
["Wasserstoff","kWh","Wasserstoff_kWh",1]
["Wasserstoff","MWh","Wasserstoff_MWh",1000]
["FW Villach","kWh","FW Villach_kWh",1]
["FW Villach","MWh","FW Villach_MWh",1000]
["FW Wien","kWh","FW Wien_kWh",1]
["FW Wien","MWh","FW Wien_MWh",1000]
["FW Graz","kWh","FW Graz_kWh",1]
["FW Graz","MWh","FW Graz_MWh",1000]
["FW Bregenz","kWh","FW Bregenz_kWh",1]
["FW Bregenz","MWh","FW Bregenz_MWh",1000]
["FW Dornbirn","kWh","FW Dornbirn_kWh",1]
["FW Dornbirn","MWh","FW Dornbirn_MWh",1000]
["FW Klagefurt","kWh","FW Klagefurt_kWh",1]
["FW Klagefurt","MWh","FW Klagefurt_MWh",1000]
["FW Linz","kWh","FW Linz_kWh",1]
["FW Linz","MWh","FW Linz_MWh",1000]
["FW St. Veit/Glan","kWh","FW St. Veit/Glan_kWh",1]
["FW St. Veit/Glan","MWh","FW St. Veit/Glan_MWh",1000]
["FW Steyr","kWh","FW Steyr_kWh",1]
["FW Steyr","MWh","FW Steyr_MWh",1000]
["FW Tulln","kWh","FW Tulln_kWh",1]
["FW Tulln","MWh","FW Tulln_MWh",1000]
["FW Wiener Neustadt","kWh","FW Wiener Neustadt_kWh",1]
["FW Wiener Neustadt","MWh","FW Wiener Neustadt_MWh",1000]

{"sheet":"EFA2019","index":17,"n_rows":164,"n_cols":29,"rows_kept":164,"cut":false,"hidden":true,"merged":[[0,12,1,28]]}
["Energieträger","Einheit","Schlüssel","Heizwert in kWh","Quellenangabe","Energieträger","Emissionsfaktor direkt","Emissionsfaktor indirekt","Quellenangabe, intern",null,null,null,"Emissionsfaktoren Abfall"]
[null,null,{"$f":"A2&\"_\"&B2","v":"_"},"Energieträger/Einheit wählen",null,null," t CO2eq/MWh"," t CO2eq/MWh"]
["Benzin (inkl. Beimengung)","kg","Benzin (inkl. Beimengung)_kg",11.407686432867768,null,"Heizöl extra leicht (fossil) ",0.27087479999999997,7.3588102997403718E-2,"Basisfaktoren 2020"]
["Benzin (inkl. Beimengung)","Liter","Benzin (inkl. Beimengung)_Liter",8.5074874956669291,null,"Heizöl leicht (fossil) ",0.27807479999999996,7.3588102997403718E-2,"Basisfaktoren 2020",null,null,null,"Abfallart","Aufkommen (t)",null,"% Scope 1","Recycling/Stoffliche Verwertung","EFAs kg CO2 / t Abfall","thermische Verwertung","EFA therm. Verw.","deponiert/Beseitigung","EFA Deponie, kg CO2-eq / t","Export","Recycling/stoffl. V. Export","EFA Export (kg CO2-eq / t)","Ergebnis t CO2-eq","Recycling/Stoffliche Verwertung","thermische Verwertung","deponiert/Beseitigung"]
["Benzin (inkl. Beimengung)","t","Benzin (inkl. Beimengung)_t",11407.686432867768,null,"Erdgas (fossil) (Heizwert)",0.2007594,4.8720599999999989E-2,"Basisfaktoren 2020",null,null,null,2019]
["Benzin (inkl. Beimengung)","kWh","Benzin (inkl. Beimengung)_kWh",1,null,"Erdgas (fossil) (Brennwert)",0.18068345999999999,4.3848539999999991E-2,"Basisfaktoren 2020",null,null,null,"Abwasser",null,"Einwohner:innen",null,null,11,null,null,null,0]
["Benzin (inkl. Beimengung)","MWh","Benzin (inkl. Beimengung)_MWh",1000,null,"Flüssiggas LPG",0.23099940000000002,8.2030000000000006E-2,"Basisfaktoren 2020",null,null,null,"Restmüll",null,"Tonnen",null,12.664293537787513,0,87.349397590361448,0,2.7858427573950735,7560,3.7222265935798107,372,null,null,null,93.445945945945937,6.1036036036036032]
["Benzin fossil","Liter","Benzin fossil_Liter",8.6342062242990405,null,"Biomasse (Biobrennstoffe fest): Stückholz ",1.8292736161375171E-2,6.3E-3,"Basisfaktoren 2020",null,null,null,"Sperrmüll",null,"Tonnen",null,15.13280887692491,0,55.699678423806965,0,2.5497483730636081,0,2.4721269764251379,372,null,null,null,100]
["Benzin fossil","t","Benzin fossil_t",11605.115892875056,null,"Biomasse (Biobrennstoffe fest): Hackgut ",1.2739824E-2,6.62E-3,"Basisfaktoren 2020",null,null,null,"Leichtfraktion",null,"Tonnen",null,26,0,72,0,2,0,25.347984872376127,807,null,null,50.81939883321099,48.704481062215869,0.47612010457314319]
["Benzin fossil","kWh","Benzin fossil_kWh",1,null,"Biomasse (Biobrennstoffe fest): Pellets",5.3839439999999999E-3,2.0760000000000001E-2,"Basisfaktoren 2020",null,null,null,"Altmetall",null,"Tonnen",null,65.455218376461474,0,52.031752343462699,0,0.35944767326463617,0,30.352104710747756,372,null,null,99.493021790642956,0.49964145220369521,1.2139194683236314E-2]
["Benzin fossil","MWh","Benzin fossil_MWh",1000,null,"Biomasse (Biobrennstoffe fest): Gesamt",1.5610493594460506E-2,8.5489999999999993E-3,"Basisfaktoren 2020",null,null,null,"Altglas",null,"Tonnen",null,42.103948450307776,0,1.1644319428574417,0,0.44096842026334276,0,29.673056346730561,372,null,null,97.748923765183918,2.2510762348160722,0.12664165103189495]
["Benzin fossil","kg","Benzin fossil_kg",10.325348569988222,null,"Biobrennstoffe flüssig ",4.0980459618944138E-3,0.11291754638524576,"Basisfaktoren 2020",null,null,null,"Altpapier",null,"Tonnen",null,83.432231656955992,0,9.4268456247562611,0,0,0,6.0387038551503389,167,null,null,95.579618925900832,3.8370385318221061,0.4253611107107223]
["Biobrennstoffe flüssig ","Liter","Biobrennstoffe flüssig _Liter",9.2102109244294947,null,"Biobrennstoffe gasförmig ",5.9940000000000004E-4,8.1360000000000016E-2,"Basisfaktoren 2020",null,null,null,"Bioabfall",null,"Tonnen",null,50.520599279145728,34.950000000000003,2.9989879187766788,0,0.94354027615879332,7560,2.5700600425570261,34.950000000000003,null,null,67.426808737784356,30.173482795434015,2.3997084667816373]
["Biobrennstoffe flüssig ","t","Biobrennstoffe flüssig _t",10325.348569988222,null,"Diesel (inkl. Beimengung)",0.25539282669306268,7.618384626100129E-2,"Basisfaktoren 2020",null,null,null,"Altholz",null,"Tonnen",null,53.415142028469994,0,36.022317902211078,0,0,0,9.5069530037638525,6.9,null,null,84.772372987426749,15.227627012573251]
["Biobrennstoffe flüssig ","kWh","Biobrennstoffe flüssig _kWh",1,null,"Benzin (inkl. Beimengung)",0.26248341625640026,6.4527354695540801E-2,"Basisfaktoren 2020",null,null,null,"Alttextilien",null,"Tonnen",null,3.1695820577521676,0,16.955034735430253,0,3.4081011090687596,7560,22.080982089103674,32,null,null,63.083022388059703,35.824227078891255,1.2653251599147122]
["Biobrennstoffe flüssig ","MWh","Biobrennstoffe flüssig _MWh",1000,null,"CNG",0.20210260453011258,4.7377395469887403E-2,"Basisfaktoren 2020",null,null,null,"EAG",null,"Tonnen",null,81,0,null,0,0,0,null,427.3]
["Biobrennstoffe flüssig ","Nm3 (Normkubikmeter)","Biobrennstoffe flüssig _Nm3 (Normkubikmeter)",10.158064695232865,null,"Biodiesel",4.0980459618944138E-3,0.11291754638524576,"Basisfaktoren 2020"]
["Biobrennstoffe gasförmig ","kg","Biobrennstoffe gasförmig _kg",13.544086260310486,null,"Bioethanol",1.0844148317539699E-3,8.6635391843301213E-2,"Basisfaktoren 2020"]
["Biobrennstoffe gasförmig ","t","Biobrennstoffe gasförmig _t",13544.086260310487,null,"Diesel fossil",0.26877189700259629,7.3588102997403718E-2,"Basisfaktoren 2020"]
["Biobrennstoffe gasförmig ","kg","Biobrennstoffe gasförmig _kg",10.325348569988222,null,"Benzin fossil",0.27256532244758536,6.3314677552414711E-2,"Basisfaktoren 2020"]
["Biobrennstoffe gasförmig ","kWh","Biobrennstoffe gasförmig _kWh",1,null,"Strom Durchschnitt AT",0.1734,4.53E-2,"Basisfaktoren 2020"]
["Biobrennstoffe gasförmig ","MWh","Biobrennstoffe gasförmig _MWh",1000,null,"Kohle / Koks",0.33514971084497724,4.7960000000000003E-2,"Basisfaktoren 2020"]
["Biodiesel","Liter","Biodiesel_Liter",9.2102109244294947,null,"Brennbare Abfälle",0.28299999999999997,8.2000000000000007E-3,"Basisfaktoren 2020"]
["Biodiesel","t","Biodiesel_t",10325.348569988222,null,"Pkw",0.2589381214747315,7.0355600478271052E-2,"Basisfaktoren 2020"]
["Biodiesel","kWh","Biodiesel_kWh",1,null,"Bus",0.2589381214747315,7.0355600478271052E-2,"Basisfaktoren 2020"]
["Biodiesel","MWh","Biodiesel_MWh",1000,null,"Schienenverkehr Diesel",0.25539282669306268,7.618384626100129E-2,"Basisfaktoren 2020"]
["Biodiesel","kg","Biodiesel_kg",7.9656909984041802,null,"Schienenverkehr Elektrisch",0.15,4.5000000000000012E-2,"Basisfaktoren 2020"]
["Bioethanol","Liter","Bioethanol_Liter",6.1973075967584528,null,"CO2-eq Direkteingabe",1000,0]
["Bioethanol","t","Bioethanol_t",7965.6909984041804,null,"Wasserstoff",0,0]
["Bioethanol","kg","Bioethanol_kg",3.8161780550550493,null,"Photovoltaik",0,0]
["Bioethanol","kWh","Bioethanol_kWh",1,null,"Solarthermie",0,0]
["Bioethanol","MWh","Bioethanol_MWh",1000,null,"Industrielle Abwärme",0,0]
["Biomasse (Biobrennstoffe fest): Gesamt","t","Biomasse (Biobrennstoffe fest): Gesamt_t",3816.1780550550493,null,"100% Ökostrom",0,1.4E-2]
["Biomasse (Biobrennstoffe fest): Gesamt","kg","Biomasse (Biobrennstoffe fest): Gesamt_kg",2.9715772878822539,null,"Strom aus Wasserkraft",0,2.5999999999999999E-2]
["Biomasse (Biobrennstoffe fest): Gesamt","kWh","Biomasse (Biobrennstoffe fest): Gesamt_kWh",1,null,"Wärmepumpe (Strom Durchschnitt AT)",5.7799999999999997E-2,1.5100000000000001E-2]
["Biomasse (Biobrennstoffe fest): Gesamt","MWh","Biomasse (Biobrennstoffe fest): Gesamt_MWh",1000,null,"Strom aus Windkraft",0,8.0000000000000002E-3]
["Biomasse (Biobrennstoffe fest): Hackgut ","t","Biomasse (Biobrennstoffe fest): Hackgut _t",2971.577287882254,null,"Motorrad / Mopeds",0.26248341625640026,6.4527354695540801E-2,"climcalc & GEMIS Moped/Motorrad-2015-Benzin-mittel"]
["Biomasse (Biobrennstoffe fest): Hackgut ","kg","Biomasse (Biobrennstoffe fest): Hackgut _kg",4.8011111111111093,null,"Leichtes Nutzfahrzeug",0.2589381214747315,7.0355600478271052E-2,"VTL"]
["Biomasse (Biobrennstoffe fest): Hackgut ","kWh","Biomasse (Biobrennstoffe fest): Hackgut _kWh",1,null,"Schweres Nutzfahrzeug",0.2589381214747315,7.0355600478271052E-2,"VTL"]
["Biomasse (Biobrennstoffe fest): Hackgut ","MWh","Biomasse (Biobrennstoffe fest): Hackgut _MWh",1000,null,"LKW Durchschnitt",0.2589381214747315,7.0355600478271052E-2,"VTL"]
["Biomasse (Biobrennstoffe fest): Pellets","t","Biomasse (Biobrennstoffe fest): Pellets_t",4801.1111111111095,null,"Kerosin",0.26400000000000001,5.8999999999999997E-2,"Energieträgerliste 2024"]
["Biomasse (Biobrennstoffe fest): Pellets","kg","Biomasse (Biobrennstoffe fest): Pellets_kg",3.9752777777777775,null,"FW Innsbruck",8.3264361658953359E-2,2.6549400850211236E-2]
["Biomasse (Biobrennstoffe fest): Pellets","kWh","Biomasse (Biobrennstoffe fest): Pellets_kWh",1,null,"FW Wien",0.14099999999999999,5.8999999999999997E-2]
["Biomasse (Biobrennstoffe fest): Pellets","MWh","Biomasse (Biobrennstoffe fest): Pellets_MWh",1000,null,"FW Graz",0.14099999999999999,5.8999999999999997E-2]
["Biomasse (Biobrennstoffe fest): Stückholz ","kg","Biomasse (Biobrennstoffe fest): Stückholz _kg",3.9752777777777801,null,"FW Salzburg",0.14984909659734416,5.254027830891269E-2]
["Biomasse (Biobrennstoffe fest): Stückholz ","t","Biomasse (Biobrennstoffe fest): Stückholz _t",3975.2777777777774,null,"FW Bregenz",0.14099999999999999,5.8999999999999997E-2]
["Biomasse (Biobrennstoffe fest): Stückholz ","kWh","Biomasse (Biobrennstoffe fest): Stückholz _kWh",1,null,"FW Dornbirn",0.14099999999999999,5.8999999999999997E-2]
["Biomasse (Biobrennstoffe fest): Stückholz ","MWh","Biomasse (Biobrennstoffe fest): Stückholz _MWh",1000,null,"FW Klagefurt",0.14099999999999999,5.8999999999999997E-2]
["Brennbare Abfälle","t","Brennbare Abfälle_t",4785,null,"FW Linz",0.22761309182302467,3.4607414625949962E-2]
["Brennbare Abfälle","MWh","Brennbare Abfälle_MWh",1000,null,"FW St. Veit/Glan",0.14099999999999999,5.8999999999999997E-2]
["Brennbare Abfälle","kWh","Brennbare Abfälle_kWh",1,null,"FW St. Pölten",0.19034492039398088,2.9502844782645064E-2]
["Bus","Fzg-km","Bus_Fzg-km",2.9849999999999999,"Verkehrsträgerliste 2019","FW Steyr",0.14099999999999999,5.8999999999999997E-2]
["Bus","Personen-km","Bus_Personen-km",0.159,"Verkehrsträgerliste 2019","FW Tulln",0.14099999999999999,5.8999999999999997E-2]
["CNG","kg","CNG_kg",10.179000000000004,null,"FW Villach",0.14099999999999999,5.8999999999999997E-2]
["CNG","Nm3 (Normkubikmeter)","CNG_Nm3 (Normkubikmeter)",7.6342500000000033,null,"FW Wiener Neustadt",0.14099999999999999,5.8999999999999997E-2]
["CNG","t","CNG_t",10179.000000000004,null,"FW Durchschnitt AT",0.14099999999999999,5.8999999999999997E-2,"Basisfaktoren 2020"]
["CNG","kWh","CNG_kWh",1]
["CNG","MWh","CNG_MWh",1000]
["CO2-eq Direkteingabe","t","CO2-eq Direkteingabe_t",1]
["Diesel (inkl. Beimengung)","kg","Diesel (inkl. Beimengung)_kg",11.668309804566031]
["Diesel (inkl. Beimengung)","Liter","Diesel (inkl. Beimengung)_Liter",9.8087312710123413]
["Diesel (inkl. Beimengung)","t","Diesel (inkl. Beimengung)_t",11668.30980456603]
["Diesel (inkl. Beimengung)","kWh","Diesel (inkl. Beimengung)_kWh",1]
["Diesel (inkl. Beimengung)","MWh","Diesel (inkl. Beimengung)_MWh",1000]
["Diesel fossil","kg","Diesel fossil_kg",11.76944444444444]
["Diesel fossil","Liter",{"$f":"A66&\"_\"&B66","v":"Diesel fossil_Liter"},9.8510249999999964]
["Diesel fossil","t","Diesel fossil_t",11769.44444444444]
["Diesel fossil","kWh","Diesel fossil_kWh",1]
["Diesel fossil","MWh","Diesel fossil_MWh",1000]
["Erdgas (fossil) (Brennwert)","Nm3 (Normkubikmeter)","Erdgas (fossil) (Brennwert)_Nm3 (Normkubikmeter)",11.310000000000004]
["Erdgas (fossil) (Brennwert)","kg","Erdgas (fossil) (Brennwert)_kg",15.080000000000005]
["Erdgas (fossil) (Brennwert)","t","Erdgas (fossil) (Brennwert)_t",15080.000000000005]
["Erdgas (fossil) (Brennwert)","kWh","Erdgas (fossil) (Brennwert)_kWh",1]
["Erdgas (fossil) (Brennwert)","MWh","Erdgas (fossil) (Brennwert)_MWh",1000]
["Erdgas (fossil) (Heizwert)","Nm3 (Normkubikmeter)","Erdgas (fossil) (Heizwert)_Nm3 (Normkubikmeter)",10.179000000000004]
["Erdgas (fossil) (Heizwert)","kg","Erdgas (fossil) (Heizwert)_kg",13.572000000000005]
["Erdgas (fossil) (Heizwert)","t","Erdgas (fossil) (Heizwert)_t",13572.000000000004]
["Erdgas (fossil) (Heizwert)","kWh","Erdgas (fossil) (Heizwert)_kWh",1]
["Erdgas (fossil) (Heizwert)","MWh","Erdgas (fossil) (Heizwert)_MWh",1000]
["FW Durchschnitt AT","MWh","FW Durchschnitt AT_MWh",1000]
["FW Durchschnitt AT","kWh","FW Durchschnitt AT_kWh",1]
["Flüssiggas LPG","kg","Flüssiggas LPG_kg",12.811111111111112]
["Flüssiggas LPG","Liter","Flüssiggas LPG_Liter",6.918000000000001]
["Flüssiggas LPG","t","Flüssiggas LPG_t",12811.111111111111]
["Flüssiggas LPG","kWh","Flüssiggas LPG_kWh",1]
["Flüssiggas LPG","MWh","Flüssiggas LPG_MWh",1000]
["FW Innsbruck","kWh","FW Innsbruck_kWh",1]
["FW Innsbruck","MWh","FW Innsbruck_MWh",1000]
["FW Salzburg","kWh","FW Salzburg_kWh",1]
["FW Salzburg","MWh","FW Salzburg_MWh",1000]
["FW St. Pölten","kWh","FW St. Pölten_kWh",1]
["FW St. Pölten","MWh","FW St. Pölten_MWh",1000]
["Heizöl extra leicht (fossil) ","kg","Heizöl extra leicht (fossil) _kg",11.76944444444444]
["Heizöl extra leicht (fossil) ","Liter","Heizöl extra leicht (fossil) _Liter",9.8510249999999964]
["Heizöl extra leicht (fossil) ","t","Heizöl extra leicht (fossil) _t",11769.44444444444]
["Heizöl extra leicht (fossil) ","MWh","Heizöl extra leicht (fossil) _MWh",1000]
["Heizöl extra leicht (fossil) ","kWh","Heizöl extra leicht (fossil) _kWh",1]
["Heizöl leicht (fossil) ","kg","Heizöl leicht (fossil) _kg",11.572222222222223]
["Heizöl leicht (fossil) ","Liter","Heizöl leicht (fossil) _Liter",10.646444444444446]
["Heizöl leicht (fossil) ","t","Heizöl leicht (fossil) _t",11572.222222222223]
["Heizöl leicht (fossil) ","MWh","Heizöl leicht (fossil) _MWh",1000]
["Heizöl leicht (fossil) ","kWh","Heizöl leicht (fossil) _kWh",1]
["Industrielle Abwärme","kWh","Industrielle Abwärme_kWh",1]
["Industrielle Abwärme","MWh","Industrielle Abwärme_MWh",1000]
["Kerosin","kWh","Kerosin_kWh",1]
["Kerosin","MWh","Kerosin_MWh",1000]
["Kerosin","kg","Kerosin_kg",12.028]
["Kerosin","Liter","Kerosin_Liter",{"$f":"D107*0.8","v":9.6224000000000007}]
["Kohle / Koks","kg","Kohle / Koks_kg",7.8957984951136577]
["Kohle / Koks","t","Kohle / Koks_t",7895.7984951136577]
["Kohle / Koks","kWh","Kohle / Koks_kWh",1]
["Kohle / Koks","MWh","Kohle / Koks_MWh",1000]
["Leichtes Nutzfahrzeug","Fzg-km","Leichtes Nutzfahrzeug_Fzg-km",0.85,"Verkehrsträgerliste 2024"]
["Leichtes Nutzfahrzeug","Tonnen-km","Leichtes Nutzfahrzeug_Tonnen-km",2.54,"Verkehrsträgerliste 2024"]
["LKW Durchschnitt","Fzg-km","LKW Durchschnitt_Fzg-km",2.8889999999999998,"Verkehrsträgerliste 2019"]
["LKW Durchschnitt","Tonnen-km","LKW Durchschnitt_Tonnen-km",0.27700000000000002,"Verkehrsträgerliste 2019"]
["Motorrad / Mopeds","Fzg-km","Motorrad / Mopeds_Fzg-km",0.38]
["Photovoltaik","kWh","Photovoltaik_kWh",1]
["Photovoltaik","MWh","Photovoltaik_MWh",1000]
["Pkw","Fzg-km","Pkw_Fzg-km",0.65100000000000002,"Verkehrsträgerliste 2019"]
["Pkw","Personen-km","Pkw_Personen-km",0.57199999999999995,"Verkehrsträgerliste 2019"]
["Schienenverkehr Diesel","Personen-km","Schienenverkehr Diesel_Personen-km",0.246,"Dreifacher Wert wie Schienenverkehr Elektrisch"]
["Schienenverkehr Diesel","Tonnen-km","Schienenverkehr Diesel_Tonnen-km",9.6000000000000002E-2,"Dreifacher Wert wie Schienenverkehr Elektrisch"]
["Schienenverkehr Elektrisch","Personen-km","Schienenverkehr Elektrisch_Personen-km",8.2000000000000003E-2,"Verkehrsträgerliste 2019"]
["Schienenverkehr Elektrisch","Tonnen-km","Schienenverkehr Elektrisch_Tonnen-km",3.2000000000000001E-2,"Verkehrsträgerliste 2019"]
["Schweres Nutzfahrzeug","Fzg-km","Schweres Nutzfahrzeug_Fzg-km",3.26,"Verkehrsträgerliste 2024"]
["Schweres Nutzfahrzeug","Tonnen-km","Schweres Nutzfahrzeug_Tonnen-km",0.21,"Verkehrsträgerliste 2024"]
["Solarthermie","kWh","Solarthermie_kWh",1]
["Solarthermie","MWh","Solarthermie_MWh",1000]
["Strom aus Wasserkraft","kWh",{"$f":"A130&\"_\"&B130","v":"Strom aus Wasserkraft_kWh"},1]
["Strom aus Wasserkraft","MWh","Strom aus Wasserkraft_MWh",1000]
["Strom aus Windkraft","kWh","Strom aus Windkraft_kWh",1]
["Strom aus Windkraft","MWh","Strom aus Windkraft_MWh",1000]
["Strom Durchschnitt AT","MWh","Strom Durchschnitt AT_MWh",1000]
["Strom Durchschnitt AT","kWh","Strom Durchschnitt AT_kWh",1]
["Umgebungswärme","MWh","Umgebungswärme_MWh",1000]
["100% Ökostrom","kWh","100% Ökostrom_kWh",1]
["100% Ökostrom","MWh","100% Ökostrom_MWh",1000]
["Wärmepumpe (Strom Durchschnitt AT)","kWh","Wärmepumpe (Strom Durchschnitt AT)_kWh",1]
["Wärmepumpe (Strom Durchschnitt AT)","MWh","Wärmepumpe (Strom Durchschnitt AT)_MWh",1000]
["Wasserstoff","kWh","Wasserstoff_kWh",1]
["Wasserstoff","MWh","Wasserstoff_MWh",1000]
["FW Villach","kWh","FW Villach_kWh",1]
["FW Villach","MWh","FW Villach_MWh",1000]
["FW Wien","kWh","FW Wien_kWh",1]
["FW Wien","MWh","FW Wien_MWh",1000]
["FW Graz","kWh","FW Graz_kWh",1]
["FW Graz","MWh","FW Graz_MWh",1000]
["FW Bregenz","kWh","FW Bregenz_kWh",1]
["FW Bregenz","MWh","FW Bregenz_MWh",1000]
["FW Dornbirn","kWh","FW Dornbirn_kWh",1]
["FW Dornbirn","MWh","FW Dornbirn_MWh",1000]
["FW Klagefurt","kWh","FW Klagefurt_kWh",1]
["FW Klagefurt","MWh","FW Klagefurt_MWh",1000]
["FW Linz","kWh","FW Linz_kWh",1]
["FW Linz","MWh","FW Linz_MWh",1000]
["FW St. Veit/Glan","kWh","FW St. Veit/Glan_kWh",1]
["FW St. Veit/Glan","MWh","FW St. Veit/Glan_MWh",1000]
["FW Steyr","kWh","FW Steyr_kWh",1]
["FW Steyr","MWh","FW Steyr_MWh",1000]
["FW Tulln","kWh","FW Tulln_kWh",1]
["FW Tulln","MWh","FW Tulln_MWh",1000]
["FW Wiener Neustadt","kWh","FW Wiener Neustadt_kWh",1]
["FW Wiener Neustadt","MWh","FW Wiener Neustadt_MWh",1000]

{"sheet":"EFA2020","index":18,"n_rows":164,"n_cols":29,"rows_kept":164,"cut":false,"hidden":true,"merged":[[0,12,1,28]]}
["Energieträger","Einheit","Schlüssel","Heizwert in kWh","Quellenangabe","Energieträger","Emissionsfaktor direkt","Emissionsfaktor indirekt","Quellenangabe, intern",null,null,null,"Emissionsfaktoren Abfall"]
[null,null,{"$f":"A2&\"_\"&B2","v":"_"},"Energieträger/Einheit wählen",null,null," t CO2eq/MWh"," t CO2eq/MWh"]
["Benzin (inkl. Beimengung)","kg","Benzin (inkl. Beimengung)_kg",11.407686432867768,null,"Heizöl extra leicht (fossil) ",0.27087479999999997,7.3588102997403718E-2,"Basisfaktoren 2021"]
["Benzin (inkl. Beimengung)","Liter","Benzin (inkl. Beimengung)_Liter",8.5074874956669291,null,"Heizöl leicht (fossil) ",0.27807479999999996,7.3588102997403718E-2,"Basisfaktoren 2021",null,null,null,"Abfallart","Aufkommen (t)",null,"% Scope 1","Recycling/Stoffliche Verwertung","EFAs kg CO2 / t Abfall","thermische Verwertung","EFA therm. Verw.","deponiert/Beseitigung","EFA Deponie, kg CO2-eq / t","Export","Recycling/stoffl. V. Export","EFA Export (kg CO2-eq / t)","Ergebnis t CO2-eq","Recycling/Stoffliche Verwertung","thermische Verwertung","deponiert/Beseitigung"]
["Benzin (inkl. Beimengung)","t","Benzin (inkl. Beimengung)_t",11407.686432867768,null,"Erdgas (fossil) (Heizwert)",0.2007594,4.8720599999999989E-2,"Basisfaktoren 2021",null,null,null,2020]
["Benzin (inkl. Beimengung)","kWh","Benzin (inkl. Beimengung)_kWh",1,null,"Erdgas (fossil) (Brennwert)",0.18068345999999999,4.3848539999999991E-2,"Basisfaktoren 2021",null,null,null,"Abwasser",null,"Einwohner:innen",null,null,11,null,null,null,0]
["Benzin (inkl. Beimengung)","MWh","Benzin (inkl. Beimengung)_MWh",1000,null,"Flüssiggas LPG",0.23099940000000002,8.2030000000000006E-2,"Basisfaktoren 2021",null,null,null,"Restmüll",null,"Tonnen",null,2.2222222222222223,0,85.673758865248232,0,2.2222222222222223,7560,3.4988179669030735,372,null,null,null,87.837837837837839,10.810810810810811]
["Benzin fossil","Liter","Benzin fossil_Liter",8.6342062242990405,null,"Biomasse (Biobrennstoffe fest): Stückholz ",1.8292736161375171E-2,6.3E-3,"Basisfaktoren 2021",null,null,null,"Sperrmüll",null,"Tonnen",null,2.340276152586005,0,51.72010297215072,0,1.872220922068804,0,2.1062485373274047,372,null,null,null,100]
["Benzin fossil","t","Benzin fossil_t",11605.115892875056,null,"Biomasse (Biobrennstoffe fest): Hackgut ",1.2739824E-2,6.62E-3,"Basisfaktoren 2021",null,null,null,"Leichtfraktion",null,"Tonnen",null,14.734480179506356,0,50.186985789080026,0,1.1967090501121915,0,26.327599102468213,807,null,null,48.863636363636367,50.56818181818182,0.56818181818181823]
["Benzin fossil","kWh","Benzin fossil_kWh",1,null,"Biomasse (Biobrennstoffe fest): Pellets",5.3839439999999999E-3,2.0760000000000001E-2,"Basisfaktoren 2021",null,null,null,"Altmetall",null,"Tonnen",null,64.065078990804054,0,1.2732846026880453,0,7.0738033482669188E-2,0,30.370195708559301,372,null,null,99.456521739130437,0.54347826086956519,1.8633540372670807E-3]
["Benzin fossil","MWh","Benzin fossil_MWh",1000,null,"Biomasse (Biobrennstoffe fest): Gesamt",1.5610493594460506E-2,8.5489999999999993E-3,"Basisfaktoren 2021",null,null,null,"Altglas",null,"Tonnen",null,40.594059405940598,0,9.4059405940594054,0,0.33003300330033003,0,31.188118811881189,372,null,null,97.883597883597886,2.1164021164021163]
["Benzin fossil","kg","Benzin fossil_kg",10.325348569988222,null,"Biobrennstoffe flüssig ",4.0980459618944138E-3,0.11291754638524576,"Basisfaktoren 2021",null,null,null,"Altpapier",null,"Tonnen",null,86.935826313266219,0,3.071707417300185,0,0,0,3.8422025888637767,167,null,null,93.850267379679138,5.3475935828877006,0.80213903743315518]
["Biobrennstoffe flüssig ","Liter","Biobrennstoffe flüssig _Liter",9.2102109244294947,null,"Biobrennstoffe gasförmig ",5.9940000000000004E-4,8.1360000000000016E-2,"Basisfaktoren 2021",null,null,null,"Bioabfall",null,"Tonnen",null,47.539568345323744,34.950000000000003,30.100719424460433,0,0.86330935251798557,7560,2.3021582733812949,34.950000000000003,null,null,68.75,27.500000000000004,3.75]
["Biobrennstoffe flüssig ","t","Biobrennstoffe flüssig _t",10325.348569988222,null,"Diesel (inkl. Beimengung)",0.25539282669306268,7.618384626100129E-2,"Basisfaktoren 2021",null,null,null,"Altholz",null,"Tonnen",null,51.632406287787177,0,18.319226118500602,0,0,0,10.580411124546554,6.9,null,null,87.428571428571431,12.571428571428573]
["Biobrennstoffe flüssig ","kWh","Biobrennstoffe flüssig _kWh",1,null,"Benzin (inkl. Beimengung)",0.26248341625640026,6.4527354695540801E-2,"Basisfaktoren 2021",null,null,null,"Alttextilien",null,"Tonnen",null,4.1237113402061851,0,70.790378006872857,0,3.4364261168384882,7560,19.243986254295535,32,null,null,62.5,35.714285714285715,1.7857142857142856]
["Biobrennstoffe flüssig ","MWh","Biobrennstoffe flüssig _MWh",1000,null,"CNG",0.20210260453011258,4.7377395469887403E-2,"Basisfaktoren 2021",null,null,null,"EAG",null,"Tonnen",null,84,0,null,0,0,0,null,427.3]
["Biobrennstoffe flüssig ","Nm3 (Normkubikmeter)","Biobrennstoffe flüssig _Nm3 (Normkubikmeter)",10.158064695232865,null,"Biodiesel",4.0980459618944138E-3,0.11291754638524576,"Basisfaktoren 2021"]
["Biobrennstoffe gasförmig ","kg","Biobrennstoffe gasförmig _kg",13.544086260310486,null,"Bioethanol",1.0844148317539699E-3,8.6635391843301213E-2,"Basisfaktoren 2021"]
["Biobrennstoffe gasförmig ","t","Biobrennstoffe gasförmig _t",13544.086260310487,null,"Diesel fossil",0.26877189700259629,7.3588102997403718E-2,"Basisfaktoren 2021"]
["Biobrennstoffe gasförmig ","kg","Biobrennstoffe gasförmig _kg",10.325348569988222,null,"Benzin fossil",0.27256532244758536,6.3314677552414711E-2,"Basisfaktoren 2021"]
["Biobrennstoffe gasförmig ","kWh","Biobrennstoffe gasförmig _kWh",1,null,"Strom Durchschnitt AT",0.161,4.1399999999999999E-2,"Basisfaktoren 2021"]
["Biobrennstoffe gasförmig ","MWh","Biobrennstoffe gasförmig _MWh",1000,null,"Kohle / Koks",0.33514971084497724,4.7960000000000003E-2,"Basisfaktoren 2021"]
["Biodiesel","Liter","Biodiesel_Liter",9.2102109244294947,null,"Brennbare Abfälle",0.28299999999999997,8.2000000000000007E-3,"Basisfaktoren 2021"]
["Biodiesel","t","Biodiesel_t",10325.348569988222,null,"Pkw",0.2589381214747315,7.0355600478271052E-2,"Basisfaktoren 2021"]
["Biodiesel","kWh","Biodiesel_kWh",1,null,"Bus",0.2589381214747315,7.0355600478271052E-2,"Basisfaktoren 2021"]
["Biodiesel","MWh","Biodiesel_MWh",1000,null,"Schienenverkehr Diesel",0.25539282669306268,7.618384626100129E-2,"Basisfaktoren 2021"]
["Biodiesel","kg","Biodiesel_kg",7.9656909984041802,null,"Schienenverkehr Elektrisch",0.15,4.5000000000000012E-2,"Basisfaktoren 2021"]
["Bioethanol","Liter","Bioethanol_Liter",6.1973075967584528,null,"CO2-eq Direkteingabe",1000,0]
["Bioethanol","t","Bioethanol_t",7965.6909984041804,null,"Wasserstoff",0,0]
["Bioethanol","kg","Bioethanol_kg",3.8161780550550493,null,"Photovoltaik",0,0]
["Bioethanol","kWh","Bioethanol_kWh",1,null,"Solarthermie",0,0]
["Bioethanol","MWh","Bioethanol_MWh",1000,null,"Industrielle Abwärme",0,0]
["Biomasse (Biobrennstoffe fest): Gesamt","t","Biomasse (Biobrennstoffe fest): Gesamt_t",3816.1780550550493,null,"100% Ökostrom",0,1.4E-2]
["Biomasse (Biobrennstoffe fest): Gesamt","kg","Biomasse (Biobrennstoffe fest): Gesamt_kg",2.9715772878822539,null,"Strom aus Wasserkraft",0,2.5999999999999999E-2]
["Biomasse (Biobrennstoffe fest): Gesamt","kWh","Biomasse (Biobrennstoffe fest): Gesamt_kWh",1,null,"Wärmepumpe (Strom Durchschnitt AT)",{"$f":"G21/3","v":5.3666666666666668E-2},{"$f":"H21/3","v":1.38E-2}]
["Biomasse (Biobrennstoffe fest): Gesamt","MWh","Biomasse (Biobrennstoffe fest): Gesamt_MWh",1000,null,"Strom aus Windkraft",0,8.0000000000000002E-3]
["Biomasse (Biobrennstoffe fest): Hackgut ","t","Biomasse (Biobrennstoffe fest): Hackgut _t",2971.577287882254,null,"Motorrad / Mopeds",0.26248341625640026,6.4527354695540801E-2,"climcalc & GEMIS Moped/Motorrad-2015-Benzin-mittel"]
["Biomasse (Biobrennstoffe fest): Hackgut ","kg","Biomasse (Biobrennstoffe fest): Hackgut _kg",4.8011111111111093,null,"Leichtes Nutzfahrzeug",0.2589381214747315,7.0355600478271052E-2,"VTL"]
["Biomasse (Biobrennstoffe fest): Hackgut ","kWh","Biomasse (Biobrennstoffe fest): Hackgut _kWh",1,null,"Schweres Nutzfahrzeug",0.2589381214747315,7.0355600478271052E-2,"VTL"]
["Biomasse (Biobrennstoffe fest): Hackgut ","MWh","Biomasse (Biobrennstoffe fest): Hackgut _MWh",1000,null,"LKW Durchschnitt",0.2589381214747315,7.0355600478271052E-2,"VTL"]
["Biomasse (Biobrennstoffe fest): Pellets","t","Biomasse (Biobrennstoffe fest): Pellets_t",4801.1111111111095,null,"Kerosin",0.26400000000000001,5.8999999999999997E-2,"Energieträgerliste 2024"]
["Biomasse (Biobrennstoffe fest): Pellets","kg","Biomasse (Biobrennstoffe fest): Pellets_kg",3.9752777777777775,null,"FW Innsbruck",8.1306601347885643E-2,2.6084231188020373E-2]
["Biomasse (Biobrennstoffe fest): Pellets","kWh","Biomasse (Biobrennstoffe fest): Pellets_kWh",1,null,"FW Wien",0.13200000000000001,5.8999999999999997E-2]
["Biomasse (Biobrennstoffe fest): Pellets","MWh","Biomasse (Biobrennstoffe fest): Pellets_MWh",1000,null,"FW Graz",0.13200000000000001,5.8999999999999997E-2]
["Biomasse (Biobrennstoffe fest): Stückholz ","kg","Biomasse (Biobrennstoffe fest): Stückholz _kg",3.9752777777777801,null,"FW Salzburg",0.15135323251651189,5.1612503814303635E-2]
["Biomasse (Biobrennstoffe fest): Stückholz ","t","Biomasse (Biobrennstoffe fest): Stückholz _t",3975.2777777777774,null,"FW Bregenz",0.13200000000000001,5.8999999999999997E-2]
["Biomasse (Biobrennstoffe fest): Stückholz ","kWh","Biomasse (Biobrennstoffe fest): Stückholz _kWh",1,null,"FW Dornbirn",0.13200000000000001,5.8999999999999997E-2]
["Biomasse (Biobrennstoffe fest): Stückholz ","MWh","Biomasse (Biobrennstoffe fest): Stückholz _MWh",1000,null,"FW Klagefurt",0.13200000000000001,5.8999999999999997E-2]
["Brennbare Abfälle","t","Brennbare Abfälle_t",4785,null,"FW Linz",0.22572485871499326,3.3341875266467758E-2]
["Brennbare Abfälle","MWh","Brennbare Abfälle_MWh",1000,null,"FW St. Veit/Glan",0.13200000000000001,5.8999999999999997E-2]
["Brennbare Abfälle","kWh","Brennbare Abfälle_kWh",1,null,"FW St. Pölten",0.18941637606911327,2.7972643746756717E-2]
["Bus","Fzg-km","Bus_Fzg-km",2.9849999999999999,"Verkehrsträgerliste 2019","FW Steyr",0.13200000000000001,5.8999999999999997E-2]
["Bus","Personen-km","Bus_Personen-km",0.159,"Verkehrsträgerliste 2019","FW Tulln",0.13200000000000001,5.8999999999999997E-2]
["CNG","kg","CNG_kg",10.179000000000004,null,"FW Villach",0.13200000000000001,5.8999999999999997E-2]
["CNG","Nm3 (Normkubikmeter)","CNG_Nm3 (Normkubikmeter)",7.6342500000000033,null,"FW Wiener Neustadt",0.13200000000000001,5.8999999999999997E-2]
["CNG","t","CNG_t",10179.000000000004,null,"FW Durchschnitt AT",0.13200000000000001,5.8999999999999997E-2,"Basisfaktoren 2021"]
["CNG","kWh","CNG_kWh",1]
["CNG","MWh","CNG_MWh",1000]
["CO2-eq Direkteingabe","t","CO2-eq Direkteingabe_t",1]
["Diesel (inkl. Beimengung)","kg","Diesel (inkl. Beimengung)_kg",11.668309804566031]
["Diesel (inkl. Beimengung)","Liter","Diesel (inkl. Beimengung)_Liter",9.8087312710123413]
["Diesel (inkl. Beimengung)","t","Diesel (inkl. Beimengung)_t",11668.30980456603]
["Diesel (inkl. Beimengung)","kWh","Diesel (inkl. Beimengung)_kWh",1]
["Diesel (inkl. Beimengung)","MWh","Diesel (inkl. Beimengung)_MWh",1000]
["Diesel fossil","kg","Diesel fossil_kg",11.76944444444444]
["Diesel fossil","Liter",{"$f":"A66&\"_\"&B66","v":"Diesel fossil_Liter"},9.8510249999999964]
["Diesel fossil","t","Diesel fossil_t",11769.44444444444]
["Diesel fossil","kWh","Diesel fossil_kWh",1]
["Diesel fossil","MWh","Diesel fossil_MWh",1000]
["Erdgas (fossil) (Brennwert)","Nm3 (Normkubikmeter)","Erdgas (fossil) (Brennwert)_Nm3 (Normkubikmeter)",11.310000000000004]
["Erdgas (fossil) (Brennwert)","kg","Erdgas (fossil) (Brennwert)_kg",15.080000000000005]
["Erdgas (fossil) (Brennwert)","t","Erdgas (fossil) (Brennwert)_t",15080.000000000005]
["Erdgas (fossil) (Brennwert)","kWh","Erdgas (fossil) (Brennwert)_kWh",1]
["Erdgas (fossil) (Brennwert)","MWh","Erdgas (fossil) (Brennwert)_MWh",1000]
["Erdgas (fossil) (Heizwert)","Nm3 (Normkubikmeter)","Erdgas (fossil) (Heizwert)_Nm3 (Normkubikmeter)",10.179000000000004]
["Erdgas (fossil) (Heizwert)","kg","Erdgas (fossil) (Heizwert)_kg",13.572000000000005]
["Erdgas (fossil) (Heizwert)","t","Erdgas (fossil) (Heizwert)_t",13572.000000000004]
["Erdgas (fossil) (Heizwert)","kWh","Erdgas (fossil) (Heizwert)_kWh",1]
["Erdgas (fossil) (Heizwert)","MWh","Erdgas (fossil) (Heizwert)_MWh",1000]
["FW Durchschnitt AT","MWh","FW Durchschnitt AT_MWh",1000]
["FW Durchschnitt AT","kWh","FW Durchschnitt AT_kWh",1]
["Flüssiggas LPG","kg","Flüssiggas LPG_kg",12.811111111111112]
["Flüssiggas LPG","Liter","Flüssiggas LPG_Liter",6.918000000000001]
["Flüssiggas LPG","t","Flüssiggas LPG_t",12811.111111111111]
["Flüssiggas LPG","kWh","Flüssiggas LPG_kWh",1]
["Flüssiggas LPG","MWh","Flüssiggas LPG_MWh",1000]
["FW Innsbruck","kWh","FW Innsbruck_kWh",1]
["FW Innsbruck","MWh","FW Innsbruck_MWh",1000]
["FW Salzburg","kWh","FW Salzburg_kWh",1]
["FW Salzburg","MWh","FW Salzburg_MWh",1000]
["FW St. Pölten","kWh","FW St. Pölten_kWh",1]
["FW St. Pölten","MWh","FW St. Pölten_MWh",1000]
["Heizöl extra leicht (fossil) ","kg","Heizöl extra leicht (fossil) _kg",11.76944444444444]
["Heizöl extra leicht (fossil) ","Liter","Heizöl extra leicht (fossil) _Liter",9.8510249999999964]
["Heizöl extra leicht (fossil) ","t","Heizöl extra leicht (fossil) _t",11769.44444444444]
["Heizöl extra leicht (fossil) ","MWh","Heizöl extra leicht (fossil) _MWh",1000]
["Heizöl extra leicht (fossil) ","kWh","Heizöl extra leicht (fossil) _kWh",1]
["Heizöl leicht (fossil) ","kg","Heizöl leicht (fossil) _kg",11.572222222222223]
["Heizöl leicht (fossil) ","Liter","Heizöl leicht (fossil) _Liter",10.646444444444446]
["Heizöl leicht (fossil) ","t","Heizöl leicht (fossil) _t",11572.222222222223]
["Heizöl leicht (fossil) ","MWh","Heizöl leicht (fossil) _MWh",1000]
["Heizöl leicht (fossil) ","kWh","Heizöl leicht (fossil) _kWh",1]
["Industrielle Abwärme","kWh","Industrielle Abwärme_kWh",1]
["Industrielle Abwärme","MWh","Industrielle Abwärme_MWh",1000]
["Kerosin","kWh","Kerosin_kWh",1]
["Kerosin","MWh","Kerosin_MWh",1000]
["Kerosin","kg","Kerosin_kg",12.028]
["Kerosin","Liter","Kerosin_Liter",{"$f":"D107*0.8","v":9.6224000000000007}]
["Kohle / Koks","kg","Kohle / Koks_kg",7.8957984951136577]
["Kohle / Koks","t","Kohle / Koks_t",7895.7984951136577]
["Kohle / Koks","kWh","Kohle / Koks_kWh",1]
["Kohle / Koks","MWh","Kohle / Koks_MWh",1000]
["Leichtes Nutzfahrzeug","Fzg-km","Leichtes Nutzfahrzeug_Fzg-km",0.85,"Verkehrsträgerliste 2024"]
["Leichtes Nutzfahrzeug","Tonnen-km","Leichtes Nutzfahrzeug_Tonnen-km",2.54,"Verkehrsträgerliste 2024"]
["LKW Durchschnitt","Fzg-km","LKW Durchschnitt_Fzg-km",2.8889999999999998,"Verkehrsträgerliste 2019"]
["LKW Durchschnitt","Tonnen-km","LKW Durchschnitt_Tonnen-km",0.27700000000000002,"Verkehrsträgerliste 2019"]
["Motorrad / Mopeds","Fzg-km","Motorrad / Mopeds_Fzg-km",0.38]
["Photovoltaik","kWh","Photovoltaik_kWh",1]
["Photovoltaik","MWh","Photovoltaik_MWh",1000]
["Pkw","Fzg-km","Pkw_Fzg-km",0.65100000000000002,"Verkehrsträgerliste 2019"]
["Pkw","Personen-km","Pkw_Personen-km",0.57199999999999995,"Verkehrsträgerliste 2019"]
["Schienenverkehr Diesel","Personen-km","Schienenverkehr Diesel_Personen-km",0.246,"Dreifacher Wert wie Schienenverkehr Elektrisch"]
["Schienenverkehr Diesel","Tonnen-km","Schienenverkehr Diesel_Tonnen-km",9.6000000000000002E-2,"Dreifacher Wert wie Schienenverkehr Elektrisch"]
["Schienenverkehr Elektrisch","Personen-km","Schienenverkehr Elektrisch_Personen-km",8.2000000000000003E-2,"Verkehrsträgerliste 2019"]
["Schienenverkehr Elektrisch","Tonnen-km","Schienenverkehr Elektrisch_Tonnen-km",3.2000000000000001E-2,"Verkehrsträgerliste 2019"]
["Schweres Nutzfahrzeug","Fzg-km","Schweres Nutzfahrzeug_Fzg-km",3.26,"Verkehrsträgerliste 2024"]
["Schweres Nutzfahrzeug","Tonnen-km","Schweres Nutzfahrzeug_Tonnen-km",0.21,"Verkehrsträgerliste 2024"]
["Solarthermie","kWh","Solarthermie_kWh",1]
["Solarthermie","MWh","Solarthermie_MWh",1000]
["Strom aus Wasserkraft","kWh",{"$f":"A130&\"_\"&B130","v":"Strom aus Wasserkraft_kWh"},1]
["Strom aus Wasserkraft","MWh","Strom aus Wasserkraft_MWh",1000]
["Strom aus Windkraft","kWh","Strom aus Windkraft_kWh",1]
["Strom aus Windkraft","MWh","Strom aus Windkraft_MWh",1000]
["Strom Durchschnitt AT","MWh","Strom Durchschnitt AT_MWh",1000]
["Strom Durchschnitt AT","kWh","Strom Durchschnitt AT_kWh",1]
["Umgebungswärme","MWh","Umgebungswärme_MWh",1000]
["100% Ökostrom","kWh","100% Ökostrom_kWh",1]
["100% Ökostrom","MWh","100% Ökostrom_MWh",1000]
["Wärmepumpe (Strom Durchschnitt AT)","kWh","Wärmepumpe (Strom Durchschnitt AT)_kWh",1]
["Wärmepumpe (Strom Durchschnitt AT)","MWh","Wärmepumpe (Strom Durchschnitt AT)_MWh",1000]
["Wasserstoff","kWh","Wasserstoff_kWh",1]
["Wasserstoff","MWh","Wasserstoff_MWh",1000]
["FW Villach","kWh","FW Villach_kWh",1]
["FW Villach","MWh","FW Villach_MWh",1000]
["FW Wien","kWh","FW Wien_kWh",1]
["FW Wien","MWh","FW Wien_MWh",1000]
["FW Graz","kWh","FW Graz_kWh",1]
["FW Graz","MWh","FW Graz_MWh",1000]
["FW Bregenz","kWh","FW Bregenz_kWh",1]
["FW Bregenz","MWh","FW Bregenz_MWh",1000]
["FW Dornbirn","kWh","FW Dornbirn_kWh",1]
["FW Dornbirn","MWh","FW Dornbirn_MWh",1000]
["FW Klagefurt","kWh","FW Klagefurt_kWh",1]
["FW Klagefurt","MWh","FW Klagefurt_MWh",1000]
["FW Linz","kWh","FW Linz_kWh",1]
["FW Linz","MWh","FW Linz_MWh",1000]
["FW St. Veit/Glan","kWh","FW St. Veit/Glan_kWh",1]
["FW St. Veit/Glan","MWh","FW St. Veit/Glan_MWh",1000]
["FW Steyr","kWh","FW Steyr_kWh",1]
["FW Steyr","MWh","FW Steyr_MWh",1000]
["FW Tulln","kWh","FW Tulln_kWh",1]
["FW Tulln","MWh","FW Tulln_MWh",1000]
["FW Wiener Neustadt","kWh","FW Wiener Neustadt_kWh",1]
["FW Wiener Neustadt","MWh","FW Wiener Neustadt_MWh",1000]

{"sheet":"EFA2021","index":19,"n_rows":164,"n_cols":29,"rows_kept":164,"cut":false,"hidden":true,"merged":[[0,12,1,28]]}
["Energieträger","Einheit","Schlüssel","Heizwert in kWh","Quellenangabe","Energieträger","Emissionsfaktor direkt","Emissionsfaktor indirekt","Quellenangabe, intern",null,null,null,"Emissionsfaktoren Abfall"]
[null,null,{"$f":"A2&\"_\"&B2","v":"_"},"Energieträger/Einheit wählen",null,null," t CO2eq/MWh"," t CO2eq/MWh"]
["Benzin (inkl. Beimengung)","kg","Benzin (inkl. Beimengung)_kg",11.407686432867768,null,"Heizöl extra leicht (fossil) ",0.27087479999999997,7.3588102997403718E-2,"Basisfaktoren 2022"]
["Benzin (inkl. Beimengung)","Liter","Benzin (inkl. Beimengung)_Liter",8.5074874956669291,null,"Heizöl leicht (fossil) ",0.27807479999999996,7.3588102997403718E-2,"Basisfaktoren 2022",null,null,null,"Abfallart","Aufkommen (t)",null,"% Scope 1","Recycling/Stoffliche Verwertung","EFAs kg CO2 / t Abfall","thermische Verwertung","EFA therm. Verw.","deponiert/Beseitigung","EFA Deponie, kg CO2-eq / t","Export","Recycling/stoffl. V. Export","EFA Export (kg CO2-eq / t)","Ergebnis t CO2-eq","Recycling/Stoffliche Verwertung","thermische Verwertung","deponiert/Beseitigung"]
["Benzin (inkl. Beimengung)","t","Benzin (inkl. Beimengung)_t",11407.686432867768,null,"Erdgas (fossil) (Heizwert)",0.2007594,4.8720599999999989E-2,"Basisfaktoren 2022",null,null,null,2021]
["Benzin (inkl. Beimengung)","kWh","Benzin (inkl. Beimengung)_kWh",1,null,"Erdgas (fossil) (Brennwert)",0.18068345999999999,4.3848539999999991E-2,"Basisfaktoren 2022",null,null,null,"Abwasser",null,"Einwohner:innen",null,null,11.037599999999998,null,null,null,0]
["Benzin (inkl. Beimengung)","MWh","Benzin (inkl. Beimengung)_MWh",1000,null,"Flüssiggas LPG",0.23099940000000002,8.2030000000000006E-2,"Basisfaktoren 2022",null,null,null,"Restmüll",null,"Tonnen",null,0.71123755334281646,0,89.473684210526315,0,2.9871977240398291,7560,3.7932669511616881,372,null,null,null,96.25,3.75]
["Benzin fossil","Liter","Benzin fossil_Liter",8.6342062242990405,null,"Biomasse (Biobrennstoffe fest): Stückholz ",1.8292736161375171E-2,6.3E-3,"Basisfaktoren 2022",null,null,null,"Sperrmüll",null,"Tonnen",null,0.74613873206158132,0,56.457830725992984,0,2.9845549282463253,0,2.238416196184744,372,null,null,null,100]
["Benzin fossil","t","Benzin fossil_t",11605.115892875056,null,"Biomasse (Biobrennstoffe fest): Hackgut ",1.2739824E-2,6.62E-3,"Basisfaktoren 2022",null,null,null,"Leichtfraktion",null,"Tonnen",null,16.535994297933001,0,49.322879543834638,0,1.4967925873129011,0,25.80185317177477,807,null,null,52.209944751381222,47.237569060773481,0.55248618784530379]
["Benzin fossil","kWh","Benzin fossil_kWh",1,null,"Biomasse (Biobrennstoffe fest): Pellets",5.3839439999999999E-3,2.0760000000000001E-2,"Basisfaktoren 2022",null,null,null,"Altmetall",null,"Tonnen",null,66.481367099032326,0,1.1117974058060531,0,0.24706609017912293,0,31.068560840024706,372,null,null,99.536116633532146,0.46388336646785955,1.9880715705765408E-2]
["Benzin fossil","MWh","Benzin fossil_MWh",1000,null,"Biomasse (Biobrennstoffe fest): Gesamt",1.5610493594460506E-2,8.5489999999999993E-3,"Basisfaktoren 2022",null,null,null,"Altglas",null,"Tonnen",null,42.465753424657535,0,9.9315068493150687,0,0.34246575342465752,0,31.164383561643838,372,null,null,97.802197802197796,2.197802197802198,0.19230769230769232]
["Benzin fossil","kg","Benzin fossil_kg",10.325348569988222,null,"Biobrennstoffe flüssig ",4.0980459618944138E-3,0.11291754638524576,"Basisfaktoren 2022",null,null,null,"Altpapier",null,"Tonnen",null,88.602300453119554,0,3.1369815266643433,0,null,0,7.3196235622167993,167,null,null,96.19047619047619,3.3333333333333335,0.23809523809523811]
["Biobrennstoffe flüssig ","Liter","Biobrennstoffe flüssig _Liter",9.2102109244294947,null,"Biobrennstoffe gasförmig ",5.9940000000000004E-4,8.1360000000000016E-2,"Basisfaktoren 2022",null,null,null,"Bioabfall",null,"Tonnen",null,50.705052878965915,34.950000000000003,39.159811985898941,0,1.0282021151586369,7560,2.4089306698002351,34.950000000000003,null,null,65.853658536585371,31.707317073170731,2.4390243902439024]
["Biobrennstoffe flüssig ","t","Biobrennstoffe flüssig _t",10325.348569988222,null,"Diesel (inkl. Beimengung)",0.25539282669306268,7.618384626100129E-2,"Basisfaktoren 2022",null,null,null,"Altholz",null,"Tonnen",null,55.078322385042952,0,15.765538150581101,0,null,0,9.5502779181404751,6.9,null,null,86.24338624338624,13.756613756613756]
["Biobrennstoffe flüssig ","kWh","Biobrennstoffe flüssig _kWh",1,null,"Benzin (inkl. Beimengung)",0.26248341625640026,6.4527354695540801E-2,"Basisfaktoren 2022",null,null,null,"Alttextilien",null,"Tonnen",null,2.4734982332155475,0,70.671378091872796,0,4.2402826855123674,7560,22.614840989399294,32,null,null,64.0625,35.9375,1.5625]
["Biobrennstoffe flüssig ","MWh","Biobrennstoffe flüssig _MWh",1000,null,"CNG",0.20210260453011258,4.7377395469887403E-2,"Basisfaktoren 2022",null,null,null,"EAG",null,"Tonnen",null,81.7,0,null,0,null,0,null,427.3]
["Biobrennstoffe flüssig ","Nm3 (Normkubikmeter)","Biobrennstoffe flüssig _Nm3 (Normkubikmeter)",10.158064695232865,null,"Biodiesel",4.0980459618944138E-3,0.11291754638524576,"Basisfaktoren 2022"]
["Biobrennstoffe gasförmig ","kg","Biobrennstoffe gasförmig _kg",13.544086260310486,null,"Bioethanol",1.0844148317539699E-3,8.6635391843301213E-2,"Basisfaktoren 2022"]
["Biobrennstoffe gasförmig ","t","Biobrennstoffe gasförmig _t",13544.086260310487,null,"Diesel fossil",0.26877189700259629,7.3588102997403718E-2,"Basisfaktoren 2022"]
["Biobrennstoffe gasförmig ","kg","Biobrennstoffe gasförmig _kg",10.325348569988222,null,"Benzin fossil",0.27256532244758536,6.3314677552414711E-2,"Basisfaktoren 2022"]
["Biobrennstoffe gasförmig ","kWh","Biobrennstoffe gasförmig _kWh",1,null,"Strom Durchschnitt AT",0.18165577291213908,4.4230714579887316E-2,"Basisfaktoren 2022"]
["Biobrennstoffe gasförmig ","MWh","Biobrennstoffe gasförmig _MWh",1000,null,"Kohle / Koks",0.33514971084497724,4.7960000000000003E-2,"Basisfaktoren 2022"]
["Biodiesel","Liter","Biodiesel_Liter",9.2102109244294947,null,"Brennbare Abfälle",0.28299999999999997,8.2000000000000007E-3,"Basisfaktoren 2022"]
["Biodiesel","t","Biodiesel_t",10325.348569988222,null,"Pkw",0.2589381214747315,7.0355600478271052E-2,"Basisfaktoren 2022"]
["Biodiesel","kWh","Biodiesel_kWh",1,null,"Bus",0.2589381214747315,7.0355600478271052E-2,"Basisfaktoren 2022"]
["Biodiesel","MWh","Biodiesel_MWh",1000,null,"Schienenverkehr Diesel",0.25539282669306268,7.618384626100129E-2,"Basisfaktoren 2022"]
["Biodiesel","kg","Biodiesel_kg",7.9656909984041802,null,"Schienenverkehr Elektrisch",0.15,4.5000000000000012E-2,"Basisfaktoren 2022"]
["Bioethanol","Liter","Bioethanol_Liter",6.1973075967584528,null,"CO2-eq Direkteingabe",1000,0]
["Bioethanol","t","Bioethanol_t",7965.6909984041804,null,"Wasserstoff",0,0]
["Bioethanol","kg","Bioethanol_kg",3.8161780550550493,null,"Photovoltaik",0,0]
["Bioethanol","kWh","Bioethanol_kWh",1,null,"Solarthermie",0,0]
["Bioethanol","MWh","Bioethanol_MWh",1000,null,"Industrielle Abwärme",0,0]
["Biomasse (Biobrennstoffe fest): Gesamt","t","Biomasse (Biobrennstoffe fest): Gesamt_t",3816.1780550550493,null,"100% Ökostrom",0,1.4E-2]
["Biomasse (Biobrennstoffe fest): Gesamt","kg","Biomasse (Biobrennstoffe fest): Gesamt_kg",2.9715772878822539,null,"Strom aus Wasserkraft",0,2.5999999999999999E-2]
["Biomasse (Biobrennstoffe fest): Gesamt","kWh","Biomasse (Biobrennstoffe fest): Gesamt_kWh",1,null,"Wärmepumpe (Strom Durchschnitt AT)",{"$f":"G21/3","v":6.0551924304046358E-2},{"$f":"H21/3","v":1.4743571526629105E-2}]
["Biomasse (Biobrennstoffe fest): Gesamt","MWh","Biomasse (Biobrennstoffe fest): Gesamt_MWh",1000,null,"Strom aus Windkraft",0,8.0000000000000002E-3]
["Biomasse (Biobrennstoffe fest): Hackgut ","t","Biomasse (Biobrennstoffe fest): Hackgut _t",2971.577287882254,null,"Motorrad / Mopeds",0.26248341625640026,6.4527354695540801E-2,"climcalc & GEMIS Moped/Motorrad-2015-Benzin-mittel"]
["Biomasse (Biobrennstoffe fest): Hackgut ","kg","Biomasse (Biobrennstoffe fest): Hackgut _kg",4.8011111111111093,null,"Leichtes Nutzfahrzeug",0.2589381214747315,7.0355600478271052E-2,"VTL"]
["Biomasse (Biobrennstoffe fest): Hackgut ","kWh","Biomasse (Biobrennstoffe fest): Hackgut _kWh",1,null,"Schweres Nutzfahrzeug",0.2589381214747315,7.0355600478271052E-2,"VTL"]
["Biomasse (Biobrennstoffe fest): Hackgut ","MWh","Biomasse (Biobrennstoffe fest): Hackgut _MWh",1000,null,"LKW Durchschnitt",0.2589381214747315,7.0355600478271052E-2,"VTL"]
["Biomasse (Biobrennstoffe fest): Pellets","t","Biomasse (Biobrennstoffe fest): Pellets_t",4801.1111111111095,null,"Kerosin",0.26400000000000001,5.8999999999999997E-2,"Energieträgerliste 2024"]
["Biomasse (Biobrennstoffe fest): Pellets","kg","Biomasse (Biobrennstoffe fest): Pellets_kg",3.9752777777777775,null,"FW Innsbruck",8.3836332245296838E-2,2.5879693909654177E-2]
["Biomasse (Biobrennstoffe fest): Pellets","kWh","Biomasse (Biobrennstoffe fest): Pellets_kWh",1,null,"FW Wien",0.15862397987917159,2.9077818191780489E-2]
["Biomasse (Biobrennstoffe fest): Pellets","MWh","Biomasse (Biobrennstoffe fest): Pellets_MWh",1000,null,"FW Graz",0.126,5.1999999999999998E-2]
["Biomasse (Biobrennstoffe fest): Stückholz ","kg","Biomasse (Biobrennstoffe fest): Stückholz _kg",3.9752777777777801,null,"FW Salzburg",0.126,5.1999999999999998E-2]
["Biomasse (Biobrennstoffe fest): Stückholz ","t","Biomasse (Biobrennstoffe fest): Stückholz _t",3975.2777777777774,null,"FW Bregenz",0.126,5.1999999999999998E-2]
["Biomasse (Biobrennstoffe fest): Stückholz ","kWh","Biomasse (Biobrennstoffe fest): Stückholz _kWh",1,null,"FW Dornbirn",0.126,5.1999999999999998E-2]
["Biomasse (Biobrennstoffe fest): Stückholz ","MWh","Biomasse (Biobrennstoffe fest): Stückholz _MWh",1000,null,"FW Klagefurt",0.126,5.1999999999999998E-2]
["Brennbare Abfälle","t","Brennbare Abfälle_t",4785,null,"FW Linz",0.22005671376503921,3.4147761787003704E-2]
["Brennbare Abfälle","MWh","Brennbare Abfälle_MWh",1000,null,"FW St. Veit/Glan",0.126,5.1999999999999998E-2]
["Brennbare Abfälle","kWh","Brennbare Abfälle_kWh",1,null,"FW St. Pölten",0.18990121375387509,2.6971250936758971E-2]
["Bus","Fzg-km","Bus_Fzg-km",2.9849999999999999,"Verkehrsträgerliste 2019","FW Steyr",3.5067868978962871E-2,1.1867088523352285E-2]
["Bus","Personen-km","Bus_Personen-km",0.159,"Verkehrsträgerliste 2019","FW Tulln",0.126,5.1999999999999998E-2]
["CNG","kg","CNG_kg",10.179000000000004,null,"FW Villach",0.126,5.1999999999999998E-2]
["CNG","Nm3 (Normkubikmeter)","CNG_Nm3 (Normkubikmeter)",7.6342500000000033,null,"FW Wiener Neustadt",0.126,5.1999999999999998E-2]
["CNG","t","CNG_t",10179.000000000004,null,"FW Durchschnitt AT",0.126,5.1999999999999998E-2,"Basisfaktoren 2022"]
["CNG","kWh","CNG_kWh",1]
["CNG","MWh","CNG_MWh",1000]
["CO2-eq Direkteingabe","t","CO2-eq Direkteingabe_t",1]
["Diesel (inkl. Beimengung)","kg","Diesel (inkl. Beimengung)_kg",11.668309804566031]
["Diesel (inkl. Beimengung)","Liter","Diesel (inkl. Beimengung)_Liter",9.8087312710123413]
["Diesel (inkl. Beimengung)","t","Diesel (inkl. Beimengung)_t",11668.30980456603]
["Diesel (inkl. Beimengung)","kWh","Diesel (inkl. Beimengung)_kWh",1]
["Diesel (inkl. Beimengung)","MWh","Diesel (inkl. Beimengung)_MWh",1000]
["Diesel fossil","kg","Diesel fossil_kg",11.76944444444444]
["Diesel fossil","Liter",{"$f":"A66&\"_\"&B66","v":"Diesel fossil_Liter"},9.8510249999999964]
["Diesel fossil","t","Diesel fossil_t",11769.44444444444]
["Diesel fossil","kWh","Diesel fossil_kWh",1]
["Diesel fossil","MWh","Diesel fossil_MWh",1000]
["Erdgas (fossil) (Brennwert)","Nm3 (Normkubikmeter)","Erdgas (fossil) (Brennwert)_Nm3 (Normkubikmeter)",11.310000000000004]
["Erdgas (fossil) (Brennwert)","kg","Erdgas (fossil) (Brennwert)_kg",15.080000000000005]
["Erdgas (fossil) (Brennwert)","t","Erdgas (fossil) (Brennwert)_t",15080.000000000005]
["Erdgas (fossil) (Brennwert)","kWh","Erdgas (fossil) (Brennwert)_kWh",1]
["Erdgas (fossil) (Brennwert)","MWh","Erdgas (fossil) (Brennwert)_MWh",1000]
["Erdgas (fossil) (Heizwert)","Nm3 (Normkubikmeter)","Erdgas (fossil) (Heizwert)_Nm3 (Normkubikmeter)",10.179000000000004]
["Erdgas (fossil) (Heizwert)","kg","Erdgas (fossil) (Heizwert)_kg",13.572000000000005]
["Erdgas (fossil) (Heizwert)","t","Erdgas (fossil) (Heizwert)_t",13572.000000000004]
["Erdgas (fossil) (Heizwert)","kWh","Erdgas (fossil) (Heizwert)_kWh",1]
["Erdgas (fossil) (Heizwert)","MWh","Erdgas (fossil) (Heizwert)_MWh",1000]
["FW Durchschnitt AT","MWh","FW Durchschnitt AT_MWh",1000]
["FW Durchschnitt AT","kWh","FW Durchschnitt AT_kWh",1]
["Flüssiggas LPG","kg","Flüssiggas LPG_kg",12.811111111111112]
["Flüssiggas LPG","Liter","Flüssiggas LPG_Liter",6.918000000000001]
["Flüssiggas LPG","t","Flüssiggas LPG_t",12811.111111111111]
["Flüssiggas LPG","kWh","Flüssiggas LPG_kWh",1]
["Flüssiggas LPG","MWh","Flüssiggas LPG_MWh",1000]
["FW Innsbruck","kWh","FW Innsbruck_kWh",1]
["FW Innsbruck","MWh","FW Innsbruck_MWh",1000]
["FW Salzburg","kWh","FW Salzburg_kWh",1]
["FW Salzburg","MWh","FW Salzburg_MWh",1000]
["FW St. Pölten","kWh","FW St. Pölten_kWh",1]
["FW St. Pölten","MWh","FW St. Pölten_MWh",1000]
["Heizöl extra leicht (fossil) ","kg","Heizöl extra leicht (fossil) _kg",11.76944444444444]
["Heizöl extra leicht (fossil) ","Liter","Heizöl extra leicht (fossil) _Liter",9.8510249999999964]
["Heizöl extra leicht (fossil) ","t","Heizöl extra leicht (fossil) _t",11769.44444444444]
["Heizöl extra leicht (fossil) ","MWh","Heizöl extra leicht (fossil) _MWh",1000]
["Heizöl extra leicht (fossil) ","kWh","Heizöl extra leicht (fossil) _kWh",1]
["Heizöl leicht (fossil) ","kg","Heizöl leicht (fossil) _kg",11.572222222222223]
["Heizöl leicht (fossil) ","Liter","Heizöl leicht (fossil) _Liter",10.646444444444446]
["Heizöl leicht (fossil) ","t","Heizöl leicht (fossil) _t",11572.222222222223]
["Heizöl leicht (fossil) ","MWh","Heizöl leicht (fossil) _MWh",1000]
["Heizöl leicht (fossil) ","kWh","Heizöl leicht (fossil) _kWh",1]
["Industrielle Abwärme","kWh","Industrielle Abwärme_kWh",1]
["Industrielle Abwärme","MWh","Industrielle Abwärme_MWh",1000]
["Kerosin","kWh","Kerosin_kWh",1]
["Kerosin","MWh","Kerosin_MWh",1000]
["Kerosin","kg","Kerosin_kg",12.028]
["Kerosin","Liter","Kerosin_Liter",{"$f":"D107*0.8","v":9.6224000000000007}]
["Kohle / Koks","kg","Kohle / Koks_kg",7.8957984951136577]
["Kohle / Koks","t","Kohle / Koks_t",7895.7984951136577]
["Kohle / Koks","kWh","Kohle / Koks_kWh",1]
["Kohle / Koks","MWh","Kohle / Koks_MWh",1000]
["Leichtes Nutzfahrzeug","Fzg-km","Leichtes Nutzfahrzeug_Fzg-km",0.85,"Verkehrsträgerliste 2024"]
["Leichtes Nutzfahrzeug","Tonnen-km","Leichtes Nutzfahrzeug_Tonnen-km",2.54,"Verkehrsträgerliste 2024"]
["LKW Durchschnitt","Fzg-km","LKW Durchschnitt_Fzg-km",2.8889999999999998,"Verkehrsträgerliste 2019"]
["LKW Durchschnitt","Tonnen-km","LKW Durchschnitt_Tonnen-km",0.27700000000000002,"Verkehrsträgerliste 2019"]
["Motorrad / Mopeds","Fzg-km","Motorrad / Mopeds_Fzg-km",0.38]
["Photovoltaik","kWh","Photovoltaik_kWh",1]
["Photovoltaik","MWh","Photovoltaik_MWh",1000]
["Pkw","Fzg-km","Pkw_Fzg-km",0.65100000000000002,"Verkehrsträgerliste 2019"]
["Pkw","Personen-km","Pkw_Personen-km",0.57199999999999995,"Verkehrsträgerliste 2019"]
["Schienenverkehr Diesel","Personen-km","Schienenverkehr Diesel_Personen-km",0.246,"Dreifacher Wert wie Schienenverkehr Elektrisch"]
["Schienenverkehr Diesel","Tonnen-km","Schienenverkehr Diesel_Tonnen-km",9.6000000000000002E-2,"Dreifacher Wert wie Schienenverkehr Elektrisch"]
["Schienenverkehr Elektrisch","Personen-km","Schienenverkehr Elektrisch_Personen-km",8.2000000000000003E-2,"Verkehrsträgerliste 2019"]
["Schienenverkehr Elektrisch","Tonnen-km","Schienenverkehr Elektrisch_Tonnen-km",3.2000000000000001E-2,"Verkehrsträgerliste 2019"]
["Schweres Nutzfahrzeug","Fzg-km","Schweres Nutzfahrzeug_Fzg-km",3.26,"Verkehrsträgerliste 2024"]
["Schweres Nutzfahrzeug","Tonnen-km","Schweres Nutzfahrzeug_Tonnen-km",0.21,"Verkehrsträgerliste 2024"]
["Solarthermie","kWh","Solarthermie_kWh",1]
["Solarthermie","MWh","Solarthermie_MWh",1000]
["Strom aus Wasserkraft","kWh",{"$f":"A130&\"_\"&B130","v":"Strom aus Wasserkraft_kWh"},1]
["Strom aus Wasserkraft","MWh","Strom aus Wasserkraft_MWh",1000]
["Strom aus Windkraft","kWh","Strom aus Windkraft_kWh",1]
["Strom aus Windkraft","MWh","Strom aus Windkraft_MWh",1000]
["Strom Durchschnitt AT","MWh","Strom Durchschnitt AT_MWh",1000]
["Strom Durchschnitt AT","kWh","Strom Durchschnitt AT_kWh",1]
["Umgebungswärme","MWh","Umgebungswärme_MWh",1000]
["100% Ökostrom","kWh","100% Ökostrom_kWh",1]
["100% Ökostrom","MWh","100% Ökostrom_MWh",1000]
["Wärmepumpe (Strom Durchschnitt AT)","kWh","Wärmepumpe (Strom Durchschnitt AT)_kWh",1]
["Wärmepumpe (Strom Durchschnitt AT)","MWh","Wärmepumpe (Strom Durchschnitt AT)_MWh",1000]
["Wasserstoff","kWh","Wasserstoff_kWh",1]
["Wasserstoff","MWh","Wasserstoff_MWh",1000]
["FW Villach","kWh","FW Villach_kWh",1]
["FW Villach","MWh","FW Villach_MWh",1000]
["FW Wien","kWh","FW Wien_kWh",1]
["FW Wien","MWh","FW Wien_MWh",1000]
["FW Graz","kWh","FW Graz_kWh",1]
["FW Graz","MWh","FW Graz_MWh",1000]
["FW Bregenz","kWh","FW Bregenz_kWh",1]
["FW Bregenz","MWh","FW Bregenz_MWh",1000]
["FW Dornbirn","kWh","FW Dornbirn_kWh",1]
["FW Dornbirn","MWh","FW Dornbirn_MWh",1000]
["FW Klagefurt","kWh","FW Klagefurt_kWh",1]
["FW Klagefurt","MWh","FW Klagefurt_MWh",1000]
["FW Linz","kWh","FW Linz_kWh",1]
["FW Linz","MWh","FW Linz_MWh",1000]
["FW St. Veit/Glan","kWh","FW St. Veit/Glan_kWh",1]
["FW St. Veit/Glan","MWh","FW St. Veit/Glan_MWh",1000]
["FW Steyr","kWh","FW Steyr_kWh",1]
["FW Steyr","MWh","FW Steyr_MWh",1000]
["FW Tulln","kWh","FW Tulln_kWh",1]
["FW Tulln","MWh","FW Tulln_MWh",1000]
["FW Wiener Neustadt","kWh","FW Wiener Neustadt_kWh",1]
["FW Wiener Neustadt","MWh","FW Wiener Neustadt_MWh",1000]

{"sheet":"EFA2022","index":20,"n_rows":164,"n_cols":29,"rows_kept":164,"cut":false,"hidden":true,"merged":[[0,12,1,28]]}
["Energieträger","Einheit","Schlüssel","Heizwert in kWh","Quellenangabe","Energieträger","Emissionsfaktor direkt","Emissionsfaktor indirekt","Quellenangabe, intern",null,null,null,"Emissionsfaktoren Abfall"]
[null,null,{"$f":"A2&\"_\"&B2","v":"_"},"Energieträger/Einheit wählen",null,null," t CO2eq/MWh"," t CO2eq/MWh"]
["Benzin (inkl. Beimengung)","kg","Benzin (inkl. Beimengung)_kg",11.407686432867768,null,"Heizöl extra leicht (fossil) ",0.27087479999999997,7.3588102997403718E-2,"Basisfaktoren 2023"]
["Benzin (inkl. Beimengung)","Liter","Benzin (inkl. Beimengung)_Liter",8.5074874956669291,null,"Heizöl leicht (fossil) ",0.27807479999999996,7.3588102997403718E-2,"Basisfaktoren 2023",null,null,null,"Abfallart","Aufkommen (t)",null,"% Scope 1","Recycling/Stoffliche Verwertung","EFAs kg CO2 / t Abfall","thermische Verwertung","EFA therm. Verw.","deponiert/Beseitigung","EFA Deponie, kg CO2-eq / t","Export","Recycling/stoffl. V. Export","EFA Export (kg CO2-eq / t)","Ergebnis t CO2-eq","Recycling/Stoffliche Verwertung","thermische Verwertung","deponiert/Beseitigung"]
["Benzin (inkl. Beimengung)","t","Benzin (inkl. Beimengung)_t",11407.686432867768,null,"Erdgas (fossil) (Heizwert)",0.2007594,4.8720599999999989E-2,"Basisfaktoren 2023",null,null,null,2022]
["Benzin (inkl. Beimengung)","kWh","Benzin (inkl. Beimengung)_kWh",1,null,"Erdgas (fossil) (Brennwert)",0.18068345999999999,4.3848539999999991E-2,"Basisfaktoren 2023",null,null,null,"Abwasser",null,"Einwohner:innen",null,null,11.037599999999998]
["Benzin (inkl. Beimengung)","MWh","Benzin (inkl. Beimengung)_MWh",1000,null,"Flüssiggas LPG",0.23099940000000002,8.2030000000000006E-2,"Basisfaktoren 2023",null,null,null,"Restmüll",null,"Tonnen",null,1.1139460230189679,0,89.551573763568342,0,3.1481083259231704,7560,3.8745948626746713,372,null,null,null,96.25,3.75]
["Benzin fossil","Liter","Benzin fossil_Liter",8.6342062242990405,null,"Biomasse (Biobrennstoffe fest): Stückholz ",1.8292736161375171E-2,6.3E-3,"Basisfaktoren 2023",null,null,null,"Sperrmüll",null,"Tonnen",null,1.1169877075502785,0,58.921101573277191,0,2.792469268875696,0,3.0717161957632655,372,null,null,null,100]
["Benzin fossil","t","Benzin fossil_t",11605.115892875056,null,"Biomasse (Biobrennstoffe fest): Hackgut ",1.2739824E-2,6.62E-3,"Basisfaktoren 2023",null,null,null,"Leichtfraktion",null,"Tonnen",null,14.127952153335373,0,56.585391697473455,0,1.1037462619793261,0,23.914502342885399,807,null,null,51.384615384615387,48.307692307692307,0.30769230769230771]
["Benzin fossil","kWh","Benzin fossil_kWh",1,null,"Biomasse (Biobrennstoffe fest): Pellets",5.3839439999999999E-3,2.0760000000000001E-2,"Basisfaktoren 2023",null,null,null,"Altmetall",null,"Tonnen",null,65.819209039548028,0,1.108213820078227,0,0.76053889613211645,0,29.617557583659277,372,null,null,99.486426999266314,0.49156272927366107,1.4673514306676448E-2]
["Benzin fossil","MWh","Benzin fossil_MWh",1000,null,"Biomasse (Biobrennstoffe fest): Gesamt",1.5610493594460506E-2,8.5489999999999993E-3,"Basisfaktoren 2023",null,null,null,"Altglas",null,"Tonnen",null,43.252032520325201,0,8.9430894308943092,0,0.65040650406504064,0,26.666666666666668,372,null,null,97.560975609756099,2.4390243902439024,6.097560975609756E-2]
["Benzin fossil","kg","Benzin fossil_kg",10.325348569988222,null,"Biobrennstoffe flüssig ",4.0980459618944138E-3,0.11291754638524576,"Basisfaktoren 2023",null,null,null,"Altpapier",null,"Tonnen",null,74.758568204482231,0,2.7882748123655068,0,0,0,6.9542854143704398,167,null,null,96.698113207547166,2.8301886792452833,0.23584905660377359]
["Biobrennstoffe flüssig ","Liter","Biobrennstoffe flüssig _Liter",9.2102109244294947,null,"Biobrennstoffe gasförmig ",5.9940000000000004E-4,8.1360000000000016E-2,"Basisfaktoren 2023",null,null,null,"Bioabfall",null,"Tonnen",null,53.317176613147531,34.950000000000003,38.806422296273858,0,0.93910936079975771,7560,2.9990911844895485,34.950000000000003,null,null,67.676767676767682,31.313131313131315,1.0101010101010102]
["Biobrennstoffe flüssig ","t","Biobrennstoffe flüssig _t",10325.348569988222,null,"Diesel (inkl. Beimengung)",0.25539282669306268,7.618384626100129E-2,"Basisfaktoren 2023",null,null,null,"Altholz",null,"Tonnen",null,53.534697412579845,0,16.780339937209053,0,0,0,8.3901699686045266,6.9,null,null,80.645161290322577,19.35483870967742]
["Biobrennstoffe flüssig ","kWh","Biobrennstoffe flüssig _kWh",1,null,"Benzin (inkl. Beimengung)",0.26248341625640026,6.4527354695540801E-2,"Basisfaktoren 2023",null,null,null,"Alttextilien",null,"Tonnen",null,2.9115365998347702,0,71.696588770931214,0,2.5475945248554241,7560,24.384119023616201,32,null,null,62.68656716417911,35.820895522388057,0.44776119402985076]
["Biobrennstoffe flüssig ","MWh","Biobrennstoffe flüssig _MWh",1000,null,"CNG",0.20210260453011258,4.7377395469887403E-2,"Basisfaktoren 2023",null,null,null,"EAG",null,"Tonnen",null,84.6,0,null,0,0,0,null,427.3]
["Biobrennstoffe flüssig ","Nm3 (Normkubikmeter)","Biobrennstoffe flüssig _Nm3 (Normkubikmeter)",10.158064695232865,null,"Biodiesel",4.0980459618944138E-3,0.11291754638524576,"Basisfaktoren 2023"]
["Biobrennstoffe gasförmig ","kg","Biobrennstoffe gasförmig _kg",13.544086260310486,null,"Bioethanol",1.0844148317539699E-3,8.6635391843301213E-2,"Basisfaktoren 2023"]
["Biobrennstoffe gasförmig ","t","Biobrennstoffe gasförmig _t",13544.086260310487,null,"Diesel fossil",0.26877189700259629,7.3588102997403718E-2,"Basisfaktoren 2023"]
["Biobrennstoffe gasförmig ","kg","Biobrennstoffe gasförmig _kg",10.325348569988222,null,"Benzin fossil",0.27256532244758536,6.3314677552414711E-2,"Basisfaktoren 2023"]
["Biobrennstoffe gasförmig ","kWh","Biobrennstoffe gasförmig _kWh",1,null,"Strom Durchschnitt AT",0.16665283955919585,4.2254806770799493E-2,"Basisfaktoren 2023"]
["Biobrennstoffe gasförmig ","MWh","Biobrennstoffe gasförmig _MWh",1000,null,"Kohle / Koks",0.33514971084497724,4.7960000000000003E-2,"Basisfaktoren 2023"]
["Biodiesel","Liter","Biodiesel_Liter",9.2102109244294947,null,"Brennbare Abfälle",0.28299999999999997,8.2000000000000007E-3,"Basisfaktoren 2023"]
["Biodiesel","t","Biodiesel_t",10325.348569988222,null,"Pkw",0.2589381214747315,7.0355600478271052E-2,"Basisfaktoren 2023"]
["Biodiesel","kWh","Biodiesel_kWh",1,null,"Bus",0.2589381214747315,7.0355600478271052E-2,"Basisfaktoren 2023"]
["Biodiesel","MWh","Biodiesel_MWh",1000,null,"Schienenverkehr Diesel",0.25539282669306268,7.618384626100129E-2,"Basisfaktoren 2023"]
["Biodiesel","kg","Biodiesel_kg",7.9656909984041802,null,"Schienenverkehr Elektrisch",0.15,4.5000000000000012E-2,"Basisfaktoren 2023"]
["Bioethanol","Liter","Bioethanol_Liter",6.1973075967584528,null,"CO2-eq Direkteingabe",1000,0]
["Bioethanol","t","Bioethanol_t",7965.6909984041804,null,"Wasserstoff",0,0]
["Bioethanol","kg","Bioethanol_kg",3.8161780550550493,null,"Photovoltaik",0,0]
["Bioethanol","kWh","Bioethanol_kWh",1,null,"Solarthermie",0,0]
["Bioethanol","MWh","Bioethanol_MWh",1000,null,"Industrielle Abwärme",0,0]
["Biomasse (Biobrennstoffe fest): Gesamt","t","Biomasse (Biobrennstoffe fest): Gesamt_t",3816.1780550550493,null,"100% Ökostrom",0,1.4E-2]
["Biomasse (Biobrennstoffe fest): Gesamt","kg","Biomasse (Biobrennstoffe fest): Gesamt_kg",2.9715772878822539,null,"Strom aus Wasserkraft",0,2.5999999999999999E-2]
["Biomasse (Biobrennstoffe fest): Gesamt","kWh","Biomasse (Biobrennstoffe fest): Gesamt_kWh",1,null,"Wärmepumpe (Strom Durchschnitt AT)",{"$f":"G21/3","v":5.5550946519731949E-2},{"$f":"H21/3","v":1.4084935590266497E-2}]
["Biomasse (Biobrennstoffe fest): Gesamt","MWh","Biomasse (Biobrennstoffe fest): Gesamt_MWh",1000,null,"Strom aus Windkraft",0,8.0000000000000002E-3]
["Biomasse (Biobrennstoffe fest): Hackgut ","t","Biomasse (Biobrennstoffe fest): Hackgut _t",2971.577287882254,null,"Motorrad / Mopeds",0.26248341625640026,6.4527354695540801E-2,"climcalc & GEMIS Moped/Motorrad-2015-Benzin-mittel"]
["Biomasse (Biobrennstoffe fest): Hackgut ","kg","Biomasse (Biobrennstoffe fest): Hackgut _kg",4.8011111111111093,null,"Leichtes Nutzfahrzeug",0.2589381214747315,7.0355600478271052E-2,"VTL"]
["Biomasse (Biobrennstoffe fest): Hackgut ","kWh","Biomasse (Biobrennstoffe fest): Hackgut _kWh",1,null,"Schweres Nutzfahrzeug",0.2589381214747315,7.0355600478271052E-2,"VTL"]
["Biomasse (Biobrennstoffe fest): Hackgut ","MWh","Biomasse (Biobrennstoffe fest): Hackgut _MWh",1000,null,"LKW Durchschnitt",0.2589381214747315,7.0355600478271052E-2,"VTL"]
["Biomasse (Biobrennstoffe fest): Pellets","t","Biomasse (Biobrennstoffe fest): Pellets_t",4801.1111111111095,null,"Kerosin",0.26400000000000001,5.8999999999999997E-2,"Energieträgerliste 2024"]
["Biomasse (Biobrennstoffe fest): Pellets","kg","Biomasse (Biobrennstoffe fest): Pellets_kg",3.9752777777777775,null,"FW Innsbruck",8.8286276271309125E-2,3.9929220680831191E-2]
["Biomasse (Biobrennstoffe fest): Pellets","kWh","Biomasse (Biobrennstoffe fest): Pellets_kWh",1,null,"FW Wien",0.122,0.05]
["Biomasse (Biobrennstoffe fest): Pellets","MWh","Biomasse (Biobrennstoffe fest): Pellets_MWh",1000,null,"FW Graz",0.122,0.05]
["Biomasse (Biobrennstoffe fest): Stückholz ","kg","Biomasse (Biobrennstoffe fest): Stückholz _kg",3.9752777777777801,null,"FW Salzburg",0.122,0.05]
["Biomasse (Biobrennstoffe fest): Stückholz ","t","Biomasse (Biobrennstoffe fest): Stückholz _t",3975.2777777777774,null,"FW Bregenz",0.122,0.05]
["Biomasse (Biobrennstoffe fest): Stückholz ","kWh","Biomasse (Biobrennstoffe fest): Stückholz _kWh",1,null,"FW Dornbirn",0.122,0.05]
["Biomasse (Biobrennstoffe fest): Stückholz ","MWh","Biomasse (Biobrennstoffe fest): Stückholz _MWh",1000,null,"FW Klagefurt",0.122,0.05]
["Brennbare Abfälle","t","Brennbare Abfälle_t",4785,null,"FW Linz",0.22347392442920588,3.4917120854657965E-2]
["Brennbare Abfälle","MWh","Brennbare Abfälle_MWh",1000,null,"FW St. Veit/Glan",0.122,0.05]
["Brennbare Abfälle","kWh","Brennbare Abfälle_kWh",1,null,"FW St. Pölten",0.19186815494913692,2.3469100205300721E-2]
["Bus","Fzg-km","Bus_Fzg-km",2.9849999999999999,"Verkehrsträgerliste 2019","FW Steyr",3.5067868978962871E-2,1.1867088523352285E-2]
["Bus","Personen-km","Bus_Personen-km",0.159,"Verkehrsträgerliste 2019","FW Tulln",0.122,0.05]
["CNG","kg","CNG_kg",10.179000000000004,null,"FW Villach",0.122,0.05]
["CNG","Nm3 (Normkubikmeter)","CNG_Nm3 (Normkubikmeter)",7.6342500000000033,null,"FW Wiener Neustadt",5.2008168496412502E-2,1.7425574601831469E-2]
["CNG","t","CNG_t",10179.000000000004,null,"FW Durchschnitt AT",0.122,0.05,"Basisfaktoren 2023"]
["CNG","kWh","CNG_kWh",1]
["CNG","MWh","CNG_MWh",1000]
["CO2-eq Direkteingabe","t","CO2-eq Direkteingabe_t",1]
["Diesel (inkl. Beimengung)","kg","Diesel (inkl. Beimengung)_kg",11.668309804566031]
["Diesel (inkl. Beimengung)","Liter","Diesel (inkl. Beimengung)_Liter",9.8087312710123413]
["Diesel (inkl. Beimengung)","t","Diesel (inkl. Beimengung)_t",11668.30980456603]
["Diesel (inkl. Beimengung)","kWh","Diesel (inkl. Beimengung)_kWh",1]
["Diesel (inkl. Beimengung)","MWh","Diesel (inkl. Beimengung)_MWh",1000]
["Diesel fossil","kg","Diesel fossil_kg",11.76944444444444]
["Diesel fossil","Liter",{"$f":"A66&\"_\"&B66","v":"Diesel fossil_Liter"},9.8510249999999964]
["Diesel fossil","t","Diesel fossil_t",11769.44444444444]
["Diesel fossil","kWh","Diesel fossil_kWh",1]
["Diesel fossil","MWh","Diesel fossil_MWh",1000]
["Erdgas (fossil) (Brennwert)","Nm3 (Normkubikmeter)","Erdgas (fossil) (Brennwert)_Nm3 (Normkubikmeter)",11.310000000000004]
["Erdgas (fossil) (Brennwert)","kg","Erdgas (fossil) (Brennwert)_kg",15.080000000000005]
["Erdgas (fossil) (Brennwert)","t","Erdgas (fossil) (Brennwert)_t",15080.000000000005]
["Erdgas (fossil) (Brennwert)","kWh","Erdgas (fossil) (Brennwert)_kWh",1]
["Erdgas (fossil) (Brennwert)","MWh","Erdgas (fossil) (Brennwert)_MWh",1000]
["Erdgas (fossil) (Heizwert)","Nm3 (Normkubikmeter)","Erdgas (fossil) (Heizwert)_Nm3 (Normkubikmeter)",10.179000000000004]
["Erdgas (fossil) (Heizwert)","kg","Erdgas (fossil) (Heizwert)_kg",13.572000000000005]
["Erdgas (fossil) (Heizwert)","t","Erdgas (fossil) (Heizwert)_t",13572.000000000004]
["Erdgas (fossil) (Heizwert)","kWh","Erdgas (fossil) (Heizwert)_kWh",1]
["Erdgas (fossil) (Heizwert)","MWh","Erdgas (fossil) (Heizwert)_MWh",1000]
["FW Durchschnitt AT","MWh","FW Durchschnitt AT_MWh",1000]
["FW Durchschnitt AT","kWh","FW Durchschnitt AT_kWh",1]
["Flüssiggas LPG","kg","Flüssiggas LPG_kg",12.811111111111112]
["Flüssiggas LPG","Liter","Flüssiggas LPG_Liter",6.918000000000001]
["Flüssiggas LPG","t","Flüssiggas LPG_t",12811.111111111111]
["Flüssiggas LPG","kWh","Flüssiggas LPG_kWh",1]
["Flüssiggas LPG","MWh","Flüssiggas LPG_MWh",1000]
["FW Innsbruck","kWh","FW Innsbruck_kWh",1]
["FW Innsbruck","MWh","FW Innsbruck_MWh",1000]
["FW Salzburg","kWh","FW Salzburg_kWh",1]
["FW Salzburg","MWh","FW Salzburg_MWh",1000]
["FW St. Pölten","kWh","FW St. Pölten_kWh",1]
["FW St. Pölten","MWh","FW St. Pölten_MWh",1000]
["Heizöl extra leicht (fossil) ","kg","Heizöl extra leicht (fossil) _kg",11.76944444444444]
["Heizöl extra leicht (fossil) ","Liter","Heizöl extra leicht (fossil) _Liter",9.8510249999999964]
["Heizöl extra leicht (fossil) ","t","Heizöl extra leicht (fossil) _t",11769.44444444444]
["Heizöl extra leicht (fossil) ","MWh","Heizöl extra leicht (fossil) _MWh",1000]
["Heizöl extra leicht (fossil) ","kWh","Heizöl extra leicht (fossil) _kWh",1]
["Heizöl leicht (fossil) ","kg","Heizöl leicht (fossil) _kg",11.572222222222223]
["Heizöl leicht (fossil) ","Liter","Heizöl leicht (fossil) _Liter",10.646444444444446]
["Heizöl leicht (fossil) ","t","Heizöl leicht (fossil) _t",11572.222222222223]
["Heizöl leicht (fossil) ","MWh","Heizöl leicht (fossil) _MWh",1000]
["Heizöl leicht (fossil) ","kWh","Heizöl leicht (fossil) _kWh",1]
["Industrielle Abwärme","kWh","Industrielle Abwärme_kWh",1]
["Industrielle Abwärme","MWh","Industrielle Abwärme_MWh",1000]
["Kerosin","kWh","Kerosin_kWh",1]
["Kerosin","MWh","Kerosin_MWh",1000]
["Kerosin","kg","Kerosin_kg",12.028]
["Kerosin","Liter","Kerosin_Liter",{"$f":"D107*0.8","v":9.6224000000000007}]
["Kohle / Koks","kg","Kohle / Koks_kg",7.8957984951136577]
["Kohle / Koks","t","Kohle / Koks_t",7895.7984951136577]
["Kohle / Koks","kWh","Kohle / Koks_kWh",1]
["Kohle / Koks","MWh","Kohle / Koks_MWh",1000]
["Leichtes Nutzfahrzeug","Fzg-km","Leichtes Nutzfahrzeug_Fzg-km",0.85,"Verkehrsträgerliste 2024"]
["Leichtes Nutzfahrzeug","Tonnen-km","Leichtes Nutzfahrzeug_Tonnen-km",2.54,"Verkehrsträgerliste 2024"]
["LKW Durchschnitt","Fzg-km","LKW Durchschnitt_Fzg-km",2.8889999999999998,"Verkehrsträgerliste 2019"]
["LKW Durchschnitt","Tonnen-km","LKW Durchschnitt_Tonnen-km",0.27700000000000002,"Verkehrsträgerliste 2019"]
["Motorrad / Mopeds","Fzg-km","Motorrad / Mopeds_Fzg-km",0.38]
["Photovoltaik","kWh","Photovoltaik_kWh",1]
["Photovoltaik","MWh","Photovoltaik_MWh",1000]
["Pkw","Fzg-km","Pkw_Fzg-km",0.65100000000000002,"Verkehrsträgerliste 2019"]
["Pkw","Personen-km","Pkw_Personen-km",0.57199999999999995,"Verkehrsträgerliste 2019"]
["Schienenverkehr Diesel","Personen-km","Schienenverkehr Diesel_Personen-km",0.246,"Dreifacher Wert wie Schienenverkehr Elektrisch"]
["Schienenverkehr Diesel","Tonnen-km","Schienenverkehr Diesel_Tonnen-km",9.6000000000000002E-2,"Dreifacher Wert wie Schienenverkehr Elektrisch"]
["Schienenverkehr Elektrisch","Personen-km","Schienenverkehr Elektrisch_Personen-km",8.2000000000000003E-2,"Verkehrsträgerliste 2019"]
["Schienenverkehr Elektrisch","Tonnen-km","Schienenverkehr Elektrisch_Tonnen-km",3.2000000000000001E-2,"Verkehrsträgerliste 2019"]
["Schweres Nutzfahrzeug","Fzg-km","Schweres Nutzfahrzeug_Fzg-km",3.26,"Verkehrsträgerliste 2024"]
["Schweres Nutzfahrzeug","Tonnen-km","Schweres Nutzfahrzeug_Tonnen-km",0.21,"Verkehrsträgerliste 2024"]
["Solarthermie","kWh","Solarthermie_kWh",1]
["Solarthermie","MWh","Solarthermie_MWh",1000]
["Strom aus Wasserkraft","kWh",{"$f":"A130&\"_\"&B130","v":"Strom aus Wasserkraft_kWh"},1]
["Strom aus Wasserkraft","MWh","Strom aus Wasserkraft_MWh",1000]
["Strom aus Windkraft","kWh","Strom aus Windkraft_kWh",1]
["Strom aus Windkraft","MWh","Strom aus Windkraft_MWh",1000]
["Strom Durchschnitt AT","MWh","Strom Durchschnitt AT_MWh",1000]
["Strom Durchschnitt AT","kWh","Strom Durchschnitt AT_kWh",1]
["Umgebungswärme","MWh","Umgebungswärme_MWh",1000]
["100% Ökostrom","kWh","100% Ökostrom_kWh",1]
["100% Ökostrom","MWh","100% Ökostrom_MWh",1000]
["Wärmepumpe (Strom Durchschnitt AT)","kWh","Wärmepumpe (Strom Durchschnitt AT)_kWh",1]
["Wärmepumpe (Strom Durchschnitt AT)","MWh","Wärmepumpe (Strom Durchschnitt AT)_MWh",1000]
["Wasserstoff","kWh","Wasserstoff_kWh",1]
["Wasserstoff","MWh","Wasserstoff_MWh",1000]
["FW Villach","kWh","FW Villach_kWh",1]
["FW Villach","MWh","FW Villach_MWh",1000]
["FW Wien","kWh","FW Wien_kWh",1]
["FW Wien","MWh","FW Wien_MWh",1000]
["FW Graz","kWh","FW Graz_kWh",1]
["FW Graz","MWh","FW Graz_MWh",1000]
["FW Bregenz","kWh","FW Bregenz_kWh",1]
["FW Bregenz","MWh","FW Bregenz_MWh",1000]
["FW Dornbirn","kWh","FW Dornbirn_kWh",1]
["FW Dornbirn","MWh","FW Dornbirn_MWh",1000]
["FW Klagefurt","kWh","FW Klagefurt_kWh",1]
["FW Klagefurt","MWh","FW Klagefurt_MWh",1000]
["FW Linz","kWh","FW Linz_kWh",1]
["FW Linz","MWh","FW Linz_MWh",1000]
["FW St. Veit/Glan","kWh","FW St. Veit/Glan_kWh",1]
["FW St. Veit/Glan","MWh","FW St. Veit/Glan_MWh",1000]
["FW Steyr","kWh","FW Steyr_kWh",1]
["FW Steyr","MWh","FW Steyr_MWh",1000]
["FW Tulln","kWh","FW Tulln_kWh",1]
["FW Tulln","MWh","FW Tulln_MWh",1000]
["FW Wiener Neustadt","kWh","FW Wiener Neustadt_kWh",1]
["FW Wiener Neustadt","MWh","FW Wiener Neustadt_MWh",1000]

{"sheet":"EFA2023","index":21,"n_rows":164,"n_cols":29,"rows_kept":164,"cut":false,"hidden":true,"merged":[[0,12,1,28]]}
["Energieträger","Einheit","Schlüssel","Heizwert in kWh","Quellenangabe","Energieträger","Emissionsfaktor direkt","Emissionsfaktor indirekt","Quellenangabe, intern",null,null,null,"Emissionsfaktoren Abfall"]
[null,null,{"$f":"A2&\"_\"&B2","v":"_"},"Energieträger/Einheit wählen",null,null," t CO2eq/MWh"," t CO2eq/MWh"]
["Benzin (inkl. Beimengung)","kg","Benzin (inkl. Beimengung)_kg",11.407686432867768,null,"Heizöl extra leicht (fossil) ",0.27087479999999997,7.3588102997403718E-2,"Basisfaktoren 2024"]
["Benzin (inkl. Beimengung)","Liter","Benzin (inkl. Beimengung)_Liter",8.5074874956669291,null,"Heizöl leicht (fossil) ",0.27807479999999996,7.3588102997403718E-2,"Basisfaktoren 2024",null,null,null,"Abfallart","Aufkommen (t)",null,"% Scope 1","Recycling/Stoffliche Verwertung","EFAs kg CO2 / t Abfall","thermische Verwertung","EFA therm. Verw.","deponiert/Beseitigung","EFA Deponie, kg CO2-eq / t","Export","Recycling/stoffl. V. Export","EFA Export (kg CO2-eq / t)","Ergebnis t CO2-eq","Recycling/Stoffliche Verwertung","thermische Verwertung","deponiert/Beseitigung"]
["Benzin (inkl. Beimengung)","t","Benzin (inkl. Beimengung)_t",11407.686432867768,null,"Erdgas (fossil) (Heizwert)",0.2007594,4.8720599999999989E-2,"Basisfaktoren 2024",null,null,null,2022]
["Benzin (inkl. Beimengung)","kWh","Benzin (inkl. Beimengung)_kWh",1,null,"Erdgas (fossil) (Brennwert)",0.18068345999999999,4.3848539999999991E-2,"Basisfaktoren 2024",null,null,null,"Abwasser",null,"Einwohner:innen",null,null,11.037599999999998]
["Benzin (inkl. Beimengung)","MWh","Benzin (inkl. Beimengung)_MWh",1000,null,"Flüssiggas LPG",0.23099940000000002,8.2030000000000006E-2,"Basisfaktoren 2024",null,null,null,"Restmüll",null,"Tonnen",null,1.1139460230189679,0,89.551573763568342,0,3.1481083259231704,7560,3.8745948626746713,372,null,null,null,96.25,3.75]
["Benzin fossil","Liter","Benzin fossil_Liter",8.6342062242990405,null,"Biomasse (Biobrennstoffe fest): Stückholz ",1.8292736161375171E-2,6.3E-3,"Basisfaktoren 2024",null,null,null,"Sperrmüll",null,"Tonnen",null,1.1169877075502785,0,58.921101573277191,0,2.792469268875696,0,3.0717161957632655,372,null,null,null,100]
["Benzin fossil","t","Benzin fossil_t",11605.115892875056,null,"Biomasse (Biobrennstoffe fest): Hackgut ",1.2739824E-2,6.62E-3,"Basisfaktoren 2024",null,null,null,"Leichtfraktion",null,"Tonnen",null,14.127952153335373,0,56.585391697473455,0,1.1037462619793261,0,23.914502342885399,807,null,null,51.384615384615387,48.307692307692307,0.30769230769230771]
["Benzin fossil","kWh","Benzin fossil_kWh",1,null,"Biomasse (Biobrennstoffe fest): Pellets",5.3839439999999999E-3,2.0760000000000001E-2,"Basisfaktoren 2024",null,null,null,"Altmetall",null,"Tonnen",null,65.819209039548028,0,1.108213820078227,0,0.76053889613211645,0,29.617557583659277,372,null,null,99.486426999266314,0.49156272927366107,1.4673514306676448E-2]
["Benzin fossil","MWh","Benzin fossil_MWh",1000,null,"Biomasse (Biobrennstoffe fest): Gesamt",1.5610493594460506E-2,8.5489999999999993E-3,"Basisfaktoren 2024",null,null,null,"Altglas",null,"Tonnen",null,43.252032520325201,0,8.9430894308943092,0,0.65040650406504064,0,26.666666666666668,372,null,null,97.560975609756099,2.4390243902439024,6.097560975609756E-2]
["Benzin fossil","kg","Benzin fossil_kg",10.325348569988222,null,"Biobrennstoffe flüssig ",4.0980459618944138E-3,0.11291754638524576,"Basisfaktoren 2024",null,null,null,"Altpapier",null,"Tonnen",null,74.758568204482231,0,2.7882748123655068,0,0,0,6.9542854143704398,167,null,null,96.698113207547166,2.8301886792452833,0.23584905660377359]
["Biobrennstoffe flüssig ","Liter","Biobrennstoffe flüssig _Liter",9.2102109244294947,null,"Biobrennstoffe gasförmig ",5.9940000000000004E-4,8.1360000000000016E-2,"Basisfaktoren 2024",null,null,null,"Bioabfall",null,"Tonnen",null,53.317176613147531,34.950000000000003,38.806422296273858,0,0.93910936079975771,7560,2.9990911844895485,34.950000000000003,null,null,67.676767676767682,31.313131313131315,1.0101010101010102]
["Biobrennstoffe flüssig ","t","Biobrennstoffe flüssig _t",10325.348569988222,null,"Diesel (inkl. Beimengung)",0.25539282669306268,7.618384626100129E-2,"Basisfaktoren 2024",null,null,null,"Altholz",null,"Tonnen",null,53.534697412579845,0,16.780339937209053,0,0,0,8.3901699686045266,6.9,null,null,80.645161290322577,19.35483870967742]
["Biobrennstoffe flüssig ","kWh","Biobrennstoffe flüssig _kWh",1,null,"Benzin (inkl. Beimengung)",0.26248341625640026,6.4527354695540801E-2,"Basisfaktoren 2024",null,null,null,"Alttextilien",null,"Tonnen",null,2.9115365998347702,0,71.696588770931214,0,2.5475945248554241,7560,24.384119023616201,32,null,null,62.68656716417911,35.820895522388057,0.44776119402985076]
["Biobrennstoffe flüssig ","MWh","Biobrennstoffe flüssig _MWh",1000,null,"CNG",0.20210260453011258,4.7377395469887403E-2,"Basisfaktoren 2024",null,null,null,"EAG",null,"Tonnen",null,84.6,0,null,0,0,0,null,427.3]
["Biobrennstoffe flüssig ","Nm3 (Normkubikmeter)","Biobrennstoffe flüssig _Nm3 (Normkubikmeter)",10.158064695232865,null,"Biodiesel",4.0980459618944138E-3,0.11291754638524576,"Basisfaktoren 2024"]
["Biobrennstoffe gasförmig ","kg","Biobrennstoffe gasförmig _kg",13.544086260310486,null,"Bioethanol",1.0844148317539699E-3,8.6635391843301213E-2,"Basisfaktoren 2024"]
["Biobrennstoffe gasförmig ","t","Biobrennstoffe gasförmig _t",13544.086260310487,null,"Diesel fossil",0.26877189700259629,7.3588102997403718E-2,"Basisfaktoren 2024"]
["Biobrennstoffe gasförmig ","kg","Biobrennstoffe gasförmig _kg",10.325348569988222,null,"Benzin fossil",0.27256532244758536,6.3314677552414711E-2,"Basisfaktoren 2024"]
["Biobrennstoffe gasförmig ","kWh","Biobrennstoffe gasförmig _kWh",1,null,"Strom Durchschnitt AT",0.16665283955919585,4.2254806770799493E-2,"Basisfaktoren 2024"]
["Biobrennstoffe gasförmig ","MWh","Biobrennstoffe gasförmig _MWh",1000,null,"Kohle / Koks",0.33514971084497724,4.7960000000000003E-2,"Basisfaktoren 2024"]
["Biodiesel","Liter","Biodiesel_Liter",9.2102109244294947,null,"Brennbare Abfälle",0.28299999999999997,8.2000000000000007E-3,"Basisfaktoren 2024"]
["Biodiesel","t","Biodiesel_t",10325.348569988222,null,"Pkw",0.2589381214747315,7.0355600478271052E-2,"Basisfaktoren 2024"]
["Biodiesel","kWh","Biodiesel_kWh",1,null,"Bus",0.2589381214747315,7.0355600478271052E-2,"Basisfaktoren 2024"]
["Biodiesel","MWh","Biodiesel_MWh",1000,null,"Schienenverkehr Diesel",0.25539282669306268,7.618384626100129E-2,"Basisfaktoren 2024"]
["Biodiesel","kg","Biodiesel_kg",7.9656909984041802,null,"Schienenverkehr Elektrisch",0.15,4.5000000000000012E-2,"Basisfaktoren 2024"]
["Bioethanol","Liter","Bioethanol_Liter",6.1973075967584528,null,"CO2-eq Direkteingabe",1000,0]
["Bioethanol","t","Bioethanol_t",7965.6909984041804,null,"Wasserstoff",0,0]
["Bioethanol","kg","Bioethanol_kg",3.8161780550550493,null,"Photovoltaik",0,0]
["Bioethanol","kWh","Bioethanol_kWh",1,null,"Solarthermie",0,0]
["Bioethanol","MWh","Bioethanol_MWh",1000,null,"Industrielle Abwärme",0,0]
["Biomasse (Biobrennstoffe fest): Gesamt","t","Biomasse (Biobrennstoffe fest): Gesamt_t",3816.1780550550493,null,"100% Ökostrom",0,1.4E-2]
["Biomasse (Biobrennstoffe fest): Gesamt","kg","Biomasse (Biobrennstoffe fest): Gesamt_kg",2.9715772878822539,null,"Strom aus Wasserkraft",0,2.5999999999999999E-2]
["Biomasse (Biobrennstoffe fest): Gesamt","kWh","Biomasse (Biobrennstoffe fest): Gesamt_kWh",1,null,"Wärmepumpe (Strom Durchschnitt AT)",{"$f":"G21/3","v":5.5550946519731949E-2},{"$f":"H21/3","v":1.4084935590266497E-2}]
["Biomasse (Biobrennstoffe fest): Gesamt","MWh","Biomasse (Biobrennstoffe fest): Gesamt_MWh",1000,null,"Strom aus Windkraft",0,8.0000000000000002E-3]
["Biomasse (Biobrennstoffe fest): Hackgut ","t","Biomasse (Biobrennstoffe fest): Hackgut _t",2971.577287882254,null,"Motorrad / Mopeds",0.26248341625640026,6.4527354695540801E-2,"climcalc & GEMIS Moped/Motorrad-2015-Benzin-mittel"]
["Biomasse (Biobrennstoffe fest): Hackgut ","kg","Biomasse (Biobrennstoffe fest): Hackgut _kg",4.8011111111111093,null,"Leichtes Nutzfahrzeug",0.2589381214747315,7.0355600478271052E-2,"VTL"]
["Biomasse (Biobrennstoffe fest): Hackgut ","kWh","Biomasse (Biobrennstoffe fest): Hackgut _kWh",1,null,"Schweres Nutzfahrzeug",0.2589381214747315,7.0355600478271052E-2,"VTL"]
["Biomasse (Biobrennstoffe fest): Hackgut ","MWh","Biomasse (Biobrennstoffe fest): Hackgut _MWh",1000,null,"LKW Durchschnitt",0.2589381214747315,7.0355600478271052E-2,"VTL"]
["Biomasse (Biobrennstoffe fest): Pellets","t","Biomasse (Biobrennstoffe fest): Pellets_t",4801.1111111111095,null,"Kerosin",0.26400000000000001,5.8999999999999997E-2,"Energieträgerliste 2024"]
["Biomasse (Biobrennstoffe fest): Pellets","kg","Biomasse (Biobrennstoffe fest): Pellets_kg",3.9752777777777775,null,"FW Innsbruck",9.2014757407416534E-2,3.5337006581832801E-2]
["Biomasse (Biobrennstoffe fest): Pellets","kWh","Biomasse (Biobrennstoffe fest): Pellets_kWh",1,null,"FW Wien",0.122,0.05]
["Biomasse (Biobrennstoffe fest): Pellets","MWh","Biomasse (Biobrennstoffe fest): Pellets_MWh",1000,null,"FW Graz",0.122,0.05]
["Biomasse (Biobrennstoffe fest): Stückholz ","kg","Biomasse (Biobrennstoffe fest): Stückholz _kg",3.9752777777777801,null,"FW Salzburg",0.122,0.05]
["Biomasse (Biobrennstoffe fest): Stückholz ","t","Biomasse (Biobrennstoffe fest): Stückholz _t",3975.2777777777774,null,"FW Bregenz",0.122,0.05]
["Biomasse (Biobrennstoffe fest): Stückholz ","kWh","Biomasse (Biobrennstoffe fest): Stückholz _kWh",1,null,"FW Dornbirn",0.122,0.05]
["Biomasse (Biobrennstoffe fest): Stückholz ","MWh","Biomasse (Biobrennstoffe fest): Stückholz _MWh",1000,null,"FW Klagefurt",0.122,0.05]
["Brennbare Abfälle","t","Brennbare Abfälle_t",4785,null,"FW Linz",0.122,0.05]
["Brennbare Abfälle","MWh","Brennbare Abfälle_MWh",1000,null,"FW St. Veit/Glan",0.122,0.05]
["Brennbare Abfälle","kWh","Brennbare Abfälle_kWh",1,null,"FW St. Pölten",0.20332641253934372,2.8778902996520448E-2]
["Bus","Fzg-km","Bus_Fzg-km",2.9849999999999999,"Verkehrsträgerliste 2019","FW Steyr",0.122,0.05]
["Bus","Personen-km","Bus_Personen-km",0.159,"Verkehrsträgerliste 2019","FW Tulln",0.122,0.05]
["CNG","kg","CNG_kg",10.179000000000004,null,"FW Villach",0.122,0.05]
["CNG","Nm3 (Normkubikmeter)","CNG_Nm3 (Normkubikmeter)",7.6342500000000033,null,"FW Wiener Neustadt",4.1146543311620758E-2,1.5153458329994372E-2]
["CNG","t","CNG_t",10179.000000000004,null,"FW Durchschnitt AT",0.122,0.05]
["CNG","kWh","CNG_kWh",1]
["CNG","MWh","CNG_MWh",1000]
["CO2-eq Direkteingabe","t","CO2-eq Direkteingabe_t",1]
["Diesel (inkl. Beimengung)","kg","Diesel (inkl. Beimengung)_kg",11.668309804566031]
["Diesel (inkl. Beimengung)","Liter","Diesel (inkl. Beimengung)_Liter",9.8087312710123413]
["Diesel (inkl. Beimengung)","t","Diesel (inkl. Beimengung)_t",11668.30980456603]
["Diesel (inkl. Beimengung)","kWh","Diesel (inkl. Beimengung)_kWh",1]
["Diesel (inkl. Beimengung)","MWh","Diesel (inkl. Beimengung)_MWh",1000]
["Diesel fossil","kg","Diesel fossil_kg",11.76944444444444]
["Diesel fossil","Liter",{"$f":"A66&\"_\"&B66","v":"Diesel fossil_Liter"},9.8510249999999964]
["Diesel fossil","t","Diesel fossil_t",11769.44444444444]
["Diesel fossil","kWh","Diesel fossil_kWh",1]
["Diesel fossil","MWh","Diesel fossil_MWh",1000]
["Erdgas (fossil) (Brennwert)","Nm3 (Normkubikmeter)","Erdgas (fossil) (Brennwert)_Nm3 (Normkubikmeter)",11.310000000000004]
["Erdgas (fossil) (Brennwert)","kg","Erdgas (fossil) (Brennwert)_kg",15.080000000000005]
["Erdgas (fossil) (Brennwert)","t","Erdgas (fossil) (Brennwert)_t",15080.000000000005]
["Erdgas (fossil) (Brennwert)","kWh","Erdgas (fossil) (Brennwert)_kWh",1]
["Erdgas (fossil) (Brennwert)","MWh","Erdgas (fossil) (Brennwert)_MWh",1000]
["Erdgas (fossil) (Heizwert)","Nm3 (Normkubikmeter)","Erdgas (fossil) (Heizwert)_Nm3 (Normkubikmeter)",10.179000000000004]
["Erdgas (fossil) (Heizwert)","kg","Erdgas (fossil) (Heizwert)_kg",13.572000000000005]
["Erdgas (fossil) (Heizwert)","t","Erdgas (fossil) (Heizwert)_t",13572.000000000004]
["Erdgas (fossil) (Heizwert)","kWh","Erdgas (fossil) (Heizwert)_kWh",1]
["Erdgas (fossil) (Heizwert)","MWh","Erdgas (fossil) (Heizwert)_MWh",1000]
["FW Durchschnitt AT","MWh","FW Durchschnitt AT_MWh",1000]
["FW Durchschnitt AT","kWh","FW Durchschnitt AT_kWh",1]
["Flüssiggas LPG","kg","Flüssiggas LPG_kg",12.811111111111112]
["Flüssiggas LPG","Liter","Flüssiggas LPG_Liter",6.918000000000001]
["Flüssiggas LPG","t","Flüssiggas LPG_t",12811.111111111111]
["Flüssiggas LPG","kWh","Flüssiggas LPG_kWh",1]
["Flüssiggas LPG","MWh","Flüssiggas LPG_MWh",1000]
["FW Innsbruck","kWh","FW Innsbruck_kWh",1]
["FW Innsbruck","MWh","FW Innsbruck_MWh",1000]
["FW Salzburg","kWh","FW Salzburg_kWh",1]
["FW Salzburg","MWh","FW Salzburg_MWh",1000]
["FW St. Pölten","kWh","FW St. Pölten_kWh",1]
["FW St. Pölten","MWh","FW St. Pölten_MWh",1000]
["Heizöl extra leicht (fossil) ","kg","Heizöl extra leicht (fossil) _kg",11.76944444444444]
["Heizöl extra leicht (fossil) ","Liter","Heizöl extra leicht (fossil) _Liter",9.8510249999999964]
["Heizöl extra leicht (fossil) ","t","Heizöl extra leicht (fossil) _t",11769.44444444444]
["Heizöl extra leicht (fossil) ","MWh","Heizöl extra leicht (fossil) _MWh",1000]
["Heizöl extra leicht (fossil) ","kWh","Heizöl extra leicht (fossil) _kWh",1]
["Heizöl leicht (fossil) ","kg","Heizöl leicht (fossil) _kg",11.572222222222223]
["Heizöl leicht (fossil) ","Liter","Heizöl leicht (fossil) _Liter",10.646444444444446]
["Heizöl leicht (fossil) ","t","Heizöl leicht (fossil) _t",11572.222222222223]
["Heizöl leicht (fossil) ","MWh","Heizöl leicht (fossil) _MWh",1000]
["Heizöl leicht (fossil) ","kWh","Heizöl leicht (fossil) _kWh",1]
["Industrielle Abwärme","kWh","Industrielle Abwärme_kWh",1]
["Industrielle Abwärme","MWh","Industrielle Abwärme_MWh",1000]
["Kerosin","kWh","Kerosin_kWh",1]
["Kerosin","MWh","Kerosin_MWh",1000]
["Kerosin","kg","Kerosin_kg",12.028]
["Kerosin","Liter","Kerosin_Liter",{"$f":"D107*0.8","v":9.6224000000000007}]
["Kohle / Koks","kg","Kohle / Koks_kg",7.8957984951136577]
["Kohle / Koks","t","Kohle / Koks_t",7895.7984951136577]
["Kohle / Koks","kWh","Kohle / Koks_kWh",1]
["Kohle / Koks","MWh","Kohle / Koks_MWh",1000]
["Leichtes Nutzfahrzeug","Fzg-km","Leichtes Nutzfahrzeug_Fzg-km",0.85,"Verkehrsträgerliste 2024"]
["Leichtes Nutzfahrzeug","Tonnen-km","Leichtes Nutzfahrzeug_Tonnen-km",2.54,"Verkehrsträgerliste 2024"]
["LKW Durchschnitt","Fzg-km","LKW Durchschnitt_Fzg-km",2.8889999999999998,"Verkehrsträgerliste 2019"]
["LKW Durchschnitt","Tonnen-km","LKW Durchschnitt_Tonnen-km",0.27700000000000002,"Verkehrsträgerliste 2019"]
["Motorrad / Mopeds","Fzg-km","Motorrad / Mopeds_Fzg-km",0.38]
["Photovoltaik","kWh","Photovoltaik_kWh",1]
["Photovoltaik","MWh","Photovoltaik_MWh",1000]
["Pkw","Fzg-km","Pkw_Fzg-km",0.65100000000000002,"Verkehrsträgerliste 2019"]
["Pkw","Personen-km","Pkw_Personen-km",0.57199999999999995,"Verkehrsträgerliste 2019"]
["Schienenverkehr Diesel","Personen-km","Schienenverkehr Diesel_Personen-km",0.246,"Dreifacher Wert wie Schienenverkehr Elektrisch"]
["Schienenverkehr Diesel","Tonnen-km","Schienenverkehr Diesel_Tonnen-km",9.6000000000000002E-2,"Dreifacher Wert wie Schienenverkehr Elektrisch"]
["Schienenverkehr Elektrisch","Personen-km","Schienenverkehr Elektrisch_Personen-km",8.2000000000000003E-2,"Verkehrsträgerliste 2019"]
["Schienenverkehr Elektrisch","Tonnen-km","Schienenverkehr Elektrisch_Tonnen-km",3.2000000000000001E-2,"Verkehrsträgerliste 2019"]
["Schweres Nutzfahrzeug","Fzg-km","Schweres Nutzfahrzeug_Fzg-km",3.26,"Verkehrsträgerliste 2024"]
["Schweres Nutzfahrzeug","Tonnen-km","Schweres Nutzfahrzeug_Tonnen-km",0.21,"Verkehrsträgerliste 2024"]
["Solarthermie","kWh","Solarthermie_kWh",1]
["Solarthermie","MWh","Solarthermie_MWh",1000]
["Strom aus Wasserkraft","kWh",{"$f":"A130&\"_\"&B130","v":"Strom aus Wasserkraft_kWh"},1]
["Strom aus Wasserkraft","MWh","Strom aus Wasserkraft_MWh",1000]
["Strom aus Windkraft","kWh","Strom aus Windkraft_kWh",1]
["Strom aus Windkraft","MWh","Strom aus Windkraft_MWh",1000]
["Strom Durchschnitt AT","MWh","Strom Durchschnitt AT_MWh",1000]
["Strom Durchschnitt AT","kWh","Strom Durchschnitt AT_kWh",1]
["Umgebungswärme","MWh","Umgebungswärme_MWh",1000]
["100% Ökostrom","kWh","100% Ökostrom_kWh",1]
["100% Ökostrom","MWh","100% Ökostrom_MWh",1000]
["Wärmepumpe (Strom Durchschnitt AT)","kWh","Wärmepumpe (Strom Durchschnitt AT)_kWh",1]
["Wärmepumpe (Strom Durchschnitt AT)","MWh","Wärmepumpe (Strom Durchschnitt AT)_MWh",1000]
["Wasserstoff","kWh","Wasserstoff_kWh",1]
["Wasserstoff","MWh","Wasserstoff_MWh",1000]
["FW Villach","kWh","FW Villach_kWh",1]
["FW Villach","MWh","FW Villach_MWh",1000]
["FW Wien","kWh","FW Wien_kWh",1]
["FW Wien","MWh","FW Wien_MWh",1000]
["FW Graz","kWh","FW Graz_kWh",1]
["FW Graz","MWh","FW Graz_MWh",1000]
["FW Bregenz","kWh","FW Bregenz_kWh",1]
["FW Bregenz","MWh","FW Bregenz_MWh",1000]
["FW Dornbirn","kWh","FW Dornbirn_kWh",1]
["FW Dornbirn","MWh","FW Dornbirn_MWh",1000]
["FW Klagefurt","kWh","FW Klagefurt_kWh",1]
["FW Klagefurt","MWh","FW Klagefurt_MWh",1000]
["FW Linz","kWh","FW Linz_kWh",1]
["FW Linz","MWh","FW Linz_MWh",1000]
["FW St. Veit/Glan","kWh","FW St. Veit/Glan_kWh",1]
["FW St. Veit/Glan","MWh","FW St. Veit/Glan_MWh",1000]
["FW Steyr","kWh","FW Steyr_kWh",1]
["FW Steyr","MWh","FW Steyr_MWh",1000]
["FW Tulln","kWh","FW Tulln_kWh",1]
["FW Tulln","MWh","FW Tulln_MWh",1000]
["FW Wiener Neustadt","kWh","FW Wiener Neustadt_kWh",1]
["FW Wiener Neustadt","MWh","FW Wiener Neustadt_MWh",1000]

{"sheet":"FLUG","index":22,"n_rows":65,"n_cols":8,"rows_kept":65,"cut":false,"hidden":true,"merged":[]}
["IFR Abflüge p.a.",null,"Quelle:","Austrocontrol",null,"Alles über 1,000 feet, also kein Sichtflug, sondern alles, was per Flugplan angemeldet ist"]
[]
[null,"IATA Code",2018,2019,2020,2021,2022]
["Bregenz","LOIX","-","-","-","-","-"]
["Dornbirn","LOIH",178,179,214,320,313]
["Innsbruck","LOWI",9766,9912,5353,3722,7964]
["Salzburg","LOWS",14696,13365,7529,7454,12548]
["Klagenfurt","LOWK",3747,3475,1867,2195,2599]
["Graz","LOWG",9856,10015,4477,5773,7396]
["Linz","LOWL",7080,7167,4603,4933,5483]
["Wiener Neustadt Ost","LOAN",1288,1521,1444,2053,2032]
["Wiener Neustadt West","LOXN",15,62,18,22,26]
["St. Pölten","LOAX","-","-","-","-","-"]
["Villach","LOKT","-","-","-","-","-"]
["Villach Föderlach","LOKD","-","-","-","-","-"]
[]
[]
["FC [kg]",null,"Quelle:","Umweltbundesamt: Hintergrunddaten aus Österr. Luftschadstoffinventur für die jeweiligen Jahre aus OLI2019, OLI2020, OLI2021, OLI2022, OLI2023"]
[]
[null,"IATA Code",2018,2019,2020,2021,2022]
["Bregenz","LOIX","-","-","-","-","-"]
["Dornbirn","LOIH",103145.07218021419,155793.50500645878,81269.290850240461,102275.0990632499,80731.7143940815]
["Innsbruck","LOWI",17635430.982389424,17709255.315830059,9198715.4096271284,4594683.999933132,14290710.796975736]
["Salzburg","LOWS",30930384.468800832,29078537.194798436,14241278.124523422,10901079.042727394,28306771.409588441]
["Klagenfurt","LOWK",3632783.4850921948,3452877.9567060918,1556802.4606758957,1740828.4171134192,2591044.5501987496]
["Graz","LOWG",14592539.781139459,15189749.620021807,4425187.3360868283,6332319.6306674499,10286232.322288394]
["Linz","LOWL",10670923.919441193,11192257.069549618,5963387.9714938467,7779510.008997445,9571485.6386859361]
["Wiener Neustadt Ost","LOAN",1264782.805273979,1370535.5831521004,450494.2371787919,546606.26016937988,546237.14874329499]
["Wiener Neustadt West","LOXN",12672.593695084151,36412.247310345934,2747.1617249456403,998.84378843006175,2531.9559210498624]
["St. Pölten","LOAX","-","-","-","-","-"]
["Villach","LOKT","-","-","-","-","-"]
["Villach Föderlach","LOKD","-","-","-","-","-"]
[]
[]
[]
["CO2 [kg]",3.15,"kg/kg FUEL","IPCC 2006"]
[]
[null,"IATA Code",2018,2019,2020,2021,2022]
["Bregenz","LOIX","-","-","-","-","-"]
["Dornbirn","LOIH",324906.9773676747,490749.54077034513,255998.26617825744,322166.5620492372,254304.90034135673]
["Innsbruck","LOWI",55551607.594526686,55784154.244864687,28975953.540325455,14473254.599789366,45015739.010473564]
["Salzburg","LOWS",97430711.076722622,91597392.163615078,44860026.092248775,34338398.98459129,89166329.940203592]
["Klagenfurt","LOWK",11443267.978040414,10876565.563624188,4903927.7511290712,5483609.5139072705,8161790.3331260616]
["Graz","LOWG",45966500.310589299,47847711.30306869,13939340.108673509,19946806.836602468,32401631.815208439]
["Linz","LOWL",33613410.346239761,35255609.769081295,18784672.110205617,24505456.528341953,30150179.761860698]
["Wien Schwechat","LOWW",2278029729.9141159,2609941282.6564631,945582497.00694394,1061511058.3080586,1781967571.3349998]
["Wiener Neustadt Ost ","LOAN",3984065.8366130334,4317187.0869291164,1419056.8471131944,1721809.7195335466,1720647.0185413791]
["Wiener Neustadt West","LOXN",39918.670139515074,114698.57902758969,8653.5594335787664,3146.3579335546942,7975.6611513070666]
["St. Pölten","LOAX","-","-","-","-","-"]
["Villach","LOKT","-","-","-","-","-"]
["Villach Föderlach","LOKD","-","-","-","-","-"]
[]
[]
[]
["CO2 [t]",3.15,"kg/kg FUEL","IPCC 2006"]
[null,"IATA Code",2018,2019,2020,2021,2022,2023]
["-",null,0,0,0,0,0,{"$f":"G57","v":0}]
["Dornbirn","LOIH",{"$f":"C40/1000","v":324.9069773676747},{"$f":"D40/1000","v":490.74954077034511},255.99826617825744,322.1665620492372,254.30490034135673,{"$f":"G58","v":254.30490034135673}]
["Graz","LOWG",{"$f":"C44/1000","v":45966.500310589297},{"$f":"D44/1000","v":47847.711303068689},{"$f":"E44/1000","v":13939.340108673508},{"$f":"F44/1000","v":19946.806836602467},{"$f":"G44/1000","v":32401.631815208439},{"$f":"G59","v":32401.631815208439}]
["Innsbruck","LOWI",{"$f":"C41/1000","v":55551.607594526686},55784.154244864687,28975.953540325456,14473.254599789367,45015.739010473568,45015.739010473568]
["Klagenfurt","LOWK",{"$f":"C43/1000","v":11443.267978040414},{"$f":"D43/1000","v":10876.565563624188},{"$f":"E43/1000","v":4903.9277511290711},{"$f":"F43/1000","v":5483.6095139072704},{"$f":"G43/1000","v":8161.7903331260613},{"$f":"G61","v":8161.7903331260613}]
["Linz","LOWL",{"$f":"C45/1000","v":33613.410346239762},{"$f":"D45/1000","v":35255.609769081297},{"$f":"E45/1000","v":18784.672110205618},{"$f":"F45/1000","v":24505.456528341954},{"$f":"G45/1000","v":30150.179761860698},{"$f":"G62","v":30150.179761860698}]
["Salzburg","LOWS",{"$f":"C42/1000","v":97430.711076722626},{"$f":"D42/1000","v":91597.392163615077},{"$f":"E42/1000","v":44860.026092248772},{"$f":"F42/1000","v":34338.398984591287},{"$f":"G42/1000","v":89166.329940203592},{"$f":"G63","v":89166.329940203592}]
["Wien Schwechat","LOWW",{"$f":"C46/1000","v":2278029.7299141157},{"$f":"D46/1000","v":2609941.2826564633},{"$f":"E46/1000","v":945582.49700694392},{"$f":"F46/1000","v":1061511.0583080587},{"$f":"G46/1000","v":1781967.5713349998},1781967.5713349998]
["Wiener Neustadt ","LOAN",{"$f":"(C47+C48)/1000","v":4023.9845067525489},{"$f":"(D47+D48)/1000","v":4431.8856659567055},1427.7104065467731,1724.9560774671013,1728.6226796926862,1728.6226796926862]

{"sheet":"ETS","index":23,"n_rows":24,"n_cols":8,"rows_kept":24,"cut":false,"hidden":true,"merged":[]}
["Verified Emissions","t CO2"]
[]
[null,null,"Industrie"]
[null,"Industrie",2018,2019,2020,2021,2022,2023]
["-",0,0,0,0,0,0,0]
["Dornbirn",1,3854,3740,4136,3958,4037,4107]
["Graz",3,51235,51521,48264,49129,48006,47104]
["Linz",6,9002652,10314785,9963314,10780459,10132338,9920632]
["Steyr",1,9580,9510,8160,8385,7502,5959]
["St. Veit/Glan",1,28381,28192,28061,29044,25607,29220]
["Tulln",1,69086,64788,59608,60559,79781,73609]
["Wien",1,null,null,17731,19831,20406,21048]
[]
[]
[null,null,"Energieversorgung"]
[null,"Energie",2018,2019,2020,2021,2022,2023]
["-",0,0,0,0,0,0,0]
["Graz",2,49308,52529,128881,192883,165995,153818]
["Klagenfurt",2,18670,6556,7088,10824,5960,8312]
["Linz",3,339673,374082,347040,413787,354395,304415]
["Salzburg",2,182623,194744,201269,213831,204129,186093]
["St. Pölten",3,64821,61999,57970,61990,44730,38493]
["Wien",9,2068763,2460698,2346515,2265574,2344220,1822788]
["Wiener Neustadt",1,4588,4096,4940,8178,5968,3889]

{"sheet":"IPPU","index":24,"n_rows":31,"n_cols":7,"rows_kept":31,"cut":false,"hidden":true,"merged":[[3,0,12,18]]}
["IV. Industrielle Prozesse und Produktverwendung (IPPU)"]
["THG Emissionen aus IPPU werden ausschließlich ohne ETS Betriebe betrachtet. Dies folgt der Definition zur Klimaneutralität der Pionierstädte. "]
[]
["Disaggregierung der IPPU Emissionen ohne ETS Betriebe auf die Pionierstädte:\nAls Datenbasis dieser Berechnung dienen die Ergebnisse der aktuellsten Ausgabe der OLI (Österreichische Luftschadstoff-Inventur) mit der Zeitreihe 1990 bis 2022. Relevant als sogenannte Flächenquellen sind innerhalb des Sektors IPPU (ohne ETS) die Unterkategorien „Produktverwendung“ und „F-Gase“.  Die Regionalisierung dieser Emissionen folgt der Logik der Bundesländerinventur (BLI), in der die Emissionen über den Bevölkerungsschlüssel auf die einzelnen Städte aufgeteilt wurden. \nZusätzlich zu diesen Flächenquellen wurden ausgewählte Punktquellen (große Industriebetriebe innerhalb der Stadtgrenzen) für einzelne Pionierstädte berücksichtigt. \n\nDen Hauptanteil der IPPU Emissionen (ohne ETS) machen in allen Pionierstädten mit der Ausnahme Linz F-Gas Emissionen aus. Diese werden vor allem in Kälte- und Klimaanlagen eingesetzt. In allen Pionierstädten kommt es zu einer deutlichen Abnahme der F-Gas Emissionen über die Zeitreihe. Dies ist auf die Vorgaben der EU F-Gase Verordnung zurückzuführen, die einen Umstieg auf Kältemittel mit einem geringeren GWP vorsieht, bzw. eine Verknappung der F-Gase, die in Europa auf den Markt kommen, und eine damit einhergehende Verteuerung. Außerdem trug die Entsorgung von mit SF6 gefüllte Schallschutzfenster über lange Zeit zu einem erheblichen Anteil der F-Gas Emissionen bei, diese sind, aufgrund rückläufiger Einsatzmengen vor 25 Jahren (ein Verbot der Herstellung von SF6 gefüllten Fenstern trat 2003 in Kraft) ebenfalls rückläufig.  \n\nIn Linz sind Chemiebetriebe der Hauptemittent innerhalb IPPU ohne ETS, hier vor allem die Ammoniakproduktion (der Erdgaseinsatz wird als prozessbedingt gewertet und deshalb im Sektor IPPU bilanziert, und nicht im Energiesektor).\n\n"]
[]
[]
[]
[]
[]
[]
[]
[]
[]
[]
[]
["t CO2-Äquivalente",2018,2019,2020,2021,2022,2023]
["-",0,0,0,0,0,0]
["Bregenz",8200,7900,7600,6500,6300,{"$f":"F18","v":6300}]
["Dornbirn",13500,13100,12700,11100,10900,10900]
["Graz",78600,76300,74100,64099.999999999993,63300,63300]
["Innsbruck",36400,34900,33600,28900,28300,28300]
["Klagenfurt",27600,26600,25800,22400,22200,22200]
["Linz",446000,612000,579000,581000,492000,492000]
["Salzburg",42100,40700,39400,34200,33600,33600]
["St. Pölten",15000,14500,14100,12300,12200,12200]
["St. Veit/Glan",17000,16400,16000,13900,13900,13900]
["Steyr",10500,10100,9700,8400,8200,8200]
["Tulln",4400,4300,4100,3600,3600,3600]
["Villach",76900,81300,58100,55100,56900,56900]
["Wien ",518500,501000,486300,422900,418100,418100]
["Wiener Neustadt",12300,12000,11700,10200,10200,10200]

{"sheet":"I_Pivot","index":25,"n_rows":98,"n_cols":9,"rows_kept":98,"cut":false,"hidden":true,"merged":[]}
[]
[]
[null,"Zeilenbeschriftungen","Summe von Energieeinsatz [MWh]","Summe von THG [t CO2eq]",null,null,"Zeilenbeschriftungen","Summe von Energieeinsatz [MWh]","Summe von THG [t CO2eq]"]
[null,"I.",null,null,null,null,"I."]
[null,"I.1.",0,0,null,null,"(Leer)"]
[null,"I.2.",0,0,null,null,"I.1."]
[null,"I.3.",0,0,null,null,"(Leer)"]
[null,"I.4.",0,0,null,null,"I.1. ."]
[null,"I.5.",0,0,null,null,null,0,0]
[null,"I.6.",0,0,null,null,"I.2."]
[null,"I.7.",0,0,null,null,"(Leer)"]
[null,"I.8.",0,0,null,null,"I.2. ."]
[null,"(Leer)",null,null,null,null,null,0,0]
[null,"Gesamtergebnis",0,0,null,null,"I.2.i."]
[null,null,null,null,null,null,null,0,0]
[null,null,null,null,null,null,"I.2.ii."]
[null,null,null,null,null,null,null,0,0]
[null,null,null,null,null,null,"I.2.iv."]
[null,null,null,null,null,null,null,0,0]
[null,null,null,null,null,null,"I.3."]
[null,null,null,null,null,null,"(Leer)"]
[null,null,null,null,null,null,"I.3. ."]
[null,null,null,null,null,null,null,0,0]
[null,null,null,null,null,null,"I.3.i."]
[null,null,null,null,null,null,null,0,0]
[null,null,null,null,null,null,"I.3.ii."]
[null,null,null,null,null,null,null,0,0]
[null,null,null,null,null,null,"I.3.iii."]
[null,null,null,null,null,null,null,0,0]
[null,null,null,null,null,null,"I.3.iv."]
[null,null,null,null,null,null,null,0,0]
[null,null,null,null,null,null,"I.3.ix."]
[null,null,null,null,null,null,null,0,0]
[null,null,null,null,null,null,"I.3.v."]
[null,null,null,null,null,null,null,0,0]
[null,null,null,null,null,null,"I.3.vi."]
[null,null,null,null,null,null,null,0,0]
[null,null,null,null,null,null,"I.3.vii."]
[null,null,null,null,null,null,null,0,0]
[null,null,null,null,null,null,"I.3.viii."]
[null,null,null,null,null,null,null,0,0]
[null,null,null,null,null,null,"I.3.x."]
[null,null,null,null,null,null,null,0,0]
[null,null,null,null,null,null,"I.3.xi."]
[null,null,null,null,null,null,null,0,0]
[null,null,null,null,null,null,"I.3.xii."]
[null,null,null,null,null,null,null,0,0]
[null,null,null,null,null,null,"I.3.xiii."]
[null,null,null,null,null,null,null,0,0]
[null,null,null,null,null,null,"I.4."]
[null,null,null,null,null,null,"(Leer)"]
[null,null,null,null,null,null,"I.4. ."]
[null,null,null,null,null,null,null,0,0]
[null,null,null,null,null,null,"I.4.i."]
[null,null,null,null,null,null,null,0,0]
[null,null,null,null,null,null,"I.4.ii."]
[null,null,null,null,null,null,null,0,0]
[null,null,null,null,null,null,"I.5."]
[null,null,null,null,null,null,"(Leer)"]
[null,null,null,null,null,null,"I.5. ."]
[null,null,null,null,null,null,null,0,0]
[null,null,null,null,null,null,"I.5.i."]
[null,null,null,null,null,null,null,0,0]
[null,null,null,null,null,null,"I.5.ii."]
[null,null,null,null,null,null,null,0,0]
[null,null,null,null,null,null,"I.5.iii."]
[null,null,null,null,null,null,null,0,0]
[null,null,null,null,null,null,"I.6."]
[null,null,null,null,null,null,"(Leer)"]
[null,null,null,null,null,null,"I.6. ."]
[null,null,null,null,null,null,null,0,0]
[null,null,null,null,null,null,"I.6.i."]
[null,null,null,null,null,null,null,0,0]
[null,null,null,null,null,null,"I.6.ii."]
[null,null,null,null,null,null,null,0,0]
[null,null,null,null,null,null,"I.7."]
[null,null,null,null,null,null,"(Leer)"]
[null,null,null,null,null,null,"I.7. ."]
[null,null,null,null,null,null,null,0,0]
[null,null,null,null,null,null,"I.8."]
[null,null,null,null,null,null,"(Leer)"]
[null,null,null,null,null,null,"I.8. ."]
[null,null,null,null,null,null,null,0,0]
[null,null,null,null,null,null,"(Leer)"]
[null,null,null,null,null,null,"(Leer)"]
[null,null,null,null,null,null,"I.2.iii.a."]
[null,null,null,null,null,null,null,0,0]
[null,null,null,null,null,null,"I.2.iii.b."]
[null,null,null,null,null,null,null,0,0]
[null,null,null,null,null,null,"I.2.iii.c."]
[null,null,null,null,null,null,null,0,0]
[null,null,null,null,null,null,"I.2.iii.d."]
[null,null,null,null,null,null,null,0,0]
[null,null,null,null,null,null,"I.3.ETS."]
[null,null,null,null,null,null,"CO2-eq Direkteingabe",null,0]
[null,null,null,null,null,null,"I.4.ETS."]
[null,null,null,null,null,null,"CO2-eq Direkteingabe",null,0]
[null,null,null,null,null,null,"Gesamtergebnis",0,0]

{"sheet":"II_Pivot","index":26,"n_rows":50,"n_cols":8,"rows_kept":50,"cut":false,"hidden":true,"merged":[]}
[]
[]
["Zeilenbeschriftungen","Summe von Energieeinsatz [MWh]","Summe von THG [t CO2eq]",null,null,"Zeilenbeschriftungen","Summe von Energieeinsatz [MWh]","Summe von THG [t CO2eq]"]
["(Leer)",null,null,null,null,"(Leer)"]
["II.",null,null,null,null,"(Leer)"]
["II.1.",0,0,null,null,"II."]
["II.2.",0,0,null,null,"(Leer)"]
["II.3.",0,0,null,null,"II.1."]
["II.4.",0,0,null,null,"(Leer)"]
["II.5.",0,0,null,null,"II.1. ."]
["Gesamtergebnis",0,0,null,null,null,0,0]
[null,null,null,null,null,"II.1.i."]
[null,null,null,null,null,null,0,0]
[null,null,null,null,null,"II.1.ii."]
[null,null,null,null,null,null,0,0]
[null,null,null,null,null,"II.1.iii."]
[null,null,null,null,null,null,0,0]
[null,null,null,null,null,"II.2."]
[null,null,null,null,null,"(Leer)"]
[null,null,null,null,null,"II.2. ."]
[null,null,null,null,null,null,0,0]
[null,null,null,null,null,"II.2.i."]
[null,null,null,null,null,null,0,0]
[null,null,null,null,null,"II.2.ii."]
[null,null,null,null,null,null,0,0]
[null,null,null,null,null,"II.3."]
[null,null,null,null,null,"(Leer)"]
[null,null,null,null,null,"II.3. ."]
[null,null,null,null,null,null,0,0]
[null,null,null,null,null,"II.3.i."]
[null,null,null,null,null,null,0,0]
[null,null,null,null,null,"II.3.ii."]
[null,null,null,null,null,null,0,0]
[null,null,null,null,null,"II.3.iii."]
[null,null,null,null,null,null,0,0]
[null,null,null,null,null,"II.4."]
[null,null,null,null,null,"(Leer)"]
[null,null,null,null,null,"II.4. ."]
[null,null,null,null,null,null,0,0]
[null,null,null,null,null,"II.4.i."]
[null,null,null,null,null,null,0,0]
[null,null,null,null,null,"II.4.ii."]
[null,null,null,null,null,"Öl (Heizöl, Gasöl für Heizzwecke, Diesel, Benzin, Petroleum, Flüssiggas)",0,0]
[null,null,null,null,null,"II.4.iii."]
[null,null,null,null,null,null,0,0]
[null,null,null,null,null,"II.5."]
[null,null,null,null,null,"(Leer)"]
[null,null,null,null,null,"II.5. ."]
[null,null,null,null,null,null,0,0]
[null,null,null,null,null,"Gesamtergebnis",0,0]